Workbook

Sheet Listname
A2: No | B2: En. | C2: Name | D2: Dept.
A3: 1 | B3: 1000226220 | C3: Kanlaya Chomkrung | D3: Test Equipment
A4: 2 | B4: 1000219776 | C4: SARAWUT JANTAKHO | D4: Test Equipment
A5: 3 | B5: 1000111726 | C5: PICHET NGONREE | D5: Test Equipment
A6: 4 | B6: 1000220671 | C6: SOONTHORN CHAIHAN | D6: Test Equipment
A7: 5 | B7: 1000181963 | C7: SAIBUO DAOWLOY | D7: Training
A8: 6 | B8: 1000018736 | C8: AMPHAN SRATONGLAUN | D8: Training
A9: 7 | B9: 1000177670 | C9: PORNPANNAKORN SEE-AMPAI | D9: Training
A10: 8 | B10: 1000075532 | C10: PALAKORN POPUN | D10: Training
A11: 9 | B11: 1000043607 | C11: SAMNUAN PRATHUMWAN | D11: Training
A12: 10 | B12: 1000220625 | C12: URAIRAT SANGPAKDEE | D12: Training
A13: 11 | B13: 1000226012 | C13: PATTHAMAPORN DUANGCHOMPU | D13: Training
A14: 12 | B14: 1000221029 | C14: DARA MAWONG | D14: Training
... A31: 29 | B31: 1000011875 | C31: VEERAYUT PANPAKDEE | D31: Test Equipment
A32: 30 | B32: 1000167572 | C32: KITJA KRUNNAK | D32: Test Equipment
A33: 31 | B33: 1000194183 | C33: SOMKIET RANGDEANG | D33: Test Equipment
A34: 32 | B34: 1000019663 | C34: LERGCHAI PILAIPUN | D34: Test Equipment
A35: 33 | B35: 1000226145 | C35: THANACHOTI THAWTEP | D35: Test Equipment
A36: 34 | B36: 1000201903 | C36: SUPAWAT FUKAEW | D36: Test Equipment
A37: 35 | B37: 1000221591 | C37: SURIYA KERDKAEN | D37: Test Equipment
A38: 36 | B38: 1000220889 | C38: PRAMUAL PEAMSOM | D38: Test Equipment
A39: 37 | B39: 1000220888 | C39: AMNUAY YUTHCHAIYO | D39: Test Equipment
A40: 38 | B40: 1000035559 | C40: ANUTHIT KHAMINTAKUL | D40: Test Equipment
A41: 39 | B41: 1000226149 | C41: NUNGRUETHAI M | D41: SPT
A42: 40 | B42: 1000226066 | C42: SAIPIN F | D42: SPT
A43: 41 | B43: 1000222713 | C43: Sali K | D43: SPT
A44: 42 | B44: 1000223663 | C44: Ariya P | D44: SPT
A45: 43 | B45: 1000063891 | C45: Apichai R | D45: SPT
A46: 44 | B46: 1000180066 | C46: Chureeporn N | D46: SPT
... A63: 61 | B63: 1000118964 | C63: KRISSADA SIRICOMPA | D63: Automation OmegaAMC
A64: 62 | B64: V0005364 | C64: Chatchai Tienwichai | D64: Vender
A65: 63 | B65: V0005363 | C65: Sawat Yimnapoe | D65: Vender
A66: 64 | B66: V0005375 | C66: Jarul Pongtaw | D66: Vender
A67: 65 | B67: V0005374 | C67: Winai Lalun | D67: Vender
A68: 66 | B68: V0008477 | C68: Worapong Narmpuan | D68: Vender
A69: 69 | B69: 1000221091 | C69: SANTI _P | D69: Vender
A70: 70 | B70: 1000222273 | C70: JAKKAPAT _B | D70: Vender

Sheet Tracking
A2: No | B2: En. | C2: Name | D2: Status
A3: =IF(B3="","",(ROW()-2)) -> 1 | B3: 1000111726 | C3: =VLOOKUP(B3,Listname!$B$3:$D$70,2,FALSE) -> PICHET NGONREE | D3: =IF(G3,"เข้า","ออก") -> ออก | F3: =COUNTIF($B$2:B3,B3) -> 1 | G3: =ISEVEN(F3) -> FALSE
A4: =IF(B4="","",(ROW()-2)) -> 2 | B4: 1000219776 | C4: =VLOOKUP(B4,Listname!$B$3:$D$70,2,FALSE) -> SARAWUT JANTAKHO | D4: =IF(G4,"เข้า","ออก") -> ออก | F4: =COUNTIF($B$2:B4,B4) -> 1 | G4: =ISEVEN(F4) -> FALSE
A5: =IF(B5="","",(ROW()-2)) -> 3 | B5: 1000181963 | C5: =VLOOKUP(B5,Listname!$B$3:$D$70,2,FALSE) -> SAIBUO DAOWLOY | D5: =IF(G5,"เข้า","ออก") -> ออก | F5: {=COUNTIF($B$2:B5,B5)} -> 1 | G5: =ISEVEN(F5) -> FALSE
A6: =IF(B6="","",(ROW()-2)) -> 4 | B6: 1000111726 | C6: =VLOOKUP(B6,Listname!$B$3:$D$70,2,FALSE) -> PICHET NGONREE | D6: =IF(G6,"เข้า","ออก") -> เข้า | F6: =COUNTIF($B$2:B6,B6) -> 2 | G6: =ISEVEN(F6) -> TRUE
A7: =IF(B7="","",(ROW()-2)) -> 5 | B7: 1000111726 | C7: =VLOOKUP(B7,Listname!$B$3:$D$70,2,FALSE) -> PICHET NGONREE | D7: =IF(G7,"เข้า","ออก") -> ออก | F7: {=COUNTIF($B$2:B7,B7)} -> 3 | G7: =ISEVEN(F7) -> FALSE
A8: =IF(B8="","",(ROW()-2)) -> 6 | B8: 1000220671 | C8: =VLOOKUP(B8,Listname!$B$3:$D$70,2,FALSE) -> SOONTHORN CHAIHAN | D8: =IF(G8,"เข้า","ออก") -> ออก | F8: {=COUNTIF($B$2:B8,B8)} -> 1 | G8: =ISEVEN(F8) -> FALSE
A9: =IF(B9="","",(ROW()-2)) -> 7 | B9: 1000181963 | C9: =VLOOKUP(B9,Listname!$B$3:$D$70,2,FALSE) -> SAIBUO DAOWLOY | D9: =IF(G9,"เข้า","ออก") -> เข้า | F9: {=COUNTIF($B$2:B9,B9)} -> 2 | G9: =ISEVEN(F9) -> TRUE
A10: =IF(B10="","",(ROW()-2)) -> 8 | B10: 1000018736 | C10: =VLOOKUP(B10,Listname!$B$3:$D$70,2,FALSE) -> AMPHAN SRATONGLAUN | D10: =IF(G10,"เข้า","ออก") -> ออก | F10: {=COUNTIF($B$2:B10,B10)} -> 1 | G10: =ISEVEN(F10) -> FALSE
A11: =IF(B11="","",(ROW()-2)) -> 9 | B11: 1000220671 | C11: =VLOOKUP(B11,Listname!$B$3:$D$70,2,FALSE) -> SOONTHORN CHAIHAN | D11: =IF(G11,"เข้า","ออก") -> เข้า | F11: {=COUNTIF($B$2:B11,B11)} -> 2 | G11: =ISEVEN(F11) -> TRUE
A12: =IF(B12="","",(ROW()-2)) -> 10 | B12: 1000018736 | C12: =VLOOKUP(B12,Listname!$B$3:$D$70,2,FALSE) -> AMPHAN SRATONGLAUN | D12: =IF(G12,"เข้า","ออก") -> เข้า | F12: {=COUNTIF($B$2:B12,B12)} -> 2 | G12: =ISEVEN(F12) -> TRUE
A13: =IF(B13="","",(ROW()-2)) -> 11 | B13: 1000220671 | C13: =VLOOKUP(B13,Listname!$B$3:$D$70,2,FALSE) -> SOONTHORN CHAIHAN | D13: =IF(G13,"เข้า","ออก") -> ออก | F13: {=COUNTIF($B$2:B13,B13)} -> 3 | G13: =ISEVEN(F13) -> FALSE
A14: =IF(B14="","",(ROW()-2)) -> 12 | B14: 1000111726 | C14: =VLOOKUP(B14,Listname!$B$3:$D$70,2,FALSE) -> PICHET NGONREE | D14: =IF(G14,"เข้า","ออก") -> เข้า | F14: {=COUNTIF($B$2:B14,B14)} -> 4 | G14: =ISEVEN(F14) -> TRUE
A15: =IF(B15="","",(ROW()-2)) -> 13 | B15: 1000111726 | C15: =VLOOKUP(B15,Listname!$B$3:$D$70,2,FALSE) -> PICHET NGONREE | D15: =IF(G15,"เข้า","ออก") -> ออก | F15: {=COUNTIF($B$2:B15,B15)} -> 5 | G15: =ISEVEN(F15) -> FALSE
A16: =IF(B16="","",(ROW()-2)) -> 14 | B16: 1000111726 | C16: =VLOOKUP(B16,Listname!$B$3:$D$70,2,FALSE) -> PICHET NGONREE | D16: =IF(G16,"เข้า","ออก") -> เข้า | F16: {=COUNTIF($B$2:B16,B16)} -> 6 | G16: =ISEVEN(F16) -> TRUE
A17: =IF(B17="","",(ROW()-2)) -> 15 | B17: 1000219776 | C17: =VLOOKUP(B17,Listname!$B$3:$D$70,2,FALSE) -> SARAWUT JANTAKHO | D17: =IF(G17,"เข้า","ออก") -> เข้า | F17: {=COUNTIF($B$2:B17,B17)} -> 2 | G17: =ISEVEN(F17) -> TRUE
A18: =IF(B18="","",(ROW()-2)) -> 16 | B18: 1000181963 | C18: =VLOOKUP(B18,Listname!$B$3:$D$70,2,FALSE) -> SAIBUO DAOWLOY | D18: =IF(G18,"เข้า","ออก") -> ออก | F18: {=COUNTIF($B$2:B18,B18)} -> 3 | G18: =ISEVEN(F18) -> FALSE
A19: =IF(B19="","",(ROW()-2)) -> 17 | B19: 1000111726 | C19: =VLOOKUP(B19,Listname!$B$3:$D$70,2,FALSE) -> PICHET NGONREE | D19: =IF(G19,"เข้า","ออก") -> ออก | F19: {=COUNTIF($B$2:B19,B19)} -> 7 | G19: =ISEVEN(F19) -> FALSE
A20: =IF(B20="","",(ROW()-2)) | C20: =VLOOKUP(B20,Listname!$B$3:$D$70,2,FALSE) -> #N/A | D20: =IF(G20,"เข้า","ออก") -> เข้า | F20: {=COUNTIF($B$2:B20,B20)} -> 0 | G20: =ISEVEN(F20) -> TRUE
A21: =IF(B20="","",(ROW()-2)) | C21: =VLOOKUP(B21,Listname!$B$3:$D$70,2,FALSE) -> #N/A | D21: =IF(G21,"เข้า","ออก") -> เข้า | F21: {=COUNTIF($B$2:B21,B21)} -> 0 | G21: =ISEVEN(F21) -> TRUE
A22: =IF(B21="","",(ROW()-2)) | C22: =VLOOKUP(B22,Listname!$B$3:$D$70,2,FALSE) -> #N/A | D22: =IF(G22,"เข้า","ออก") -> เข้า | F22: {=COUNTIF($B$2:B22,B22)} -> 0 | G22: =ISEVEN(F22) -> TRUE
A23: =IF(B22="","",(ROW()-2)) | C23: =VLOOKUP(B23,Listname!$B$3:$D$70,2,FALSE) -> #N/A | D23: =IF(G23,"เข้า","ออก") -> เข้า | F23: {=COUNTIF($B$2:B23,B23)} -> 0 | G23: =ISEVEN(F23) -> TRUE
A24: =IF(B23="","",(ROW()-2)) | C24: =VLOOKUP(B24,Listname!$B$3:$D$70,2,FALSE) -> #N/A | D24: =IF(G24,"เข้า","ออก") -> เข้า | F24: =COUNTIF($B$2:B24,B24) -> 0 | G24: =ISEVEN(F24) -> TRUE
A25: =IF(B24="","",(ROW()-2)) | C25: =VLOOKUP(B25,Listname!$B$3:$D$70,2,FALSE) | D25: =IF(G25,"เข้า","ออก") | F25: =COUNTIF($B$2:B25,B25) | G25: =ISEVEN(F25)
