Workbook

Sheet Factory Report 
C1: ATTN : | F1: GS | G1: 2
C2: FROM : | G2: DATE :
C3: PLACE : End User | G3: LAUNCH :
A4: DATE | B4: ITEM | C4: MODEL | D4: PARTICULAR | E4: COLOR | F4: QTY. | G4: REMARK | I4: ถ้าเราจะเอารายละเอียดของเดีอน เมษายน มาโชว์ หน้านี้จะใช้สูตรไหนดีครับ
A5: =เมษายน!A5 -> 1 | B5: 1 | C5: =เมษายน!G5 -> Oil | D5: =เมษายน!I5 -> 0 | E5: =เมษายน!H5 -> Oil congng | F5: =เมษายน!J5 -> 1 | G5: x | I5: ที่ผมทำ ผมใช้สูตร =เมษายน! ตลอดเลยครับ ข้อเสียคือ เสียเวลาอย่างมากเลย และอาจเกิดข้อผิดพลาดใด้
I6: งานผมคือ ต้องเอาหน้านี้ส่งโรงงาน ทุกวัน โดย ก็อบปี้หน้านี้ขึ้นไหม่ถุกครั้งหลังจากใส่ข้อมูลประจำวัน ที่ ชีทแต่ละเดือน
I7: ที่ผมทำคือต้องคัดลอกบิลที่เปิดหน้าร้านมาใส่แต่ละเดือน แล้วให้ข้อมูลบางส่วนมาโชว์ที่หน้านี้ ตามตัวอย่าง แล้วก็อบปี้นี้ขึ้นมาไหม่เพื่อส่งเข้าโรงงานประจำวัน
C18: ATTN : | F18: GP | G18: =G1 -> 2
C19: FROM : | G19: DATE :
C20: PLACE : | G20: LAUNCH :
A21: ITEM | B21: ITEM | C21: MODEL | D21: PARTICULAR | E21: COLOR | F21: QTY. | G21: REMARK
A22: 40637 | B22: 1 | C22: =เมษายน!AU5 -> 0 | D22: =เมษายน!AV5 -> 0 | E22: =เมษายน!AU6 -> 0 | F22: 1 | G22: x

Sheet รายตามสินค้า
A1: รายการสั่งซื้อโซฟา STUDIO 128 สาขา CDC ประจำปี 2554 | G1: =TODAY() -> 40639 | L1: Tranfer | M1: Cash | O1: Credit
C2: เมษายน
A3: เลขที่ Bill | B3: วันที่สั่งซื้อ | C3: ชื่อ | D3: กำหนดตามสินค้า | E3: กำหนดส่งสินค้า | F3: พนักงานขาย | G3: จำนวนวันล่าสุด | H3: สาขา | I3: ครบ 38 วัน | J3: หมายเหตุ
A5: =เมษายน!A5 -> 1 | B5: =เมษายน!C5 -> 40639 | C5: =เมษายน!D5 -> AA | D5: =E5-7 -> 40692 | E5: =B5+60 -> 40699 | F5: =เมษายน!M5 -> อุกฤษฏ์ | G5: =DATEDIF(B5,G1,"D") -> 0 | H5: 128 cdc | I5: =IF(G5>=38,"ตามสินค้า","-") -> -
A6: =เมษายน!A15 -> 0 | B6: =เมษายน!C15 -> 0 | C6: =เมษายน!D15 -> 0 | D6: =E6-7 -> 53 | E6: =B6+60 -> 60 | F6: =เมษายน!M15 -> อรรถพล | G6: =DATEDIF(B6,G1,"D") -> 40639 | H6: 128 cdc | I6: =IF(G6>=38,"ตามสินค้า","-") -> ตามสินค้า
A7: =เมษายน!AB5 -> 0 | B7: =เมษายน!AD5 -> 0 | C7: =เมษายน!AE5 -> 0 | D7: =E7-7 -> 53 | E7: =B7+60 -> 60 | F7: =เมษายน!AM5 -> นภษร | G7: =DATEDIF(B7,G1,"D") -> 40639 | H7: P9 cdc | I7: =IF(G7>=38,"ตามสินค้า","-") -> ตามสินค้า
A8: =เมษายน!AO5 -> 0 | B8: =เมษายน!AQ5 -> 0 | C8: =เมษายน!AR5 -> 0 | D8: =E8-7 -> 53 | E8: =B8+60 -> 60 | F8: =เมษายน!AZ5 -> ศุภชัย | G8: =DATEDIF(B8,G1,"D") -> 40639 | H8: P9 cen | I8: =IF(G8>=38,"ตามสินค้า","-") -> ตามสินค้า
A9: =เมษายน!AB7 -> 0 | B9: =เมษายน!AD7 -> 0 | C9: =เมษายน!AE7 -> 0 | D9: =E9-7 -> 53 | E9: =B9+60 -> 60 | F9: =เมษายน!AM7 -> 0 | G9: =DATEDIF(B9,#REF!,"D") -> #REF! | I9: =IF(G9>=38,"ตามสินค้า","-") -> #REF!
A10: =เมษายน!AB8 -> 0 | B10: =เมษายน!AD8 -> 0 | C10: =เมษายน!AE8 -> 0 | D10: =E10-7 -> 53 | E10: =B10+60 -> 60 | F10: =เมษายน!AM8 -> 0 | G10: =DATEDIF(B10,#REF!,"D") -> #REF! | I10: =IF(G10>=38,"ตามสินค้า","-") -> #REF!
A11: =เมษายน!AB9 -> หมายเหตุ : ข้ามาเปลี่ยนขนาดโซฟา ของบิล A/165 ZARA 2 STR -ขอความแข็งประมาณ ZARA 2STR | B11: =เมษายน!AD9 -> 0 | C11: =เมษายน!AE9 -> 0 | D11: =E11-7 -> 53 | E11: =B11+60 -> 60 | F11: =เมษายน!AM9 -> 0 | G11: =DATEDIF(B11,#REF!,"D") -> #REF! | I11: =IF(G11>=38,"ตามสินค้า","-") -> #REF!
A12: =เมษายน!AB10 -> 0 | B12: =เมษายน!AD10 -> 0 | C12: =เมษายน!AE10 -> 0 | D12: =E12-7 -> 53 | E12: =B12+60 -> 60 | F12: =เมษายน!AM10 -> 0 | G12: =DATEDIF(B12,#REF!,"D") -> #REF! | I12: =IF(G12>=38,"ตามสินค้า","-") -> #REF!
A13: =เมษายน!AB11 -> 0 | B13: =เมษายน!AD11 -> 0 | C13: =เมษายน!AE11 -> 0 | D13: =E13-7 -> 53 | E13: =B13+60 -> 60 | F13: =เมษายน!AM11 -> 0 | G13: =DATEDIF(B13,#REF!,"D") -> #REF! | I13: =IF(G13>=38,"ตามสินค้า","-") -> #REF!

Sheet เมษายน
A1: เมษายน | G1: กลับหน้าเมนู | J1: 128 central | K1: P9 cdc | L1: P9 cen | O1: เมษายน | U1: กลับหน้าเมนู | V1: 128 cdc | W1: P9 cdc | X1: P9 cen | AB1: เมษายน | AH1: กลับหน้าเมนู | AI1: 128 cdc | AJ1: 128 central | AK1: P9 cen | AO1: เมษายน | AU1: กลับหน้าเมนู | AV1: 128 cdc | AW1: P9 cdc | AX1: 128 central
E2: CDC | K2: Tranfer | L2: Card | M2: เงินสด | S2: CENTRAL | X2: Tranfer | Y2: Card | Z2: เงินสด | AF2: CDC 1 | AJ2: Tranfer | AK2: Card | AL2: Card | AM2: เงินสด | AS2: CENTRAL WOLRD 1 | AW2: Tranfer | AX2: Card | AY2: Card | AZ2: เงินสด
A3: บิลเลขที่ | B3: สาขา | C3: วันที่สั่งซื้อ | D3: ชื่อ-ลูกค้า | E3: เบอร์โทร | F3: ที่อยู่ | G3: รายการสินค้า | H3: Color | I3: Bed | J3: จำนวน | K3: หน่วยละ | L3: จำนวนเงิน | M3: ผู้รับเงิน | O3: บิลเลขที่ | P3: สาขา | Q3: วันที่สั่งซื้อ | R3: ชื่อ-ลูกค้า | S3: เบอร์โทร | T3: ที่อยู่ | U3: รายการสินค้า | V3: Bed | W3: จำนวน | X3: หน่วยละ | Y3: จำนวนเงิน | Z3: ผู้รับเงิน | AB3: บิลเลขที่ | AC3: สาขา | AD3: วันที่สั่งซื้อ | AE3: ชื่อ-ลูกค้า | AF3: เบอร์โทร | AG3: ที่อยู่ | AH3: รายการสินค้า | AI3: Bed | AJ3: จำนวน | AK3: หน่วยละ | AL3: จำนวนเงิน | AM3: ผู้รับเงิน | AO3: บิลเลขที่ | AP3: สาขา | AQ3: วันที่สั่งซื้อ | AR3: ชื่อ-ลูกค้า | AS3: เบอร์โทร | AT3: ที่อยู่ | AU3: รายการสินค้า | AV3: Bed | AW3: จำนวน | AX3: หน่วยละ | AY3: จำนวนเงิน | AZ3: ผู้รับเงิน
A4: Bill NO. | C4: Date | D4: Name | E4: Tel.Phone Number | F4: Address | G4: Item | I4: PARTICULAR | J4: Quantity | K4: Unit Price | L4: บาท/Baht | M4: Sale | O4: Bill NO. | Q4: Date | R4: Name | S4: Tel.Phone Number | T4: Address | U4: Item | V4: PARTICULAR | W4: Quantity | X4: Unit Price | Y4: บาท/Baht | Z4: Sale | AB4: Bill NO. | AD4: Date | AE4: Name | AF4: Tel.Phone Number | AG4: Address | AH4: Item | AI4: PARTICULAR | AJ4: Quantity | AK4: Unit Price | AL4: บาท/Baht | AM4: Sale | AO4: Bill NO. | AQ4: Date | AR4: Name | AS4: Tel.Phone Number | AT4: Address | AU4: Item | AV4: PARTICULAR | AW4: Quantity | AX4: Unit Price | AY4: บาท/Baht | AZ4: Sale
A5: 1 | B5: CDC | C5: 40639 | D5: AA | E5: 1234567 | F5: Office | G5: Oil | H5: Oil congng | J5: 1 | K5: 10000 | L5: =J5*K5 -> 10000 | M5: อุกฤษฏ์ | Y5: =W5*X5 -> 0 | Z5: นภษร | AL5: =AJ5*AK5 -> 0 | AM5: นภษร | AY5: =AW5*AX5 -> 0 | AZ5: ศุภชัย
L6: =K6*J6 -> 0
L8: =J8*K8 -> 0 | Y8: =W8*X8 -> 0 | AL8: =AJ8*AK8 -> 0 | AY8: =AW8*AX8 -> 0
A9: หมายเหตุ : ระยะเวลาผลิต 45-60 วัน ติดต่อ | I9: รวม | L9: =SUM(L5:L8) -> 10000 | O9: หมายเหตุ : | V9: รวม | Y9: =SUM(Y5:Y8) -> 0 | AB9: หมายเหตุ : ข้ามาเปลี่ยนขนาดโซฟา ของบิล A/165 ZARA 2 STR -ขอความแข็งประมาณ ZARA 2STR | AI9: รวม | AL9: =SUM(AL5:AL8) -> 0 | AO9: หมายเหตุ : ระยะเวลาผลิต 45-60 วัน จองโปรโมชั่นงาน Grand Openning | AV9: รวม | AY9: =SUM(AY5:AY8) -> 0
I10: มัดจำ | J10: Card | L10: 2000 | V10: มัดจำ | W10: Card | AI10: มัดจำ | AJ10: Card | AV10: มัดจำ | AW10: Card
I11: คงเหลือ | L11: =L9-L10 -> 8000 | V11: คงเหลือ | Y11: =Y9-Y10 -> 0 | AI11: คงเหลือ | AL11: =AL9-AL10 -> 0 | AV11: คงเหลือ | AY11: =AY9-AY10 -> 0
A13: บิลเลขที่ | B13: สาขา | C13: วันที่สั่งซื้อ | D13: ชื่อ-ลูกค้า | E13: เบอร์โทร | F13: ที่อยู่ | G13: รายการสินค้า | I13: Bed | J13: จำนวน | K13: หน่วยละ | L13: จำนวนเงิน | M13: ผู้รับเงิน
A14: Bill NO. | C14: Date | D14: Name | E14: Tel.Phone Number | F14: Address | G14: Item | I14: PARTICULAR | J14: Quantity | K14: Unit Price | L14: บาท/Baht | M14: Sale
L15: =J15*K15 -> 0 | M15: อรรถพล
L16: =K16*J16 -> 0
L18: =J18*K18 -> 0
A19: หมายเหตุ : ระยะเวลาผลิต 45-60 วัน ติดต่อ | I19: รวม | L19: =SUM(L15:L18) -> 0
I20: มัดจำ | J20: Card
I21: คงเหลือ | L21: =L19-L20 -> 0
A25: วันที่ | B25: บิลเลขที่ | C25: สาขา | D25: วันที่สั่งซื้อ | E25: ชื่อ-ลูกค้า | F25: เบอร์โทร | G25: ที่อยู่ | H25: รายการสินค้า | I25: Color | J25: Bed | K25: จำนวน | L25: หน่วยละ | M25: จำนวนเงิน | N25: ผู้รับเงิน | O25: หมายเหตุ
A26: 40634 | B26: 1 | C26: CDC | D26: 40639 | E26: AA | F26: 1234567 | G26: Office | H26: Oil | I26: Oil congng | K26: 1 | L26: 10000 | M26: 10000 | N26: อุกฤษฏ์ | O26: ระยะเวลาผลิต 45-60 วัน ติดต่อ
A27: 40634 | B27: 1 | C27: Central | D27: 40641 | E27: BB | F27: 3234567 | G27: Office | H27: Other | I27: Other for office | K27: 3 | L27: 5000 | M27: 15000 | N27: อรรถพล

Sheet พฤษภาคม

Sheet Form

Sheet Database
A1: วันที่ | B1: บิลเลขที่ | C1: สาขา | D1: วันที่สั่งซื้อ | E1: ชื่อ-ลูกค้า | F1: เบอร์โทร | G1: ที่อยู่ | H1: รายการสินค้า | I1: Color | J1: Bed | K1: จำนวน | L1: หน่วยละ | M1: จำนวนเงิน | N1: ผู้รับเงิน | O1: หมายเหตุ
A2: 40634 | B2: 1 | C2: CDC | D2: 40639 | E2: AA | F2: 1234567 | G2: Office | H2: Oil | I2: Oil congng | K2: 1 | L2: 10000 | M2: 10000 | N2: อุกฤษฏ์ | O2: ระยะเวลาผลิต 45-60 วัน ติดต่อ
A3: 40634 | B3: 1 | C3: Central | D3: 40641 | E3: BB | F3: 3234567 | G3: Office | H3: Other | I3: Other for office | K3: 3 | L3: 5000 | M3: 15000 | N3: อรรถพล
