Workbook
Name Data: Data!$C$3:$S$120
Name Pics: Pictures!$B$2:$ZZ$2
Name PicShow: INDEX(Pics,1,Report!$M$2)

Sheet ORDER FACTORY
C1: ATTN : คุณแบงค์ | E1: GS | G1: 13
C2: FROM : Studioservice | E2: DATE : | G2: 40651
C3: PLACE : End User | E3: LAUNCH :
A4: DATE | B4: ITEM | C4: MODEL | D4: PARTICULAR | E4: COLOR | F4: QTY. | G4: REMARK | I4: ถ้าเราจะเอารายละเอียดของเดีอน เมษายน มาโชว์ หน้านี้จะใช้สูตรไหนดีครับ
I5: ที่ผมทำ ผมใช้สูตร =เมษายน! ตลอดเลยครับ ข้อเสียคือ เสียเวลาอย่างมากเลย และอาจเกิดข้อผิดพลาดใด้
I6: งานผมคือ ต้องเอาหน้านี้ส่งโรงงาน ทุกวัน โดย ก็อบปี้หน้านี้ขึ้นไหม่ถุกครั้งหลังจากใส่ข้อมูลประจำวัน ที่ ชีทแต่ละเดือน
I7: ที่ผมทำคือต้องคัดลอกบิลที่เปิดหน้าร้านมาใส่แต่ละเดือน แล้วให้ข้อมูลบางส่วนมาโชว์ที่หน้านี้ ตามตัวอย่าง แล้วก็อบปี้นี้ขึ้นมาไหม่เพื่อส่งเข้าโรงงานประจำวัน
C18: ATTN : คุณแบงค์ | E18: GP | G18: =G1 -> 13
C19: FROM : Studioservice | E19: DATE : | G19: =G2 -> 40651
C20: PLACE : END USER | E20: LAUNCH : | G20: =G3 -> 0
A21: DATE | B21: ITEM | C21: MODEL | D21: PARTICULAR | E21: COLOR | F21: QTY. | G21: REMARK

Sheet Menu
D5: บริษัท จำกัด
D7: เริ่ม ปี 2553
D9: บันทึกรายการลงฐานข้อมูล | J9: สรุปผลข้อมูล
D11: ข้อมูลประวัติ
D13: แบบฟอร์ม
D15: รายงานประวัติและรูปภาพ
D17: รายงานการตามสินค้า
D19: เพิ่มรูปภาพบิล
E27: ออกจากโปรแกรม | K27: บันทึกข้อมูล

Sheet ตามสินค้า
G1: =TODAY() -> 40652 | L1: Tranfer | M1: Cash | O1: Credit
C2: เมษายน
A3: เลขที่ Bill | B3: วันที่สั่งซื้อ | C3: ชื่อ | D3: กำหนดตามสินค้า | E3: กำหนดส่งสินค้า | F3: พนักงานขาย | G3: จำนวนวันล่าสุด | H3: สาขา | I3: ครบ 38 วัน | J3: หมายเหตุ
A5: =Data!D3 -> A1/254 | B5: =Data!C3 -> 40643 | C5: =Data!F3 -> ทดสอบ ทดสอบ | D5: =E5-7 -> 40696 | E5: =B5+60 -> 40703 | F5: =Data!R3 -> เก่ง | G5: =DATEDIF(B5,G1,"D") -> 9 | H5: =Data!E3 -> CDC | I5: =IF(G5>=38,"ตามสินค้า","-") -> -

Sheet From
C1: ตัวอย่าง
A2: วันที่ | B2: บิลเลขที่ | C2: สาขา | D2: ชื่อ-ลูกค้า | E2: เบอร์โทร | F2: ที่อยู่ | G2: รายการสินค้า | H2: ขนาด / ตำแหน่ง BED | I2: หนัง/สี | J2: จำนวน | K2: หน่วยละ | L2: จำนวนเงิน | M2: ผู้รับเงิน | N2: หมายเหตุ
B3: AA-235 | D3: นาย ประยุกต์ ลองทำดี | E3: 085-9122222 | F3: OFFICE | G3: ขนมหวาน | H3: 1 กล่อง | I3: Red | J3: 1 | K3: 1000 | L3: =J3*K3 -> 1000 | M3: อรรถพล
L4: =K4*J4 -> 0
L5: =K5*J5 -> 0
K6: TOTAL | L6: =SUM(L3:L5) -> 1000
K7: มัดจำ | L7: 20
I8: GRAND TOTEL | J8: =SUM(J3:J7) -> 1 | L8: =L6-L7 -> 980

Sheet Report
M2: 1 | O2: 3
B5: ข้อมูลลูกค้า
B7: =Data!C2 -> วันที่ | C7: =INDEX(Data,$M$2,1) -> 40643
B8: =Data!D2 -> บิลเลขที่ | C8: =INDEX(Data,$M$2,2) -> A1/254
B9: =Data!E2 -> สาขา | C9: =INDEX(Data,$M$2,3) -> CDC
B10: =Data!F2 -> ชื่อลูกค้า | C10: =INDEX(Data,$M$2,4) -> ทดสอบ ทดสอบ
B11: =Data!G2 -> เบอร์โทร | C11: =INDEX(Data,$O$2,5) -> 0
B12: =Data!H2 -> ที่อยู่ | C12: =INDEX(Data,$M$2,6) -> 25048
B13: =Data!I2 -> รายการสินค้า | C13: =INDEX(Data,$M$2,7) -> Lego
B14: =Data!J2 -> ขนาด / ตำแหน่ง BED | C14: =INDEX(Data,$M$2,8) -> Bed ขวา
B15: =Data!K2 -> หนัง / สี | C15: =INDEX(Data,$M$2,9) -> oil congng
B16: =Data!L2 -> จำนวน | C16: =INDEX(Data,$M$2,10) -> 1
B17: =Data!M2 -> หน่วยละ | C17: =INDEX(Data,$M$2,11) -> 10000
B18: =Data!N2 -> จำนวนเงิน | C18: =INDEX(Data,$M$2,12) -> 10000
B19: =Data!O2 -> มัดจำ | C19: =INDEX(Data,$M$2,13) -> 5000
B20: =Data!P2 -> เงินสด/Card | C20: =C17-C18 -> 0
B21: =Data!Q2 -> คงเหลือ | C21: =INDEX(Data,$M$2,15) -> 5000
B22: =Data!R2 -> ผู้รับเงิน | C22: =INDEX(Data,$M$2,16) -> เก่ง
B23: =Data!S2 -> หมายเหตุ | C23: =INDEX(Data,$M$2,17) -> ผลิต 45 วัน
B25: กลับหน้า Menu | C25: แบบฟอร์ม
B27: ข้อมูลประวัติ
B29: เพิ่มรูปภาพบิล

Sheet Data
B2: ลำดับ | C2: วันที่ | D2: บิลเลขที่ | E2: สาขา | F2: ชื่อลูกค้า | G2: เบอร์โทร | H2: ที่อยู่ | I2: รายการสินค้า | J2: ขนาด / ตำแหน่ง BED | K2: หนัง / สี | L2: จำนวน | M2: หน่วยละ | N2: จำนวนเงิน | O2: มัดจำ | P2: เงินสด/Card | Q2: คงเหลือ | R2: ผู้รับเงิน | S2: หมายเหตุ
B3: 1 | C3: 40643 | D3: A1/254 | E3: CDC | F3: ทดสอบ ทดสอบ | G3: 859149355 | H3: 25048 | I3: Lego | J3: Bed ขวา | K3: oil congng | L3: 1 | M3: 10000 | N3: =M3*L3 -> 10000 | O3: 5000 | P3: Card | Q3: =N3-O3 -> 5000 | R3: เก่ง | S3: ผลิต 45 วัน
B4: 2 | D4: A1/255
B5: 3
B6: 4
B7: 5
B8: 6
B9: 7
B10: 8
B11: 9
B12: 10
B13: 11
B14: 12
B15: 13
B16: 14
... B120: 118

Sheet ปีพ.ศ-ค.ศ
A1: 2500 | B1: 1957
A2: 2501 | B2: 1958
A3: 2502 | B3: 1959
A4: 2503 | B4: 1960
A5: 2504 | B5: 1961
A6: 2505 | B6: 1962
A7: 2506 | B7: 1963
A8: 2507 | B8: 1964
A9: 2508 | B9: 1965
A10: 2509 | B10: 1966
A11: 2510 | B11: 1967
A12: 2511 | B12: 1968
... A108: 2607 | B108: 2064

Sheet Pictures
B1: กลับหน้า Menu | C1: ข้อมูลประวัติ
B4: A1/254 | C4: A1/255
