Workbook

Sheet Stock
A1: รายงานสินค้าคงคลังประจำวันที่
A2: =NOW() -> 43054.583
A3: ลำดับ | B3: รหัสสินค้า | C3: ชื่อสินค้า | D3: ราคาขาย | E3: ราคาซื้อ | F3: คงเหลือ
A4: =IF(ISBLANK(B4),"",1) -> 1 | B4: 8858839100024 | C4: 1 2 Call 100 บาท | D4: 104 | E4: 100 | F4: 8
A5: =IF(ISBLANK(B5),"",A4+1) -> 2 | B5: 8858839100017 | C5: 1 2 call 50 บ. | D5: 54 | E5: 50 | F5: 0
A6: =IF(ISBLANK(B6),"",A5+1) -> 3 | B6: 8859050600041 | C6: Dtac 100 บ. | D6: 104 | E6: 100 | F6: 11
A7: =IF(ISBLANK(B7),"",A6+1) -> 4 | B7: 8859050600003 | C7: Dtac 60 บ. | D7: 64 | E7: 60 | F7: 6
A8: =IF(ISBLANK(B8),"",A7+1) -> 5 | B8: 8858678600068 | C8: True 50 บ. | D8: 54 | E8: 50 | F8: 1
A9: =IF(ISBLANK(B9),"",A8+1) -> 6 | B9: 8850046325719 | C9: กระดาษเช็ดปากชิลป์ | D9: 5 | E9: 3.63 | F9: 43
A10: =IF(ISBLANK(B10),"",A9+1) -> 7 | B10: 5910100000068 | C10: กระเป๋าผ้า | D10: 35 | E10: 30 | F10: 0
A11: =IF(ISBLANK(B11),"",A10+1) -> 8 | B11: 5910100000051 | C11: กระเป๋าพลาสติก | D11: 15 | E11: 10 | F11: 3
A12: =IF(ISBLANK(B12),"",A11+1) -> 9 | B12: 5910100000075 | C12: กระเป๋าลายแม้ว | D12: 45 | E12: 40 | F12: 0
A13: =IF(ISBLANK(B13),"",A12+1) -> 10 | B13: 8851019010137 | C13: กูลิโกะป๊อกกี้ | D13: 15 | E13: 14.4 | F13: 2
A14: =IF(ISBLANK(B14),"",A13+1) -> 11 | B14: 8854743001662 | C14: ข้าวขาวเสาไห้100% | D14: 85 | E14: 77 | F14: 1
A15: =IF(ISBLANK(B15),"",A14+1) -> 12 | B15: 8851727003018 | C15: ข้าวโพดคอนเน่ | D15: 5 | E15: 4.13 | F15: 37
A16: =IF(ISBLANK(B16),"",A15+1) -> 13 | B16: 8851702199989 | C16: ข้าวหอมมะลิเบญจรงค์ | D16: 150 | E16: 143 | F16: 2
... A126: =IF(ISBLANK(B126),"",A125+1) -> 123 | B126: 4902430628624 | C126: เฮดแอนต์โชว์เดอร์ | D126: 24 | E126: 19.2 | F126: 1

Sheet ม.ค.61
A1: วันที่ | B1: ลูกค้า | C1: รหัสสินค้า | D1: ชื่อสินค้า | E1: จำนวน | F1: ราคา | G1: รวม
D2: =IF(C2<>"",VLOOKUP(C2,Stock!B4:E126,2,0),"") | G2: =IF(F2<>"",F2*E2,"")
D3: =IF(C3<>"",VLOOKUP(C3,Stock!B5:E127,2,0),"")
D4: =IF(C4<>"",VLOOKUP(C4,Stock!B6:E128,2,0),"")
D5: =IF(C5<>"",VLOOKUP(C5,Stock!B7:E129,2,0),"")
D6: =IF(C6<>"",VLOOKUP(C6,Stock!B8:E130,2,0),"")
D7: =IF(C7<>"",VLOOKUP(C7,Stock!B9:E131,2,0),"")
D8: =IF(C8<>"",VLOOKUP(C8,Stock!B10:E132,2,0),"")
D9: =IF(C9<>"",VLOOKUP(C9,Stock!B11:E133,2,0),"")
D10: =IF(C10<>"",VLOOKUP(C10,Stock!B12:E134,2,0),"")
D11: =IF(C11<>"",VLOOKUP(C11,Stock!B13:E135,2,0),"")
D12: =IF(C12<>"",VLOOKUP(C12,Stock!B14:E136,2,0),"")
D13: =IF(C13<>"",VLOOKUP(C13,Stock!B15:E137,2,0),"")
D14: =IF(C14<>"",VLOOKUP(C14,Stock!B16:E138,2,0),"")
... D210: =IF(C210<>"",VLOOKUP(C210,Stock!B212:E334,2,0),"")

Sheet ก.พ.61
A1: วันที่ | B1: ลูกค้า | C1: รหัสสินค้า | D1: ชื่อสินค้า | E1: จำนวน | F1: ราคา

Sheet มี.ค.61
A1: วันที่ | B1: ลูกค้า | C1: รหัสสินค้า | D1: ชื่อสินค้า | E1: จำนวน | F1: ราคา

Sheet เม.ย.61
A1: วันที่ | B1: ลูกค้า | C1: รหัสสินค้า | D1: ชื่อสินค้า | E1: จำนวน | F1: ราคา

Sheet พ.ค.61
A1: วันที่ | B1: ลูกค้า | C1: รหัสสินค้า | D1: ชื่อสินค้า | E1: จำนวน | F1: ราคา

Sheet มิ.ย.61
A1: วันที่ | B1: ลูกค้า | C1: รหัสสินค้า | D1: ชื่อสินค้า | E1: จำนวน | F1: ราคา

Sheet ก.ค.61
A1: วันที่ | B1: ลูกค้า | C1: รหัสสินค้า | D1: ชื่อสินค้า | E1: จำนวน | F1: ราคา

Sheet ส.ค.61
A1: วันที่ | B1: ลูกค้า | C1: รหัสสินค้า | D1: ชื่อสินค้า | E1: จำนวน | F1: ราคา

Sheet ก.ย.61
A1: วันที่ | B1: ลูกค้า | C1: รหัสสินค้า | D1: ชื่อสินค้า | E1: จำนวน | F1: ราคา

Sheet ต.ค.61
A1: วันที่ | B1: ลูกค้า | C1: รหัสสินค้า | D1: ชื่อสินค้า | E1: จำนวน | F1: ราคา

Sheet พ.ย.61
A1: วันที่ | B1: ลูกค้า | C1: รหัส | D1: สินค้า | E1: จำนวน | F1: ราคา | G1: รวม

Sheet ธ.ค.61
A1: วันที่ | B1: ลูกค้า | C1: รหัสสินค้า | D1: ชื่อสินค้า | E1: จำนวน | F1: ราคา
