Workbook

Sheet Cover
J2: SEP/2019
A3: NO | B3: PART NAME | C3: PRICE | D3: PRICE | E3: NG RATE | F3: NG Q'TY | G3: TOTAL Q'TY | H3: DEFECT 1 NG ITEM | J3: DEFECT 2 NG ITEM
C4: R/M | D4: TOTAL | H4: HEAD | I4: RATE | J4: HEAD | K4: RATE | N4: Model | O4: NG RATE | P4: NG Q'TY | Q4: TOTAL Q'TY | R4: DEFECT 1 | S4: RATE | T4: DEFECT 2 | U4: RATE | X4: Model | Y4: PRICE
A5: 1 | B5: {=IFERROR(INDEX(N$5:N$41,SMALL(IF($O$5:$O$41<>"",ROW($O$5:$O$41)-ROW($O$5)+1),ROWS(B$5:B5))),"")} | C5: =IF(F5<>"",VLOOKUP(B5,$X:$Y,2,0),"") | D5: =IF(B5="","",C5*F5) | E5: =IFERROR(LARGE($O$5:$O$41,ROWS($E$5:E5)),"") | F5: {=IFERROR(INDEX(P$5:P$41,SMALL(IF($O$5:$O$41<>"",ROW($O$5:$O$41)-ROW($O$5)+1),ROWS(F$5:F5))),"")} | G5: {=IFERROR(INDEX(Q$5:Q$41,SMALL(IF($O$5:$O$41<>"",ROW($O$5:$O$41)-ROW($O$5)+1),ROWS(G$5:G5))),"")} | H5: {=IFERROR(INDEX(R$5:R$41,SMALL(IF($O$5:$O$41<>"",ROW($O$5:$O$41)-ROW($O$5)+1),ROWS(H$5:H5))),"")} | I5: {=IFERROR(INDEX(S$5:S$41,SMALL(IF($O$5:$O$41<>"",ROW($O$5:$O$41)-ROW($O$5)+1),ROWS(I$5:I5))),"")} | J5: {=IFERROR(INDEX(T$5:T$41,SMALL(IF($O$5:$O$41<>"",ROW($O$5:$O$41)-ROW($O$5)+1),ROWS(J$5:J5))),"")} | K5: {=IFERROR(INDEX(U$5:U$41,SMALL(IF($O$5:$O$41<>"",ROW($O$5:$O$41)-ROW($O$5)+1),ROWS(K$5:K5))),"")} | N5: 435CS | O5: =IF(P5<=0,"",P5/Q5) | P5: ='435 CS'!C12 -> 0 | Q5: ='435 CS'!D10 -> 15000 | R5: ='435 CS'!B15 -> 0 | S5: ='435 CS'!D15 | T5: ='435 CS'!B16 -> 0 | U5: ='435 CS'!D16 | X5: 435CS | Y5: 0.248
A6: 2 | B6: {=IFERROR(INDEX(N$5:N$41,SMALL(IF($O$5:$O$41<>"",ROW($O$5:$O$41)-ROW($O$5)+1),ROWS(B$5:B6))),"")} | C6: =IF(F6<>"",VLOOKUP(B6,$X:$Y,2,0),"") | D6: =IF(B6="","",C6*F6) | E6: =IFERROR(LARGE($O$5:$O$41,ROWS($E$5:E6)),"") | F6: {=IFERROR(INDEX(P$5:P$41,SMALL(IF($O$5:$O$41<>"",ROW($O$5:$O$41)-ROW($O$5)+1),ROWS(F$5:F6))),"")} | G6: {=IFERROR(INDEX(Q$5:Q$41,SMALL(IF($O$5:$O$41<>"",ROW($O$5:$O$41)-ROW($O$5)+1),ROWS(G$5:G6))),"")} | H6: {=IFERROR(INDEX(R$5:R$41,SMALL(IF($O$5:$O$41<>"",ROW($O$5:$O$41)-ROW($O$5)+1),ROWS(H$5:H6))),"")} | I6: {=IFERROR(INDEX(S$5:S$41,SMALL(IF($O$5:$O$41<>"",ROW($O$5:$O$41)-ROW($O$5)+1),ROWS(I$5:I6))),"")} | J6: {=IFERROR(INDEX(T$5:T$41,SMALL(IF($O$5:$O$41<>"",ROW($O$5:$O$41)-ROW($O$5)+1),ROWS(J$5:J6))),"")} | K6: {=IFERROR(INDEX(U$5:U$41,SMALL(IF($O$5:$O$41<>"",ROW($O$5:$O$41)-ROW($O$5)+1),ROWS(K$5:K6))),"")} | N6: 436CS | O6: =IF(P6<=0,"",P6/Q6) | P6: ='436 CS'!C12 -> 0 | Q6: ='436 CS'!D10 -> 0 | R6: ='436 CS'!B15 -> 0 | S6: ='436 CS'!D15 | T6: ='436 CS'!B16 -> 0 | U6: ='436 CS'!D16 | X6: 436CS | Y6: 0.248
A7: 3 | B7: {=IFERROR(INDEX(N$5:N$41,SMALL(IF($O$5:$O$41<>"",ROW($O$5:$O$41)-ROW($O$5)+1),ROWS(B$5:B7))),"")} | C7: =IF(F7<>"",VLOOKUP(B7,$X:$Y,2,0),"") | D7: =IF(B7="","",C7*F7) | E7: =IFERROR(LARGE($O$5:$O$41,ROWS($E$5:E7)),"") | F7: {=IFERROR(INDEX(P$5:P$41,SMALL(IF($O$5:$O$41<>"",ROW($O$5:$O$41)-ROW($O$5)+1),ROWS(F$5:F7))),"")} | G7: {=IFERROR(INDEX(Q$5:Q$41,SMALL(IF($O$5:$O$41<>"",ROW($O$5:$O$41)-ROW($O$5)+1),ROWS(G$5:G7))),"")} | H7: {=IFERROR(INDEX(R$5:R$41,SMALL(IF($O$5:$O$41<>"",ROW($O$5:$O$41)-ROW($O$5)+1),ROWS(H$5:H7))),"")} | I7: {=IFERROR(INDEX(S$5:S$41,SMALL(IF($O$5:$O$41<>"",ROW($O$5:$O$41)-ROW($O$5)+1),ROWS(I$5:I7))),"")} | J7: {=IFERROR(INDEX(T$5:T$41,SMALL(IF($O$5:$O$41<>"",ROW($O$5:$O$41)-ROW($O$5)+1),ROWS(J$5:J7))),"")} | K7: {=IFERROR(INDEX(U$5:U$41,SMALL(IF($O$5:$O$41<>"",ROW($O$5:$O$41)-ROW($O$5)+1),ROWS(K$5:K7))),"")} | N7: AI13210 | O7: =IF(P7<=0,"",P7/Q7) | P7: ='AI13210'!C12 -> 0 | Q7: ='AI13210'!D10 -> 0 | R7: ='AI13210'!B15 -> 0 | S7: ='AI13210'!D15 | T7: ='AI13210'!B16 -> 0 | U7: ='AI13210'!D16 | X7: AI13210 | Y7: 6.641
A8: 4 | B8: {=IFERROR(INDEX(N$5:N$41,SMALL(IF($O$5:$O$41<>"",ROW($O$5:$O$41)-ROW($O$5)+1),ROWS(B$5:B8))),"")} | C8: =IF(F8<>"",VLOOKUP(B8,$X:$Y,2,0),"") | D8: =IF(B8="","",C8*F8) | E8: =IFERROR(LARGE($O$5:$O$41,ROWS($E$5:E8)),"") | F8: {=IFERROR(INDEX(P$5:P$41,SMALL(IF($O$5:$O$41<>"",ROW($O$5:$O$41)-ROW($O$5)+1),ROWS(F$5:F8))),"")} | G8: {=IFERROR(INDEX(Q$5:Q$41,SMALL(IF($O$5:$O$41<>"",ROW($O$5:$O$41)-ROW($O$5)+1),ROWS(G$5:G8))),"")} | H8: {=IFERROR(INDEX(R$5:R$41,SMALL(IF($O$5:$O$41<>"",ROW($O$5:$O$41)-ROW($O$5)+1),ROWS(H$5:H8))),"")} | I8: {=IFERROR(INDEX(S$5:S$41,SMALL(IF($O$5:$O$41<>"",ROW($O$5:$O$41)-ROW($O$5)+1),ROWS(I$5:I8))),"")} | J8: {=IFERROR(INDEX(T$5:T$41,SMALL(IF($O$5:$O$41<>"",ROW($O$5:$O$41)-ROW($O$5)+1),ROWS(J$5:J8))),"")} | K8: {=IFERROR(INDEX(U$5:U$41,SMALL(IF($O$5:$O$41<>"",ROW($O$5:$O$41)-ROW($O$5)+1),ROWS(K$5:K8))),"")} | N8: AI23212-2 | O8: =IF(P8<=0,"",P8/Q8) | P8: ='AI23212-2'!C12 -> 0 | Q8: ='AI23212-2'!D10 -> 0 | R8: ='AI23212-2'!B15 -> 0 | S8: ='AI23212-2'!D15 | T8: ='AI23212-2'!B16 -> 0 | U8: ='AI23212-2'!D16 | X8: AI23212-2 | Y8: 15.59
A9: 5 | B9: {=IFERROR(INDEX(N$5:N$41,SMALL(IF($O$5:$O$41<>"",ROW($O$5:$O$41)-ROW($O$5)+1),ROWS(B$5:B9))),"")} | C9: =IF(F9<>"",VLOOKUP(B9,$X:$Y,2,0),"") | D9: =IF(B9="","",C9*F9) | E9: =IFERROR(LARGE($O$5:$O$41,ROWS($E$5:E9)),"") | F9: {=IFERROR(INDEX(P$5:P$41,SMALL(IF($O$5:$O$41<>"",ROW($O$5:$O$41)-ROW($O$5)+1),ROWS(F$5:F9))),"")} | G9: {=IFERROR(INDEX(Q$5:Q$41,SMALL(IF($O$5:$O$41<>"",ROW($O$5:$O$41)-ROW($O$5)+1),ROWS(G$5:G9))),"")} | H9: {=IFERROR(INDEX(R$5:R$41,SMALL(IF($O$5:$O$41<>"",ROW($O$5:$O$41)-ROW($O$5)+1),ROWS(H$5:H9))),"")} | I9: {=IFERROR(INDEX(S$5:S$41,SMALL(IF($O$5:$O$41<>"",ROW($O$5:$O$41)-ROW($O$5)+1),ROWS(I$5:I9))),"")} | J9: {=IFERROR(INDEX(T$5:T$41,SMALL(IF($O$5:$O$41<>"",ROW($O$5:$O$41)-ROW($O$5)+1),ROWS(J$5:J9))),"")} | K9: {=IFERROR(INDEX(U$5:U$41,SMALL(IF($O$5:$O$41<>"",ROW($O$5:$O$41)-ROW($O$5)+1),ROWS(K$5:K9))),"")} | N9: AI23212-3 | O9: =IF(P9<=0,"",P9/Q9) | P9: ='AI23212-3'!C12 -> 0 | Q9: ='AI23212-3'!D10 -> 0 | R9: ='AI23212-3'!B15 -> 0 | S9: ='AI23212-3'!D15 | T9: ='AI23212-3'!B16 -> 0 | U9: ='AI23212-3'!D16 | X9: AI23212-3 | Y9: 15.59
A10: 6 | B10: {=IFERROR(INDEX(N$5:N$41,SMALL(IF($O$5:$O$41<>"",ROW($O$5:$O$41)-ROW($O$5)+1),ROWS(B$5:B10))),"")} | C10: =IF(F10<>"",VLOOKUP(B10,$X:$Y,2,0),"") | D10: =IF(B10="","",C10*F10) | E10: =IFERROR(LARGE($O$5:$O$41,ROWS($E$5:E10)),"") | F10: {=IFERROR(INDEX(P$5:P$41,SMALL(IF($O$5:$O$41<>"",ROW($O$5:$O$41)-ROW($O$5)+1),ROWS(F$5:F10))),"")} | G10: {=IFERROR(INDEX(Q$5:Q$41,SMALL(IF($O$5:$O$41<>"",ROW($O$5:$O$41)-ROW($O$5)+1),ROWS(G$5:G10))),"")} | H10: {=IFERROR(INDEX(R$5:R$41,SMALL(IF($O$5:$O$41<>"",ROW($O$5:$O$41)-ROW($O$5)+1),ROWS(H$5:H10))),"")} | I10: {=IFERROR(INDEX(S$5:S$41,SMALL(IF($O$5:$O$41<>"",ROW($O$5:$O$41)-ROW($O$5)+1),ROWS(I$5:I10))),"")} | J10: {=IFERROR(INDEX(T$5:T$41,SMALL(IF($O$5:$O$41<>"",ROW($O$5:$O$41)-ROW($O$5)+1),ROWS(J$5:J10))),"")} | K10: {=IFERROR(INDEX(U$5:U$41,SMALL(IF($O$5:$O$41<>"",ROW($O$5:$O$41)-ROW($O$5)+1),ROWS(K$5:K10))),"")} | N10: AI26018 | O10: =IF(P10<=0,"",P10/Q10) | P10: ='AI26018'!C12 -> 0 | Q10: ='AI26018'!D10 -> 0 | R10: ='AI26018'!B15 -> 0 | S10: ='AI26018'!D15 | T10: ='AI26018'!B16 -> 0 | U10: ='AI26018'!D16 | X10: AI26018 | Y10: 22.06
A11: 7 | B11: {=IFERROR(INDEX(N$5:N$41,SMALL(IF($O$5:$O$41<>"",ROW($O$5:$O$41)-ROW($O$5)+1),ROWS(B$5:B11))),"")} | C11: =IF(F11<>"",VLOOKUP(B11,$X:$Y,2,0),"") | D11: =IF(B11="","",C11*F11) | E11: =IFERROR(LARGE($O$5:$O$41,ROWS($E$5:E11)),"") | F11: {=IFERROR(INDEX(P$5:P$41,SMALL(IF($O$5:$O$41<>"",ROW($O$5:$O$41)-ROW($O$5)+1),ROWS(F$5:F11))),"")} | G11: {=IFERROR(INDEX(Q$5:Q$41,SMALL(IF($O$5:$O$41<>"",ROW($O$5:$O$41)-ROW($O$5)+1),ROWS(G$5:G11))),"")} | H11: {=IFERROR(INDEX(R$5:R$41,SMALL(IF($O$5:$O$41<>"",ROW($O$5:$O$41)-ROW($O$5)+1),ROWS(H$5:H11))),"")} | I11: {=IFERROR(INDEX(S$5:S$41,SMALL(IF($O$5:$O$41<>"",ROW($O$5:$O$41)-ROW($O$5)+1),ROWS(I$5:I11))),"")} | J11: {=IFERROR(INDEX(T$5:T$41,SMALL(IF($O$5:$O$41<>"",ROW($O$5:$O$41)-ROW($O$5)+1),ROWS(J$5:J11))),"")} | K11: {=IFERROR(INDEX(U$5:U$41,SMALL(IF($O$5:$O$41<>"",ROW($O$5:$O$41)-ROW($O$5)+1),ROWS(K$5:K11))),"")} | N11: AS1108B | O11: =IF(P11<=0,"",P11/Q11) | P11: =AS1108B!C12 -> 0 | Q11: =AS1108B!D10 -> 18396 | R11: =AS1108B!B15 -> 0 | S11: =AS1108B!D15 | T11: =AS1108B!B16 -> 0 | U11: =AS1108B!D16 | X11: AS1108B | Y11: 9.01
A12: 8 | B12: {=IFERROR(INDEX(N$5:N$41,SMALL(IF($O$5:$O$41<>"",ROW($O$5:$O$41)-ROW($O$5)+1),ROWS(B$5:B12))),"")} | C12: =IF(F12<>"",VLOOKUP(B12,$X:$Y,2,0),"") | D12: =IF(B12="","",C12*F12) | E12: =IFERROR(LARGE($O$5:$O$41,ROWS($E$5:E12)),"") | F12: {=IFERROR(INDEX(P$5:P$41,SMALL(IF($O$5:$O$41<>"",ROW($O$5:$O$41)-ROW($O$5)+1),ROWS(F$5:F12))),"")} | G12: {=IFERROR(INDEX(Q$5:Q$41,SMALL(IF($O$5:$O$41<>"",ROW($O$5:$O$41)-ROW($O$5)+1),ROWS(G$5:G12))),"")} | H12: {=IFERROR(INDEX(R$5:R$41,SMALL(IF($O$5:$O$41<>"",ROW($O$5:$O$41)-ROW($O$5)+1),ROWS(H$5:H12))),"")} | I12: {=IFERROR(INDEX(S$5:S$41,SMALL(IF($O$5:$O$41<>"",ROW($O$5:$O$41)-ROW($O$5)+1),ROWS(I$5:I12))),"")} | J12: {=IFERROR(INDEX(T$5:T$41,SMALL(IF($O$5:$O$41<>"",ROW($O$5:$O$41)-ROW($O$5)+1),ROWS(J$5:J12))),"")} | K12: {=IFERROR(INDEX(U$5:U$41,SMALL(IF($O$5:$O$41<>"",ROW($O$5:$O$41)-ROW($O$5)+1),ROWS(K$5:K12))),"")} | N12: AS473-91 | O12: =IF(P12<=0,"",P12/Q12) | P12: ='AS473-91'!C12 -> 0 | Q12: ='AS473-91'!D10 -> 0 | R12: ='AS473-91'!B15 -> 0 | S12: ='AS473-91'!D15 | T12: ='AS473-91'!B16 -> 0 | U12: ='AS473-91'!D16 | X12: AS473-91 | Y12: 2
A13: 9 | B13: {=IFERROR(INDEX(N$5:N$41,SMALL(IF($O$5:$O$41<>"",ROW($O$5:$O$41)-ROW($O$5)+1),ROWS(B$5:B13))),"")} | C13: =IF(F13<>"",VLOOKUP(B13,$X:$Y,2,0),"") | D13: =IF(B13="","",C13*F13) | E13: =IFERROR(LARGE($O$5:$O$41,ROWS($E$5:E13)),"") | F13: {=IFERROR(INDEX(P$5:P$41,SMALL(IF($O$5:$O$41<>"",ROW($O$5:$O$41)-ROW($O$5)+1),ROWS(F$5:F13))),"")} | G13: {=IFERROR(INDEX(Q$5:Q$41,SMALL(IF($O$5:$O$41<>"",ROW($O$5:$O$41)-ROW($O$5)+1),ROWS(G$5:G13))),"")} | H13: {=IFERROR(INDEX(R$5:R$41,SMALL(IF($O$5:$O$41<>"",ROW($O$5:$O$41)-ROW($O$5)+1),ROWS(H$5:H13))),"")} | I13: {=IFERROR(INDEX(S$5:S$41,SMALL(IF($O$5:$O$41<>"",ROW($O$5:$O$41)-ROW($O$5)+1),ROWS(I$5:I13))),"")} | J13: {=IFERROR(INDEX(T$5:T$41,SMALL(IF($O$5:$O$41<>"",ROW($O$5:$O$41)-ROW($O$5)+1),ROWS(J$5:J13))),"")} | K13: {=IFERROR(INDEX(U$5:U$41,SMALL(IF($O$5:$O$41<>"",ROW($O$5:$O$41)-ROW($O$5)+1),ROWS(K$5:K13))),"")} | N13: AS583 | O13: =IF(P13<=0,"",P13/Q13) | P13: ='AS583'!C12 -> 0 | Q13: ='AS583'!D10 -> 38093 | R13: ='AS583'!B15 -> 0 | S13: ='AS583'!D15 | T13: ='AS583'!B16 -> 0 | U13: ='AS583'!D16 | X13: AS583 | Y13: 2.65
A14: 10 | B14: {=IFERROR(INDEX(N$5:N$41,SMALL(IF($O$5:$O$41<>"",ROW($O$5:$O$41)-ROW($O$5)+1),ROWS(B$5:B14))),"")} | C14: =IF(F14<>"",VLOOKUP(B14,$X:$Y,2,0),"") | D14: =IF(B14="","",C14*F14) | E14: =IFERROR(LARGE($O$5:$O$41,ROWS($E$5:E14)),"") | F14: {=IFERROR(INDEX(P$5:P$41,SMALL(IF($O$5:$O$41<>"",ROW($O$5:$O$41)-ROW($O$5)+1),ROWS(F$5:F14))),"")} | G14: {=IFERROR(INDEX(Q$5:Q$41,SMALL(IF($O$5:$O$41<>"",ROW($O$5:$O$41)-ROW($O$5)+1),ROWS(G$5:G14))),"")} | H14: {=IFERROR(INDEX(R$5:R$41,SMALL(IF($O$5:$O$41<>"",ROW($O$5:$O$41)-ROW($O$5)+1),ROWS(H$5:H14))),"")} | I14: {=IFERROR(INDEX(S$5:S$41,SMALL(IF($O$5:$O$41<>"",ROW($O$5:$O$41)-ROW($O$5)+1),ROWS(I$5:I14))),"")} | J14: {=IFERROR(INDEX(T$5:T$41,SMALL(IF($O$5:$O$41<>"",ROW($O$5:$O$41)-ROW($O$5)+1),ROWS(J$5:J14))),"")} | K14: {=IFERROR(INDEX(U$5:U$41,SMALL(IF($O$5:$O$41<>"",ROW($O$5:$O$41)-ROW($O$5)+1),ROWS(K$5:K14))),"")} | N14: BH1045 | O14: =IF(P14<=0,"",P14/Q14) | P14: ='BH1045'!C12 -> 0 | Q14: ='BH1045'!D10 -> 0 | R14: ='BH1045'!B15 -> 0 | S14: ='BH1045'!D15 | T14: ='BH1045'!B16 -> 0 | U14: ='BH1045'!D16 | X14: BH1045 | Y14: 2.88
A15: 11 | B15: {=IFERROR(INDEX(N$5:N$41,SMALL(IF($O$5:$O$41<>"",ROW($O$5:$O$41)-ROW($O$5)+1),ROWS(B$5:B15))),"")} | C15: =IF(F15<>"",VLOOKUP(B15,$X:$Y,2,0),"") | D15: =IF(B15="","",C15*F15) | E15: =IFERROR(LARGE($O$5:$O$41,ROWS($E$5:E15)),"") | F15: {=IFERROR(INDEX(P$5:P$41,SMALL(IF($O$5:$O$41<>"",ROW($O$5:$O$41)-ROW($O$5)+1),ROWS(F$5:F15))),"")} | G15: {=IFERROR(INDEX(Q$5:Q$41,SMALL(IF($O$5:$O$41<>"",ROW($O$5:$O$41)-ROW($O$5)+1),ROWS(G$5:G15))),"")} | H15: {=IFERROR(INDEX(R$5:R$41,SMALL(IF($O$5:$O$41<>"",ROW($O$5:$O$41)-ROW($O$5)+1),ROWS(H$5:H15))),"")} | I15: {=IFERROR(INDEX(S$5:S$41,SMALL(IF($O$5:$O$41<>"",ROW($O$5:$O$41)-ROW($O$5)+1),ROWS(I$5:I15))),"")} | J15: {=IFERROR(INDEX(T$5:T$41,SMALL(IF($O$5:$O$41<>"",ROW($O$5:$O$41)-ROW($O$5)+1),ROWS(J$5:J15))),"")} | K15: {=IFERROR(INDEX(U$5:U$41,SMALL(IF($O$5:$O$41<>"",ROW($O$5:$O$41)-ROW($O$5)+1),ROWS(K$5:K15))),"")} | N15: CB625 | O15: =IF(P15<=0,"",P15/Q15) | P15: ='CB625'!C12 -> 0 | Q15: ='CB625'!D10 -> 0 | R15: ='CB625'!B15 -> 0 | S15: ='CB625'!D15 | T15: ='CB625'!B16 -> 0 | U15: ='CB625'!D16 | X15: CB625 | Y15: 1.77
A16: 12 | B16: {=IFERROR(INDEX(N$5:N$41,SMALL(IF($O$5:$O$41<>"",ROW($O$5:$O$41)-ROW($O$5)+1),ROWS(B$5:B16))),"")} | C16: =IF(F16<>"",VLOOKUP(B16,$X:$Y,2,0),"") | D16: =IF(B16="","",C16*F16) | E16: =IFERROR(LARGE($O$5:$O$41,ROWS($E$5:E16)),"") | F16: {=IFERROR(INDEX(P$5:P$41,SMALL(IF($O$5:$O$41<>"",ROW($O$5:$O$41)-ROW($O$5)+1),ROWS(F$5:F16))),"")} | G16: {=IFERROR(INDEX(Q$5:Q$41,SMALL(IF($O$5:$O$41<>"",ROW($O$5:$O$41)-ROW($O$5)+1),ROWS(G$5:G16))),"")} | H16: {=IFERROR(INDEX(R$5:R$41,SMALL(IF($O$5:$O$41<>"",ROW($O$5:$O$41)-ROW($O$5)+1),ROWS(H$5:H16))),"")} | I16: {=IFERROR(INDEX(S$5:S$41,SMALL(IF($O$5:$O$41<>"",ROW($O$5:$O$41)-ROW($O$5)+1),ROWS(I$5:I16))),"")} | J16: {=IFERROR(INDEX(T$5:T$41,SMALL(IF($O$5:$O$41<>"",ROW($O$5:$O$41)-ROW($O$5)+1),ROWS(J$5:J16))),"")} | K16: {=IFERROR(INDEX(U$5:U$41,SMALL(IF($O$5:$O$41<>"",ROW($O$5:$O$41)-ROW($O$5)+1),ROWS(K$5:K16))),"")} | N16: CK405 | O16: =IF(P16<=0,"",P16/Q16) | P16: ='CK405'!C12 -> 0 | Q16: ='CK405'!D10 -> 0 | R16: ='CK405'!B15 -> 0 | S16: ='CK405'!D15 | T16: ='CK405'!B16 -> 0 | U16: ='CK405'!D16 | X16: CK405 | Y16: 1.37
A17: 13 | B17: {=IFERROR(INDEX(N$5:N$41,SMALL(IF($O$5:$O$41<>"",ROW($O$5:$O$41)-ROW($O$5)+1),ROWS(B$5:B17))),"")} | C17: =IF(F17<>"",VLOOKUP(B17,$X:$Y,2,0),"") | D17: =IF(B17="","",C17*F17) | E17: =IFERROR(LARGE($O$5:$O$41,ROWS($E$5:E17)),"") | F17: {=IFERROR(INDEX(P$5:P$41,SMALL(IF($O$5:$O$41<>"",ROW($O$5:$O$41)-ROW($O$5)+1),ROWS(F$5:F17))),"")} | G17: {=IFERROR(INDEX(Q$5:Q$41,SMALL(IF($O$5:$O$41<>"",ROW($O$5:$O$41)-ROW($O$5)+1),ROWS(G$5:G17))),"")} | H17: {=IFERROR(INDEX(R$5:R$41,SMALL(IF($O$5:$O$41<>"",ROW($O$5:$O$41)-ROW($O$5)+1),ROWS(H$5:H17))),"")} | I17: {=IFERROR(INDEX(S$5:S$41,SMALL(IF($O$5:$O$41<>"",ROW($O$5:$O$41)-ROW($O$5)+1),ROWS(I$5:I17))),"")} | J17: {=IFERROR(INDEX(T$5:T$41,SMALL(IF($O$5:$O$41<>"",ROW($O$5:$O$41)-ROW($O$5)+1),ROWS(J$5:J17))),"")} | K17: {=IFERROR(INDEX(U$5:U$41,SMALL(IF($O$5:$O$41<>"",ROW($O$5:$O$41)-ROW($O$5)+1),ROWS(K$5:K17))),"")} | N17: FHM407L | O17: =IF(P17<=0,"",P17/Q17) | P17: =FHM407L!C12 -> 0 | Q17: =FHM407L!D10 -> 0 | R17: =FHM407L!B15 -> 0 | S17: =FHM407L!D15 | T17: =FHM407L!B16 -> 0 | U17: =FHM407L!D16 | X17: FHM407L | Y17: 2.56
A18: 14 | B18: {=IFERROR(INDEX(N$5:N$41,SMALL(IF($O$5:$O$41<>"",ROW($O$5:$O$41)-ROW($O$5)+1),ROWS(B$5:B18))),"")} | C18: =IF(F18<>"",VLOOKUP(B18,$X:$Y,2,0),"") | D18: =IF(B18="","",C18*F18) | E18: =IFERROR(LARGE($O$5:$O$41,ROWS($E$5:E18)),"") | F18: {=IFERROR(INDEX(P$5:P$41,SMALL(IF($O$5:$O$41<>"",ROW($O$5:$O$41)-ROW($O$5)+1),ROWS(F$5:F18))),"")} | G18: {=IFERROR(INDEX(Q$5:Q$41,SMALL(IF($O$5:$O$41<>"",ROW($O$5:$O$41)-ROW($O$5)+1),ROWS(G$5:G18))),"")} | H18: {=IFERROR(INDEX(R$5:R$41,SMALL(IF($O$5:$O$41<>"",ROW($O$5:$O$41)-ROW($O$5)+1),ROWS(H$5:H18))),"")} | I18: {=IFERROR(INDEX(S$5:S$41,SMALL(IF($O$5:$O$41<>"",ROW($O$5:$O$41)-ROW($O$5)+1),ROWS(I$5:I18))),"")} | J18: {=IFERROR(INDEX(T$5:T$41,SMALL(IF($O$5:$O$41<>"",ROW($O$5:$O$41)-ROW($O$5)+1),ROWS(J$5:J18))),"")} | K18: {=IFERROR(INDEX(U$5:U$41,SMALL(IF($O$5:$O$41<>"",ROW($O$5:$O$41)-ROW($O$5)+1),ROWS(K$5:K18))),"")} | N18: KO246 | O18: =IF(P18<=0,"",P18/Q18) | P18: ='KO246'!C12 -> 0 | Q18: ='KO246'!D10 -> 0 | R18: ='KO246'!B15 -> 0 | S18: ='KO246'!D15 | T18: ='KO246'!B16 -> 0 | U18: ='KO246'!D16 | X18: KO246 | Y18: 9.7
A19: 15 | B19: {=IFERROR(INDEX(N$5:N$41,SMALL(IF($O$5:$O$41<>"",ROW($O$5:$O$41)-ROW($O$5)+1),ROWS(B$5:B19))),"")} | C19: =IF(F19<>"",VLOOKUP(B19,$X:$Y,2,0),"") | D19: =IF(B19="","",C19*F19) | E19: =IFERROR(LARGE($O$5:$O$41,ROWS($E$5:E19)),"") | F19: {=IFERROR(INDEX(P$5:P$41,SMALL(IF($O$5:$O$41<>"",ROW($O$5:$O$41)-ROW($O$5)+1),ROWS(F$5:F19))),"")} | G19: {=IFERROR(INDEX(Q$5:Q$41,SMALL(IF($O$5:$O$41<>"",ROW($O$5:$O$41)-ROW($O$5)+1),ROWS(G$5:G19))),"")} | H19: {=IFERROR(INDEX(R$5:R$41,SMALL(IF($O$5:$O$41<>"",ROW($O$5:$O$41)-ROW($O$5)+1),ROWS(H$5:H19))),"")} | I19: {=IFERROR(INDEX(S$5:S$41,SMALL(IF($O$5:$O$41<>"",ROW($O$5:$O$41)-ROW($O$5)+1),ROWS(I$5:I19))),"")} | J19: {=IFERROR(INDEX(T$5:T$41,SMALL(IF($O$5:$O$41<>"",ROW($O$5:$O$41)-ROW($O$5)+1),ROWS(J$5:J19))),"")} | K19: {=IFERROR(INDEX(U$5:U$41,SMALL(IF($O$5:$O$41<>"",ROW($O$5:$O$41)-ROW($O$5)+1),ROWS(K$5:K19))),"")} | N19: KO246B | O19: =IF(P19<=0,"",P19/Q19) | P19: =KO246B!C12 -> 0 | Q19: =KO246B!D10 -> 0 | R19: =KO246B!B15 -> 0 | S19: =KO246B!D15 | T19: =KO246B!B16 -> 0 | U19: =KO246B!D16 | X19: KO246B | Y19: 17.63
A20: 16 | B20: {=IFERROR(INDEX(N$5:N$41,SMALL(IF($O$5:$O$41<>"",ROW($O$5:$O$41)-ROW($O$5)+1),ROWS(B$5:B20))),"")} | C20: =IF(F20<>"",VLOOKUP(B20,$X:$Y,2,0),"") | D20: =IF(B20="","",C20*F20) | E20: =IFERROR(LARGE($O$5:$O$41,ROWS($E$5:E20)),"") | F20: {=IFERROR(INDEX(P$5:P$41,SMALL(IF($O$5:$O$41<>"",ROW($O$5:$O$41)-ROW($O$5)+1),ROWS(F$5:F20))),"")} | G20: {=IFERROR(INDEX(Q$5:Q$41,SMALL(IF($O$5:$O$41<>"",ROW($O$5:$O$41)-ROW($O$5)+1),ROWS(G$5:G20))),"")} | H20: {=IFERROR(INDEX(R$5:R$41,SMALL(IF($O$5:$O$41<>"",ROW($O$5:$O$41)-ROW($O$5)+1),ROWS(H$5:H20))),"")} | I20: {=IFERROR(INDEX(S$5:S$41,SMALL(IF($O$5:$O$41<>"",ROW($O$5:$O$41)-ROW($O$5)+1),ROWS(I$5:I20))),"")} | J20: {=IFERROR(INDEX(T$5:T$41,SMALL(IF($O$5:$O$41<>"",ROW($O$5:$O$41)-ROW($O$5)+1),ROWS(J$5:J20))),"")} | K20: {=IFERROR(INDEX(U$5:U$41,SMALL(IF($O$5:$O$41<>"",ROW($O$5:$O$41)-ROW($O$5)+1),ROWS(K$5:K20))),"")} | N20: KO246C | O20: =IF(P20<=0,"",P20/Q20) | P20: =KO246C!C12 -> 0 | Q20: =KO246C!D10 -> 0 | R20: =KO246C!B15 -> 0 | S20: =KO246C!D15 | T20: =KO246C!B16 -> 0 | U20: =KO246C!D16 | X20: KO246C | Y20: 21.08
A21: 17 | B21: {=IFERROR(INDEX(N$5:N$41,SMALL(IF($O$5:$O$41<>"",ROW($O$5:$O$41)-ROW($O$5)+1),ROWS(B$5:B21))),"")} | C21: =IF(F21<>"",VLOOKUP(B21,$X:$Y,2,0),"") | D21: =IF(B21="","",C21*F21) | E21: =IFERROR(LARGE($O$5:$O$41,ROWS($E$5:E21)),"") | F21: {=IFERROR(INDEX(P$5:P$41,SMALL(IF($O$5:$O$41<>"",ROW($O$5:$O$41)-ROW($O$5)+1),ROWS(F$5:F21))),"")} | G21: {=IFERROR(INDEX(Q$5:Q$41,SMALL(IF($O$5:$O$41<>"",ROW($O$5:$O$41)-ROW($O$5)+1),ROWS(G$5:G21))),"")} | H21: {=IFERROR(INDEX(R$5:R$41,SMALL(IF($O$5:$O$41<>"",ROW($O$5:$O$41)-ROW($O$5)+1),ROWS(H$5:H21))),"")} | I21: {=IFERROR(INDEX(S$5:S$41,SMALL(IF($O$5:$O$41<>"",ROW($O$5:$O$41)-ROW($O$5)+1),ROWS(I$5:I21))),"")} | J21: {=IFERROR(INDEX(T$5:T$41,SMALL(IF($O$5:$O$41<>"",ROW($O$5:$O$41)-ROW($O$5)+1),ROWS(J$5:J21))),"")} | K21: {=IFERROR(INDEX(U$5:U$41,SMALL(IF($O$5:$O$41<>"",ROW($O$5:$O$41)-ROW($O$5)+1),ROWS(K$5:K21))),"")} | N21: KO323L | O21: =IF(P21<=0,"",P21/Q21) | P21: =KO323L!C12 -> 0 | Q21: =KO323L!D10 -> 0 | R21: =KO323L!B15 -> 0 | S21: =KO323L!D15 | T21: =KO323L!B16 -> 0 | U21: =KO323L!D16 | X21: KO323L | Y21: 5.68
A22: 18 | B22: {=IFERROR(INDEX(N$5:N$41,SMALL(IF($O$5:$O$41<>"",ROW($O$5:$O$41)-ROW($O$5)+1),ROWS(B$5:B22))),"")} | C22: =IF(F22<>"",VLOOKUP(B22,$X:$Y,2,0),"") | D22: =IF(B22="","",C22*F22) | E22: =IFERROR(LARGE($O$5:$O$41,ROWS($E$5:E22)),"") | F22: {=IFERROR(INDEX(P$5:P$41,SMALL(IF($O$5:$O$41<>"",ROW($O$5:$O$41)-ROW($O$5)+1),ROWS(F$5:F22))),"")} | G22: {=IFERROR(INDEX(Q$5:Q$41,SMALL(IF($O$5:$O$41<>"",ROW($O$5:$O$41)-ROW($O$5)+1),ROWS(G$5:G22))),"")} | H22: {=IFERROR(INDEX(R$5:R$41,SMALL(IF($O$5:$O$41<>"",ROW($O$5:$O$41)-ROW($O$5)+1),ROWS(H$5:H22))),"")} | I22: {=IFERROR(INDEX(S$5:S$41,SMALL(IF($O$5:$O$41<>"",ROW($O$5:$O$41)-ROW($O$5)+1),ROWS(I$5:I22))),"")} | J22: {=IFERROR(INDEX(T$5:T$41,SMALL(IF($O$5:$O$41<>"",ROW($O$5:$O$41)-ROW($O$5)+1),ROWS(J$5:J22))),"")} | K22: {=IFERROR(INDEX(U$5:U$41,SMALL(IF($O$5:$O$41<>"",ROW($O$5:$O$41)-ROW($O$5)+1),ROWS(K$5:K22))),"")} | N22: KO365 | O22: =IF(P22<=0,"",P22/Q22) | P22: ='KO365'!C12 -> 0 | Q22: ='KO365'!D10 -> 0 | R22: ='KO365'!B15 -> 0 | S22: ='KO365'!D15 | T22: ='KO365'!B16 -> 0 | U22: ='KO365'!D16 | X22: KO365 | Y22: 5.44
A23: 19 | B23: {=IFERROR(INDEX(N$5:N$41,SMALL(IF($O$5:$O$41<>"",ROW($O$5:$O$41)-ROW($O$5)+1),ROWS(B$5:B23))),"")} | C23: =IF(F23<>"",VLOOKUP(B23,$X:$Y,2,0),"") | D23: =IF(B23="","",C23*F23) | E23: =IFERROR(LARGE($O$5:$O$41,ROWS($E$5:E23)),"") | F23: {=IFERROR(INDEX(P$5:P$41,SMALL(IF($O$5:$O$41<>"",ROW($O$5:$O$41)-ROW($O$5)+1),ROWS(F$5:F23))),"")} | G23: {=IFERROR(INDEX(Q$5:Q$41,SMALL(IF($O$5:$O$41<>"",ROW($O$5:$O$41)-ROW($O$5)+1),ROWS(G$5:G23))),"")} | H23: {=IFERROR(INDEX(R$5:R$41,SMALL(IF($O$5:$O$41<>"",ROW($O$5:$O$41)-ROW($O$5)+1),ROWS(H$5:H23))),"")} | I23: {=IFERROR(INDEX(S$5:S$41,SMALL(IF($O$5:$O$41<>"",ROW($O$5:$O$41)-ROW($O$5)+1),ROWS(I$5:I23))),"")} | J23: {=IFERROR(INDEX(T$5:T$41,SMALL(IF($O$5:$O$41<>"",ROW($O$5:$O$41)-ROW($O$5)+1),ROWS(J$5:J23))),"")} | K23: {=IFERROR(INDEX(U$5:U$41,SMALL(IF($O$5:$O$41<>"",ROW($O$5:$O$41)-ROW($O$5)+1),ROWS(K$5:K23))),"")} | N23: KO455S | O23: =IF(P23<=0,"",P23/Q23) | P23: =KO455S!C12 -> 0 | Q23: =KO455S!D10 -> 0 | R23: =KO455S!B15 -> 0 | S23: =KO455S!D15 | T23: =KO455S!B16 -> 0 | U23: =KO455S!D16 | X23: KO455S | Y23: 3.74
A24: 20 | B24: {=IFERROR(INDEX(N$5:N$41,SMALL(IF($O$5:$O$41<>"",ROW($O$5:$O$41)-ROW($O$5)+1),ROWS(B$5:B24))),"")} | C24: =IF(F24<>"",VLOOKUP(B24,$X:$Y,2,0),"") | D24: =IF(B24="","",C24*F24) | E24: =IFERROR(LARGE($O$5:$O$41,ROWS($E$5:E24)),"") | F24: {=IFERROR(INDEX(P$5:P$41,SMALL(IF($O$5:$O$41<>"",ROW($O$5:$O$41)-ROW($O$5)+1),ROWS(F$5:F24))),"")} | G24: {=IFERROR(INDEX(Q$5:Q$41,SMALL(IF($O$5:$O$41<>"",ROW($O$5:$O$41)-ROW($O$5)+1),ROWS(G$5:G24))),"")} | H24: {=IFERROR(INDEX(R$5:R$41,SMALL(IF($O$5:$O$41<>"",ROW($O$5:$O$41)-ROW($O$5)+1),ROWS(H$5:H24))),"")} | I24: {=IFERROR(INDEX(S$5:S$41,SMALL(IF($O$5:$O$41<>"",ROW($O$5:$O$41)-ROW($O$5)+1),ROWS(I$5:I24))),"")} | J24: {=IFERROR(INDEX(T$5:T$41,SMALL(IF($O$5:$O$41<>"",ROW($O$5:$O$41)-ROW($O$5)+1),ROWS(J$5:J24))),"")} | K24: {=IFERROR(INDEX(U$5:U$41,SMALL(IF($O$5:$O$41<>"",ROW($O$5:$O$41)-ROW($O$5)+1),ROWS(K$5:K24))),"")} | N24: KO857 | O24: =IF(P24<=0,"",P24/Q24) | P24: ='KO857'!C12 -> 0 | Q24: ='KO857'!D10 -> 0 | R24: ='KO857'!B15 -> 0 | S24: ='KO857'!D15 | T24: ='KO857'!B16 -> 0 | U24: ='KO857'!D16 | X24: KO857 | Y24: 4.88
A25: 21 | B25: {=IFERROR(INDEX(N$5:N$41,SMALL(IF($O$5:$O$41<>"",ROW($O$5:$O$41)-ROW($O$5)+1),ROWS(B$5:B25))),"")} | C25: =IF(F25<>"",VLOOKUP(B25,$X:$Y,2,0),"") | D25: =IF(B25="","",C25*F25) | E25: =IFERROR(LARGE($O$5:$O$41,ROWS($E$5:E25)),"") | F25: {=IFERROR(INDEX(P$5:P$41,SMALL(IF($O$5:$O$41<>"",ROW($O$5:$O$41)-ROW($O$5)+1),ROWS(F$5:F25))),"")} | G25: {=IFERROR(INDEX(Q$5:Q$41,SMALL(IF($O$5:$O$41<>"",ROW($O$5:$O$41)-ROW($O$5)+1),ROWS(G$5:G25))),"")} | H25: {=IFERROR(INDEX(R$5:R$41,SMALL(IF($O$5:$O$41<>"",ROW($O$5:$O$41)-ROW($O$5)+1),ROWS(H$5:H25))),"")} | I25: {=IFERROR(INDEX(S$5:S$41,SMALL(IF($O$5:$O$41<>"",ROW($O$5:$O$41)-ROW($O$5)+1),ROWS(I$5:I25))),"")} | J25: {=IFERROR(INDEX(T$5:T$41,SMALL(IF($O$5:$O$41<>"",ROW($O$5:$O$41)-ROW($O$5)+1),ROWS(J$5:J25))),"")} | K25: {=IFERROR(INDEX(U$5:U$41,SMALL(IF($O$5:$O$41<>"",ROW($O$5:$O$41)-ROW($O$5)+1),ROWS(K$5:K25))),"")} | N25: ME15812-5 | O25: =IF(P25<=0,"",P25/Q25) | P25: ='ME15812-5'!C12 -> 0 | Q25: ='ME15812-5'!D10 -> 0 | R25: ='ME15812-5'!B15 -> 0 | S25: ='ME15812-5'!D15 | T25: ='ME15812-5'!B16 -> 0 | U25: ='ME15812-5'!D16 | X25: ME15812-5 | Y25: 14.869
A26: 22 | B26: {=IFERROR(INDEX(N$5:N$41,SMALL(IF($O$5:$O$41<>"",ROW($O$5:$O$41)-ROW($O$5)+1),ROWS(B$5:B26))),"")} | C26: =IF(F26<>"",VLOOKUP(B26,$X:$Y,2,0),"") | D26: =IF(B26="","",C26*F26) | E26: =IFERROR(LARGE($O$5:$O$41,ROWS($E$5:E26)),"") | F26: {=IFERROR(INDEX(P$5:P$41,SMALL(IF($O$5:$O$41<>"",ROW($O$5:$O$41)-ROW($O$5)+1),ROWS(F$5:F26))),"")} | G26: {=IFERROR(INDEX(Q$5:Q$41,SMALL(IF($O$5:$O$41<>"",ROW($O$5:$O$41)-ROW($O$5)+1),ROWS(G$5:G26))),"")} | H26: {=IFERROR(INDEX(R$5:R$41,SMALL(IF($O$5:$O$41<>"",ROW($O$5:$O$41)-ROW($O$5)+1),ROWS(H$5:H26))),"")} | I26: {=IFERROR(INDEX(S$5:S$41,SMALL(IF($O$5:$O$41<>"",ROW($O$5:$O$41)-ROW($O$5)+1),ROWS(I$5:I26))),"")} | J26: {=IFERROR(INDEX(T$5:T$41,SMALL(IF($O$5:$O$41<>"",ROW($O$5:$O$41)-ROW($O$5)+1),ROWS(J$5:J26))),"")} | K26: {=IFERROR(INDEX(U$5:U$41,SMALL(IF($O$5:$O$41<>"",ROW($O$5:$O$41)-ROW($O$5)+1),ROWS(K$5:K26))),"")} | N26: ME15812-5/9 | O26: =IF(P26<=0,"",P26/Q26) | P26: ='ME15812-5_9'!C12 -> 0 | Q26: ='ME15812-5_9'!D10 -> 0 | R26: ='ME15812-5_9'!B15 -> 0 | S26: ='ME15812-5_9'!D15 | T26: ='ME15812-5_9'!B16 -> 0 | U26: ='ME15812-5_9'!D16 | X26: ME15812-5/9 | Y26: 14.869
A27: 23 | B27: {=IFERROR(INDEX(N$5:N$41,SMALL(IF($O$5:$O$41<>"",ROW($O$5:$O$41)-ROW($O$5)+1),ROWS(B$5:B27))),"")} | C27: =IF(F27<>"",VLOOKUP(B27,$X:$Y,2,0),"") | D27: =IF(B27="","",C27*F27) | E27: =IFERROR(LARGE($O$5:$O$41,ROWS($E$5:E27)),"") | F27: {=IFERROR(INDEX(P$5:P$41,SMALL(IF($O$5:$O$41<>"",ROW($O$5:$O$41)-ROW($O$5)+1),ROWS(F$5:F27))),"")} | G27: {=IFERROR(INDEX(Q$5:Q$41,SMALL(IF($O$5:$O$41<>"",ROW($O$5:$O$41)-ROW($O$5)+1),ROWS(G$5:G27))),"")} | H27: {=IFERROR(INDEX(R$5:R$41,SMALL(IF($O$5:$O$41<>"",ROW($O$5:$O$41)-ROW($O$5)+1),ROWS(H$5:H27))),"")} | I27: {=IFERROR(INDEX(S$5:S$41,SMALL(IF($O$5:$O$41<>"",ROW($O$5:$O$41)-ROW($O$5)+1),ROWS(I$5:I27))),"")} | J27: {=IFERROR(INDEX(T$5:T$41,SMALL(IF($O$5:$O$41<>"",ROW($O$5:$O$41)-ROW($O$5)+1),ROWS(J$5:J27))),"")} | K27: {=IFERROR(INDEX(U$5:U$41,SMALL(IF($O$5:$O$41<>"",ROW($O$5:$O$41)-ROW($O$5)+1),ROWS(K$5:K27))),"")} | N27: ME15812-6 | O27: =IF(P27<=0,"",P27/Q27) | P27: ='ME15812-6'!C12 -> 0 | Q27: ='ME15812-6'!D10 -> 0 | R27: ='ME15812-6'!B15 -> 0 | S27: ='ME15812-6'!D15 | T27: ='ME15812-6'!B16 -> 0 | U27: ='ME15812-6'!D16 | X27: ME15812-6 | Y27: 14.869
A28: 24 | B28: {=IFERROR(INDEX(N$5:N$41,SMALL(IF($O$5:$O$41<>"",ROW($O$5:$O$41)-ROW($O$5)+1),ROWS(B$5:B28))),"")} | C28: =IF(F28<>"",VLOOKUP(B28,$X:$Y,2,0),"") | D28: =IF(B28="","",C28*F28) | E28: =IFERROR(LARGE($O$5:$O$41,ROWS($E$5:E28)),"") | F28: {=IFERROR(INDEX(P$5:P$41,SMALL(IF($O$5:$O$41<>"",ROW($O$5:$O$41)-ROW($O$5)+1),ROWS(F$5:F28))),"")} | G28: {=IFERROR(INDEX(Q$5:Q$41,SMALL(IF($O$5:$O$41<>"",ROW($O$5:$O$41)-ROW($O$5)+1),ROWS(G$5:G28))),"")} | H28: {=IFERROR(INDEX(R$5:R$41,SMALL(IF($O$5:$O$41<>"",ROW($O$5:$O$41)-ROW($O$5)+1),ROWS(H$5:H28))),"")} | I28: {=IFERROR(INDEX(S$5:S$41,SMALL(IF($O$5:$O$41<>"",ROW($O$5:$O$41)-ROW($O$5)+1),ROWS(I$5:I28))),"")} | J28: {=IFERROR(INDEX(T$5:T$41,SMALL(IF($O$5:$O$41<>"",ROW($O$5:$O$41)-ROW($O$5)+1),ROWS(J$5:J28))),"")} | K28: {=IFERROR(INDEX(U$5:U$41,SMALL(IF($O$5:$O$41<>"",ROW($O$5:$O$41)-ROW($O$5)+1),ROWS(K$5:K28))),"")} | N28: ME15812-6/10 | O28: =IF(P28<=0,"",P28/Q28) | P28: ='ME15812-6_10'!C12 -> 0 | Q28: ='ME15812-6_10'!D10 -> 0 | R28: ='ME15812-6_10'!B15 -> 0 | S28: ='ME15812-6_10'!D15 | T28: ='ME15812-6_10'!B16 -> 0 | U28: ='ME15812-6_10'!D16 | X28: ME15812-6/10 | Y28: 14.869
A29: 25 | B29: {=IFERROR(INDEX(N$5:N$41,SMALL(IF($O$5:$O$41<>"",ROW($O$5:$O$41)-ROW($O$5)+1),ROWS(B$5:B29))),"")} | C29: =IF(F29<>"",VLOOKUP(B29,$X:$Y,2,0),"") | D29: =IF(B29="","",C29*F29) | E29: =IFERROR(LARGE($O$5:$O$41,ROWS($E$5:E29)),"") | F29: {=IFERROR(INDEX(P$5:P$41,SMALL(IF($O$5:$O$41<>"",ROW($O$5:$O$41)-ROW($O$5)+1),ROWS(F$5:F29))),"")} | G29: {=IFERROR(INDEX(Q$5:Q$41,SMALL(IF($O$5:$O$41<>"",ROW($O$5:$O$41)-ROW($O$5)+1),ROWS(G$5:G29))),"")} | H29: {=IFERROR(INDEX(R$5:R$41,SMALL(IF($O$5:$O$41<>"",ROW($O$5:$O$41)-ROW($O$5)+1),ROWS(H$5:H29))),"")} | I29: {=IFERROR(INDEX(S$5:S$41,SMALL(IF($O$5:$O$41<>"",ROW($O$5:$O$41)-ROW($O$5)+1),ROWS(I$5:I29))),"")} | J29: {=IFERROR(INDEX(T$5:T$41,SMALL(IF($O$5:$O$41<>"",ROW($O$5:$O$41)-ROW($O$5)+1),ROWS(J$5:J29))),"")} | K29: {=IFERROR(INDEX(U$5:U$41,SMALL(IF($O$5:$O$41<>"",ROW($O$5:$O$41)-ROW($O$5)+1),ROWS(K$5:K29))),"")} | N29: ME15812-7 | O29: =IF(P29<=0,"",P29/Q29) | P29: ='ME15812-7'!C12 -> 0 | Q29: ='ME15812-7'!D10 -> 0 | R29: ='ME15812-7'!B15 -> 0 | S29: ='ME15812-7'!D15 | T29: ='ME15812-7'!B16 -> 0 | U29: ='ME15812-7'!D16 | X29: ME15812-7 | Y29: 14.869
A30: 26 | B30: {=IFERROR(INDEX(N$5:N$41,SMALL(IF($O$5:$O$41<>"",ROW($O$5:$O$41)-ROW($O$5)+1),ROWS(B$5:B30))),"")} | C30: =IF(F30<>"",VLOOKUP(B30,$X:$Y,2,0),"") | D30: =IF(B30="","",C30*F30) | E30: =IFERROR(LARGE($O$5:$O$41,ROWS($E$5:E30)),"") | F30: {=IFERROR(INDEX(P$5:P$41,SMALL(IF($O$5:$O$41<>"",ROW($O$5:$O$41)-ROW($O$5)+1),ROWS(F$5:F30))),"")} | G30: {=IFERROR(INDEX(Q$5:Q$41,SMALL(IF($O$5:$O$41<>"",ROW($O$5:$O$41)-ROW($O$5)+1),ROWS(G$5:G30))),"")} | H30: {=IFERROR(INDEX(R$5:R$41,SMALL(IF($O$5:$O$41<>"",ROW($O$5:$O$41)-ROW($O$5)+1),ROWS(H$5:H30))),"")} | I30: {=IFERROR(INDEX(S$5:S$41,SMALL(IF($O$5:$O$41<>"",ROW($O$5:$O$41)-ROW($O$5)+1),ROWS(I$5:I30))),"")} | J30: {=IFERROR(INDEX(T$5:T$41,SMALL(IF($O$5:$O$41<>"",ROW($O$5:$O$41)-ROW($O$5)+1),ROWS(J$5:J30))),"")} | K30: {=IFERROR(INDEX(U$5:U$41,SMALL(IF($O$5:$O$41<>"",ROW($O$5:$O$41)-ROW($O$5)+1),ROWS(K$5:K30))),"")} | N30: ME15812-8 | O30: =IF(P30<=0,"",P30/Q30) | P30: ='ME15812-8'!C12 -> 0 | Q30: ='ME15812-8'!D10 -> 0 | R30: ='ME15812-8'!B15 -> 0 | S30: ='ME15812-8'!D15 | T30: ='ME15812-8'!B16 -> 0 | U30: ='ME15812-8'!D16 | X30: ME15812-8 | Y30: 14.869
A31: 27 | B31: {=IFERROR(INDEX(N$5:N$41,SMALL(IF($O$5:$O$41<>"",ROW($O$5:$O$41)-ROW($O$5)+1),ROWS(B$5:B31))),"")} | C31: =IF(F31<>"",VLOOKUP(B31,$X:$Y,2,0),"") | D31: =IF(B31="","",C31*F31) | E31: =IFERROR(LARGE($O$5:$O$41,ROWS($E$5:E31)),"") | F31: {=IFERROR(INDEX(P$5:P$41,SMALL(IF($O$5:$O$41<>"",ROW($O$5:$O$41)-ROW($O$5)+1),ROWS(F$5:F31))),"")} | G31: {=IFERROR(INDEX(Q$5:Q$41,SMALL(IF($O$5:$O$41<>"",ROW($O$5:$O$41)-ROW($O$5)+1),ROWS(G$5:G31))),"")} | H31: {=IFERROR(INDEX(R$5:R$41,SMALL(IF($O$5:$O$41<>"",ROW($O$5:$O$41)-ROW($O$5)+1),ROWS(H$5:H31))),"")} | I31: {=IFERROR(INDEX(S$5:S$41,SMALL(IF($O$5:$O$41<>"",ROW($O$5:$O$41)-ROW($O$5)+1),ROWS(I$5:I31))),"")} | J31: {=IFERROR(INDEX(T$5:T$41,SMALL(IF($O$5:$O$41<>"",ROW($O$5:$O$41)-ROW($O$5)+1),ROWS(J$5:J31))),"")} | K31: {=IFERROR(INDEX(U$5:U$41,SMALL(IF($O$5:$O$41<>"",ROW($O$5:$O$41)-ROW($O$5)+1),ROWS(K$5:K31))),"")} | N31: ME1586 | O31: =IF(P31<=0,"",P31/Q31) -> #DIV/0! | P31: ='ME1586'!C12 -> 344 | Q31: ='ME1586'!D10 -> 0 | R31: ='ME1586'!B15 -> SPEC TERMINAL LOWER 2.56 | S31: ='ME1586'!D15 -> 0.26453488 | T31: ='ME1586'!B16 -> TIN PEEL OFF (ดีบุกลอก) | U31: ='ME1586'!D16 -> 0.20930233 | X31: ME1586 | Y31: 14.095
A32: 28 | B32: {=IFERROR(INDEX(N$5:N$41,SMALL(IF($O$5:$O$41<>"",ROW($O$5:$O$41)-ROW($O$5)+1),ROWS(B$5:B32))),"")} | C32: =IF(F32<>"",VLOOKUP(B32,$X:$Y,2,0),"") | D32: =IF(B32="","",C32*F32) | E32: =IFERROR(LARGE($O$5:$O$41,ROWS($E$5:E32)),"") | F32: {=IFERROR(INDEX(P$5:P$41,SMALL(IF($O$5:$O$41<>"",ROW($O$5:$O$41)-ROW($O$5)+1),ROWS(F$5:F32))),"")} | G32: {=IFERROR(INDEX(Q$5:Q$41,SMALL(IF($O$5:$O$41<>"",ROW($O$5:$O$41)-ROW($O$5)+1),ROWS(G$5:G32))),"")} | H32: {=IFERROR(INDEX(R$5:R$41,SMALL(IF($O$5:$O$41<>"",ROW($O$5:$O$41)-ROW($O$5)+1),ROWS(H$5:H32))),"")} | I32: {=IFERROR(INDEX(S$5:S$41,SMALL(IF($O$5:$O$41<>"",ROW($O$5:$O$41)-ROW($O$5)+1),ROWS(I$5:I32))),"")} | J32: {=IFERROR(INDEX(T$5:T$41,SMALL(IF($O$5:$O$41<>"",ROW($O$5:$O$41)-ROW($O$5)+1),ROWS(J$5:J32))),"")} | K32: {=IFERROR(INDEX(U$5:U$41,SMALL(IF($O$5:$O$41<>"",ROW($O$5:$O$41)-ROW($O$5)+1),ROWS(K$5:K32))),"")} | N32: ME17814-1 | O32: =IF(P32<=0,"",P32/Q32) -> #DIV/0! | P32: ='ME17814-1'!C12 -> 1975 | Q32: ='ME17814-1'!D10 -> 0 | R32: ='ME17814-1'!B15 -> SLITTING NG LEAN (ร่องเอียง) | S32: ='ME17814-1'!D15 -> 0.27291139 | T32: ='ME17814-1'!B16 -> BUSH NG | U32: ='ME17814-1'!D16 -> 0.22025316 | X32: ME17814-1 | Y32: 13.108
A33: 29 | B33: {=IFERROR(INDEX(N$5:N$41,SMALL(IF($O$5:$O$41<>"",ROW($O$5:$O$41)-ROW($O$5)+1),ROWS(B$5:B33))),"")} | C33: =IF(F33<>"",VLOOKUP(B33,$X:$Y,2,0),"") | D33: =IF(B33="","",C33*F33) | E33: =IFERROR(LARGE($O$5:$O$41,ROWS($E$5:E33)),"") | F33: {=IFERROR(INDEX(P$5:P$41,SMALL(IF($O$5:$O$41<>"",ROW($O$5:$O$41)-ROW($O$5)+1),ROWS(F$5:F33))),"")} | G33: {=IFERROR(INDEX(Q$5:Q$41,SMALL(IF($O$5:$O$41<>"",ROW($O$5:$O$41)-ROW($O$5)+1),ROWS(G$5:G33))),"")} | H33: {=IFERROR(INDEX(R$5:R$41,SMALL(IF($O$5:$O$41<>"",ROW($O$5:$O$41)-ROW($O$5)+1),ROWS(H$5:H33))),"")} | I33: {=IFERROR(INDEX(S$5:S$41,SMALL(IF($O$5:$O$41<>"",ROW($O$5:$O$41)-ROW($O$5)+1),ROWS(I$5:I33))),"")} | J33: {=IFERROR(INDEX(T$5:T$41,SMALL(IF($O$5:$O$41<>"",ROW($O$5:$O$41)-ROW($O$5)+1),ROWS(J$5:J33))),"")} | K33: {=IFERROR(INDEX(U$5:U$41,SMALL(IF($O$5:$O$41<>"",ROW($O$5:$O$41)-ROW($O$5)+1),ROWS(K$5:K33))),"")} | N33: ME17814-2 | O33: =IF(P33<=0,"",P33/Q33) -> #DIV/0! | P33: ='ME17814-2'!C12 -> 1589 | Q33: ='ME17814-2'!D10 -> 0 | R33: ='ME17814-2'!B15 -> SLITTING LEAN (ร่องเอียง) | S33: ='ME17814-2'!D15 -> 0.42731278 | T33: ='ME17814-2'!B16 -> TERMINAL DAMAGE | U33: ='ME17814-2'!D16 -> 0.11453744 | X33: ME17814-2 | Y33: 13.108
A34: 30 | B34: {=IFERROR(INDEX(N$5:N$41,SMALL(IF($O$5:$O$41<>"",ROW($O$5:$O$41)-ROW($O$5)+1),ROWS(B$5:B34))),"")} | C34: =IF(F34<>"",VLOOKUP(B34,$X:$Y,2,0),"") | D34: =IF(B34="","",C34*F34) | E34: =IFERROR(LARGE($O$5:$O$41,ROWS($E$5:E34)),"") | F34: {=IFERROR(INDEX(P$5:P$41,SMALL(IF($O$5:$O$41<>"",ROW($O$5:$O$41)-ROW($O$5)+1),ROWS(F$5:F34))),"")} | G34: {=IFERROR(INDEX(Q$5:Q$41,SMALL(IF($O$5:$O$41<>"",ROW($O$5:$O$41)-ROW($O$5)+1),ROWS(G$5:G34))),"")} | H34: {=IFERROR(INDEX(R$5:R$41,SMALL(IF($O$5:$O$41<>"",ROW($O$5:$O$41)-ROW($O$5)+1),ROWS(H$5:H34))),"")} | I34: {=IFERROR(INDEX(S$5:S$41,SMALL(IF($O$5:$O$41<>"",ROW($O$5:$O$41)-ROW($O$5)+1),ROWS(I$5:I34))),"")} | J34: {=IFERROR(INDEX(T$5:T$41,SMALL(IF($O$5:$O$41<>"",ROW($O$5:$O$41)-ROW($O$5)+1),ROWS(J$5:J34))),"")} | K34: {=IFERROR(INDEX(U$5:U$41,SMALL(IF($O$5:$O$41<>"",ROW($O$5:$O$41)-ROW($O$5)+1),ROWS(K$5:K34))),"")} | N34: MM685 | O34: =IF(P34<=0,"",P34/Q34) | P34: ='MM685'!C12 -> 0 | Q34: ='MM685'!D10 -> 0 | R34: ='MM685'!B15 -> 0 | S34: ='MM685'!D15 | T34: ='MM685'!B16 -> 0 | U34: ='MM685'!D16 | X34: MM685 | Y34: 2.24
A35: 31 | B35: {=IFERROR(INDEX(N$5:N$41,SMALL(IF($O$5:$O$41<>"",ROW($O$5:$O$41)-ROW($O$5)+1),ROWS(B$5:B35))),"")} | C35: =IF(F35<>"",VLOOKUP(B35,$X:$Y,2,0),"") | D35: =IF(B35="","",C35*F35) | E35: =IFERROR(LARGE($O$5:$O$41,ROWS($E$5:E35)),"") | F35: {=IFERROR(INDEX(P$5:P$41,SMALL(IF($O$5:$O$41<>"",ROW($O$5:$O$41)-ROW($O$5)+1),ROWS(F$5:F35))),"")} | G35: {=IFERROR(INDEX(Q$5:Q$41,SMALL(IF($O$5:$O$41<>"",ROW($O$5:$O$41)-ROW($O$5)+1),ROWS(G$5:G35))),"")} | H35: {=IFERROR(INDEX(R$5:R$41,SMALL(IF($O$5:$O$41<>"",ROW($O$5:$O$41)-ROW($O$5)+1),ROWS(H$5:H35))),"")} | I35: {=IFERROR(INDEX(S$5:S$41,SMALL(IF($O$5:$O$41<>"",ROW($O$5:$O$41)-ROW($O$5)+1),ROWS(I$5:I35))),"")} | J35: {=IFERROR(INDEX(T$5:T$41,SMALL(IF($O$5:$O$41<>"",ROW($O$5:$O$41)-ROW($O$5)+1),ROWS(J$5:J35))),"")} | K35: {=IFERROR(INDEX(U$5:U$41,SMALL(IF($O$5:$O$41<>"",ROW($O$5:$O$41)-ROW($O$5)+1),ROWS(K$5:K35))),"")} | N35: NN1059 | O35: =IF(P35<=0,"",P35/Q35) | P35: ='NN1059'!C12 -> 0 | Q35: ='NN1059'!D10 -> 0 | R35: ='NN1059'!B15 -> 0 | S35: ='NN1059'!D15 | T35: ='NN1059'!B16 -> 0 | U35: ='NN1059'!D16 | X35: NN1059 | Y35: 12.32
A36: 32 | B36: {=IFERROR(INDEX(N$5:N$41,SMALL(IF($O$5:$O$41<>"",ROW($O$5:$O$41)-ROW($O$5)+1),ROWS(B$5:B36))),"")} | C36: =IF(F36<>"",VLOOKUP(B36,$X:$Y,2,0),"") | D36: =IF(B36="","",C36*F36) | E36: =IFERROR(LARGE($O$5:$O$41,ROWS($E$5:E36)),"") | F36: {=IFERROR(INDEX(P$5:P$41,SMALL(IF($O$5:$O$41<>"",ROW($O$5:$O$41)-ROW($O$5)+1),ROWS(F$5:F36))),"")} | G36: {=IFERROR(INDEX(Q$5:Q$41,SMALL(IF($O$5:$O$41<>"",ROW($O$5:$O$41)-ROW($O$5)+1),ROWS(G$5:G36))),"")} | H36: {=IFERROR(INDEX(R$5:R$41,SMALL(IF($O$5:$O$41<>"",ROW($O$5:$O$41)-ROW($O$5)+1),ROWS(H$5:H36))),"")} | I36: {=IFERROR(INDEX(S$5:S$41,SMALL(IF($O$5:$O$41<>"",ROW($O$5:$O$41)-ROW($O$5)+1),ROWS(I$5:I36))),"")} | J36: {=IFERROR(INDEX(T$5:T$41,SMALL(IF($O$5:$O$41<>"",ROW($O$5:$O$41)-ROW($O$5)+1),ROWS(J$5:J36))),"")} | K36: {=IFERROR(INDEX(U$5:U$41,SMALL(IF($O$5:$O$41<>"",ROW($O$5:$O$41)-ROW($O$5)+1),ROWS(K$5:K36))),"")} | N36: NN433 | O36: =IF(P36<=0,"",P36/Q36) | P36: ='NN433'!C12 -> 0 | Q36: ='NN433'!D10 -> 0 | R36: ='NN433'!B15 -> 0 | S36: ='NN433'!D15 | T36: ='NN433'!B16 -> 0 | U36: ='NN433'!D16 | X36: NN433 | Y36: 3.31
A37: 33 | B37: {=IFERROR(INDEX(N$5:N$41,SMALL(IF($O$5:$O$41<>"",ROW($O$5:$O$41)-ROW($O$5)+1),ROWS(B$5:B37))),"")} | C37: =IF(F37<>"",VLOOKUP(B37,$X:$Y,2,0),"") | D37: =IF(B37="","",C37*F37) | E37: =IFERROR(LARGE($O$5:$O$41,ROWS($E$5:E37)),"") | F37: {=IFERROR(INDEX(P$5:P$41,SMALL(IF($O$5:$O$41<>"",ROW($O$5:$O$41)-ROW($O$5)+1),ROWS(F$5:F37))),"")} | G37: {=IFERROR(INDEX(Q$5:Q$41,SMALL(IF($O$5:$O$41<>"",ROW($O$5:$O$41)-ROW($O$5)+1),ROWS(G$5:G37))),"")} | H37: {=IFERROR(INDEX(R$5:R$41,SMALL(IF($O$5:$O$41<>"",ROW($O$5:$O$41)-ROW($O$5)+1),ROWS(H$5:H37))),"")} | I37: {=IFERROR(INDEX(S$5:S$41,SMALL(IF($O$5:$O$41<>"",ROW($O$5:$O$41)-ROW($O$5)+1),ROWS(I$5:I37))),"")} | J37: {=IFERROR(INDEX(T$5:T$41,SMALL(IF($O$5:$O$41<>"",ROW($O$5:$O$41)-ROW($O$5)+1),ROWS(J$5:J37))),"")} | K37: {=IFERROR(INDEX(U$5:U$41,SMALL(IF($O$5:$O$41<>"",ROW($O$5:$O$41)-ROW($O$5)+1),ROWS(K$5:K37))),"")} | N37: NN7359 | O37: =IF(P37<=0,"",P37/Q37) | P37: ='NN7359'!C12 -> 0 | Q37: ='NN7359'!D10 -> 0 | R37: ='NN7359'!B15 -> 0 | S37: ='NN7359'!D15 | T37: ='NN7359'!B16 -> 0 | U37: ='NN7359'!D16 | X37: NN7359 | Y37: 9.86
A38: 34 | B38: {=IFERROR(INDEX(N$5:N$41,SMALL(IF($O$5:$O$41<>"",ROW($O$5:$O$41)-ROW($O$5)+1),ROWS(B$5:B38))),"")} | C38: =IF(F38<>"",VLOOKUP(B38,$X:$Y,2,0),"") | D38: =IF(B38="","",C38*F38) | E38: =IFERROR(LARGE($O$5:$O$41,ROWS($E$5:E38)),"") | F38: {=IFERROR(INDEX(P$5:P$41,SMALL(IF($O$5:$O$41<>"",ROW($O$5:$O$41)-ROW($O$5)+1),ROWS(F$5:F38))),"")} | G38: {=IFERROR(INDEX(Q$5:Q$41,SMALL(IF($O$5:$O$41<>"",ROW($O$5:$O$41)-ROW($O$5)+1),ROWS(G$5:G38))),"")} | H38: {=IFERROR(INDEX(R$5:R$41,SMALL(IF($O$5:$O$41<>"",ROW($O$5:$O$41)-ROW($O$5)+1),ROWS(H$5:H38))),"")} | I38: {=IFERROR(INDEX(S$5:S$41,SMALL(IF($O$5:$O$41<>"",ROW($O$5:$O$41)-ROW($O$5)+1),ROWS(I$5:I38))),"")} | J38: {=IFERROR(INDEX(T$5:T$41,SMALL(IF($O$5:$O$41<>"",ROW($O$5:$O$41)-ROW($O$5)+1),ROWS(J$5:J38))),"")} | K38: {=IFERROR(INDEX(U$5:U$41,SMALL(IF($O$5:$O$41<>"",ROW($O$5:$O$41)-ROW($O$5)+1),ROWS(K$5:K38))),"")} | N38: SS603 | O38: =IF(P38<=0,"",P38/Q38) | P38: ='SS603'!C12 -> 0 | Q38: ='SS603'!D10 -> 0 | R38: ='SS603'!B15 -> 0 | S38: ='SS603'!D15 | T38: ='SS603'!B16 -> 0 | U38: ='SS603'!D16 | X38: SS603 | Y38: 6.94
A39: 35 | B39: {=IFERROR(INDEX(N$5:N$41,SMALL(IF($O$5:$O$41<>"",ROW($O$5:$O$41)-ROW($O$5)+1),ROWS(B$5:B39))),"")} | C39: =IF(F39<>"",VLOOKUP(B39,$X:$Y,2,0),"") | D39: =IF(B39="","",C39*F39) | E39: =IFERROR(LARGE($O$5:$O$41,ROWS($E$5:E39)),"") | F39: {=IFERROR(INDEX(P$5:P$41,SMALL(IF($O$5:$O$41<>"",ROW($O$5:$O$41)-ROW($O$5)+1),ROWS(F$5:F39))),"")} | G39: {=IFERROR(INDEX(Q$5:Q$41,SMALL(IF($O$5:$O$41<>"",ROW($O$5:$O$41)-ROW($O$5)+1),ROWS(G$5:G39))),"")} | H39: {=IFERROR(INDEX(R$5:R$41,SMALL(IF($O$5:$O$41<>"",ROW($O$5:$O$41)-ROW($O$5)+1),ROWS(H$5:H39))),"")} | I39: {=IFERROR(INDEX(S$5:S$41,SMALL(IF($O$5:$O$41<>"",ROW($O$5:$O$41)-ROW($O$5)+1),ROWS(I$5:I39))),"")} | J39: {=IFERROR(INDEX(T$5:T$41,SMALL(IF($O$5:$O$41<>"",ROW($O$5:$O$41)-ROW($O$5)+1),ROWS(J$5:J39))),"")} | K39: {=IFERROR(INDEX(U$5:U$41,SMALL(IF($O$5:$O$41<>"",ROW($O$5:$O$41)-ROW($O$5)+1),ROWS(K$5:K39))),"")} | N39: TG5410 | O39: =IF(P39<=0,"",P39/Q39) | P39: ='TG5410'!C12 -> 0 | Q39: ='TG5410'!D10 -> 0 | R39: ='TG5410'!B15 -> 0 | S39: ='TG5410'!D15 | T39: ='TG5410'!B16 -> 0 | U39: ='TG5410'!D16 | X39: TG5410 | Y39: 98.04
A40: 36 | B40: {=IFERROR(INDEX(N$5:N$41,SMALL(IF($O$5:$O$41<>"",ROW($O$5:$O$41)-ROW($O$5)+1),ROWS(B$5:B40))),"")} | C40: =IF(F40<>"",VLOOKUP(B40,$X:$Y,2,0),"") | D40: =IF(B40="","",C40*F40) | E40: =IFERROR(LARGE($O$5:$O$41,ROWS($E$5:E40)),"") | F40: {=IFERROR(INDEX(P$5:P$41,SMALL(IF($O$5:$O$41<>"",ROW($O$5:$O$41)-ROW($O$5)+1),ROWS(F$5:F40))),"")} | G40: {=IFERROR(INDEX(Q$5:Q$41,SMALL(IF($O$5:$O$41<>"",ROW($O$5:$O$41)-ROW($O$5)+1),ROWS(G$5:G40))),"")} | H40: {=IFERROR(INDEX(R$5:R$41,SMALL(IF($O$5:$O$41<>"",ROW($O$5:$O$41)-ROW($O$5)+1),ROWS(H$5:H40))),"")} | I40: {=IFERROR(INDEX(S$5:S$41,SMALL(IF($O$5:$O$41<>"",ROW($O$5:$O$41)-ROW($O$5)+1),ROWS(I$5:I40))),"")} | J40: {=IFERROR(INDEX(T$5:T$41,SMALL(IF($O$5:$O$41<>"",ROW($O$5:$O$41)-ROW($O$5)+1),ROWS(J$5:J40))),"")} | K40: {=IFERROR(INDEX(U$5:U$41,SMALL(IF($O$5:$O$41<>"",ROW($O$5:$O$41)-ROW($O$5)+1),ROWS(K$5:K40))),"")} | N40: TG7110 | O40: =IF(P40<=0,"",P40/Q40) | P40: ='TG7110'!C12 -> 0 | Q40: ='TG7110'!D10 -> 0 | R40: ='TG7110'!B15 -> 0 | S40: ='TG7110'!D15 | T40: ='TG7110'!B16 -> 0 | U40: ='TG7110'!D16 | X40: TG7110 | Y40: 6.09
A41: 37 | B41: {=IFERROR(INDEX(N$5:N$41,SMALL(IF($O$5:$O$41<>"",ROW($O$5:$O$41)-ROW($O$5)+1),ROWS(B$5:B41))),"")} | C41: =IF(F41<>"",VLOOKUP(B41,$X:$Y,2,0),"") | D41: =IF(B41="","",C41*F41) | E41: =IFERROR(LARGE($O$5:$O$41,ROWS($E$5:E41)),"") | F41: {=IFERROR(INDEX(P$5:P$41,SMALL(IF($O$5:$O$41<>"",ROW($O$5:$O$41)-ROW($O$5)+1),ROWS(F$5:F41))),"")} | G41: {=IFERROR(INDEX(Q$5:Q$41,SMALL(IF($O$5:$O$41<>"",ROW($O$5:$O$41)-ROW($O$5)+1),ROWS(G$5:G41))),"")} | H41: {=IFERROR(INDEX(R$5:R$41,SMALL(IF($O$5:$O$41<>"",ROW($O$5:$O$41)-ROW($O$5)+1),ROWS(H$5:H41))),"")} | I41: {=IFERROR(INDEX(S$5:S$41,SMALL(IF($O$5:$O$41<>"",ROW($O$5:$O$41)-ROW($O$5)+1),ROWS(I$5:I41))),"")} | J41: {=IFERROR(INDEX(T$5:T$41,SMALL(IF($O$5:$O$41<>"",ROW($O$5:$O$41)-ROW($O$5)+1),ROWS(J$5:J41))),"")} | K41: {=IFERROR(INDEX(U$5:U$41,SMALL(IF($O$5:$O$41<>"",ROW($O$5:$O$41)-ROW($O$5)+1),ROWS(K$5:K41))),"")} | N41: TO523 | O41: =IF(P41<=0,"",P41/Q41) | P41: ='TO523'!C12 -> 0 | Q41: ='TO523'!D10 -> 0 | R41: ='TO523'!B15 -> 0 | S41: ='TO523'!D15 | T41: ='TO523'!B16 -> 0 | U41: ='TO523'!D16 | X41: TO523 | Y41: 2.48
A42: TOTAL | C42: =SUM(C5:C41) -> 0 | D42: =SUM(D5:D41) -> 0 | E42: =F42/G42 -> #DIV/0! | F42: =SUM(F5:F41) -> 0 | G42: =SUM(G5:G41) -> 0

Sheet 435 CS
A3: PPART NAME : 435 CS PLUNGER
A4: PROBLEM POINT
A5: NO | B5: NG PLACE | E5: ACTION
A6: 1 | B6: =B15 -> 0 | E6: SCRAP
A7: 2 | B7: =B16 -> 0 | E7: SCRAP
A8: 3 | B8: =B17 -> 0 | E8: SCRAP
A9: TOTAL QUALITY DATA
A10: FINISH GOODS QUANTITY (PCS.) : | D10: 15000
A11: OK GOODS QUANTITY (PCS.) | C11: =D10-C12 -> 15000 | D11: OK RATE (%) | E11: =IF(C11<=0,"",C11/D10) -> 1
A12: NG GOODS QUANTITY(PCS.) | C12: =C40 -> 0 | D12: NG RATE (%) | E12: =IF(C12<=0,"",C12/D10)
A13: HEAD DISTINCTION NG RATE (NG%)
A14: NO | B14: HEAD | C14: NG GOODS Q'TY (pcs.) | D14: NG RATE(%)
A15: 1 | D15: =IF(C15<>"",C15/$C$12,"")
A16: 2 | D16: =IF(C16<>"",C16/$C$12,"")
A17: 3 | D17: =IF(C17<>"",C17/$C$12,"")
A18: 4 | D18: =IF(C18<>"",C18/$C$12,"")
A19: 5 | D19: =IF(C19<>"",C19/$C$12,"")
A20: 6 | D20: =IF(C20<>"",C20/$C$12,"")
A21: 7 | D21: =IF(C21<>"",C21/$C$12,"")
A22: 8 | D22: =IF(C22<>"",C22/$C$12,"")
A23: 9 | D23: =IF(C23<>"",C23/$C$12,"")
A24: 10 | D24: =IF(C24<>"",C24/$C$12,"")
A25: 11 | D25: =IF(C25<>"",C25/$C$12,"")
A26: 12 | D26: =IF(C26<>"",C26/$C$12,"")
... A39: 25 | D39: =IF(C39<>"",C39/$C$12,"")
A40: TOTAL NG | C40: =SUM(C15:C39) -> 0 | D40: =SUM(D15:E39) -> 0

Sheet 436 CS
A3: PPART NAME : 436 CS PLUNGER
A4: PROBLEM POINT
A5: NO | B5: NG PLACE | E5: ACTION
A6: 1 | B6: =B15 -> 0 | E6: SCRAP
A7: 2 | B7: =B16 -> 0 | E7: SCRAP
A8: 3 | B8: =B17 -> 0 | E8: SCRAP
A9: TOTAL QUALITY DATA
A10: FINISH GOODS QUANTITY (PCS.) :
A11: OK GOODS QUANTITY (PCS.) | C11: =D10-C12 -> 0 | D11: OK RATE (%) | E11: =C11/D10 -> #DIV/0!
A12: NG GOODS QUANTITY(PCS.) | C12: =C40 -> 0 | D12: NG RATE (%) | E12: =C12/D10 -> #DIV/0!
A13: HEAD DISTINCTION NG RATE (NG%)
A14: NO | B14: HEAD | C14: NG GOODS Q'TY (pcs.) | D14: NG RATE(%)
A15: 1 | D15: =IF(C15<>"",C15/$C$12,"")
A16: 2 | D16: =IF(C16<>"",C16/$C$12,"")
A17: 3 | D17: =IF(C17<>"",C17/$C$12,"")
A18: 4 | D18: =IF(C18<>"",C18/$C$12,"")
A19: 5 | D19: =IF(C19<>"",C19/$C$12,"")
A20: 6 | D20: =IF(C20<>"",C20/$C$12,"")
A21: 7 | D21: =IF(C21<>"",C21/$C$12,"")
A22: 8 | D22: =IF(C22<>"",C22/$C$12,"")
A23: 9 | D23: =IF(C23<>"",C23/$C$12,"")
A24: 10 | D24: =IF(C24<>"",C24/$C$12,"")
A25: 11 | D25: =IF(C25<>"",C25/$C$12,"")
A26: 12 | D26: =IF(C26<>"",C26/$C$12,"")
... A39: 25 | D39: =IF(C39<>"",C39/$C$12,"")
A40: TOTAL NG | C40: =SUM(C15:C39) -> 0 | D40: =SUM(D15:E39) -> 0

Sheet AI13210
A3: PPART NAME : AI13210 COMMUTATOR
A4: PROBLEM POINT
A5: NO | B5: NG PLACE | E5: ACTION
A6: 1 | B6: =B15 -> 0 | E6: SCRAP
A7: 2 | B7: =B16 -> 0 | E7: SCRAP
A8: 3 | B8: =B17 -> 0 | E8: SCRAP
A9: TOTAL QUALITY DATA
A10: FINISH GOODS QUANTITY (PCS.) :
A11: OK GOODS QUANTITY (PCS.) | C11: =D10-C12 -> 0 | D11: OK RATE (%) | E11: =C11/D10 -> #DIV/0!
A12: NG GOODS QUANTITY(PCS.) | C12: =C40 -> 0 | D12: NG RATE (%) | E12: =C12/D10 -> #DIV/0!
A13: HEAD DISTINCTION NG RATE (NG%)
A14: NO | B14: HEAD | C14: NG GOODS Q'TY (pcs.) | D14: NG RATE(%)
A15: 1 | D15: =IF(C15<>"",C15/$C$12,"")
A16: 2 | D16: =IF(C16<>"",C16/$C$12,"")
A17: 3 | D17: =IF(C17<>"",C17/$C$12,"")
A18: 4 | D18: =IF(C18<>"",C18/$C$12,"")
A19: 5 | D19: =IF(C19<>"",C19/$C$12,"")
A20: 6 | D20: =IF(C20<>"",C20/$C$12,"")
A21: 7 | D21: =IF(C21<>"",C21/$C$12,"")
A22: 8 | D22: =IF(C22<>"",C22/$C$12,"")
A23: 9 | D23: =IF(C23<>"",C23/$C$12,"")
A24: 10 | D24: =IF(C24<>"",C24/$C$12,"")
A25: 11 | D25: =IF(C25<>"",C25/$C$12,"")
A26: 12 | D26: =IF(C26<>"",C26/$C$12,"")
... A39: 25 | D39: =IF(C39<>"",C39/$C$12,"")
A40: TOTAL NG | C40: =SUM(C15:C39) -> 0 | D40: =SUM(D15:E39) -> 0

Sheet AI23212-2
A3: PPART NAME : AI23212 COMMUTATOR M.2
A4: PROBLEM POINT
A5: NO | B5: NG PLACE | E5: ACTION
A6: 1 | B6: =B15 -> 0 | E6: SCRAP
A7: 2 | B7: =B16 -> 0 | E7: SCRAP
A8: 3 | B8: =B17 -> 0 | E8: SCRAP
A9: TOTAL QUALITY DATA
A10: FINISH GOODS QUANTITY (PCS.) :
A11: OK GOODS QUANTITY (PCS.) | C11: =D10-C12 -> 0 | D11: OK RATE (%) | E11: =C11/D10 -> #DIV/0!
A12: NG GOODS QUANTITY(PCS.) | C12: =C40 -> 0 | D12: NG RATE (%) | E12: =C12/D10 -> #DIV/0!
A13: HEAD DISTINCTION NG RATE (NG%)
A14: NO | B14: HEAD | C14: NG GOODS Q'TY (pcs.) | D14: NG RATE(%)
A15: 1 | D15: =IF(C15<>"",C15/$C$12,"")
A16: 2 | D16: =IF(C16<>"",C16/$C$12,"")
A17: 3 | D17: =IF(C17<>"",C17/$C$12,"")
A18: 4 | D18: =IF(C18<>"",C18/$C$12,"")
A19: 5 | D19: =IF(C19<>"",C19/$C$12,"")
A20: 6 | D20: =IF(C20<>"",C20/$C$12,"")
A21: 7 | D21: =IF(C21<>"",C21/$C$12,"")
A22: 8 | D22: =IF(C22<>"",C22/$C$12,"")
A23: 9 | D23: =IF(C23<>"",C23/$C$12,"")
A24: 10 | D24: =IF(C24<>"",C24/$C$12,"")
A25: 11 | D25: =IF(C25<>"",C25/$C$12,"")
A26: 12 | D26: =IF(C26<>"",C26/$C$12,"")
... A39: 25 | D39: =IF(C39<>"",C39/$C$12,"")
A40: TOTAL NG | C40: =SUM(C15:C39) -> 0 | D40: =SUM(D15:E39) -> 0

Sheet AI23212-3
A3: PPART NAME : AI23212 COMMUTATOR M.3
A4: PROBLEM POINT
A5: NO | B5: NG PLACE | E5: ACTION
A6: 1 | B6: =B15 -> 0 | E6: SCRAP
A7: 2 | B7: =B16 -> 0 | E7: SCRAP
A8: 3 | B8: =B17 -> 0 | E8: SCRAP
A9: TOTAL QUALITY DATA
A10: FINISH GOODS QUANTITY (PCS.) :
A11: OK GOODS QUANTITY (PCS.) | C11: =D10-C12 -> 0 | D11: OK RATE (%) | E11: =C11/D10 -> #DIV/0!
A12: NG GOODS QUANTITY(PCS.) | C12: =C40 -> 0 | D12: NG RATE (%) | E12: =C12/D10 -> #DIV/0!
A13: HEAD DISTINCTION NG RATE (NG%)
A14: NO | B14: HEAD | C14: NG GOODS Q'TY (pcs.) | D14: NG RATE(%)
A15: 1 | D15: =IF(C15<>"",C15/$C$12,"")
A16: 2 | D16: =IF(C16<>"",C16/$C$12,"")
A17: 3 | D17: =IF(C17<>"",C17/$C$12,"")
A18: 4 | D18: =IF(C18<>"",C18/$C$12,"")
A19: 5 | D19: =IF(C19<>"",C19/$C$12,"")
A20: 6 | D20: =IF(C20<>"",C20/$C$12,"")
A21: 7 | D21: =IF(C21<>"",C21/$C$12,"")
A22: 8 | D22: =IF(C22<>"",C22/$C$12,"")
A23: 9 | D23: =IF(C23<>"",C23/$C$12,"")
A24: 10 | D24: =IF(C24<>"",C24/$C$12,"")
A25: 11 | D25: =IF(C25<>"",C25/$C$12,"")
A26: 12 | D26: =IF(C26<>"",C26/$C$12,"")
... A39: 25 | D39: =IF(C39<>"",C39/$C$12,"")
A40: TOTAL NG | C40: =SUM(C15:C39) -> 0 | D40: =SUM(D15:E39) -> 0

Sheet AI26018
A3: PPART NAME : AI26018 COMMUTATOR
A4: PROBLEM POINT
A5: NO | B5: NG PLACE | E5: ACTION
A6: 1 | B6: =B15 -> 0 | E6: SCRAP
A7: 2 | B7: =B16 -> 0 | E7: SCRAP
A8: 3 | B8: =B17 -> 0 | E8: SCRAP
A9: TOTAL QUALITY DATA
A10: FINISH GOODS QUANTITY (PCS.) :
A11: OK GOODS QUANTITY (PCS.) | C11: =D10-C12 -> 0 | D11: OK RATE (%) | E11: =C11/D10 -> #DIV/0!
A12: NG GOODS QUANTITY(PCS.) | C12: =C40 -> 0 | D12: NG RATE (%) | E12: =C12/D10 -> #DIV/0!
A13: HEAD DISTINCTION NG RATE (NG%)
A14: NO | B14: HEAD | C14: NG GOODS Q'TY (pcs.) | D14: NG RATE(%)
A15: 1 | D15: =IF(C15<>"",C15/$C$12,"")
A16: 2 | D16: =IF(C16<>"",C16/$C$12,"")
A17: 3 | D17: =IF(C17<>"",C17/$C$12,"")
A18: 4 | D18: =IF(C18<>"",C18/$C$12,"")
A19: 5 | D19: =IF(C19<>"",C19/$C$12,"")
A20: 6 | D20: =IF(C20<>"",C20/$C$12,"")
A21: 7 | D21: =IF(C21<>"",C21/$C$12,"")
A22: 8 | D22: =IF(C22<>"",C22/$C$12,"")
A23: 9 | D23: =IF(C23<>"",C23/$C$12,"")
A24: 10 | D24: =IF(C24<>"",C24/$C$12,"")
A25: 11 | D25: =IF(C25<>"",C25/$C$12,"")
A26: 12 | D26: =IF(C26<>"",C26/$C$12,"")
... A39: 25 | D39: =IF(C39<>"",C39/$C$12,"")
A40: TOTAL NG | C40: =SUM(C15:C39) -> 0 | D40: =SUM(D15:E39) -> 0

Sheet AS1108B
A3: PPART NAME : AS1108B COMMUTATOR
A4: PROBLEM POINT
A5: NO | B5: NG PLACE | E5: ACTION
A6: 1 | B6: =B15 -> 0 | E6: SCRAP
A7: 2 | B7: =B16 -> 0 | E7: SCRAP
A8: 3 | B8: =B17 -> 0 | E8: SCRAP
A9: TOTAL QUALITY DATA
A10: FINISH GOODS QUANTITY (PCS.) : | D10: 18396
A11: OK GOODS QUANTITY (PCS.) | C11: =D10-C12 -> 18396 | D11: OK RATE (%) | E11: =C11/D10 -> 1
A12: NG GOODS QUANTITY(PCS.) | C12: =C40 -> 0 | D12: NG RATE (%) | E12: =C12/D10 -> 0
A13: HEAD DISTINCTION NG RATE (NG%)
A14: NO | B14: HEAD | C14: NG GOODS Q'TY (pcs.) | D14: NG RATE(%)
A15: 1 | D15: =IF(C15<>"",C15/$C$12,"")
A16: 2 | D16: =IF(C16<>"",C16/$C$12,"")
A17: 3 | D17: =IF(C17<>"",C17/$C$12,"")
A18: 4 | D18: =IF(C18<>"",C18/$C$12,"")
A19: 5 | D19: =IF(C19<>"",C19/$C$12,"")
A20: 6 | D20: =IF(C20<>"",C20/$C$12,"")
A21: 7 | D21: =IF(C21<>"",C21/$C$12,"")
A22: 8 | D22: =IF(C22<>"",C22/$C$12,"")
A23: 9 | D23: =IF(C23<>"",C23/$C$12,"")
A24: 10 | D24: =IF(C24<>"",C24/$C$12,"")
A25: 11 | D25: =IF(C25<>"",C25/$C$12,"")
A26: 12 | D26: =IF(C26<>"",C26/$C$12,"")
... A39: 25 | D39: =IF(C39<>"",C39/$C$12,"")
A40: TOTAL NG | C40: =SUM(C15:C39) -> 0 | D40: =SUM(D15:E39) -> 0

Sheet AS473-91
A3: PPART NAME : AS473-91 COMMUTATOR
A4: PROBLEM POINT
A5: NO | B5: NG PLACE | E5: ACTION
A6: 1 | B6: =B15 -> 0 | E6: SCRAP
A7: 2 | B7: =B16 -> 0 | E7: SCRAP
A8: 3 | B8: =B17 -> 0 | E8: SCRAP
A9: TOTAL QUALITY DATA
A10: FINISH GOODS QUANTITY (PCS.) :
A11: OK GOODS QUANTITY (PCS.) | C11: =D10-C12 -> 0 | D11: OK RATE (%) | E11: =C11/D10 -> #DIV/0!
A12: NG GOODS QUANTITY(PCS.) | C12: =C40 -> 0 | D12: NG RATE (%) | E12: =C12/D10 -> #DIV/0!
A13: HEAD DISTINCTION NG RATE (NG%)
A14: NO | B14: HEAD | C14: NG GOODS Q'TY (pcs.) | D14: NG RATE(%)
A15: 1 | D15: =IF(C15<>"",C15/$C$12,"")
A16: 2 | D16: =IF(C16<>"",C16/$C$12,"")
A17: 3 | D17: =IF(C17<>"",C17/$C$12,"")
A18: 4 | D18: =IF(C18<>"",C18/$C$12,"")
A19: 5 | D19: =IF(C19<>"",C19/$C$12,"")
A20: 6 | D20: =IF(C20<>"",C20/$C$12,"")
A21: 7 | D21: =IF(C21<>"",C21/$C$12,"")
A22: 8 | D22: =IF(C22<>"",C22/$C$12,"")
A23: 9 | D23: =IF(C23<>"",C23/$C$12,"")
A24: 10 | D24: =IF(C24<>"",C24/$C$12,"")
A25: 11 | D25: =IF(C25<>"",C25/$C$12,"")
A26: 12 | D26: =IF(C26<>"",C26/$C$12,"")
... A39: 25 | D39: =IF(C39<>"",C39/$C$12,"")
A40: TOTAL NG | C40: =SUM(C15:C39) -> 0 | D40: =SUM(D15:E39) -> 0

Sheet AS583
A3: PPART NAME : AS583 COMMUTATOR
A4: PROBLEM POINT
A5: NO | B5: NG PLACE | E5: ACTION
A6: 1 | B6: =B15 -> 0 | E6: SCRAP
A7: 2 | B7: =B16 -> 0 | E7: SCRAP
A8: 3 | B8: =B17 -> 0 | E8: SCRAP
A9: TOTAL QUALITY DATA
A10: FINISH GOODS QUANTITY (PCS.) : | D10: 38093
A11: OK GOODS QUANTITY (PCS.) | C11: =D10-C12 -> 38093 | D11: OK RATE (%) | E11: =C11/D10 -> 1
A12: NG GOODS QUANTITY(PCS.) | C12: =C40 -> 0 | D12: NG RATE (%) | E12: =C12/D10 -> 0
A13: HEAD DISTINCTION NG RATE (NG%)
A14: NO | B14: HEAD | C14: NG GOODS Q'TY (pcs.) | D14: NG RATE(%)
A15: 1 | D15: =IF(C15<>"",C15/$C$12,"")
A16: 2 | D16: =IF(C16<>"",C16/$C$12,"")
A17: 3 | D17: =IF(C17<>"",C17/$C$12,"")
A18: 4 | D18: =IF(C18<>"",C18/$C$12,"")
A19: 5 | D19: =IF(C19<>"",C19/$C$12,"")
A20: 6 | D20: =IF(C20<>"",C20/$C$12,"")
A21: 7 | D21: =IF(C21<>"",C21/$C$12,"")
A22: 8 | D22: =IF(C22<>"",C22/$C$12,"")
A23: 9 | D23: =IF(C23<>"",C23/$C$12,"")
A24: 10 | D24: =IF(C24<>"",C24/$C$12,"")
A25: 11 | D25: =IF(C25<>"",C25/$C$12,"")
A26: 12 | D26: =IF(C26<>"",C26/$C$12,"")
... A39: 25 | D39: =IF(C39<>"",C39/$C$12,"")
A40: TOTAL NG | C40: =SUM(C15:C39) -> 0 | D40: =SUM(D15:E39) -> 0

Sheet BH1045
A3: PPART NAME : BH1045 COMMUTATOR
A4: PROBLEM POINT
A5: NO | B5: NG PLACE | E5: ACTION
A6: 1 | B6: =B15 -> 0 | E6: SCRAP
A7: 2 | B7: =B16 -> 0 | E7: SCRAP
A8: 3 | B8: =B17 -> 0 | E8: SCRAP
A9: TOTAL QUALITY DATA
A10: FINISH GOODS QUANTITY (PCS.) :
A11: OK GOODS QUANTITY (PCS.) | C11: =D10-C12 -> 0 | D11: OK RATE (%) | E11: =C11/D10 -> #DIV/0!
A12: NG GOODS QUANTITY(PCS.) | C12: =C40 -> 0 | D12: NG RATE (%) | E12: =C12/D10 -> #DIV/0!
A13: HEAD DISTINCTION NG RATE (NG%)
A14: NO | B14: HEAD | C14: NG GOODS Q'TY (pcs.) | D14: NG RATE(%)
A15: 1 | D15: =IF(C15<>"",C15/$C$12,"")
A16: 2 | D16: =IF(C16<>"",C16/$C$12,"")
A17: 3 | D17: =IF(C17<>"",C17/$C$12,"")
A18: 4 | D18: =IF(C18<>"",C18/$C$12,"")
A19: 5 | D19: =IF(C19<>"",C19/$C$12,"")
A20: 6 | D20: =IF(C20<>"",C20/$C$12,"")
A21: 7 | D21: =IF(C21<>"",C21/$C$12,"")
A22: 8 | D22: =IF(C22<>"",C22/$C$12,"")
A23: 9 | D23: =IF(C23<>"",C23/$C$12,"")
A24: 10 | D24: =IF(C24<>"",C24/$C$12,"")
A25: 11 | D25: =IF(C25<>"",C25/$C$12,"")
A26: 12 | D26: =IF(C26<>"",C26/$C$12,"")
... A39: 25 | D39: =IF(C39<>"",C39/$C$12,"")
A40: TOTAL NG | C40: =SUM(C15:C39) -> 0 | D40: =SUM(D15:E39) -> 0

Sheet CB625
A3: PPART NAME : CB625 COMMUTATOR
A4: PROBLEM POINT
A5: NO | B5: NG PLACE | E5: ACTION
A6: 1 | B6: =B15 -> 0 | E6: SCRAP
A7: 2 | B7: =B16 -> 0 | E7: SCRAP
A8: 3 | B8: =B17 -> 0 | E8: SCRAP
A9: TOTAL QUALITY DATA
A10: FINISH GOODS QUANTITY (PCS.) :
A11: OK GOODS QUANTITY (PCS.) | C11: =D10-C12 -> 0 | D11: OK RATE (%) | E11: =C11/D10 -> #DIV/0!
A12: NG GOODS QUANTITY(PCS.) | C12: =C40 -> 0 | D12: NG RATE (%) | E12: =C12/D10 -> #DIV/0!
A13: HEAD DISTINCTION NG RATE (NG%)
A14: NO | B14: HEAD | C14: NG GOODS Q'TY (pcs.) | D14: NG RATE(%)
A15: 1 | D15: =IF(C15<>"",C15/$C$12,"")
A16: 2 | D16: =IF(C16<>"",C16/$C$12,"")
A17: 3 | D17: =IF(C17<>"",C17/$C$12,"")
A18: 4 | D18: =IF(C18<>"",C18/$C$12,"")
A19: 5 | D19: =IF(C19<>"",C19/$C$12,"")
A20: 6 | D20: =IF(C20<>"",C20/$C$12,"")
A21: 7 | D21: =IF(C21<>"",C21/$C$12,"")
A22: 8 | D22: =IF(C22<>"",C22/$C$12,"")
A23: 9 | D23: =IF(C23<>"",C23/$C$12,"")
A24: 10 | D24: =IF(C24<>"",C24/$C$12,"")
A25: 11 | D25: =IF(C25<>"",C25/$C$12,"")
A26: 12 | D26: =IF(C26<>"",C26/$C$12,"")
... A39: 25 | D39: =IF(C39<>"",C39/$C$12,"")
A40: TOTAL NG | C40: =SUM(C15:C39) -> 0 | D40: =SUM(D15:E39) -> 0

Sheet CK405
A3: PPART NAME : CK405 COMMUTATOR
A4: PROBLEM POINT
A5: NO | B5: NG PLACE | E5: ACTION
A6: 1 | B6: =B15 -> 0 | E6: SCRAP
A7: 2 | B7: =B16 -> 0 | E7: SCRAP
A8: 3 | B8: =B17 -> 0 | E8: SCRAP
A9: TOTAL QUALITY DATA
A10: FINISH GOODS QUANTITY (PCS.) :
A11: OK GOODS QUANTITY (PCS.) | C11: =D10-C12 -> 0 | D11: OK RATE (%) | E11: =C11/D10 -> #DIV/0!
A12: NG GOODS QUANTITY(PCS.) | C12: =C40 -> 0 | D12: NG RATE (%) | E12: =C12/D10 -> #DIV/0!
A13: HEAD DISTINCTION NG RATE (NG%)
A14: NO | B14: HEAD | C14: NG GOODS Q'TY (pcs.) | D14: NG RATE(%)
A15: 1 | D15: =IF(C15<>"",C15/$C$12,"")
A16: 2 | D16: =IF(C16<>"",C16/$C$12,"")
A17: 3 | D17: =IF(C17<>"",C17/$C$12,"")
A18: 4 | D18: =IF(C18<>"",C18/$C$12,"")
A19: 5 | D19: =IF(C19<>"",C19/$C$12,"")
A20: 6 | D20: =IF(C20<>"",C20/$C$12,"")
A21: 7 | D21: =IF(C21<>"",C21/$C$12,"")
A22: 8 | D22: =IF(C22<>"",C22/$C$12,"")
A23: 9 | D23: =IF(C23<>"",C23/$C$12,"")
A24: 10 | D24: =IF(C24<>"",C24/$C$12,"")
A25: 11 | D25: =IF(C25<>"",C25/$C$12,"")
A26: 12 | D26: =IF(C26<>"",C26/$C$12,"")
... A39: 25 | D39: =IF(C39<>"",C39/$C$12,"")
A40: TOTAL NG | C40: =SUM(C15:C39) -> 0 | D40: =SUM(D15:E39) -> 0

Sheet FHM407L
A3: PPART NAME : FHM407L COMMUTATOR
A4: PROBLEM POINT
A5: NO | B5: NG PLACE | E5: ACTION
A6: 1 | B6: =B15 -> 0 | E6: SCRAP
A7: 2 | B7: =B16 -> 0 | E7: SCRAP
A8: 3 | B8: =B17 -> 0 | E8: SCRAP
A9: TOTAL QUALITY DATA
A10: FINISH GOODS QUANTITY (PCS.) :
A11: OK GOODS QUANTITY (PCS.) | C11: =D10-C12 -> 0 | D11: OK RATE (%) | E11: =C11/D10 -> #DIV/0!
A12: NG GOODS QUANTITY(PCS.) | C12: =C40 -> 0 | D12: NG RATE (%) | E12: =C12/D10 -> #DIV/0!
A13: HEAD DISTINCTION NG RATE (NG%)
A14: NO | B14: HEAD | C14: NG GOODS Q'TY (pcs.) | D14: NG RATE(%)
A15: 1 | D15: =IF(C15<>"",C15/$C$12,"")
A16: 2 | D16: =IF(C16<>"",C16/$C$12,"")
A17: 3 | D17: =IF(C17<>"",C17/$C$12,"")
A18: 4 | D18: =IF(C18<>"",C18/$C$12,"")
A19: 5 | D19: =IF(C19<>"",C19/$C$12,"")
A20: 6 | D20: =IF(C20<>"",C20/$C$12,"")
A21: 7 | D21: =IF(C21<>"",C21/$C$12,"")
A22: 8 | D22: =IF(C22<>"",C22/$C$12,"")
A23: 9 | D23: =IF(C23<>"",C23/$C$12,"")
A24: 10 | D24: =IF(C24<>"",C24/$C$12,"")
A25: 11 | D25: =IF(C25<>"",C25/$C$12,"")
A26: 12 | D26: =IF(C26<>"",C26/$C$12,"")
... A39: 25 | D39: =IF(C39<>"",C39/$C$12,"")
A40: TOTAL NG | C40: =SUM(C15:C39) -> 0 | D40: =SUM(D15:E39) -> 0

Sheet KO246
A3: PPART NAME : KO246 COMMUTATOR
A4: PROBLEM POINT
A5: NO | B5: NG PLACE | E5: ACTION
A6: 1 | B6: =B15 -> 0 | E6: SCRAP
A7: 2 | B7: =B16 -> 0 | E7: SCRAP
A8: 3 | B8: =B17 -> 0 | E8: SCRAP
A9: TOTAL QUALITY DATA
A10: FINISH GOODS QUANTITY (PCS.) :
A11: OK GOODS QUANTITY (PCS.) | C11: =D10-C12 -> 0 | D11: OK RATE (%) | E11: =C11/D10 -> #DIV/0!
A12: NG GOODS QUANTITY(PCS.) | C12: =C40 -> 0 | D12: NG RATE (%) | E12: =C12/D10 -> #DIV/0!
A13: HEAD DISTINCTION NG RATE (NG%)
A14: NO | B14: HEAD | C14: NG GOODS Q'TY (pcs.) | D14: NG RATE(%)
A15: 1 | D15: =IF(C15<>"",C15/$C$12,"")
A16: 2 | D16: =IF(C16<>"",C16/$C$12,"")
A17: 3 | D17: =IF(C17<>"",C17/$C$12,"")
A18: 4 | D18: =IF(C18<>"",C18/$C$12,"")
A19: 5 | D19: =IF(C19<>"",C19/$C$12,"")
A20: 6 | D20: =IF(C20<>"",C20/$C$12,"")
A21: 7 | D21: =IF(C21<>"",C21/$C$12,"")
A22: 8 | D22: =IF(C22<>"",C22/$C$12,"")
A23: 9 | D23: =IF(C23<>"",C23/$C$12,"")
A24: 10 | D24: =IF(C24<>"",C24/$C$12,"")
A25: 11 | D25: =IF(C25<>"",C25/$C$12,"")
A26: 12 | D26: =IF(C26<>"",C26/$C$12,"")
... A39: 25 | D39: =IF(C39<>"",C39/$C$12,"")
A40: TOTAL NG | C40: =SUM(C15:C39) -> 0 | D40: =SUM(D15:E39) -> 0

Sheet KO246B
A3: PPART NAME : KO246B COMMUTATOR
A4: PROBLEM POINT
A5: NO | B5: NG PLACE | E5: ACTION
A6: 1 | B6: =B15 -> 0 | E6: SCRAP
A7: 2 | B7: =B16 -> 0 | E7: SCRAP
A8: 3 | B8: =B17 -> 0 | E8: SCRAP
A9: TOTAL QUALITY DATA
A10: FINISH GOODS QUANTITY (PCS.) :
A11: OK GOODS QUANTITY (PCS.) | C11: =D10-C12 -> 0 | D11: OK RATE (%) | E11: =C11/D10 -> #DIV/0!
A12: NG GOODS QUANTITY(PCS.) | C12: =C40 -> 0 | D12: NG RATE (%) | E12: =C12/D10 -> #DIV/0!
A13: HEAD DISTINCTION NG RATE (NG%)
A14: NO | B14: HEAD | C14: NG GOODS Q'TY (pcs.) | D14: NG RATE(%)
A15: 1 | D15: =IF(C15<>"",C15/$C$12,"")
A16: 2 | D16: =IF(C16<>"",C16/$C$12,"")
A17: 3 | D17: =IF(C17<>"",C17/$C$12,"")
A18: 4 | D18: =IF(C18<>"",C18/$C$12,"")
A19: 5 | D19: =IF(C19<>"",C19/$C$12,"")
A20: 6 | D20: =IF(C20<>"",C20/$C$12,"")
A21: 7 | D21: =IF(C21<>"",C21/$C$12,"")
A22: 8 | D22: =IF(C22<>"",C22/$C$12,"")
A23: 9 | D23: =IF(C23<>"",C23/$C$12,"")
A24: 10 | D24: =IF(C24<>"",C24/$C$12,"")
A25: 11 | D25: =IF(C25<>"",C25/$C$12,"")
A26: 12 | D26: =IF(C26<>"",C26/$C$12,"")
... A39: 25 | D39: =IF(C39<>"",C39/$C$12,"")
A40: TOTAL NG | C40: =SUM(C15:C39) -> 0 | D40: =SUM(D15:E39) -> 0

Sheet KO246C
A3: PPART NAME : KO246C COMMUTATOR
A4: PROBLEM POINT
A5: NO | B5: NG PLACE | E5: ACTION
A6: 1 | B6: =B15 -> 0 | E6: SCRAP
A7: 2 | B7: =B16 -> 0 | E7: SCRAP
A8: 3 | B8: =B17 -> 0 | E8: SCRAP
A9: TOTAL QUALITY DATA
A10: FINISH GOODS QUANTITY (PCS.) :
A11: OK GOODS QUANTITY (PCS.) | C11: =D10-C12 -> 0 | D11: OK RATE (%) | E11: =C11/D10 -> #DIV/0!
A12: NG GOODS QUANTITY(PCS.) | C12: =C40 -> 0 | D12: NG RATE (%) | E12: =C12/D10 -> #DIV/0!
A13: HEAD DISTINCTION NG RATE (NG%)
A14: NO | B14: HEAD | C14: NG GOODS Q'TY (pcs.) | D14: NG RATE(%)
A15: 1 | D15: =IF(C15<>"",C15/$C$12,"")
A16: 2 | D16: =IF(C16<>"",C16/$C$12,"")
A17: 3 | D17: =IF(C17<>"",C17/$C$12,"")
A18: 4 | D18: =IF(C18<>"",C18/$C$12,"")
A19: 5 | D19: =IF(C19<>"",C19/$C$12,"")
A20: 6 | D20: =IF(C20<>"",C20/$C$12,"")
A21: 7 | D21: =IF(C21<>"",C21/$C$12,"")
A22: 8 | D22: =IF(C22<>"",C22/$C$12,"")
A23: 9 | D23: =IF(C23<>"",C23/$C$12,"")
A24: 10 | D24: =IF(C24<>"",C24/$C$12,"")
A25: 11 | D25: =IF(C25<>"",C25/$C$12,"")
A26: 12 | D26: =IF(C26<>"",C26/$C$12,"")
... A39: 25 | D39: =IF(C39<>"",C39/$C$12,"")
A40: TOTAL NG | C40: =SUM(C15:C39) -> 0 | D40: =SUM(D15:E39) -> 0

Sheet KO323L
A3: PPART NAME : KO323L COMMUTATOR
A4: PROBLEM POINT
A5: NO | B5: NG PLACE | E5: ACTION
A6: 1 | B6: =B15 -> 0 | E6: SCRAP
A7: 2 | B7: =B16 -> 0 | E7: SCRAP
A8: 3 | B8: =B17 -> 0 | E8: SCRAP
A9: TOTAL QUALITY DATA
A10: FINISH GOODS QUANTITY (PCS.) :
A11: OK GOODS QUANTITY (PCS.) | C11: =D10-C12 -> 0 | D11: OK RATE (%) | E11: =C11/D10 -> #DIV/0!
A12: NG GOODS QUANTITY(PCS.) | C12: =C40 -> 0 | D12: NG RATE (%) | E12: =C12/D10 -> #DIV/0!
A13: HEAD DISTINCTION NG RATE (NG%)
A14: NO | B14: HEAD | C14: NG GOODS Q'TY (pcs.) | D14: NG RATE(%)
A15: 1 | D15: =IF(C15<>"",C15/$C$12,"")
A16: 2 | D16: =IF(C16<>"",C16/$C$12,"")
A17: 3 | D17: =IF(C17<>"",C17/$C$12,"")
A18: 4 | D18: =IF(C18<>"",C18/$C$12,"")
A19: 5 | D19: =IF(C19<>"",C19/$C$12,"")
A20: 6 | D20: =IF(C20<>"",C20/$C$12,"")
A21: 7 | D21: =IF(C21<>"",C21/$C$12,"")
A22: 8 | D22: =IF(C22<>"",C22/$C$12,"")
A23: 9 | D23: =IF(C23<>"",C23/$C$12,"")
A24: 10 | D24: =IF(C24<>"",C24/$C$12,"")
A25: 11 | D25: =IF(C25<>"",C25/$C$12,"")
A26: 12 | D26: =IF(C26<>"",C26/$C$12,"")
... A39: 25 | D39: =IF(C39<>"",C39/$C$12,"")
A40: TOTAL NG | C40: =SUM(C15:C39) -> 0 | D40: =SUM(D15:E39) -> 0

Sheet KO365
A3: PPART NAME : KO365 COMMUTATOR
A4: PROBLEM POINT
A5: NO | B5: NG PLACE | E5: ACTION
A6: 1 | B6: =B15 -> 0 | E6: SCRAP
A7: 2 | B7: =B16 -> 0 | E7: SCRAP
A8: 3 | B8: =B17 -> 0 | E8: SCRAP
A9: TOTAL QUALITY DATA
A10: FINISH GOODS QUANTITY (PCS.) :
A11: OK GOODS QUANTITY (PCS.) | C11: =D10-C12 -> 0 | D11: OK RATE (%) | E11: =C11/D10 -> #DIV/0!
A12: NG GOODS QUANTITY(PCS.) | C12: =C40 -> 0 | D12: NG RATE (%) | E12: =C12/D10 -> #DIV/0!
A13: HEAD DISTINCTION NG RATE (NG%)
A14: NO | B14: HEAD | C14: NG GOODS Q'TY (pcs.) | D14: NG RATE(%)
A15: 1 | D15: =IF(C15<>"",C15/$C$12,"")
A16: 2 | D16: =IF(C16<>"",C16/$C$12,"")
A17: 3 | D17: =IF(C17<>"",C17/$C$12,"")
A18: 4 | D18: =IF(C18<>"",C18/$C$12,"")
A19: 5 | D19: =IF(C19<>"",C19/$C$12,"")
A20: 6 | D20: =IF(C20<>"",C20/$C$12,"")
A21: 7 | D21: =IF(C21<>"",C21/$C$12,"")
A22: 8 | D22: =IF(C22<>"",C22/$C$12,"")
A23: 9 | D23: =IF(C23<>"",C23/$C$12,"")
A24: 10 | D24: =IF(C24<>"",C24/$C$12,"")
A25: 11 | D25: =IF(C25<>"",C25/$C$12,"")
A26: 12 | D26: =IF(C26<>"",C26/$C$12,"")
... A39: 25 | D39: =IF(C39<>"",C39/$C$12,"")
A40: TOTAL NG | C40: =SUM(C15:C39) -> 0 | D40: =SUM(D15:E39) -> 0

Sheet KO455S
A3: PPART NAME : KO455S COMMUTATOR
A4: PROBLEM POINT
A5: NO | B5: NG PLACE | E5: ACTION
A6: 1 | B6: =B15 -> 0 | E6: SCRAP
A7: 2 | B7: =B16 -> 0 | E7: SCRAP
A8: 3 | B8: =B17 -> 0 | E8: SCRAP
A9: TOTAL QUALITY DATA
A10: FINISH GOODS QUANTITY (PCS.) :
A11: OK GOODS QUANTITY (PCS.) | C11: =D10-C12 -> 0 | D11: OK RATE (%) | E11: =C11/D10 -> #DIV/0!
A12: NG GOODS QUANTITY(PCS.) | C12: =C40 -> 0 | D12: NG RATE (%) | E12: =C12/D10 -> #DIV/0!
A13: HEAD DISTINCTION NG RATE (NG%)
A14: NO | B14: HEAD | C14: NG GOODS Q'TY (pcs.) | D14: NG RATE(%)
A15: 1 | D15: =IF(C15<>"",C15/$C$12,"")
A16: 2 | D16: =IF(C16<>"",C16/$C$12,"")
A17: 3 | D17: =IF(C17<>"",C17/$C$12,"")
A18: 4 | D18: =IF(C18<>"",C18/$C$12,"")
A19: 5 | D19: =IF(C19<>"",C19/$C$12,"")
A20: 6 | D20: =IF(C20<>"",C20/$C$12,"")
A21: 7 | D21: =IF(C21<>"",C21/$C$12,"")
A22: 8 | D22: =IF(C22<>"",C22/$C$12,"")
A23: 9 | D23: =IF(C23<>"",C23/$C$12,"")
A24: 10 | D24: =IF(C24<>"",C24/$C$12,"")
A25: 11 | D25: =IF(C25<>"",C25/$C$12,"")
A26: 12 | D26: =IF(C26<>"",C26/$C$12,"")
... A39: 25 | D39: =IF(C39<>"",C39/$C$12,"")
A40: TOTAL NG | C40: =SUM(C15:C39) -> 0 | D40: =SUM(D15:E39) -> 0

Sheet KO857
A3: PPART NAME : KO857 COMMUTATOR
A4: PROBLEM POINT
A5: NO | B5: NG PLACE | E5: ACTION
A6: 1 | B6: =B15 -> 0 | E6: SCRAP
A7: 2 | B7: =B16 -> 0 | E7: SCRAP
A8: 3 | B8: =B17 -> 0 | E8: SCRAP
A9: TOTAL QUALITY DATA
A10: FINISH GOODS QUANTITY (PCS.) :
A11: OK GOODS QUANTITY (PCS.) | C11: =D10-C12 -> 0 | D11: OK RATE (%) | E11: =C11/D10 -> #DIV/0!
A12: NG GOODS QUANTITY(PCS.) | C12: =C40 -> 0 | D12: NG RATE (%) | E12: =C12/D10 -> #DIV/0!
A13: HEAD DISTINCTION NG RATE (NG%)
A14: NO | B14: HEAD | C14: NG GOODS Q'TY (pcs.) | D14: NG RATE(%)
A15: 1 | D15: =IF(C15<>"",C15/$C$12,"")
A16: 2 | D16: =IF(C16<>"",C16/$C$12,"")
A17: 3 | D17: =IF(C17<>"",C17/$C$12,"")
A18: 4 | D18: =IF(C18<>"",C18/$C$12,"")
A19: 5 | D19: =IF(C19<>"",C19/$C$12,"")
A20: 6 | D20: =IF(C20<>"",C20/$C$12,"")
A21: 7 | D21: =IF(C21<>"",C21/$C$12,"")
A22: 8 | D22: =IF(C22<>"",C22/$C$12,"")
A23: 9 | D23: =IF(C23<>"",C23/$C$12,"")
A24: 10 | D24: =IF(C24<>"",C24/$C$12,"")
A25: 11 | D25: =IF(C25<>"",C25/$C$12,"")
A26: 12 | D26: =IF(C26<>"",C26/$C$12,"")
... A39: 25 | D39: =IF(C39<>"",C39/$C$12,"")
A40: TOTAL NG | C40: =SUM(C15:C39) -> 0 | D40: =SUM(D15:E39) -> 0

Sheet ME15812-5
A3: PPART NAME : ME15812 COMMUTATOR M.5
A4: PROBLEM POINT
A5: NO | B5: NG PLACE | E5: ACTION
A6: 1 | B6: =B15 -> 0 | E6: SCRAP
A7: 2 | B7: =B16 -> 0 | E7: SCRAP
A8: 3 | B8: =B17 -> 0 | E8: SCRAP
A9: TOTAL QUALITY DATA
A10: FINISH GOODS QUANTITY (PCS.) :
A11: OK GOODS QUANTITY (PCS.) | C11: =D10-C12 -> 0 | D11: OK RATE (%) | E11: =C11/D10 -> #DIV/0!
A12: NG GOODS QUANTITY(PCS.) | C12: =C40 -> 0 | D12: NG RATE (%) | E12: =C12/D10 -> #DIV/0!
A13: HEAD DISTINCTION NG RATE (NG%)
A14: NO | B14: HEAD | C14: NG GOODS Q'TY (pcs.) | D14: NG RATE(%)
A15: 1 | D15: =IF(C15<>"",C15/$C$12,"")
A16: 2 | D16: =IF(C16<>"",C16/$C$12,"")
A17: 3 | D17: =IF(C17<>"",C17/$C$12,"")
A18: 4 | D18: =IF(C18<>"",C18/$C$12,"")
A19: 5 | D19: =IF(C19<>"",C19/$C$12,"")
A20: 6 | D20: =IF(C20<>"",C20/$C$12,"")
A21: 7 | D21: =IF(C21<>"",C21/$C$12,"")
A22: 8 | D22: =IF(C22<>"",C22/$C$12,"")
A23: 9 | D23: =IF(C23<>"",C23/$C$12,"")
A24: 10 | D24: =IF(C24<>"",C24/$C$12,"")
A25: 11 | D25: =IF(C25<>"",C25/$C$12,"")
A26: 12 | D26: =IF(C26<>"",C26/$C$12,"")
... A39: 25 | D39: =IF(C39<>"",C39/$C$12,"")
A40: TOTAL NG | C40: =SUM(C15:C39) -> 0 | D40: =SUM(D15:E39) -> 0

Sheet ME15812-5_9
A3: PPART NAME : ME15812 COMMUTATOR M.5/9
A4: PROBLEM POINT
A5: NO | B5: NG PLACE | E5: ACTION
A6: 1 | B6: =B15 -> 0 | E6: SCRAP
A7: 2 | B7: =B16 -> 0 | E7: SCRAP
A8: 3 | B8: =B17 -> 0 | E8: SCRAP
A9: TOTAL QUALITY DATA
A10: FINISH GOODS QUANTITY (PCS.) :
A11: OK GOODS QUANTITY (PCS.) | C11: =D10-C12 -> 0 | D11: OK RATE (%) | E11: =C11/D10 -> #DIV/0!
A12: NG GOODS QUANTITY(PCS.) | C12: =C40 -> 0 | D12: NG RATE (%) | E12: =C12/D10 -> #DIV/0!
A13: HEAD DISTINCTION NG RATE (NG%)
A14: NO | B14: HEAD | C14: NG GOODS Q'TY (pcs.) | D14: NG RATE(%)
A15: 1 | D15: =IF(C15<>"",C15/$C$12,"")
A16: 2 | D16: =IF(C16<>"",C16/$C$12,"")
A17: 3 | D17: =IF(C17<>"",C17/$C$12,"")
A18: 4 | D18: =IF(C18<>"",C18/$C$12,"")
A19: 5 | D19: =IF(C19<>"",C19/$C$12,"")
A20: 6 | D20: =IF(C20<>"",C20/$C$12,"")
A21: 7 | D21: =IF(C21<>"",C21/$C$12,"")
A22: 8 | D22: =IF(C22<>"",C22/$C$12,"")
A23: 9 | D23: =IF(C23<>"",C23/$C$12,"")
A24: 10 | D24: =IF(C24<>"",C24/$C$12,"")
A25: 11 | D25: =IF(C25<>"",C25/$C$12,"")
A26: 12 | D26: =IF(C26<>"",C26/$C$12,"")
... A39: 25 | D39: =IF(C39<>"",C39/$C$12,"")
A40: TOTAL NG | C40: =SUM(C15:C39) -> 0 | D40: =SUM(D15:E39) -> 0

Sheet ME15812-6
A3: PPART NAME : ME15812 COMMUTATOR M.6
A4: PROBLEM POINT
A5: NO | B5: NG PLACE | E5: ACTION
A6: 1 | B6: =B15 -> 0 | E6: SCRAP
A7: 2 | B7: =B16 -> 0 | E7: SCRAP
A8: 3 | B8: =B17 -> 0 | E8: SCRAP
A9: TOTAL QUALITY DATA
A10: FINISH GOODS QUANTITY (PCS.) :
A11: OK GOODS QUANTITY (PCS.) | C11: =D10-C12 -> 0 | D11: OK RATE (%) | E11: =C11/D10 -> #DIV/0!
A12: NG GOODS QUANTITY(PCS.) | C12: =C40 -> 0 | D12: NG RATE (%) | E12: =C12/D10 -> #DIV/0!
A13: HEAD DISTINCTION NG RATE (NG%)
A14: NO | B14: HEAD | C14: NG GOODS Q'TY (pcs.) | D14: NG RATE(%)
A15: 1 | D15: =IF(C15<>"",C15/$C$12,"")
A16: 2 | D16: =IF(C16<>"",C16/$C$12,"")
A17: 3 | D17: =IF(C17<>"",C17/$C$12,"")
A18: 4 | D18: =IF(C18<>"",C18/$C$12,"")
A19: 5 | D19: =IF(C19<>"",C19/$C$12,"")
A20: 6 | D20: =IF(C20<>"",C20/$C$12,"")
A21: 7 | D21: =IF(C21<>"",C21/$C$12,"")
A22: 8 | D22: =IF(C22<>"",C22/$C$12,"")
A23: 9 | D23: =IF(C23<>"",C23/$C$12,"")
A24: 10 | D24: =IF(C24<>"",C24/$C$12,"")
A25: 11 | D25: =IF(C25<>"",C25/$C$12,"")
A26: 12 | D26: =IF(C26<>"",C26/$C$12,"")
... A39: 25 | D39: =IF(C39<>"",C39/$C$12,"")
A40: TOTAL NG | C40: =SUM(C15:C39) -> 0 | D40: =SUM(D15:E39) -> 0

Sheet ME15812-6_10
A3: PPART NAME : ME15812 COMMUTATOR M.6/10
A4: PROBLEM POINT
A5: NO | B5: NG PLACE | E5: ACTION
A6: 1 | B6: =B15 -> 0 | E6: SCRAP
A7: 2 | B7: =B16 -> 0 | E7: SCRAP
A8: 3 | B8: =B17 -> 0 | E8: SCRAP
A9: TOTAL QUALITY DATA
A10: FINISH GOODS QUANTITY (PCS.) :
A11: OK GOODS QUANTITY (PCS.) | C11: =D10-C12 -> 0 | D11: OK RATE (%) | E11: =C11/D10 -> #DIV/0!
A12: NG GOODS QUANTITY(PCS.) | C12: =C40 -> 0 | D12: NG RATE (%) | E12: =C12/D10 -> #DIV/0!
A13: HEAD DISTINCTION NG RATE (NG%)
A14: NO | B14: HEAD | C14: NG GOODS Q'TY (pcs.) | D14: NG RATE(%)
A15: 1 | D15: =IF(C15<>"",C15/$C$12,"")
A16: 2 | D16: =IF(C16<>"",C16/$C$12,"")
A17: 3 | D17: =IF(C17<>"",C17/$C$12,"")
A18: 4 | D18: =IF(C18<>"",C18/$C$12,"")
A19: 5 | D19: =IF(C19<>"",C19/$C$12,"")
A20: 6 | D20: =IF(C20<>"",C20/$C$12,"")
A21: 7 | D21: =IF(C21<>"",C21/$C$12,"")
A22: 8 | D22: =IF(C22<>"",C22/$C$12,"")
A23: 9 | D23: =IF(C23<>"",C23/$C$12,"")
A24: 10 | D24: =IF(C24<>"",C24/$C$12,"")
A25: 11 | D25: =IF(C25<>"",C25/$C$12,"")
A26: 12 | D26: =IF(C26<>"",C26/$C$12,"")
... A39: 25 | D39: =IF(C39<>"",C39/$C$12,"")
A40: TOTAL NG | C40: =SUM(C15:C39) -> 0 | D40: =SUM(D15:E39) -> 0

Sheet ME15812-7
A3: PPART NAME : ME15812 COMMUTATOR M.7
A4: PROBLEM POINT
A5: NO | B5: NG PLACE | E5: ACTION
A6: 1 | B6: =B15 -> 0 | E6: SCRAP
A7: 2 | B7: =B16 -> 0 | E7: SCRAP
A8: 3 | B8: =B17 -> 0 | E8: SCRAP
A9: TOTAL QUALITY DATA
A10: FINISH GOODS QUANTITY (PCS.) :
A11: OK GOODS QUANTITY (PCS.) | C11: =D10-C12 -> 0 | D11: OK RATE (%) | E11: =C11/D10 -> #DIV/0!
A12: NG GOODS QUANTITY(PCS.) | C12: =C40 -> 0 | D12: NG RATE (%) | E12: =C12/D10 -> #DIV/0!
A13: HEAD DISTINCTION NG RATE (NG%)
A14: NO | B14: HEAD | C14: NG GOODS Q'TY (pcs.) | D14: NG RATE(%)
A15: 1 | D15: =IF(C15<>"",C15/$C$12,"")
A16: 2 | D16: =IF(C16<>"",C16/$C$12,"")
A17: 3 | D17: =IF(C17<>"",C17/$C$12,"")
A18: 4 | D18: =IF(C18<>"",C18/$C$12,"")
A19: 5 | D19: =IF(C19<>"",C19/$C$12,"")
A20: 6 | D20: =IF(C20<>"",C20/$C$12,"")
A21: 7 | D21: =IF(C21<>"",C21/$C$12,"")
A22: 8 | D22: =IF(C22<>"",C22/$C$12,"")
A23: 9 | D23: =IF(C23<>"",C23/$C$12,"")
A24: 10 | D24: =IF(C24<>"",C24/$C$12,"")
A25: 11 | D25: =IF(C25<>"",C25/$C$12,"")
A26: 12 | D26: =IF(C26<>"",C26/$C$12,"")
... A39: 25 | D39: =IF(C39<>"",C39/$C$12,"")
A40: TOTAL NG | C40: =SUM(C15:C39) -> 0 | D40: =SUM(D15:E39) -> 0

Sheet ME15812-8
A3: PPART NAME : ME15812 COMMUTATOR M.8
A4: PROBLEM POINT
A5: NO | B5: NG PLACE | E5: ACTION
A6: 1 | B6: =B15 -> 0 | E6: SCRAP
A7: 2 | B7: =B16 -> 0 | E7: SCRAP
A8: 3 | B8: =B17 -> 0 | E8: SCRAP
A9: TOTAL QUALITY DATA
A10: FINISH GOODS QUANTITY (PCS.) :
A11: OK GOODS QUANTITY (PCS.) | C11: =D10-C12 -> 0 | D11: OK RATE (%) | E11: =C11/D10 -> #DIV/0!
A12: NG GOODS QUANTITY(PCS.) | C12: =C40 -> 0 | D12: NG RATE (%) | E12: =C12/D10 -> #DIV/0!
A13: HEAD DISTINCTION NG RATE (NG%)
A14: NO | B14: HEAD | C14: NG GOODS Q'TY (pcs.) | D14: NG RATE(%)
A15: 1 | D15: =IF(C15<>"",C15/$C$12,"")
A16: 2 | D16: =IF(C16<>"",C16/$C$12,"")
A17: 3 | D17: =IF(C17<>"",C17/$C$12,"")
A18: 4 | D18: =IF(C18<>"",C18/$C$12,"")
A19: 5 | D19: =IF(C19<>"",C19/$C$12,"")
A20: 6 | D20: =IF(C20<>"",C20/$C$12,"")
A21: 7 | D21: =IF(C21<>"",C21/$C$12,"")
A22: 8 | D22: =IF(C22<>"",C22/$C$12,"")
A23: 9 | D23: =IF(C23<>"",C23/$C$12,"")
A24: 10 | D24: =IF(C24<>"",C24/$C$12,"")
A25: 11 | D25: =IF(C25<>"",C25/$C$12,"")
A26: 12 | D26: =IF(C26<>"",C26/$C$12,"")
... A39: 25 | D39: =IF(C39<>"",C39/$C$12,"")
A40: TOTAL NG | C40: =SUM(C15:C39) -> 0 | D40: =SUM(D15:E39) -> 0

Sheet ME1586
A3: PPART NAME : ME1586 COMMUTATOR
A4: PROBLEM POINT
A5: NO | B5: NG PLACE | E5: ACTION
A6: 1 | B6: =B15 -> SPEC TERMINAL LOWER 2.56 | E6: SCRAP
A7: 2 | B7: =B16 -> TIN PEEL OFF (ดีบุกลอก) | E7: SCRAP
A8: 3 | B8: =B17 -> TERMINAL DAMAGE | E8: SCRAP
A9: TOTAL QUALITY DATA
A10: FINISH GOODS QUANTITY (PCS.) :
A11: OK GOODS QUANTITY (PCS.) | C11: =D10-C12 -> -344 | D11: OK RATE (%) | E11: =C11/D10 -> #DIV/0!
A12: NG GOODS QUANTITY(PCS.) | C12: =C45 -> 344 | D12: NG RATE (%) | E12: =C12/D10 -> #DIV/0!
A13: HEAD DISTINCTION NG RATE (NG%)
A14: NO | B14: HEAD | C14: NG GOODS Q'TY (pcs.) | D14: NG RATE(%)
A15: 1 | B15: SPEC TERMINAL LOWER 2.56 | C15: 91 | D15: =IF(C15<>"",C15/$C$12,"") -> 0.26453488
A16: 2 | B16: TIN PEEL OFF (ดีบุกลอก) | C16: 72 | D16: =IF(C16<>"",C16/$C$12,"") -> 0.20930233
A17: 3 | B17: TERMINAL DAMAGE | C17: 52 | D17: =IF(C17<>"",C17/$C$12,"") -> 0.15116279
A18: 4 | B18: RESIN DAMAGE | C18: 41 | D18: =IF(C18<>"",C18/$C$12,"") -> 0.11918605
A19: 5 | B19: RESIN BROCKEN | C19: 28 | D19: =IF(C19<>"",C19/$C$12,"") -> 0.081395349
A20: 6 | B20: SHORT SHOT | C20: 20 | D20: =IF(C20<>"",C20/$C$12,"") -> 0.058139535
A21: 7 | B21: OD DAMAGE | C21: 13 | D21: =IF(C21<>"",C21/$C$12,"") -> 0.037790698
A22: 8 | B22: TERMINAL BEND | C22: 10 | D22: =IF(C22<>"",C22/$C$12,"") -> 0.029069767
A23: 9 | B23: TERMINAL SPEC NG LOWER (ปีกสั้น) | C23: 6 | D23: =IF(C23<>"",C23/$C$12,"") -> 0.01744186
A24: 10 | B24: SLITTING NG | C24: 5 | D24: =IF(C24<>"",C24/$C$12,"") -> 0.014534884
A25: 11 | B25: OD SCRATCH | C25: 2 | D25: =IF(C25<>"",C25/$C$12,"") -> 0.0058139535
A26: 12 | B26: COPPER SHIP RESIN | C26: 1 | D26: =IF(C26<>"",C26/$C$12,"") -> 0.0029069767
... A29: 15 | B29: DIRTY | C29: 1 | D29: =IF(C29<>"",C29/$C$12,"") -> 0.0029069767
A30: 16 | D30: =IF(C30<>"",C30/$C$12,"")
A31: 17 | D31: =IF(C31<>"",C31/$C$12,"")
A32: 18 | D32: =IF(C32<>"",C32/$C$12,"")
A33: 19 | D33: =IF(C33<>"",C33/$C$12,"")
A34: 20 | D34: =IF(C34<>"",C34/$C$12,"")
A35: 21 | D35: =IF(C35<>"",C35/$C$12,"")
A36: 22 | D36: =IF(C36<>"",C36/$C$12,"")
A37: 23 | D37: =IF(C37<>"",C37/$C$12,"")
A38: 24 | D38: =IF(C38<>"",C38/$C$12,"")
A39: 25 | D39: =IF(C39<>"",C39/$C$12,"")
A40: 26 | D40: =IF(C40<>"",C40/$C$12,"")
A41: 27 | D41: =IF(C41<>"",C41/$C$12,"")
... A44: 30 | D44: =IF(C44<>"",C44/$C$12,"")
A45: TOTAL NG | C45: =SUM(C15:C44) -> 344 | D45: =SUM(D15:E44) -> 1

Sheet ME17814-1
A3: PPART NAME : ME17814 COMMUTATOR M.1
A4: PROBLEM POINT
A5: NO | B5: NG PLACE | E5: ACTION
A6: 1 | B6: =B15 -> SLITTING NG LEAN (ร่องเอียง) | E6: SCRAP
A7: 2 | B7: =B16 -> BUSH NG | E7: SCRAP
A8: 3 | B8: =B17 -> TERMINAL DAMAGE | E8: SCRAP
A9: TOTAL QUALITY DATA
A10: FINISH GOODS QUANTITY (PCS.) :
A11: OK GOODS QUANTITY (PCS.) | C11: =D10-C12 -> -1975 | D11: OK RATE (%) | E11: =C11/D10 -> #DIV/0!
A12: NG GOODS QUANTITY(PCS.) | C12: =C45 -> 1975 | D12: NG RATE (%) | E12: =C12/D10 -> #DIV/0!
A13: HEAD DISTINCTION NG RATE (NG%)
A14: NO | B14: HEAD | C14: NG GOODS Q'TY (pcs.) | D14: NG RATE(%)
A15: 1 | B15: SLITTING NG LEAN (ร่องเอียง) | C15: 539 | D15: =IF(C15<>"",C15/$C$12,"") -> 0.27291139
A16: 2 | B16: BUSH NG | C16: 435 | D16: =IF(C16<>"",C16/$C$12,"") -> 0.22025316
A17: 3 | B17: TERMINAL DAMAGE | C17: 250 | D17: =IF(C17<>"",C17/$C$12,"") -> 0.12658228
A18: 4 | B18: SHORT SHOT | C18: 170 | D18: =IF(C18<>"",C18/$C$12,"") -> 0.086075949
A19: 5 | B19: RESIN DAMAGE | C19: 106 | D19: =IF(C19<>"",C19/$C$12,"") -> 0.053670886
A20: 6 | B20: OD DAMAGE | C20: 93 | D20: =IF(C20<>"",C20/$C$12,"") -> 0.047088608
A21: 7 | B21: RESIN OVER | C21: 70 | D21: =IF(C21<>"",C21/$C$12,"") -> 0.035443038
A22: 8 | B22: TERMINAL BEND | C22: 65 | D22: =IF(C22<>"",C22/$C$12,"") -> 0.032911392
A23: 9 | B23: RESIN BROCKEN | C23: 43 | D23: =IF(C23<>"",C23/$C$12,"") -> 0.021772152
A24: 10 | B24: PART DROP NG (งานหล่นพื่น) | C24: 37 | D24: =IF(C24<>"",C24/$C$12,"") -> 0.018734177
A25: 11 | B25: TERMINAL JIG NG (CHECK JIG) | C25: 29 | D25: =IF(C25<>"",C25/$C$12,"") -> 0.014683544
A26: 12 | B26: ID BIG | C26: 25 | D26: =IF(C26<>"",C26/$C$12,"") -> 0.012658228
... A33: 19 | B33: SET M/C | C33: 10 | D33: =IF(C33<>"",C33/$C$12,"") -> 0.0050632911
A34: 20 | D34: =IF(C34<>"",C34/$C$12,"")
A35: 21 | D35: =IF(C35<>"",C35/$C$12,"")
A36: 22 | D36: =IF(C36<>"",C36/$C$12,"")
A37: 23 | D37: =IF(C37<>"",C37/$C$12,"")
A38: 24 | D38: =IF(C38<>"",C38/$C$12,"")
A39: 25 | D39: =IF(C39<>"",C39/$C$12,"")
A40: 26 | D40: =IF(C40<>"",C40/$C$12,"")
A41: 27 | D41: =IF(C41<>"",C41/$C$12,"")
A42: 28 | D42: =IF(C42<>"",C42/$C$12,"")
A43: 29 | D43: =IF(C43<>"",C43/$C$12,"")
A44: 30 | D44: =IF(C44<>"",C44/$C$12,"")
A45: TOTAL NG | C45: =SUM(C15:C44) -> 1975 | D45: =SUM(D15:E44) -> 1

Sheet ME17814-2
A3: PPART NAME : ME17814 COMMUTATOR M.2
A4: PROBLEM POINT
A5: NO | B5: NG PLACE | E5: ACTION
A6: 1 | B6: =B15 -> SLITTING LEAN (ร่องเอียง) | E6: SCRAP
A7: 2 | B7: =B16 -> TERMINAL DAMAGE | E7: SCRAP
A8: 3 | B8: =B17 -> OD DAMAGE | E8: SCRAP
A9: TOTAL QUALITY DATA
A10: FINISH GOODS QUANTITY (PCS.) :
A11: OK GOODS QUANTITY (PCS.) | C11: =D10-C12 -> -1589 | D11: OK RATE (%) | E11: =C11/D10 -> #DIV/0!
A12: NG GOODS QUANTITY(PCS.) | C12: =C45 -> 1589 | D12: NG RATE (%) | E12: =C12/D10 -> #DIV/0!
A13: HEAD DISTINCTION NG RATE (NG%)
A14: NO | B14: HEAD | C14: NG GOODS Q'TY (pcs.) | D14: NG RATE(%)
A15: 1 | B15: SLITTING LEAN (ร่องเอียง) | C15: 679 | D15: =IF(C15<>"",C15/$C$12,"") -> 0.42731278
A16: 2 | B16: TERMINAL DAMAGE | C16: 182 | D16: =IF(C16<>"",C16/$C$12,"") -> 0.11453744
A17: 3 | B17: OD DAMAGE | C17: 125 | D17: =IF(C17<>"",C17/$C$12,"") -> 0.078665828
A18: 4 | B18: SHORT SHOT | C18: 111 | D18: =IF(C18<>"",C18/$C$12,"") -> 0.069855255
A19: 5 | B19: TERMINAL BEND | C19: 90 | D19: =IF(C19<>"",C19/$C$12,"") -> 0.056639396
A20: 6 | B20: RESIN DAMAGE | C20: 68 | D20: =IF(C20<>"",C20/$C$12,"") -> 0.04279421
A21: 7 | B21: RESIN OVER | C21: 67 | D21: =IF(C21<>"",C21/$C$12,"") -> 0.042164884
A22: 8 | B22: TERMINAL JIG NG (CHECK JIG) | C22: 39 | D22: =IF(C22<>"",C22/$C$12,"") -> 0.024543738
A23: 9 | B23: RESIN BROCKEN | C23: 31 | D23: =IF(C23<>"",C23/$C$12,"") -> 0.019509125
A24: 10 | B24: SPEC LENGTH SLIT OVER | C24: 30 | D24: =IF(C24<>"",C24/$C$12,"") -> 0.018879799
A25: 11 | B25: PART DROP NG (งานหล่นพื้น) | C25: 28 | D25: =IF(C25<>"",C25/$C$12,"") -> 0.017621145
A26: 12 | B26: BUSH NG (STEP) | C26: 27 | D26: =IF(C26<>"",C26/$C$12,"") -> 0.016991819
... A34: 20 | B34: TIN PEEL OFF (ตัดครีบไม่หมด) | C34: 6 | D34: =IF(C34<>"",C34/$C$12,"") -> 0.0037759597
A35: 21 | D35: =IF(C35<>"",C35/$C$12,"")
A36: 22 | D36: =IF(C36<>"",C36/$C$12,"")
A37: 23 | D37: =IF(C37<>"",C37/$C$12,"")
A38: 24 | D38: =IF(C38<>"",C38/$C$12,"")
A39: 25 | D39: =IF(C39<>"",C39/$C$12,"")
A40: 26 | D40: =IF(C40<>"",C40/$C$12,"")
A41: 27 | D41: =IF(C41<>"",C41/$C$12,"")
A42: 28 | D42: =IF(C42<>"",C42/$C$12,"")
A43: 29 | D43: =IF(C43<>"",C43/$C$12,"")
A44: 30 | D44: =IF(C44<>"",C44/$C$12,"")
A45: TOTAL NG | C45: =SUM(C15:C44) -> 1589 | D45: =SUM(D15:E44) -> 1

Sheet MM685
A3: PPART NAME : MM685 COMMUTATOR
A4: PROBLEM POINT
A5: NO | B5: NG PLACE | E5: ACTION
A6: 1 | B6: =B15 -> 0 | E6: SCRAP
A7: 2 | B7: =B16 -> 0 | E7: SCRAP
A8: 3 | B8: =B17 -> 0 | E8: SCRAP
A9: TOTAL QUALITY DATA
A10: FINISH GOODS QUANTITY (PCS.) :
A11: OK GOODS QUANTITY (PCS.) | C11: =D10-C12 -> 0 | D11: OK RATE (%) | E11: =C11/D10 -> #DIV/0!
A12: NG GOODS QUANTITY(PCS.) | C12: =C40 -> 0 | D12: NG RATE (%) | E12: =C12/D10 -> #DIV/0!
A13: HEAD DISTINCTION NG RATE (NG%)
A14: NO | B14: HEAD | C14: NG GOODS Q'TY (pcs.) | D14: NG RATE(%)
A15: 1 | D15: =IF(C15<>"",C15/$C$12,"")
A16: 2 | D16: =IF(C16<>"",C16/$C$12,"")
A17: 3 | D17: =IF(C17<>"",C17/$C$12,"")
A18: 4 | D18: =IF(C18<>"",C18/$C$12,"")
A19: 5 | D19: =IF(C19<>"",C19/$C$12,"")
A20: 6 | D20: =IF(C20<>"",C20/$C$12,"")
A21: 7 | D21: =IF(C21<>"",C21/$C$12,"")
A22: 8 | D22: =IF(C22<>"",C22/$C$12,"")
A23: 9 | D23: =IF(C23<>"",C23/$C$12,"")
A24: 10 | D24: =IF(C24<>"",C24/$C$12,"")
A25: 11 | D25: =IF(C25<>"",C25/$C$12,"")
A26: 12 | D26: =IF(C26<>"",C26/$C$12,"")
... A39: 25 | D39: =IF(C39<>"",C39/$C$12,"")
A40: TOTAL NG | C40: =SUM(C15:C39) -> 0 | D40: =SUM(D15:E39) -> 0

Sheet NN1059
A3: PPART NAME : NN1059 COMMUTATOR
A4: PROBLEM POINT
A5: NO | B5: NG PLACE | E5: ACTION
A6: 1 | B6: =B15 -> 0 | E6: SCRAP
A7: 2 | B7: =B16 -> 0 | E7: SCRAP
A8: 3 | B8: =B17 -> 0 | E8: SCRAP
A9: TOTAL QUALITY DATA
A10: FINISH GOODS QUANTITY (PCS.) :
A11: OK GOODS QUANTITY (PCS.) | C11: =D10-C12 -> 0 | D11: OK RATE (%) | E11: =C11/D10 -> #DIV/0!
A12: NG GOODS QUANTITY(PCS.) | C12: =C40 -> 0 | D12: NG RATE (%) | E12: =C12/D10 -> #DIV/0!
A13: HEAD DISTINCTION NG RATE (NG%)
A14: NO | B14: HEAD | C14: NG GOODS Q'TY (pcs.) | D14: NG RATE(%)
A15: 1 | D15: =IF(C15<>"",C15/$C$12,"")
A16: 2 | D16: =IF(C16<>"",C16/$C$12,"")
A17: 3 | D17: =IF(C17<>"",C17/$C$12,"")
A18: 4 | D18: =IF(C18<>"",C18/$C$12,"")
A19: 5 | D19: =IF(C19<>"",C19/$C$12,"")
A20: 6 | D20: =IF(C20<>"",C20/$C$12,"")
A21: 7 | D21: =IF(C21<>"",C21/$C$12,"")
A22: 8 | D22: =IF(C22<>"",C22/$C$12,"")
A23: 9 | D23: =IF(C23<>"",C23/$C$12,"")
A24: 10 | D24: =IF(C24<>"",C24/$C$12,"")
A25: 11 | D25: =IF(C25<>"",C25/$C$12,"")
A26: 12 | D26: =IF(C26<>"",C26/$C$12,"")
... A39: 25 | D39: =IF(C39<>"",C39/$C$12,"")
A40: TOTAL NG | C40: =SUM(C15:C39) -> 0 | D40: =SUM(D15:E39) -> 0

Sheet NN433
A3: PPART NAME : NN433 COMMUTATOR
A4: PROBLEM POINT
A5: NO | B5: NG PLACE | E5: ACTION
A6: 1 | B6: =B15 -> 0 | E6: SCRAP
A7: 2 | B7: =B16 -> 0 | E7: SCRAP
A8: 3 | B8: =B17 -> 0 | E8: SCRAP
A9: TOTAL QUALITY DATA
A10: FINISH GOODS QUANTITY (PCS.) :
A11: OK GOODS QUANTITY (PCS.) | C11: =D10-C12 -> 0 | D11: OK RATE (%) | E11: =C11/D10 -> #DIV/0!
A12: NG GOODS QUANTITY(PCS.) | C12: =C40 -> 0 | D12: NG RATE (%) | E12: =C12/D10 -> #DIV/0!
A13: HEAD DISTINCTION NG RATE (NG%)
A14: NO | B14: HEAD | C14: NG GOODS Q'TY (pcs.) | D14: NG RATE(%)
A15: 1 | D15: =IF(C15<>"",C15/$C$12,"")
A16: 2 | D16: =IF(C16<>"",C16/$C$12,"")
A17: 3 | D17: =IF(C17<>"",C17/$C$12,"")
A18: 4 | D18: =IF(C18<>"",C18/$C$12,"")
A19: 5 | D19: =IF(C19<>"",C19/$C$12,"")
A20: 6 | D20: =IF(C20<>"",C20/$C$12,"")
A21: 7 | D21: =IF(C21<>"",C21/$C$12,"")
A22: 8 | D22: =IF(C22<>"",C22/$C$12,"")
A23: 9 | D23: =IF(C23<>"",C23/$C$12,"")
A24: 10 | D24: =IF(C24<>"",C24/$C$12,"")
A25: 11 | D25: =IF(C25<>"",C25/$C$12,"")
A26: 12 | D26: =IF(C26<>"",C26/$C$12,"")
... A39: 25 | D39: =IF(C39<>"",C39/$C$12,"")
A40: TOTAL NG | C40: =SUM(C15:C39) -> 0 | D40: =SUM(D15:E39) -> 0

Sheet NN7359
A3: PPART NAME : NN7359 COMMUTATOR
A4: PROBLEM POINT
A5: NO | B5: NG PLACE | E5: ACTION
A6: 1 | B6: =B15 -> 0 | E6: SCRAP
A7: 2 | B7: =B16 -> 0 | E7: SCRAP
A8: 3 | B8: =B17 -> 0 | E8: SCRAP
A9: TOTAL QUALITY DATA
A10: FINISH GOODS QUANTITY (PCS.) :
A11: OK GOODS QUANTITY (PCS.) | C11: =D10-C12 -> 0 | D11: OK RATE (%) | E11: =C11/D10 -> #DIV/0!
A12: NG GOODS QUANTITY(PCS.) | C12: =C40 -> 0 | D12: NG RATE (%) | E12: =C12/D10 -> #DIV/0!
A13: HEAD DISTINCTION NG RATE (NG%)
A14: NO | B14: HEAD | C14: NG GOODS Q'TY (pcs.) | D14: NG RATE(%)
A15: 1 | D15: =IF(C15<>"",C15/$C$12,"")
A16: 2 | D16: =IF(C16<>"",C16/$C$12,"")
A17: 3 | D17: =IF(C17<>"",C17/$C$12,"")
A18: 4 | D18: =IF(C18<>"",C18/$C$12,"")
A19: 5 | D19: =IF(C19<>"",C19/$C$12,"")
A20: 6 | D20: =IF(C20<>"",C20/$C$12,"")
A21: 7 | D21: =IF(C21<>"",C21/$C$12,"")
A22: 8 | D22: =IF(C22<>"",C22/$C$12,"")
A23: 9 | D23: =IF(C23<>"",C23/$C$12,"")
A24: 10 | D24: =IF(C24<>"",C24/$C$12,"")
A25: 11 | D25: =IF(C25<>"",C25/$C$12,"")
A26: 12 | D26: =IF(C26<>"",C26/$C$12,"")
... A39: 25 | D39: =IF(C39<>"",C39/$C$12,"")
A40: TOTAL NG | C40: =SUM(C15:C39) -> 0 | D40: =SUM(D15:E39) -> 0

Sheet SS603
A3: PPART NAME : SS603 COMMUTATOR
A4: PROBLEM POINT
A5: NO | B5: NG PLACE | E5: ACTION
A6: 1 | B6: =B15 -> 0 | E6: SCRAP
A7: 2 | B7: =B16 -> 0 | E7: SCRAP
A8: 3 | B8: =B17 -> 0 | E8: SCRAP
A9: TOTAL QUALITY DATA
A10: FINISH GOODS QUANTITY (PCS.) :
A11: OK GOODS QUANTITY (PCS.) | C11: =D10-C12 -> 0 | D11: OK RATE (%) | E11: =C11/D10 -> #DIV/0!
A12: NG GOODS QUANTITY(PCS.) | C12: =C40 -> 0 | D12: NG RATE (%) | E12: =C12/D10 -> #DIV/0!
A13: HEAD DISTINCTION NG RATE (NG%)
A14: NO | B14: HEAD | C14: NG GOODS Q'TY (pcs.) | D14: NG RATE(%)
A15: 1 | D15: =IF(C15<>"",C15/$C$12,"")
A16: 2 | D16: =IF(C16<>"",C16/$C$12,"")
A17: 3 | D17: =IF(C17<>"",C17/$C$12,"")
A18: 4 | D18: =IF(C18<>"",C18/$C$12,"")
A19: 5 | D19: =IF(C19<>"",C19/$C$12,"")
A20: 6 | D20: =IF(C20<>"",C20/$C$12,"")
A21: 7 | D21: =IF(C21<>"",C21/$C$12,"")
A22: 8 | D22: =IF(C22<>"",C22/$C$12,"")
A23: 9 | D23: =IF(C23<>"",C23/$C$12,"")
A24: 10 | D24: =IF(C24<>"",C24/$C$12,"")
A25: 11 | D25: =IF(C25<>"",C25/$C$12,"")
A26: 12 | D26: =IF(C26<>"",C26/$C$12,"")
... A39: 25 | D39: =IF(C39<>"",C39/$C$12,"")
A40: TOTAL NG | C40: =SUM(C15:C39) -> 0 | D40: =SUM(D15:E39) -> 0

Sheet TG5410
A3: PPART NAME : COMMUTATOR DN35927 TG028220-5410
A4: PROBLEM POINT
A5: NO | B5: NG PLACE | E5: ACTION
A6: 1 | B6: =B15 -> 0 | E6: SCRAP
A7: 2 | B7: =B16 -> 0 | E7: SCRAP
A8: 3 | B8: =B17 -> 0 | E8: SCRAP
A9: TOTAL QUALITY DATA
A10: FINISH GOODS QUANTITY (PCS.) :
A11: OK GOODS QUANTITY (PCS.) | C11: =D10-C12 -> 0 | D11: OK RATE (%) | E11: =C11/D10 -> #DIV/0!
A12: NG GOODS QUANTITY(PCS.) | C12: =C40 -> 0 | D12: NG RATE (%) | E12: =C12/D10 -> #DIV/0!
A13: HEAD DISTINCTION NG RATE (NG%)
A14: NO | B14: HEAD | C14: NG GOODS Q'TY (pcs.) | D14: NG RATE(%)
A15: 1 | D15: =IF(C15<>"",C15/$C$12,"")
A16: 2 | D16: =IF(C16<>"",C16/$C$12,"")
A17: 3 | D17: =IF(C17<>"",C17/$C$12,"")
A18: 4 | D18: =IF(C18<>"",C18/$C$12,"")
A19: 5 | D19: =IF(C19<>"",C19/$C$12,"")
A20: 6 | D20: =IF(C20<>"",C20/$C$12,"")
A21: 7 | D21: =IF(C21<>"",C21/$C$12,"")
A22: 8 | D22: =IF(C22<>"",C22/$C$12,"")
A23: 9 | D23: =IF(C23<>"",C23/$C$12,"")
A24: 10 | D24: =IF(C24<>"",C24/$C$12,"")
A25: 11 | D25: =IF(C25<>"",C25/$C$12,"")
A26: 12 | D26: =IF(C26<>"",C26/$C$12,"")
... A39: 25 | D39: =IF(C39<>"",C39/$C$12,"")
A40: TOTAL NG | C40: =SUM(C15:C39) -> 0 | D40: =SUM(D15:E39) -> 0

Sheet TG7110
A3: PPART NAME : INSULATOR CONTACT TG053673-7110
A4: PROBLEM POINT
A5: NO | B5: NG PLACE | E5: ACTION
A6: 1 | B6: =B15 -> 0 | E6: SCRAP
A7: 2 | B7: =B16 -> 0 | E7: SCRAP
A8: 3 | B8: =B17 -> 0 | E8: SCRAP
A9: TOTAL QUALITY DATA
A10: FINISH GOODS QUANTITY (PCS.) :
A11: OK GOODS QUANTITY (PCS.) | C11: =D10-C12 -> 0 | D11: OK RATE (%) | E11: =C11/D10 -> #DIV/0!
A12: NG GOODS QUANTITY(PCS.) | C12: =C40 -> 0 | D12: NG RATE (%) | E12: =C12/D10 -> #DIV/0!
A13: HEAD DISTINCTION NG RATE (NG%)
A14: NO | B14: HEAD | C14: NG GOODS Q'TY (pcs.) | D14: NG RATE(%)
A15: 1 | D15: =IF(C15<>"",C15/$C$12,"")
A16: 2 | D16: =IF(C16<>"",C16/$C$12,"")
A17: 3 | D17: =IF(C17<>"",C17/$C$12,"")
A18: 4 | D18: =IF(C18<>"",C18/$C$12,"")
A19: 5 | D19: =IF(C19<>"",C19/$C$12,"")
A20: 6 | D20: =IF(C20<>"",C20/$C$12,"")
A21: 7 | D21: =IF(C21<>"",C21/$C$12,"")
A22: 8 | D22: =IF(C22<>"",C22/$C$12,"")
A23: 9 | D23: =IF(C23<>"",C23/$C$12,"")
A24: 10 | D24: =IF(C24<>"",C24/$C$12,"")
A25: 11 | D25: =IF(C25<>"",C25/$C$12,"")
A26: 12 | D26: =IF(C26<>"",C26/$C$12,"")
... A39: 25 | D39: =IF(C39<>"",C39/$C$12,"")
A40: TOTAL NG | C40: =SUM(C15:C39) -> 0 | D40: =SUM(D15:E39) -> 0

Sheet TO523
A3: PPART NAME : ME1586 COMMUTATOR
A4: PROBLEM POINT
A5: NO | B5: NG PLACE | E5: ACTION
A6: 1 | B6: =B15 -> 0 | E6: SCRAP
A7: 2 | B7: =B16 -> 0 | E7: SCRAP
A8: 3 | B8: =B17 -> 0 | E8: SCRAP
A9: TOTAL QUALITY DATA
A10: FINISH GOODS QUANTITY (PCS.) :
A11: OK GOODS QUANTITY (PCS.) | C11: =D10-C12 -> 0 | D11: OK RATE (%) | E11: =C11/D10 -> #DIV/0!
A12: NG GOODS QUANTITY(PCS.) | C12: =C40 -> 0 | D12: NG RATE (%) | E12: =C12/D10 -> #DIV/0!
A13: HEAD DISTINCTION NG RATE (NG%)
A14: NO | B14: HEAD | C14: NG GOODS Q'TY (pcs.) | D14: NG RATE(%)
A15: 1 | D15: =IF(C15<>"",C15/$C$12,"")
A16: 2 | D16: =IF(C16<>"",C16/$C$12,"")
A17: 3 | D17: =IF(C17<>"",C17/$C$12,"")
A18: 4 | D18: =IF(C18<>"",C18/$C$12,"")
A19: 5 | D19: =IF(C19<>"",C19/$C$12,"")
A20: 6 | D20: =IF(C20<>"",C20/$C$12,"")
A21: 7 | D21: =IF(C21<>"",C21/$C$12,"")
A22: 8 | D22: =IF(C22<>"",C22/$C$12,"")
A23: 9 | D23: =IF(C23<>"",C23/$C$12,"")
A24: 10 | D24: =IF(C24<>"",C24/$C$12,"")
A25: 11 | D25: =IF(C25<>"",C25/$C$12,"")
A26: 12 | D26: =IF(C26<>"",C26/$C$12,"")
... A39: 25 | D39: =IF(C39<>"",C39/$C$12,"")
A40: TOTAL NG | C40: =SUM(C15:C39) -> 0 | D40: =SUM(D15:E39) -> 0
