Workbook
Name _NZ75: [1]BN1!#REF!
Name _SLR1: [1]Index!$A$8:$K$15
Name _SLR2: [1]Index!$A$22:$K$29
Name _SLR3: [1]Index!#REF!
Name BN1ST: [1]Index!$D$75
Name BN2ND: [1]Index!$D$76
Name CLA: [1]Index!$F$63
Name E2ND: [1]Index!$H$88
Name EP2ND: [1]Index!$G$88
Name GA: [1]Index!$F$61
Name GA_NEW: [1]Index!#REF!
Name GC: [1]Index!$F$64
Name HAL: [1]Index!#REF!
Name hh: [2]Index!$F$68
Name J12ND: [1]Index!$F$88
Name J22ND: [1]Index!$E$88
Name J32ND: [1]Index!$D$88
Name J42ND: [1]Index!$C$88
Name MA: [1]Index!$F$62
Name MAS: [1]Index!#REF!
Name OA: [1]Index!$F$70
Name PV: [1]Index!$F$60
Name QKT: [3]Index!$F$73
Name SSJ: [1]Index!$I$59
Name SST: [1]Index!$F$59
Name WKJ: [1]Index!$I$58
Name WKT: [1]Index!$F$58
Name ฆฏ: [4]Index!$A$8:$K$25

Sheet Data
G2: WORK CENTER CODE | I2: WORK CENTER NAME
G3: N220 | I3: =VLOOKUP($G3,[5]WC!A1:B89,2,0) -> ACC-RA
B6: WC | C6: Period | D6: Category
F7: THAI EMPLOYEE | Q7: TRANSLATOR (CONTRACT) | R7: HELPER (Canon Inc.) | S7: OUTSOURCING / SUB CONTRACT WRK | T7: GRAND TOTAL
F8: Permanent | N8: Tentative | O8: Total | P8: JAPANESE
E9: GM | F9: GM | G9: Asst.GM | H9: MGR/Div.MGR | I9: Asst. MGR | J9: S/P,CHF, System Analyst | K9: Engineer / Senior / Leader | L9: Technician / Clerk / Driver | M9: General Work
E10: M3 | F10: M2.9 | G10: M2.8 | H10: M1 | I10: J4 | J10: J3 | K10: J2 | L10: J1 | M10: E | N10: E | O10: (A) | P10: (B) | Q10: (C) | R10: (D) | S10: (E) | T10: (A+B+C+D+E)
B11: 2012 Standard Budget
B12: =$G$3 -> N220 | C12: JAN | D12: Estimate | H12: 1 | J12: 1 | K12: 3 | N12: 1 | O12: =SUM($F12:$N12) -> 6 | P12: 1 | T12: =SUM($O12:$S12) -> 7
B13: =$G$3 -> N220 | C13: FEB | D13: Estimate | H13: =+H12 -> 1 | I13: =+I12 -> 0 | J13: 1 | K13: 3 | L13: =+L12 -> 0 | M13: =+M12 -> 0 | N13: =+N12 -> 1 | O13: =SUM($F13:$N13) -> 6 | P13: 1 | T13: =SUM($O13:$S13) -> 7
B14: =$G$3 -> N220 | C14: MAR | D14: Estimate | I14: =+I13 -> 0 | L14: =+L13 -> 0 | M14: =+M13 -> 0 | O14: =SUM($F14:$N14) -> 0 | T14: =SUM($O14:$S14) -> 0
B15: =$G$3 -> N220 | C15: APR | D15: Estimate | I15: =+I14 -> 0 | L15: =+L14 -> 0 | M15: =+M14 -> 0 | O15: =SUM($F15:$N15) -> 0 | T15: =SUM($O15:$S15) -> 0
B16: =$G$3 -> N220 | C16: MAY | D16: Estimate | I16: =+I15 -> 0 | L16: =+L15 -> 0 | M16: =+M15 -> 0 | O16: =SUM($F16:$N16) -> 0 | T16: =SUM($O16:$S16) -> 0
B17: =$G$3 -> N220 | C17: JUN | D17: Estimate | I17: =+I16 -> 0 | L17: =+L16 -> 0 | M17: =+M16 -> 0 | O17: =SUM($F17:$N17) -> 0 | T17: =SUM($O17:$S17) -> 0
B18: =$G$3 -> N220 | C18: JUL | D18: Estimate | I18: =+I17 -> 0 | L18: =+L17 -> 0 | M18: =+M17 -> 0 | O18: =SUM($F18:$N18) -> 0 | T18: =SUM($O18:$S18) -> 0
B19: =$G$3 -> N220 | C19: AUG | D19: Estimate | I19: =+I18 -> 0 | L19: =+L18 -> 0 | M19: =+M18 -> 0 | O19: =SUM($F19:$N19) -> 0 | T19: =SUM($O19:$S19) -> 0
B20: =$G$3 -> N220 | C20: SEP | D20: Estimate | I20: =+I19 -> 0 | L20: =+L19 -> 0 | M20: =+M19 -> 0 | O20: =SUM($F20:$N20) -> 0 | T20: =SUM($O20:$S20) -> 0
B21: =$G$3 -> N220 | C21: OCT | D21: Estimate | I21: =+I20 -> 0 | L21: =+L20 -> 0 | M21: =+M20 -> 0 | O21: =SUM($F21:$N21) -> 0 | T21: =SUM($O21:$S21) -> 0
B22: =$G$3 -> N220 | C22: NOV | D22: Estimate | I22: =+I21 -> 0 | L22: =+L21 -> 0 | M22: =+M21 -> 0 | O22: =SUM($F22:$N22) -> 0 | T22: =SUM($O22:$S22) -> 0
B23: =$G$3 -> N220 | C23: DEC | D23: Estimate | I23: =+I22 -> 0 | L23: =+L22 -> 0 | M23: =+M22 -> 0 | O23: =SUM($F23:$N23) -> 0 | T23: =SUM($O23:$S23) -> 0
B24: =$G$3 -> N220 | C24: 1st Half | D24: Average | E24: =IF(SUM(E$12:E$17)=0,0,ROUND((E$12+E$13+E$14+E$15+E$16+E$17)/6,0)) -> 0 | F24: =IF(SUM(F$12:F$17)=0,0,ROUND((F$12+F$13+F$14+F$15+F$16+F$17)/6,0)) -> 0 | G24: =IF(SUM(G$12:G$17)=0,0,ROUND((G$12+G$13+G$14+G$15+G$16+G$17)/6,0)) -> 0 | H24: =IF(SUM(H$12:H$17)=0,0,ROUND((H$12+H$13+H$14+H$15+H$16+H$17)/6,0)) -> 0 | I24: =IF(SUM(I$12:I$17)=0,0,ROUND((I$12+I$13+I$14+I$15+I$16+I$17)/6,0)) -> 0 | J24: =IF(SUM(J$12:J$17)=0,0,ROUND((J$12+J$13+J$14+J$15+J$16+J$17)/6,0)) -> 0 | K24: =IF(SUM(K$12:K$17)=0,0,ROUND((K$12+K$13+K$14+K$15+K$16+K$17)/6,0)) -> 1 | L24: =IF(SUM(L$12:L$17)=0,0,ROUND((L$12+L$13+L$14+L$15+L$16+L$17)/6,0)) -> 0 | ... T24: =IF(SUM(T$12:T$17)=0,0,ROUND((T$12+T$13+T$14+T$15+T$16+T$17)/6,0)) -> 2
B25: =$G$3 -> N220 | C25: 2nd Half | D25: Average | E25: =IF(SUM(E$18:E$23)=0,0,ROUND((E$18+E$19+E$20+E$21+E$22+E$23)/6,0)) -> 0 | F25: =IF(SUM(F$18:F$23)=0,0,ROUND((F$18+F$19+F$20+F$21+F$22+F$23)/6,0)) -> 0 | G25: =IF(SUM(G$18:G$23)=0,0,ROUND((G$18+G$19+G$20+G$21+G$22+G$23)/6,0)) -> 0 | H25: =IF(SUM(H$18:H$23)=0,0,ROUND((H$18+H$19+H$20+H$21+H$22+H$23)/6,0)) -> 0 | I25: =IF(SUM(I$18:I$23)=0,0,ROUND((I$18+I$19+I$20+I$21+I$22+I$23)/6,0)) -> 0 | J25: =IF(SUM(J$18:J$23)=0,0,ROUND((J$18+J$19+J$20+J$21+J$22+J$23)/6,0)) -> 0 | K25: =IF(SUM(K$18:K$23)=0,0,ROUND((K$18+K$19+K$20+K$21+K$22+K$23)/6,0)) -> 0 | L25: =IF(SUM(L$18:L$23)=0,0,ROUND((L$18+L$19+L$20+L$21+L$22+L$23)/6,0)) -> 0 | ... T25: =IF(SUM(T$18:T$23)=0,0,ROUND((T$18+T$19+T$20+T$21+T$22+T$23)/6,0)) -> 0
B26: =$G$3 -> N220 | C26: Year | D26: Average | E26: =IF((E$24+E$25)=0,0,ROUND((E$24+E$25)/2,0)) -> 0 | F26: =IF((F$24+F$25)=0,0,ROUND((F$24+F$25)/2,0)) -> 0 | G26: =IF((G$24+G$25)=0,0,ROUND((G$24+G$25)/2,0)) -> 0 | H26: =IF((H$24+H$25)=0,0,ROUND((H$24+H$25)/2,0)) -> 0 | I26: =IF((I$24+I$25)=0,0,ROUND((I$24+I$25)/2,0)) -> 0 | J26: =IF((J$24+J$25)=0,0,ROUND((J$24+J$25)/2,0)) -> 0 | K26: =IF((K$24+K$25)=0,0,ROUND((K$24+K$25)/2,0)) -> 1 | L26: =IF((L$24+L$25)=0,0,ROUND((L$24+L$25)/2,0)) -> 0 | ... T26: =IF((T$24+T$25)=0,0,ROUND((T$24+T$25)/2,0)) -> 1
B27: 2011 4th Quarter Operation Budget
B28: =$G$3 -> N220 | C28: 1st Half | D28: Average | E28: 0 | F28: 0 | G28: 0 | H28: 1 | I28: 1 | J28: 4 | K28: 7 | L28: 0 | M28: 0 | N28: 0 | O28: =SUMIF('[5]4Q BDG'!$B$9:$B$135,Data!$B28,'[5]4Q BDG'!N$9:N$135) -> #VALUE! | P28: 3 | Q28: =SUMIF('[5]4Q BDG'!$B$9:$B$135,Data!$B28,'[5]4Q BDG'!R$9:R$135) -> #VALUE! | R28: =SUMIF('[5]4Q BDG'!$B$9:$B$135,Data!$B28,'[5]4Q BDG'!T$9:T$135) -> #VALUE! | S28: 0 | T28: =SUM(O28:S28) -> #VALUE!
B29: =$G$3 -> N220 | C29: 2nd Half | D29: Average | E29: 0 | F29: 0 | G29: 0 | H29: 1 | I29: 0 | J29: 3 | K29: 8 | L29: 0 | M29: 0 | N29: 1 | O29: =SUMIF('[5]4Q BDG'!$B$9:$B$135,Data!$B29,'[5]4Q BDG'!AJ$9:AJ$135) -> #VALUE! | P29: 2 | Q29: =SUMIF('[5]4Q BDG'!$B$9:$B$135,Data!$B29,'[5]4Q BDG'!AN$9:AN$135) -> #VALUE! | R29: =SUMIF('[5]4Q BDG'!$B$9:$B$135,Data!$B29,'[5]4Q BDG'!AO$9:AO$135) -> #VALUE! | S29: =SUMIF('[5]4Q BDG'!$B$9:$B$135,Data!$B29,'[5]4Q BDG'!AP$9:AP$135) -> #VALUE! | T29: =SUM(O29:S29) -> #VALUE!
B30: =$G$3 -> N220 | C30: Year | D30: Average | E30: 0 | F30: 0 | G30: 0 | H30: 1 | I30: 1 | J30: 4 | K30: 8 | L30: 0 | M30: 0 | N30: 1 | O30: =IF((O28+O29)=0,0,ROUND((O28+O29)/2,0)) -> #VALUE! | P30: 3 | Q30: =IF((Q28+Q29)=0,0,ROUND((Q28+Q29)/2,0)) -> #VALUE! | R30: =IF((R28+R29)=0,0,ROUND((R28+R29)/2,0)) -> #VALUE! | S30: 0 | T30: =IF((T28+T29)=0,0,ROUND((T28+T29)/2,0)) -> #VALUE!
B31: Increase (Decrease) from 2011 4th Quarter Operation Budget
B32: =$G$3 -> N220 | C32: 1st Half | D32: Average | E32: =E24-E28 -> 0 | F32: =F24-F28 -> 0 | G32: =G24-G28 -> 0 | H32: =H24-H28 -> -1 | I32: =I24-I28 -> -1 | J32: =J24-J28 -> -4 | K32: =K24-K28 -> -6 | L32: =L24-L28 -> 0 | ... N32: =N24-N28 -> 0 | O32: =SUM($F32:$N32) -> -12 | P32: =P24-P28 -> -3 | Q32: =Q24-Q28 -> #VALUE! | R32: =R24-R28 -> #VALUE! | S32: =S24-S28 -> 0 | T32: =SUM($O32:$S32) -> #VALUE!
B33: =$G$3 -> N220 | C33: 2nd Half | D33: Average | E33: =E25-E29 -> 0 | F33: =F25-F29 -> 0 | G33: =G25-G29 -> 0 | H33: =H25-H29 -> -1 | I33: =I25-I29 -> 0 | J33: =J25-J29 -> -3 | K33: =K25-K29 -> -8 | L33: =L25-L29 -> 0 | ... N33: =N25-N29 -> -1 | O33: =SUM($F33:$N33) -> -13 | P33: =P25-P29 -> -2 | Q33: =Q25-Q29 -> #VALUE! | R33: =R25-R29 -> #VALUE! | S33: =S25-S29 -> #VALUE! | T33: =SUM($O33:$S33) -> #VALUE!
B34: =$G$3 -> N220 | C34: Year | D34: Average | E34: =IF((E32+E33)=0,0,ROUND((E32+E33)/2,0)) -> 0 | F34: =IF((F32+F33)=0,0,ROUND((F32+F33)/2,0)) -> 0 | G34: =IF((G32+G33)=0,0,ROUND((G32+G33)/2,0)) -> 0 | H34: =IF((H32+H33)=0,0,ROUND((H32+H33)/2,0)) -> -1 | I34: =IF((I32+I33)=0,0,ROUND((I32+I33)/2,0)) -> -1 | J34: =IF((J32+J33)=0,0,ROUND((J32+J33)/2,0)) -> -4 | K34: =IF((K32+K33)=0,0,ROUND((K32+K33)/2,0)) -> -7 | L34: =IF((L32+L33)=0,0,ROUND((L32+L33)/2,0)) -> 0 | ... T34: =IF((T32+T33)=0,0,ROUND((T32+T33)/2,0)) -> #VALUE!

Sheet Summary
A1: JAN | B1: FEB
A2: MAR | B2: APR
A3: MAY | B3: JUN
A4: 1ST | B4: TOTAL | D4: 1 | E4: 2 | F4: 3 | G4: 4 | H4: 5 | I4: 6 | J4: 7 | K4: 8 | L4: 9
A5: THAI | B5: JP | D5: 40544 | O5: =D5+31 -> 40575 | Z5: =O5+31 -> 40606
A6: TRAN | B6: HELP | D6: Staff | J6: Operator | M6: Total | O6: Staff | U6: Operator | X6: Total | Z6: Staff | AF6: Operator | AI6: Total
A7: WORKER | B7: 2nd | J7: Permanent | L7: Tentative | U7: Permanent | W7: Tentative | AF7: Permanent | AH7: Tentative
A8: DIV. | B8: W.C. | D8: M2.9 | E8: M2.8 | F8: M1 | G8: J4 | H8: J3 | I8: J2 | J8: J1 | K8: E | L8: E | O8: M2.9 | P8: M2.8 | Q8: M1 | R8: J4 | S8: J3 | T8: J2 | U8: J1 | V8: E | W8: E | Z8: M2.9 | AA8: M2.8 | AB8: M1 | AC8: J4 | AD8: J3 | AE8: J2 | AF8: J1 | AG8: E | AH8: E
A9: 8 | B9: N200 | C9: =ABS(B9) -> #VALUE! | M9: =SUM(D9:L9) -> 0 | X9: =SUM(O9:W9) -> 0 | AI9: =SUM(Z9:AH9) -> 0
A10: 1 | B10: N201
A11: 8 | B11: N210 | C11: =ABS(B11) -> #VALUE! | M11: =SUM(D11:L11) -> 0 | X11: =SUM(O11:W11) -> 0 | AI11: =SUM(Z11:AH11) -> 0
A12: 9 | B12: N220 | C12: =ABS(B12) -> #VALUE! | M12: =SUM(D12:L12) -> 0 | X12: =SUM(O12:W12) -> 0 | AI12: =SUM(Z12:AH12) -> 0
A13: 9 | B13: N230 | C13: =ABS(B13) -> #VALUE! | H13: 1 | I13: 3 | M13: =SUM(D13:L13) -> 4 | S13: 1 | T13: 3 | X13: =SUM(O13:W13) -> 4 | AI13: =SUM(Z13:AH13) -> 0
A14: Q | B14: N240 | C14: #VALUE! | M14: 0 | X14: 0 | AI14: 0
A15: 8 | B15: N261 | C15: =ABS(B15) -> #VALUE! | M15: =SUM(D15:L15) -> 0 | X15: =SUM(O15:W15) -> 0 | AI15: =SUM(Z15:AH15) -> 0
B16: ADM | C16: =ABS(B16) -> #VALUE! | D16: =SUM(D$9:D$15) -> 0 | E16: =SUM(E9:E15) -> 0 | F16: =SUM(F$9:F$15) -> 0 | G16: =SUM(G$9:G$15) -> 0 | H16: =SUM(H$9:H$15) -> 1 | I16: =SUM(I$9:I$15) -> 3 | J16: =SUM(J$9:J$15) -> 0 | K16: =SUM(K$9:K$15) -> 0 | L16: =SUM(L$9:L$15) -> 0 | M16: =SUM(M$9:M$15) -> 4 | ... O16: =SUM(O$9:O$15) -> 0 | P16: =SUM(P9:P15) -> 0 | Q16: =SUM(Q$9:Q$15) -> 0 | R16: =SUM(R$9:R$15) -> 0 | S16: =SUM(S$9:S$15) -> 1 | T16: =SUM(T$9:T$15) -> 3 | U16: =SUM(U$9:U$15) -> 0 | V16: =SUM(V$9:V$15) -> 0 | W16: =SUM(W$9:W$15) -> 0 | X16: =SUM(X$9:X$15) -> 4 | ... Z16: =SUM(Z$9:Z$15) -> 0 | AA16: =SUM(AA9:AA15) -> 0 | AB16: =SUM(AB$9:AB$15) -> 0 | AC16: =SUM(AC$9:AC$15) -> 0 | AD16: =SUM(AD$9:AD$15) -> 0 | AE16: =SUM(AE$9:AE$15) -> 0 | AF16: =SUM(AF$9:AF$15) -> 0 | AG16: =SUM(AG$9:AG$15) -> 0 | AH16: =SUM(AH$9:AH$15) -> 0 | AI16: =SUM(AI$9:AI$15) -> 0 | AJ16: =SUM(AJ$9:AJ$15) -> 0
B17: COMPANY TOTAL | D17: =+D16+#REF! -> #REF! | E17: =+E16+#REF! -> #REF! | F17: =+F16+#REF! -> #REF! | G17: =+G16+#REF! -> #REF! | H17: =+H16+#REF! -> #REF! | I17: =+I16+#REF! -> #REF! | J17: =+J16+#REF! -> #REF! | K17: =+K16+#REF! -> #REF! | ... AJ17: =+AJ16+#REF! -> #REF!
