Workbook
Name \b: #REF!
Name \b: #REF!
Name \c: [1]AVE.!#REF!
Name \c: [1]AVE.!#REF!
Name \d: #REF!
Name \d: #REF!
Name \e: #REF!
Name \e: #REF!
Name \f: #REF!
Name \f: #REF!
Name \g: #REF!
Name \g: #REF!
Name \h: #REF!
Name \h: #REF!
Name \o: #REF!
Name \o: #REF!
Name \p: [2]ｺｽﾄｾﾝﾀｰ別設備稼働費ﾚｰﾄ算出表!#REF!
Name \p: [2]ｺｽﾄｾﾝﾀｰ別設備稼働費ﾚｰﾄ算出表!#REF!
Name \q: [2]ｺｽﾄｾﾝﾀｰ別設備稼働費ﾚｰﾄ算出表!#REF!
Name \q: [2]ｺｽﾄｾﾝﾀｰ別設備稼働費ﾚｰﾄ算出表!#REF!
Name _??: #REF!
Name _??: #REF!
Name _????: #REF!
Name _????: #REF!
Name _???????: #REF!
Name _???????: #REF!
Name _???????B: #REF!
Name _???????B: #REF!
Name _??il: #REF!
Name _??il: #REF!
Name __??: #REF!
Name __??: #REF!
Name __????: #REF!
Name __????: #REF!
Name __???????: #REF!
Name __???????: #REF!
Name __???????B: #REF!
Name __???????B: #REF!
Name __??il: #REF!
Name __??il: #REF!
Name ___??: #REF!
Name ___??: #REF!
Name ___????: #REF!
Name ___????: #REF!
Name ___???????: #REF!
Name ___???????: #REF!
Name ___???????B: #REF!
Name ___???????B: #REF!
Name ___??il: #REF!
Name ___??il: #REF!
Name ____??: #REF!
Name ____??: #REF!
Name ____????: #REF!
Name ____????: #REF!
Name ____???????: #REF!
Name ____???????: #REF!
Name _____??: #REF!
Name _____??: #REF!
Name _____????: #REF!
Name _____????: #REF!

Sheet Rev08
O1: =COUNTIF(O5:O24,"<0") -> 0
E2: ผลิตFORM | F2: 100 ต่อวัน | I2: =SUMIF($G:$G,$E$2,I:I) -> 0 | J2: =SUMIF($G:$G,$E$2,J:J) -> 0 | K2: =SUMIF($G:$G,$E$2,K:K) -> 0 | L2: =SUMIF($G:$G,$E$2,L:L) -> 0 | M2: =SUMIF($G:$G,$E$2,M:M) -> 100 | N2: =SUMIF($G:$G,$E$2,N:N) -> 30 | O2: =SUMIF($G:$G,$E$2,O:O) -> 85 | P2: =SUMIF($G:$G,$E$2,P:P) -> 0 | Q2: =SUMIF($G:$G,$E$2,Q:Q) -> 130 | R2: =SUMIF($G:$G,$E$2,R:R) -> 50 | S2: =SUMIF($G:$G,$E$2,S:S) -> 100 | T2: =SUMIF($G:$G,$E$2,T:T) -> 0 | U2: =SUMIF($G:$G,$E$2,U:U) -> 0 | V2: =SUMIF($G:$G,$E$2,V:V) -> 0 | W2: =SUMIF($G:$G,$E$2,W:W) -> 0 | X2: =SUMIF($G:$G,$E$2,X:X) -> 0 | Y2: =SUMIF($G:$G,$E$2,Y:Y) -> 0 | Z2: =SUMIF($G:$G,$E$2,Z:Z) -> 0 | AA2: =SUMIF($G:$G,$E$2,AA:AA) -> 0 | AB2: =SUMIF($G:$G,$E$2,AB:AB) -> 0 | AC2: =SUMIF($G:$G,$E$2,AC:AC) -> 0 | AD2: =SUMIF($G:$G,$E$2,AD:AD) -> 0 | AE2: =SUMIF($G:$G,$E$2,AE:AE) -> 0 | AF2: =SUMIF($G:$G,$E$2,AF:AF) -> 0 | AG2: =SUMIF($G:$G,$E$2,AG:AG) -> 0 | AH2: =SUMIF($G:$G,$E$2,AH:AH) -> 0 | AI2: =SUMIF($G:$G,$E$2,AI:AI) -> 0 | AJ2: =SUMIF($G:$G,$E$2,AJ:AJ) -> 0 | AK2: =SUMIF($G:$G,$E$2,AK:AK) -> 0
E3: ผลิตFORM | I3: =COUNTIFS($G:$G,$E$3,I:I,">0") -> 0 | J3: =COUNTIFS($G:$G,$E$3,J:J,">0") -> 0 | K3: =COUNTIFS($G:$G,$E$3,K:K,">0") -> 0 | L3: =COUNTIFS($G:$G,$E$3,L:L,">0") -> 0 | M3: =COUNTIFS($G:$G,$E$3,M:M,">0") -> 2 | N3: =COUNTIFS($G:$G,$E$3,N:N,">0") -> 1 | O3: =COUNTIFS($G:$G,$E$3,O:O,">0") -> 2 | P3: =COUNTIFS($G:$G,$E$3,P:P,">0") -> 0 | Q3: =COUNTIFS($G:$G,$E$3,Q:Q,">0") -> 2 | R3: =COUNTIFS($G:$G,$E$3,R:R,">0") -> 1 | S3: =COUNTIFS($G:$G,$E$3,S:S,">0") -> 1 | T3: =COUNTIFS($G:$G,$E$3,T:T,">0") -> 0 | U3: =COUNTIFS($G:$G,$E$3,U:U,">0") -> 0 | V3: =COUNTIFS($G:$G,$E$3,V:V,">0") -> 0 | W3: =COUNTIFS($G:$G,$E$3,W:W,">0") -> 0 | X3: =COUNTIFS($G:$G,$E$3,X:X,">0") -> 0 | Y3: =COUNTIFS($G:$G,$E$3,Y:Y,">0") -> 0 | Z3: =COUNTIFS($G:$G,$E$3,Z:Z,">0") -> 0 | AA3: =COUNTIFS($G:$G,$E$3,AA:AA,">0") -> 0 | AB3: =COUNTIFS($G:$G,$E$3,AB:AB,">0") -> 0 | AC3: =COUNTIFS($G:$G,$E$3,AC:AC,">0") -> 0 | AD3: =COUNTIFS($G:$G,$E$3,AD:AD,">0") -> 0 | AE3: =COUNTIFS($G:$G,$E$3,AE:AE,">0") -> 0 | AF3: =COUNTIFS($G:$G,$E$3,AF:AF,">0") -> 0 | AG3: =COUNTIFS($G:$G,$E$3,AG:AG,">0") -> 0 | AH3: =COUNTIFS($G:$G,$E$3,AH:AH,">0") -> 0 | AI3: =COUNTIFS($G:$G,$E$3,AI:AI,">0") -> 0 | AJ3: =COUNTIFS($G:$G,$E$3,AJ:AJ,">0") -> 0 | AK3: =COUNTIFS($G:$G,$E$3,AK:AK,">0") -> 0
A4: PACK | B4: SD | C4: xx | D4: Material Number. | E4: Cust.mat | F4: Material Description | G4: IND | H4: STOCK | I4: 44784 | J4: =+I4+1 -> 44785 | K4: =+J4+1 -> 44786 | L4: =+K4+1 -> 44787 | M4: =+L4+1 -> 44788 | N4: =+M4+1 -> 44789 | O4: =+N4+1 -> 44790 | P4: =+O4+1 -> 44791 | Q4: =+P4+1 -> 44792 | ... AK4: =+AJ4+1 -> 44812
A5: 82407683 | B5: 1 | C5: 1 | D5: VL-F15Z1H0000021 | E5: 82407683 | F5: HEADLINING REAR LOW ROOF | G5: SAS Support | H5: =SUBTOTAL(9,L5:AK5) -> 330 | M5: 90 | N5: 30 | O5: 30 | P5: 30 | Q5: 30 | R5: 0 | S5: 0 | T5: 30 | U5: 0 | V5: 30 | W5: 30 | X5: 30
A6: 82407683 | B6: 3 | C6: 1 | D6: VL-F15Z1H0000021 | E6: 82407683 | F6: HEADLINING REAR LOW ROOF | G6: ผลิต FG | H6: =SUBTOTAL(9,L6:AK6) -> 255 | M6: 30 | N6: 30 | O6: 30 | Q6: 30 | R6: 30 | S6: 30 | T6: 30 | U6: 30 | V6: 15
A7: 82407683 | B7: 4 | C7: 1 | D7: VL-F15Z1H0000021 | E7: 82407683 | F7: HEADLINING REAR LOW ROOF | G7: ผลิตFORM | M7: 35 | N7: 30 | O7: 40 | Q7: 60 | S7: 100
A8: 82407683 | B8: 5 | C8: 1 | D8: VL-F15Z1H0000021 | E8: 82407683 | F8: HEADLINING REAR LOW ROOF | G8: STCOK FORM | I8: =H8+I7-I6 -> 0 | J8: =I8+J7-J6 -> 0 | K8: =J8+K7-K6 -> 0 | L8: =K8+L7-L6 -> 0 | M8: =L8+M7-M6 -> 5 | N8: =M8+N7-N6 -> 5 | O8: =N8+O7-O6 -> 15 | P8: =O8+P7-P6 -> 15 | ... AK8: =AJ8+AK7-AK6 -> 10
A9: 82407683 | B9: 6 | C9: 1 | D9: VL-F15Z1H0000021 | E9: 82407683 | F9: HEADLINING REAR LOW ROOF | G9: STCOK FG | H9: =90+30 -> 120 | I9: =H9+I6-I5 -> 120 | J9: =I9+J6-J5 -> 120 | K9: =J9+K6-K5 -> 120 | L9: =K9+L6-L5 -> 120 | M9: =L9+M6-M5 -> 60 | N9: =M9+N6-N5 -> 60 | O9: =N9+O6-O5 -> 60 | P9: =O9+P6-P5 -> 30 | ... AK9: =AJ9+AK6-AK5 -> 45
A10: ไม่เจอ | B10: 1 | C10: 7 | D10: VL-H15Z1H0000011 | E10: 82504851 | F10: HEADLINING FRONT HIGH ROOF | G10: SAS Support | H10: =SUBTOTAL(9,L10:AK10) -> 0 | I10: 0 | M10: =SUMIF(ORDER!$B:$B,'Rev08'!$E:$E,ORDER!I:I) -> 0 | N10: =SUMIF(ORDER!$B:$B,'Rev08'!$E:$E,ORDER!J:J) -> 0 | O10: =SUMIF(ORDER!$B:$B,'Rev08'!$E:$E,ORDER!K:K) -> 0 | P10: =SUMIF(ORDER!$B:$B,'Rev08'!$E:$E,ORDER!L:L) -> 0 | Q10: =SUMIF(ORDER!$B:$B,'Rev08'!$E:$E,ORDER!M:M) -> 0 | R10: =SUMIF(ORDER!$B:$B,'Rev08'!$E:$E,ORDER!N:N) -> 0 | S10: =SUMIF(ORDER!$B:$B,'Rev08'!$E:$E,ORDER!O:O) -> 0 | T10: =SUMIF(ORDER!$B:$B,'Rev08'!$E:$E,ORDER!P:P) -> 0 | U10: =SUMIF(ORDER!$B:$B,'Rev08'!$E:$E,ORDER!Q:Q) -> 0 | V10: =SUMIF(ORDER!$B:$B,'Rev08'!$E:$E,ORDER!R:R) -> 0 | W10: =SUMIF(ORDER!$B:$B,'Rev08'!$E:$E,ORDER!S:S) -> 0 | X10: =SUMIF(ORDER!$B:$B,'Rev08'!$E:$E,ORDER!T:T) -> 0
A11: ไม่เจอ | B11: 3 | C11: 7 | D11: VL-H15Z1H0000011 | E11: 82504851 | F11: HEADLINING FRONT HIGH ROOF | G11: ผลิต FG
A12: ไม่เจอ | B12: 4 | C12: 7 | D12: VL-H15Z1H0000011 | E12: 82504851 | F12: HEADLINING FRONT HIGH ROOF | G12: ผลิตFORM
A13: ไม่เจอ | B13: 5 | C13: 7 | D13: VL-H15Z1H0000011 | E13: 82504851 | F13: HEADLINING FRONT HIGH ROOF | G13: STCOK FORM | I13: =H13+I12-I11 -> 0 | J13: =I13+J12-J11 -> 0 | K13: =J13+K12-K11 -> 0 | L13: =K13+L12-L11 -> 0 | M13: =L13+M12-M11 -> 0 | N13: =M13+N12-N11 -> 0 | O13: =N13+O12-O11 -> 0 | P13: =O13+P12-P11 -> 0 | ... AK13: =AJ13+AK12-AK11 -> 0
A14: ไม่เจอ | B14: 6 | C14: 7 | D14: VL-H15Z1H0000011 | E14: 82504851 | F14: HEADLINING FRONT HIGH ROOF | G14: STCOK FG | H14: 18 | I14: =H14+I11-I10 -> 18 | J14: =I14+J11-J10 -> 18 | K14: =J14+K11-K10 -> 18 | L14: =K14+L11-L10 -> 18 | M14: =L14+M11-M10 -> 18 | N14: =M14+N11-N10 -> 18 | O14: =N14+O11-O10 -> 18 | P14: =O14+P11-P10 -> 18 | ... AK14: =AJ14+AK11-AK10 -> 18
A15: ไม่เจอ | B15: 1 | C15: 8 | D15: VL-H15Z1H0000021 | E15: 82504849 | F15: HEADLINING REAR HIGH ROOF | G15: SAS Support | H15: =SUBTOTAL(9,L15:AK15) -> 0 | I15: 0 | M15: =SUMIF(ORDER!$B:$B,'Rev08'!$E:$E,ORDER!I:I) -> 0 | N15: =SUMIF(ORDER!$B:$B,'Rev08'!$E:$E,ORDER!J:J) -> 0 | O15: =SUMIF(ORDER!$B:$B,'Rev08'!$E:$E,ORDER!K:K) -> 0 | P15: =SUMIF(ORDER!$B:$B,'Rev08'!$E:$E,ORDER!L:L) -> 0 | Q15: =SUMIF(ORDER!$B:$B,'Rev08'!$E:$E,ORDER!M:M) -> 0 | R15: =SUMIF(ORDER!$B:$B,'Rev08'!$E:$E,ORDER!N:N) -> 0 | S15: =SUMIF(ORDER!$B:$B,'Rev08'!$E:$E,ORDER!O:O) -> 0 | T15: =SUMIF(ORDER!$B:$B,'Rev08'!$E:$E,ORDER!P:P) -> 0 | U15: =SUMIF(ORDER!$B:$B,'Rev08'!$E:$E,ORDER!Q:Q) -> 0 | V15: =SUMIF(ORDER!$B:$B,'Rev08'!$E:$E,ORDER!R:R) -> 0 | W15: =SUMIF(ORDER!$B:$B,'Rev08'!$E:$E,ORDER!S:S) -> 0 | X15: =SUMIF(ORDER!$B:$B,'Rev08'!$E:$E,ORDER!T:T) -> 0
A16: ไม่เจอ | B16: 3 | C16: 8 | D16: VL-H15Z1H0000021 | E16: 82504849 | F16: HEADLINING REAR HIGH ROOF | G16: ผลิต FG
A17: ไม่เจอ | B17: 4 | C17: 8 | D17: VL-H15Z1H0000021 | E17: 82504849 | F17: HEADLINING REAR HIGH ROOF | G17: ผลิตFORM
A18: ไม่เจอ | B18: 5 | C18: 8 | D18: VL-H15Z1H0000021 | E18: 82504849 | F18: HEADLINING REAR HIGH ROOF | G18: STCOK FORM | I18: =H18+I17-I16 -> 0 | J18: =I18+J17-J16 -> 0 | K18: =J18+K17-K16 -> 0 | L18: =K18+L17-L16 -> 0 | M18: =L18+M17-M16 -> 0 | N18: =M18+N17-N16 -> 0 | O18: =N18+O17-O16 -> 0 | P18: =O18+P17-P16 -> 0 | ... AK18: =AJ18+AK17-AK16 -> 0
A19: ไม่เจอ | B19: 6 | C19: 8 | D19: VL-H15Z1H0000021 | E19: 82504849 | F19: HEADLINING REAR HIGH ROOF | G19: STCOK FG | H19: 0 | I19: =H19+I16-I15 -> 0 | J19: =I19+J16-J15 -> 0 | K19: =J19+K16-K15 -> 0 | L19: =K19+L16-L15 -> 0 | M19: =L19+M16-M15 -> 0 | N19: =M19+N16-N15 -> 0 | O19: =N19+O16-O15 -> 0 | P19: =O19+P16-P15 -> 0 | ... AK19: =AJ19+AK16-AK15 -> 0
A20: 82619038 | B20: 1 | C20: 9 | D20: VL-H15Z1N1000021 | E20: 82619038 | F20: SIDE PANEL W/O WINDOW RH LOW ROOF | G20: SAS Support | H20: =SUBTOTAL(9,L20:AK20) -> 20 | M20: =SUMIF(ORDER!$B:$B,'Rev08'!$E:$E,ORDER!I:I) -> 0 | N20: =SUMIF(ORDER!$B:$B,'Rev08'!$E:$E,ORDER!J:J) -> 0 | O20: =SUMIF(ORDER!$B:$B,'Rev08'!$E:$E,ORDER!K:K) -> 20 | P20: =SUMIF(ORDER!$B:$B,'Rev08'!$E:$E,ORDER!L:L) -> 0 | Q20: =SUMIF(ORDER!$B:$B,'Rev08'!$E:$E,ORDER!M:M) -> 0 | R20: =SUMIF(ORDER!$B:$B,'Rev08'!$E:$E,ORDER!N:N) -> 0 | S20: =SUMIF(ORDER!$B:$B,'Rev08'!$E:$E,ORDER!O:O) -> 0 | T20: =SUMIF(ORDER!$B:$B,'Rev08'!$E:$E,ORDER!P:P) -> 0 | U20: =SUMIF(ORDER!$B:$B,'Rev08'!$E:$E,ORDER!Q:Q) -> 0 | V20: =SUMIF(ORDER!$B:$B,'Rev08'!$E:$E,ORDER!R:R) -> 0 | W20: =SUMIF(ORDER!$B:$B,'Rev08'!$E:$E,ORDER!S:S) -> 0 | X20: =SUMIF(ORDER!$B:$B,'Rev08'!$E:$E,ORDER!T:T) -> 0
A21: 82619038 | B21: 3 | C21: 9 | D21: VL-H15Z1N1000021 | E21: 82619038 | F21: SIDE PANEL W/O WINDOW RH LOW ROOF | G21: ผลิต FG | H21: =SUBTOTAL(9,L21:AK21) -> 20 | M21: 20
A22: 82619038 | B22: 4 | C22: 9 | D22: VL-H15Z1N1000021 | E22: 82619038 | F22: SIDE PANEL W/O WINDOW RH LOW ROOF | G22: ผลิตFORM | M22: 65 | O22: 45 | Q22: 70 | R22: 50
A23: 82619038 | B23: 5 | C23: 9 | D23: VL-H15Z1N1000021 | E23: 82619038 | F23: SIDE PANEL W/O WINDOW RH LOW ROOF | G23: STCOK FORM | I23: =H23+I22-I21 -> 0 | J23: =I23+J22-J21 -> 0 | K23: =J23+K22-K21 -> 0 | L23: =K23+L22-L21 -> 0 | M23: =L23+M22-M21 -> 45 | N23: =M23+N22-N21 -> 45 | O23: =N23+O22-O21 -> 90 | P23: =O23+P22-P21 -> 90 | ... AK23: =AJ23+AK22-AK21 -> 210
A24: 82619038 | B24: 6 | C24: 9 | D24: VL-H15Z1N1000021 | E24: 82619038 | F24: SIDE PANEL W/O WINDOW RH LOW ROOF | G24: STCOK FG | I24: =H24+I21-I20 -> 0 | J24: =I24+J21-J20 -> 0 | K24: =J24+K21-K20 -> 0 | L24: =K24+L21-L20 -> 0 | M24: =L24+M21-M20 -> 20 | N24: =M24+N21-N20 -> 20 | O24: =N24+O21-O20 -> 0 | P24: =O24+P21-P20 -> 0 | ... AK24: =AJ24+AK21-AK20 -> 0

Sheet ORDER
B1: week 3 | C1: แผนส่งที่ลูกค้าเรียก | I1: week 3 ที่ลูกค้าให้ได้
B2: PART NO. | C2: 44788 | D2: 44789 | E2: 44790 | F2: 18/78/2022 | G2: 44792 | H2: Total | I2: 44788 | J2: 44789 | K2: 44790 | L2: 44791 | M2: 44792 | N2: 20 | O2: 21 | P2: 44795 | Q2: 44796 | R2: 44797 | S2: 44798 | T2: 44799 | U2: Total
B3: 22048029 | C3: 96 | D3: 12 | E3: 36 | H3: 144 | I3: 36 | J3: 24 | K3: 36 | L3: 18 | M3: 30 | P3: 18 | Q3: 18 | R3: 12 | S3: 24 | T3: 18 | U3: 234
B4: 23855626 | C4: 80 | D4: 60 | E4: 20 | H4: 160 | I4: 80 | J4: 40 | L4: 20 | M4: 20 | Q4: 80 | S4: 20 | U4: 260
B5: 23992748 | D5: 54 | E5: 9 | H5: 63 | J5: 15 | K5: 30 | M5: 15 | U5: 60
B6: 23992750 | C6: 30 | D6: 15 | E6: 15 | H6: 60 | I6: 30 | K6: 15 | L6: 15 | U6: 60
B7: 82407675 | C7: 60 | D7: 60 | E7: 45 | H7: 165 | I7: 60 | J7: 60 | K7: 45 | U7: 165
B8: 82407683 | C8: 90 | D8: 105 | E8: 15 | H8: 210 | I8: 90 | J8: 30 | K8: 30 | L8: 30 | M8: 30 | P8: 30 | R8: 30 | S8: 30 | T8: 30 | U8: 330
B9: 82619040 | C9: 40 | D9: 40 | E9: 80 | H9: 160 | I9: 40 | J9: 20 | K9: 20 | L9: 40 | M9: 40 | P9: 20 | Q9: 20 | U9: 200
B10: 82619038 | K10: 20
B11: Grand Total | C11: 396 | D11: 706 | E11: 628 | H11: 962 | I11: 336 | J11: 189 | K11: 176 | L11: 123 | M11: 135 | P11: 68 | Q11: 118 | R11: 42 | S11: 74 | T11: 48 | U11: 1309
B13: 82619038
