Workbook
Name grad: #REF!
Name grad: #REF!

Sheet ผลการเรียน
A1: ผลการประเมินการและการตัดสินผลการเรียน
A2: วิชา | C2: =[1]ข้อมูลทั่วไป!$C$25 -> ภาษาไทย | H2: รหัส | J2: =[1]ข้อมูลทั่วไป!$C$68 -> ท | K2: =[1]ข้อมูลทั่วไป!$D$68 -> 21101 | Q2: ภาคเรียนที่ | U2: =[1]ข้อมูลทั่วไป!$I$10 -> 1 | Y2: ปีการศึกษา | AB2: =[1]ข้อมูลทั่วไป!$H$5 -> 2555
A4: เลขที่ | B4: เลขประจำตัว | C4: ชื่อ - สกุล | K4: สรุปผลการประเมิน | AC4: หมายเหตุ
K5: ระหว่างภาค | Q5: กลางภาค | S5: ปลายภาค | Y5: รวม | AA5: ระดับผลการเรียน
K6: 1 | M6: 2 | O6: รวม | Q6: รวม | S6: 1 | U6: 2 | W6: รวม
O7: =SUM(K7:N7) -> 0 | W7: =SUM(S7:V7) -> 0 | Y7: =O7+Q7+W7 -> 0
A8: 1 | B8: =[1]นักเรียน!B5 -> 1258 | C8: =[1]นักเรียน!C5 -> เด็กชายเลอศักดิ์ สรวงษ์ | O8: =SUM(K8:N8) -> 0 | W8: =SUM(S8:V8) -> 0 | Y8: =O8+Q8+W8 -> 0 | AA8: =IF(C8=0,"",IF(S8&U8="","ร",VLOOKUP(Y8,$AL$15:$AR$22,5))) -> ร
A9: 2 | B9: =[1]นักเรียน!B6 -> 1259 | C9: =[1]นักเรียน!C6 -> เด็กชายสุพัฒน์ แพงแสน | K9: 42 | O9: =SUM(K9:N9) -> 42 | S9: 36 | W9: =SUM(S9:V9) -> 36 | Y9: =O9+Q9+W9 -> 78 | AA9: =IF(C9=0,"",IF(S9&U9="","ร",VLOOKUP(Y9,$AL$15:$AR$22,5))) -> 3.5 | AJ9: กลับเมนูหลัก
A10: 3 | B10: =[1]นักเรียน!B7 -> 1261 | C10: =[1]นักเรียน!C7 -> เด็กชายจตุพงศ์ พรหมจารี | K10: 45 | O10: =SUM(K10:N10) -> 45 | S10: 32 | W10: =SUM(S10:V10) -> 32 | Y10: =O10+Q10+W10 -> 77 | AA10: =IF(C10=0,"",IF(S10&U10="","ร",VLOOKUP(Y10,$AL$15:$AR$22,5))) -> 3.5
A11: 4 | B11: =[1]นักเรียน!B8 -> 1268 | C11: =[1]นักเรียน!C8 -> เด็กชายณภัทร ทำนา | K11: 47 | O11: =SUM(K11:N11) -> 47 | S11: 32 | W11: =SUM(S11:V11) -> 32 | Y11: =O11+Q11+W11 -> 79 | AA11: =IF(C11=0,"",IF(S11&U11="","ร",VLOOKUP(Y11,$AL$15:$AR$22,5))) -> 3.5
A12: 5 | B12: =[1]นักเรียน!B9 -> 1269 | C12: =[1]นักเรียน!C9 -> เด็กชายเกรียงศักดิ์ ฤทธิ์จันทึก | K12: 40 | O12: =SUM(K12:N12) -> 40 | S12: 45 | W12: =SUM(S12:V12) -> 45 | Y12: =O12+Q12+W12 -> 85 | AA12: =IF(C12=0,"",IF(S12&U12="","ร",VLOOKUP(Y12,$AL$15:$AR$22,5))) -> 4 | AJ12: เกณฑ์การประเมินผล
A13: 6 | B13: =[1]นักเรียน!B10 -> 1271 | C13: =[1]นักเรียน!C10 -> เด็กชายเทิดศักดิ์ ธูปเพ็ง | K13: 39 | O13: =SUM(K13:N13) -> 39 | S13: 46 | W13: =SUM(S13:V13) -> 46 | Y13: =O13+Q13+W13 -> 85 | AA13: =IF(C13=0,"",IF(S13&U13="","ร",VLOOKUP(Y13,$AL$15:$AR$22,5))) -> 4
A14: 7 | B14: =[1]นักเรียน!B11 -> 1273 | C14: =[1]นักเรียน!C11 -> เด็กชายจิรวัฒน์ เงินพัน | K14: 36 | O14: =SUM(K14:N14) -> 36 | S14: 36 | W14: =SUM(S14:V14) -> 36 | Y14: =O14+Q14+W14 -> 72 | AA14: =IF(C14=0,"",IF(S14&U14="","ร",VLOOKUP(Y14,$AL$15:$AR$22,5))) -> 3 | AH14: ช่วงคะแนน | AL14: คะแนนต่ำสุด | AP14: เกรด
A15: 8 | B15: =[1]นักเรียน!B12 -> 1482 | C15: =[1]นักเรียน!C12 -> เด็กชายเกียรติศักดิ์ โมกศิริ | K15: 38 | O15: =SUM(K15:N15) -> 38 | S15: 30 | W15: =SUM(S15:V15) -> 30 | Y15: =O15+Q15+W15 -> 68 | AA15: =IF(C15=0,"",IF(S15&U15="","ร",VLOOKUP(Y15,$AL$15:$AR$22,5))) -> 2.5 | AH15: 0 - 49 | AL15: 0 | AP15: 0
A16: 9 | B16: =[1]นักเรียน!B13 -> 1579 | C16: =[1]นักเรียน!C13 -> เด็กชายย้ายมาใหม่ ดิสา | K16: 44 | O16: =SUM(K16:N16) -> 44 | W16: =SUM(S16:V16) -> 0 | Y16: =O16+Q16+W16 -> 44 | AA16: =IF(C16=0,"",IF(S16&U16="","ร",VLOOKUP(Y16,$AL$15:$AR$22,5))) -> ร | AH16: 50 - 54 | AL16: 50 | AP16: 1
A17: 10 | B17: =[1]นักเรียน!B14 -> 1260 | C17: =[1]นักเรียน!C14 -> เด็กหญิงทรงอักษร แสงสัตรา | K17: 44 | O17: =SUM(K17:N17) -> 44 | S17: 32 | W17: =SUM(S17:V17) -> 32 | Y17: =O17+Q17+W17 -> 76 | AA17: =IF(C17=0,"",IF(S17&U17="","ร",VLOOKUP(Y17,$AL$15:$AR$22,5))) -> 3.5 | AH17: 55 - 59 | AL17: 55 | AP17: 1.5
A18: 11 | B18: =[1]นักเรียน!B15 -> 1275 | C18: =[1]นักเรียน!C15 -> เด็กหญิงโสมสว่าง พะนอ | K18: 42 | O18: =SUM(K18:N18) -> 42 | W18: =SUM(S18:V18) -> 0 | Y18: =O18+Q18+W18 -> 42 | AA18: =IF(C18=0,"",IF(S18&U18="","ร",VLOOKUP(Y18,$AL$15:$AR$22,5))) -> ร | AH18: 60 - 64 | AL18: 60 | AP18: 2
A19: 12 | B19: =[1]นักเรียน!B16 -> 1278 | C19: =[1]นักเรียน!C16 -> เด็กหญิงอุมารินทร์ จันธิชัย | K19: 40 | O19: =SUM(K19:N19) -> 40 | S19: 40 | W19: =SUM(S19:V19) -> 40 | Y19: =O19+Q19+W19 -> 80 | AA19: =IF(C19=0,"",IF(S19&U19="","ร",VLOOKUP(Y19,$AL$15:$AR$22,5))) -> 4 | AH19: 65 - 69 | AL19: 65 | AP19: 2.5
A20: 13 | B20: =[1]นักเรียน!B17 -> 1280 | C20: =[1]นักเรียน!C17 -> เด็กหญิงอุลัยรัตร์ ศรีจีน | K20: 36 | O20: =SUM(K20:N20) -> 36 | S20: 45 | W20: =SUM(S20:V20) -> 45 | Y20: =O20+Q20+W20 -> 81 | AA20: =IF(C20=0,"",IF(S20&U20="","ร",VLOOKUP(Y20,$AL$15:$AR$22,5))) -> 4 | AH20: 70 - 74 | AL20: 70 | AP20: 3
A21: 14 | B21: =[1]นักเรียน!B18 -> 1287 | C21: =[1]นักเรียน!C18 -> เด็กหญิงธิดารัตน์ ตู้ทอง | K21: 38 | O21: =SUM(K21:N21) -> 38 | S21: 42 | W21: =SUM(S21:V21) -> 42 | Y21: =O21+Q21+W21 -> 80 | AA21: =IF(C21=0,"",IF(S21&U21="","ร",VLOOKUP(Y21,$AL$15:$AR$22,5))) -> 4 | AH21: 75 - 79 | AL21: 75 | AP21: 3.5
A22: 15 | B22: =[1]นักเรียน!B19 -> 1423 | C22: =[1]นักเรียน!C19 -> เด็กหญิงอทิตยา โมลา | K22: 44 | O22: =SUM(K22:N22) -> 44 | S22: 30 | W22: =SUM(S22:V22) -> 30 | Y22: =O22+Q22+W22 -> 74 | AA22: =IF(C22=0,"",IF(S22&U22="","ร",VLOOKUP(Y22,$AL$15:$AR$22,5))) -> 3 | AH22: 80 ขึ้นไป | AL22: 80 | AP22: 4
A23: 16 | B23: =[1]นักเรียน!B20 -> 1481 | C23: =[1]นักเรียน!C20 -> เด็กหญิงวิไลรัตน์ เอสันเทียะ | K23: 42 | O23: =SUM(K23:N23) -> 42 | S23: 32 | W23: =SUM(S23:V23) -> 32 | Y23: =O23+Q23+W23 -> 74 | AA23: =IF(C23=0,"",IF(S23&U23="","ร",VLOOKUP(Y23,$AL$15:$AR$22,5))) -> 3
A24: 17 | B24: =[1]นักเรียน!B21 -> 1485 | C24: =[1]นักเรียน!C21 -> เด็กหญิงเจนจิรา ง่วงกลางดอน | K24: 41 | O24: =SUM(K24:N24) -> 41 | S24: 35 | W24: =SUM(S24:V24) -> 35 | Y24: =O24+Q24+W24 -> 76 | AA24: =IF(C24=0,"",IF(S24&U24="","ร",VLOOKUP(Y24,$AL$15:$AR$22,5))) -> 3.5
A25: 18 | B25: =[1]นักเรียน!B22 -> 0 | C25: =[1]นักเรียน!C22 -> 0 | O25: =SUM(K25:N25) -> 0 | W25: =SUM(S25:V25) -> 0 | Y25: =O25+Q25+W25 -> 0 | AA25: =IF(C25=0,"",IF(S25&U25="","ร",VLOOKUP(Y25,$AL$15:$AR$22,5)))
A26: 19 | B26: =[1]นักเรียน!B23 -> 0 | C26: =[1]นักเรียน!C23 -> 0 | O26: =SUM(K26:N26) -> 0 | W26: =SUM(S26:V26) -> 0 | Y26: =O26+Q26+W26 -> 0 | AA26: =IF(C26=0,"",IF(S26&U26="","ร",VLOOKUP(Y26,$AL$15:$AR$22,5)))
A27: 20 | B27: =[1]นักเรียน!B24 -> 0 | C27: =[1]นักเรียน!C24 -> 0 | O27: =SUM(K27:N27) -> 0 | W27: =SUM(S27:V27) -> 0 | Y27: =O27+Q27+W27 -> 0 | AA27: =IF(C27=0,"",IF(S27&U27="","ร",VLOOKUP(Y27,$AL$15:$AR$22,5)))
A28: 21 | B28: =[1]นักเรียน!B25 -> 0 | C28: =[1]นักเรียน!C25 -> 0 | O28: =SUM(K28:N28) -> 0 | W28: =SUM(S28:V28) -> 0 | Y28: =O28+Q28+W28 -> 0 | AA28: =IF(C28=0,"",IF(S28&U28="","ร",VLOOKUP(Y28,$AL$15:$AR$22,5)))
A29: 22 | B29: =[1]นักเรียน!B26 -> 0 | C29: =[1]นักเรียน!C26 -> 0 | O29: =SUM(K29:N29) -> 0 | W29: =SUM(S29:V29) -> 0 | Y29: =O29+Q29+W29 -> 0 | AA29: =IF(C29=0,"",IF(S29&U29="","ร",VLOOKUP(Y29,$AL$15:$AR$22,5)))
A30: 23 | B30: =[1]นักเรียน!B27 -> 0 | C30: =[1]นักเรียน!C27 -> 0 | O30: =SUM(K30:N30) -> 0 | W30: =SUM(S30:V30) -> 0 | Y30: =O30+Q30+W30 -> 0 | AA30: =IF(C30=0,"",IF(S30&U30="","ร",VLOOKUP(Y30,$AL$15:$AR$22,5)))
A31: 24 | B31: =[1]นักเรียน!B28 -> 0 | C31: =[1]นักเรียน!C28 -> 0 | O31: =SUM(K31:N31) -> 0 | W31: =SUM(S31:V31) -> 0 | Y31: =O31+Q31+W31 -> 0 | AA31: =IF(C31=0,"",IF(S31&U31="","ร",VLOOKUP(Y31,$AL$15:$AR$22,5)))
A32: 25 | B32: =[1]นักเรียน!B29 -> 0 | C32: =[1]นักเรียน!C29 -> 0 | O32: =SUM(K32:N32) -> 0 | W32: =SUM(S32:V32) -> 0 | Y32: =O32+Q32+W32 -> 0 | AA32: =IF(C32=0,"",IF(S32&U32="","ร",VLOOKUP(Y32,$AL$15:$AR$22,5)))
A33: 26 | B33: =[1]นักเรียน!B30 -> 0 | C33: =[1]นักเรียน!C30 -> 0 | O33: =SUM(K33:N33) -> 0 | W33: =SUM(S33:V33) -> 0 | Y33: =O33+Q33+W33 -> 0 | AA33: =IF(C33=0,"",IF(S33&U33="","ร",VLOOKUP(Y33,$AL$15:$AR$22,5)))
A34: 27 | B34: =[1]นักเรียน!B31 -> 0 | C34: =[1]นักเรียน!C31 -> 0 | O34: =SUM(K34:N34) -> 0 | W34: =SUM(S34:V34) -> 0 | Y34: =O34+Q34+W34 -> 0 | AA34: =IF(C34=0,"",IF(S34&U34="","ร",VLOOKUP(Y34,$AL$15:$AR$22,5)))
A35: 28 | B35: =[1]นักเรียน!B32 -> 0 | C35: =[1]นักเรียน!C32 -> 0 | O35: =SUM(K35:N35) -> 0 | W35: =SUM(S35:V35) -> 0 | Y35: =O35+Q35+W35 -> 0 | AA35: =IF(C35=0,"",IF(S35&U35="","ร",VLOOKUP(Y35,$AL$15:$AR$22,5)))
A36: 29 | B36: =[1]นักเรียน!B33 -> 0 | C36: =[1]นักเรียน!C33 -> 0 | O36: =SUM(K36:N36) -> 0 | W36: =SUM(S36:V36) -> 0 | Y36: =O36+Q36+W36 -> 0 | AA36: =IF(C36=0,"",IF(S36&U36="","ร",VLOOKUP(Y36,$AL$15:$AR$22,5)))
... A52: 45 | B52: =[1]นักเรียน!B49 -> 0 | C52: =[1]นักเรียน!C49 -> 0 | O52: =SUM(K52:N52) -> 0 | W52: =SUM(S52:V52) -> 0 | Y52: =O52+Q52+W52 -> 0 | AA52: =IF(C52=0,"",IF(S52&U52="","ร",VLOOKUP(Y52,$AL$15:$AR$22,5)))
