Workbook

Sheet Sheet2
A1: www.inwexcel.com | D1: รวมวันหยุดและสำคัญของประเทศไทย | E1: อย่าลืมดูวิธีการใช้งานเพื่อใช้ร่วมกับฟังก์ชั่น NETWORKDAYS ได้ในเว็บนะครับ
A2: ปี คศ. | B2: วันที่ | C2: วัน | D2: รายละเอียดเหตุการณ์ | E2: ธนาคาร | F2: ราชการ | G2: ไม่ใช่วันหยุด | H2: เฉพาะพื้นที่
A3: =YEAR(B3) -> 2006 | B3: 38718 | C3: =INDEX(Sheet3!$A$1:$A$7,WEEKDAY(B3)) -> อาทิตย์ | D3: วันขึ้นปีใหม่ (New Year's Days) | E3: เสาร์-อาทิตย์ | F3: เสาร์-อาทิตย์ | G3: =IF(AND(E3="",F3=""),"Y","")
A4: =YEAR(B4) -> 2006 | B4: 38719 | C4: =INDEX(Sheet3!$A$1:$A$7,WEEKDAY(B4)) -> จันทร์ | D4: ชดเชยวันขึ้นปีใหม่ (New Year's Days) | E4: วันหยุด | F4: วันหยุด | G4: =IF(AND(E4="",F4=""),"Y","")
A5: =YEAR(B5) -> 2006 | B5: 38731 | C5: =INDEX(Sheet3!$A$1:$A$7,WEEKDAY(B5)) -> เสาร์ | D5: วันเด็กแห่งชาติ (Children Day) | E5: เสาร์-อาทิตย์ | F5: เสาร์-อาทิตย์ | G5: =IF(AND(E5="",F5=""),"Y","")
A6: =YEAR(B6) -> 2006 | B6: 38733 | C6: =INDEX(Sheet3!$A$1:$A$7,WEEKDAY(B6)) -> จันทร์ | D6: วันครู (Teacher Day) | G6: =IF(AND(E6="",F6=""),"Y","") -> Y
A7: =YEAR(B7) -> 2006 | B7: 38735 | C7: =INDEX(Sheet3!$A$1:$A$7,WEEKDAY(B7)) -> พุธ | D7: วันยุทธหัตถี | G7: =IF(AND(E7="",F7=""),"Y","") -> Y
A8: =YEAR(B8) -> 2006 | B8: 38746 | C8: =INDEX(Sheet3!$A$1:$A$7,WEEKDAY(B8)) -> อาทิตย์ | D8: วันตรุษจีน (Chinese New Year's Day) | E8: เสาร์-อาทิตย์ | F8: เสาร์-อาทิตย์ | G8: =IF(AND(E8="",F8=""),"Y","")
A9: =YEAR(B9) -> 2006 | B9: 38761 | C9: =INDEX(Sheet3!$A$1:$A$7,WEEKDAY(B9)) -> จันทร์ | D9: วันมาฆบูชา (Makha Bucha Day) | E9: วันหยุด | F9: วันหยุด | G9: =IF(AND(E9="",F9=""),"Y","")
A10: =YEAR(B10) -> 2006 | B10: 38762 | C10: =INDEX(Sheet3!$A$1:$A$7,WEEKDAY(B10)) -> อังคาร | D10: วันแห่งความรัก (Valentine's Day) | G10: =IF(AND(E10="",F10=""),"Y","") -> Y
A11: =YEAR(B11) -> 2006 | B11: 38813 | C11: =INDEX(Sheet3!$A$1:$A$7,WEEKDAY(B11)) -> พฤหัสบดี | D11: วันจักรี (Chakri Memorial Day) | E11: วันหยุด | F11: วันหยุด | G11: =IF(AND(E11="",F11=""),"Y","")
A12: =YEAR(B12) -> 2006 | B12: 38820 | C12: =INDEX(Sheet3!$A$1:$A$7,WEEKDAY(B12)) -> พฤหัสบดี | D12: วันสงกรานต์ (Songkran Festival Day) | E12: วันหยุด | F12: วันหยุด | G12: =IF(AND(E12="",F12=""),"Y","")
A13: =YEAR(B13) -> 2006 | B13: 38821 | C13: =INDEX(Sheet3!$A$1:$A$7,WEEKDAY(B13)) -> ศุกร์ | D13: วันสงกรานต์ (Songkran Festival Day) | E13: วันหยุด | F13: วันหยุด | G13: =IF(AND(E13="",F13=""),"Y","")
A14: =YEAR(B14) -> 2006 | B14: 38822 | C14: =INDEX(Sheet3!$A$1:$A$7,WEEKDAY(B14)) -> เสาร์ | D14: วันสงกรานต์ (Songkran Festival Day) | E14: เสาร์-อาทิตย์ | F14: เสาร์-อาทิตย์ | G14: =IF(AND(E14="",F14=""),"Y","")
A15: =YEAR(B15) -> 2006 | B15: 38826 | C15: =INDEX(Sheet3!$A$1:$A$7,WEEKDAY(B15)) -> พุธ | D15: วันหยุดพิเศษ เนื่องจาก เลือกตั้ง ส.ว. | E15: วันหยุด | F15: วันหยุด | G15: =IF(AND(E15="",F15=""),"Y","")
A16: =YEAR(B16) -> 2006 | B16: 38832 | C16: =INDEX(Sheet3!$A$1:$A$7,WEEKDAY(B16)) -> อังคาร | D16: วันคล้ายวันสวรรคตของสมเด็จพระนเรศวร | G16: =IF(AND(E16="",F16=""),"Y","") -> Y
A17: =YEAR(B17) -> 2006 | B17: 38838 | C17: =INDEX(Sheet3!$A$1:$A$7,WEEKDAY(B17)) -> จันทร์ | D17: วันแรงงานแห่งชาติ (National Labour Day) | E17: วันหยุด | G17: =IF(AND(E17="",F17=""),"Y","")
A18: =YEAR(B18) -> 2006 | B18: 38842 | C18: =INDEX(Sheet3!$A$1:$A$7,WEEKDAY(B18)) -> ศุกร์ | D18: วันฉัตรมงคล (Coronation Day) | E18: วันหยุด | F18: วันหยุด | G18: =IF(AND(E18="",F18=""),"Y","")
A19: =YEAR(B19) -> 2006 | B19: 38848 | C19: =INDEX(Sheet3!$A$1:$A$7,WEEKDAY(B19)) -> พฤหัสบดี | D19: วันพืชงคล (Royal Ploughing Ceremony Day) | F19: วันหยุด | G19: =IF(AND(E19="",F19=""),"Y","")
A20: =YEAR(B20) -> 2006 | B20: 38849 | C20: =INDEX(Sheet3!$A$1:$A$7,WEEKDAY(B20)) -> ศุกร์ | D20: วันวิสาขบูชา (Visakha Bucha Day) | E20: วันหยุด | F20: วันหยุด | G20: =IF(AND(E20="",F20=""),"Y","")
A21: =YEAR(B21) -> 2006 | B21: 38877 | C21: =INDEX(Sheet3!$A$1:$A$7,WEEKDAY(B21)) -> ศุกร์ | D21: วันหยุดพิเศษ เนื่องจาก ฉลองศิริราชสมบัติครบ 60 ปี (The Sixtieth Anniversary Celebrations of His Majesty's Accession to The Throne) | E21: วันหยุด | F21: วันหยุด | G21: =IF(AND(E21="",F21=""),"Y","") | H21: กรุงเทพ+ปริมณฑล
A22: =YEAR(B22) -> 2006 | B22: 38880 | C22: =INDEX(Sheet3!$A$1:$A$7,WEEKDAY(B22)) -> จันทร์ | D22: วันหยุดพิเศษ เนื่องจาก ฉลองศิริราชสมบัติครบ 60 ปี (The Sixtieth Anniversary Celebrations of His Majesty's Accession to The Throne) | E22: วันหยุด | F22: วันหยุด | G22: =IF(AND(E22="",F22=""),"Y","") | H22: กรุงเทพ+ปริมณฑล
A23: =YEAR(B23) -> 2006 | B23: 38881 | C23: =INDEX(Sheet3!$A$1:$A$7,WEEKDAY(B23)) -> อังคาร | D23: วันหยุดพิเศษ เนื่องจาก ฉลองศิริราชสมบัติครบ 60 ปี (The Sixtieth Anniversary Celebrations of His Majesty's Accession to The Throne) | E23: วันหยุด | F23: วันหยุด | G23: =IF(AND(E23="",F23=""),"Y","") | H23: กรุงเทพ+ปริมณฑล
A24: =YEAR(B24) -> 2006 | B24: 38908 | C24: =INDEX(Sheet3!$A$1:$A$7,WEEKDAY(B24)) -> จันทร์ | D24: วันอาสาฬหบูชา (Asarnha Bucha Day) | F24: วันหยุด | G24: =IF(AND(E24="",F24=""),"Y","")
A25: =YEAR(B25) -> 2006 | B25: 38909 | C25: =INDEX(Sheet3!$A$1:$A$7,WEEKDAY(B25)) -> อังคาร | D25: วันเข้าพรรษา (Buddhist Lent Day) | E25: วันหยุด | F25: วันหยุด | G25: =IF(AND(E25="",F25=""),"Y","")
A26: =YEAR(B26) -> 2006 | B26: 38937 | C26: =INDEX(Sheet3!$A$1:$A$7,WEEKDAY(B26)) -> อังคาร | D26: วันสารทจีน (Sart Chin Day) | G26: =IF(AND(E26="",F26=""),"Y","") -> Y
A27: =YEAR(B27) -> 2006 | B27: 38941 | C27: =INDEX(Sheet3!$A$1:$A$7,WEEKDAY(B27)) -> เสาร์ | D27: วันแม่ (H.M. The Queen's BirthDay) | E27: เสาร์-อาทิตย์ | F27: เสาร์-อาทิตย์ | G27: =IF(AND(E27="",F27=""),"Y","")
A28: =YEAR(B28) -> 2006 | B28: 38943 | C28: =INDEX(Sheet3!$A$1:$A$7,WEEKDAY(B28)) -> จันทร์ | D28: ชดเชยวันแม่ (H.M. The Queen's BirthDay) | E28: วันหยุด | F28: วันหยุด | G28: =IF(AND(E28="",F28=""),"Y","")
A29: =YEAR(B29) -> 2006 | B29: 38980 | C29: =INDEX(Sheet3!$A$1:$A$7,WEEKDAY(B29)) -> พุธ | D29: ปฏิรูปการปกครองในระบอบประชาธิปไตย นำโดย พล.อ.สนธิ บุณยรัตกลิน | E29: วันหยุด | F29: วันหยุด | G29: =IF(AND(E29="",F29=""),"Y","")
A30: =YEAR(B30) -> 2006 | B30: 38997 | C30: =INDEX(Sheet3!$A$1:$A$7,WEEKDAY(B30)) -> เสาร์ | D30: วันออกพรรษา (End of Buddhist Lent Day) | E30: เสาร์-อาทิตย์ | F30: เสาร์-อาทิตย์ | G30: =IF(AND(E30="",F30=""),"Y","")
A31: =YEAR(B31) -> 2006 | B31: 39013 | C31: =INDEX(Sheet3!$A$1:$A$7,WEEKDAY(B31)) -> จันทร์ | D31: วันปิยมหาราช (Chulalongkorn Memorial Day) | E31: วันหยุด | F31: วันหยุด | G31: =IF(AND(E31="",F31=""),"Y","")
A32: =YEAR(B32) -> 2006 | B32: 39026 | C32: =INDEX(Sheet3!$A$1:$A$7,WEEKDAY(B32)) -> อาทิตย์ | D32: วันลอยกระทง (Loykatong Day) | E32: เสาร์-อาทิตย์ | F32: เสาร์-อาทิตย์ | G32: =IF(AND(E32="",F32=""),"Y","")
A33: =YEAR(B33) -> 2006 | B33: 39056 | C33: =INDEX(Sheet3!$A$1:$A$7,WEEKDAY(B33)) -> อังคาร | D33: วันพ่อ (H.M. The King's BirthDay) | E33: วันหยุด | F33: วันหยุด | G33: =IF(AND(E33="",F33=""),"Y","")
A34: =YEAR(B34) -> 2006 | B34: 39061 | C34: =INDEX(Sheet3!$A$1:$A$7,WEEKDAY(B34)) -> อาทิตย์ | D34: วันพระราชทานรัฐธรรมนูญ (Constitution Day) | E34: เสาร์-อาทิตย์ | F34: เสาร์-อาทิตย์ | G34: =IF(AND(E34="",F34=""),"Y","")
A35: =YEAR(B35) -> 2006 | B35: 39062 | C35: =INDEX(Sheet3!$A$1:$A$7,WEEKDAY(B35)) -> จันทร์ | D35: ชดเชยวันพระราชทานรัฐธรรมนูญ (Constitution Day) | E35: วันหยุด | F35: วันหยุด | G35: =IF(AND(E35="",F35=""),"Y","")
A36: =YEAR(B36) -> 2006 | B36: 39082 | C36: =INDEX(Sheet3!$A$1:$A$7,WEEKDAY(B36)) -> อาทิตย์ | D36: วันสิ้นปี (New Year's Eve) | E36: เสาร์-อาทิตย์ | F36: เสาร์-อาทิตย์ | G36: =IF(AND(E36="",F36=""),"Y","")
A37: =YEAR(B37) -> 2007 | B37: 39083 | C37: =INDEX(Sheet3!$A$1:$A$7,WEEKDAY(B37)) -> จันทร์ | D37: วันขึ้นปีใหม่ (New Year's Days) | E37: วันหยุด | F37: วันหยุด | G37: =IF(AND(E37="",F37=""),"Y","")
A38: =YEAR(B38) -> 2007 | B38: 39084 | C38: =INDEX(Sheet3!$A$1:$A$7,WEEKDAY(B38)) -> อังคาร | D38: ชดเชยวันสิ้นปี (New Year's Eve) | E38: วันหยุด | F38: วันหยุด | G38: =IF(AND(E38="",F38=""),"Y","")
A39: =YEAR(B39) -> 2007 | B39: 39095 | C39: =INDEX(Sheet3!$A$1:$A$7,WEEKDAY(B39)) -> เสาร์ | D39: วันเด็กแห่งชาติ (Children Day) | E39: เสาร์-อาทิตย์ | F39: เสาร์-อาทิตย์ | G39: =IF(AND(E39="",F39=""),"Y","")
A40: =YEAR(B40) -> 2007 | B40: 39098 | C40: =INDEX(Sheet3!$A$1:$A$7,WEEKDAY(B40)) -> อังคาร | D40: วันครู (Teacher Day) | G40: =IF(AND(E40="",F40=""),"Y","") -> Y
A41: =YEAR(B41) -> 2007 | B41: 39100 | C41: =INDEX(Sheet3!$A$1:$A$7,WEEKDAY(B41)) -> พฤหัสบดี | D41: วันยุทธหัตถี | G41: =IF(AND(E41="",F41=""),"Y","") -> Y
A42: =YEAR(B42) -> 2007 | B42: 39131 | C42: =INDEX(Sheet3!$A$1:$A$7,WEEKDAY(B42)) -> อาทิตย์ | D42: วันตรุษจีน (Chinese New Year's Day) | E42: เสาร์-อาทิตย์ | F42: เสาร์-อาทิตย์ | G42: =IF(AND(E42="",F42=""),"Y","")
A43: =YEAR(B43) -> 2007 | B43: 39144 | C43: =INDEX(Sheet3!$A$1:$A$7,WEEKDAY(B43)) -> เสาร์ | D43: วันมาฆบูชา (Makha Bucha Day) | E43: เสาร์-อาทิตย์ | F43: เสาร์-อาทิตย์ | G43: =IF(AND(E43="",F43=""),"Y","")
A44: =YEAR(B44) -> 2007 | B44: 39146 | C44: =INDEX(Sheet3!$A$1:$A$7,WEEKDAY(B44)) -> จันทร์ | D44: ชดเชยวันมาฆบูชา (Makha Bucha Day) | E44: วันหยุด | F44: วันหยุด | G44: =IF(AND(E44="",F44=""),"Y","")
A45: =YEAR(B45) -> 2007 | B45: 39127 | C45: =INDEX(Sheet3!$A$1:$A$7,WEEKDAY(B45)) -> พุธ | D45: วันแห่งความรัก (Valentine's Day) | G45: =IF(AND(E45="",F45=""),"Y","") -> Y
A46: =YEAR(B46) -> 2007 | B46: 39178 | C46: =INDEX(Sheet3!$A$1:$A$7,WEEKDAY(B46)) -> ศุกร์ | D46: วันจักรี (Chakri Memorial Day) | E46: วันหยุด | F46: วันหยุด | G46: =IF(AND(E46="",F46=""),"Y","")
A47: =YEAR(B47) -> 2007 | B47: 39185 | C47: =INDEX(Sheet3!$A$1:$A$7,WEEKDAY(B47)) -> ศุกร์ | D47: วันสงกรานต์ (Songkran Festival Day) | E47: วันหยุด | F47: วันหยุด | G47: =IF(AND(E47="",F47=""),"Y","")
A48: =YEAR(B48) -> 2007 | B48: 39186 | C48: =INDEX(Sheet3!$A$1:$A$7,WEEKDAY(B48)) -> เสาร์ | D48: วันสงกรานต์ (Songkran Festival Day) | E48: เสาร์-อาทิตย์ | F48: เสาร์-อาทิตย์ | G48: =IF(AND(E48="",F48=""),"Y","")
A49: =YEAR(B49) -> 2007 | B49: 39187 | C49: =INDEX(Sheet3!$A$1:$A$7,WEEKDAY(B49)) -> อาทิตย์ | D49: วันสงกรานต์ (Songkran Festival Day) | E49: เสาร์-อาทิตย์ | F49: เสาร์-อาทิตย์ | G49: =IF(AND(E49="",F49=""),"Y","")
A50: =YEAR(B50) -> 2007 | B50: 39188 | C50: =INDEX(Sheet3!$A$1:$A$7,WEEKDAY(B50)) -> จันทร์ | D50: ชดเชยวันสงกรานต์ (Songkran Festival Day) | E50: วันหยุด | F50: วันหยุด | G50: =IF(AND(E50="",F50=""),"Y","")
A51: =YEAR(B51) -> 2007 | B51: 39189 | C51: =INDEX(Sheet3!$A$1:$A$7,WEEKDAY(B51)) -> อังคาร | D51: ชดเชยวันสงกรานต์ (Songkran Festival Day) | F51: วันหยุด | G51: =IF(AND(E51="",F51=""),"Y","")
A52: =YEAR(B52) -> 2007 | B52: 39197 | C52: =INDEX(Sheet3!$A$1:$A$7,WEEKDAY(B52)) -> พุธ | D52: วันคล้ายวันสวรรคตของสมเด็จพระนเรศวร | G52: =IF(AND(E52="",F52=""),"Y","") -> Y
A53: =YEAR(B53) -> 2007 | B53: 39203 | C53: =INDEX(Sheet3!$A$1:$A$7,WEEKDAY(B53)) -> อังคาร | D53: วันแรงงานแห่งชาติ (National Labour Day) | E53: วันหยุด | G53: =IF(AND(E53="",F53=""),"Y","")
A54: =YEAR(B54) -> 2007 | B54: 39207 | C54: =INDEX(Sheet3!$A$1:$A$7,WEEKDAY(B54)) -> เสาร์ | D54: วันฉัตรมงคล (Coronation Day) | E54: เสาร์-อาทิตย์ | F54: เสาร์-อาทิตย์ | G54: =IF(AND(E54="",F54=""),"Y","")
A55: =YEAR(B55) -> 2007 | B55: 39209 | C55: =INDEX(Sheet3!$A$1:$A$7,WEEKDAY(B55)) -> จันทร์ | D55: ชดเชยวันฉัตรมงคล (Coronation Day) | E55: วันหยุด | F55: วันหยุด | G55: =IF(AND(E55="",F55=""),"Y","")
A56: =YEAR(B56) -> 2007 | B56: 39212 | C56: =INDEX(Sheet3!$A$1:$A$7,WEEKDAY(B56)) -> พฤหัสบดี | D56: วันพืชมงคล (Royal Ploughing Ceremony Day) | F56: วันหยุด | G56: =IF(AND(E56="",F56=""),"Y","")
A57: =YEAR(B57) -> 2007 | B57: 39233 | C57: =INDEX(Sheet3!$A$1:$A$7,WEEKDAY(B57)) -> พฤหัสบดี | D57: วันวิสาขบูชา (Visakha Bucha Day) | E57: วันหยุด | F57: วันหยุด | G57: =IF(AND(E57="",F57=""),"Y","")
A58: =YEAR(B58) -> 2007 | B58: 39264 | C58: =INDEX(Sheet3!$A$1:$A$7,WEEKDAY(B58)) -> อาทิตย์ | D58: วันหยุดภาคครึ่งปี ธนาคาร | E58: เสาร์-อาทิตย์ | F58: เสาร์-อาทิตย์ | G58: =IF(AND(E58="",F58=""),"Y","")
A59: =YEAR(B59) -> 2007 | B59: 39292 | C59: =INDEX(Sheet3!$A$1:$A$7,WEEKDAY(B59)) -> อาทิตย์ | D59: วันอาสาฬหบูชา (Asarnha Bucha Day) | E59: เสาร์-อาทิตย์ | F59: เสาร์-อาทิตย์ | G59: =IF(AND(E59="",F59=""),"Y","")
A60: =YEAR(B60) -> 2007 | B60: 39293 | C60: =INDEX(Sheet3!$A$1:$A$7,WEEKDAY(B60)) -> จันทร์ | D60: วันเข้าพรรษา (Buddhist Lent Day) ธนาคารถือเป็น ชดเชยวันอาสาฬหบูชา (Asarnha Bucha Day) | E60: วันหยุด | F60: วันหยุด | G60: =IF(AND(E60="",F60=""),"Y","")
A61: =YEAR(B61) -> 2007 | B61: 39294 | C61: =INDEX(Sheet3!$A$1:$A$7,WEEKDAY(B61)) -> อังคาร | D61: ชดเชยวันอาสาฬหบูชา (Asarnha Bucha Day) | F61: วันหยุด | G61: =IF(AND(E61="",F61=""),"Y","")
A62: =YEAR(B62) -> 2007 | B62: 39306 | C62: =INDEX(Sheet3!$A$1:$A$7,WEEKDAY(B62)) -> อาทิตย์ | D62: วันแม่ (H.M. The Queen's BirthDay) | E62: เสาร์-อาทิตย์ | F62: เสาร์-อาทิตย์ | G62: =IF(AND(E62="",F62=""),"Y","")
A63: =YEAR(B63) -> 2007 | B63: 39307 | C63: =INDEX(Sheet3!$A$1:$A$7,WEEKDAY(B63)) -> จันทร์ | D63: ชดเชยวันแม่ (H.M. The Queen's BirthDay) | E63: วันหยุด | F63: วันหยุด | G63: =IF(AND(E63="",F63=""),"Y","")
A64: =YEAR(B64) -> 2007 | B64: 39313 | C64: =INDEX(Sheet3!$A$1:$A$7,WEEKDAY(B64)) -> อาทิตย์ | D64: วันลงมติรับร่างรัฐธรรมนูญ ฉบับใหม่ | E64: เสาร์-อาทิตย์ | F64: เสาร์-อาทิตย์ | G64: =IF(AND(E64="",F64=""),"Y","")
A65: =YEAR(B65) -> 2007 | B65: 39314 | C65: =INDEX(Sheet3!$A$1:$A$7,WEEKDAY(B65)) -> จันทร์ | D65: ชดเชย วันลงมติรับร่างรัฐธรรมนูญ ฉบับใหม่ | F65: วันหยุด | G65: =IF(AND(E65="",F65=""),"Y","")
A66: =YEAR(B66) -> 2007 | B66: 39321 | C66: =INDEX(Sheet3!$A$1:$A$7,WEEKDAY(B66)) -> จันทร์ | D66: วันสารทจีน (Sart Chin Day or Ghost Festival or Spirit Festival) | G66: =IF(AND(E66="",F66=""),"Y","") -> Y
A67: =YEAR(B67) -> 2007 | B67: 39381 | C67: =INDEX(Sheet3!$A$1:$A$7,WEEKDAY(B67)) -> ศุกร์ | D67: วันออกพรรษา (End of Buddhist Lent Day) | G67: =IF(AND(E67="",F67=""),"Y","") -> Y
A68: =YEAR(B68) -> 2007 | B68: 39378 | C68: =INDEX(Sheet3!$A$1:$A$7,WEEKDAY(B68)) -> อังคาร | D68: วันปิยมหาราช (Chulalongkorn Memorial Day) | E68: วันหยุด | F68: วันหยุด | G68: =IF(AND(E68="",F68=""),"Y","")
A69: =YEAR(B69) -> 2007 | B69: 39410 | C69: =INDEX(Sheet3!$A$1:$A$7,WEEKDAY(B69)) -> เสาร์ | D69: วันลอยกระทง (Loykatong Day) | E69: เสาร์-อาทิตย์ | F69: เสาร์-อาทิตย์ | G69: =IF(AND(E69="",F69=""),"Y","")
A70: =YEAR(B70) -> 2007 | B70: 39421 | C70: =INDEX(Sheet3!$A$1:$A$7,WEEKDAY(B70)) -> พุธ | D70: วันพ่อ (H.M. The King's BirthDay) | E70: วันหยุด | F70: วันหยุด | G70: =IF(AND(E70="",F70=""),"Y","")
A71: =YEAR(B71) -> 2007 | B71: 39426 | C71: =INDEX(Sheet3!$A$1:$A$7,WEEKDAY(B71)) -> จันทร์ | D71: วันพระราชทานรัฐธรรมนูญ (Constitution Day) | E71: วันหยุด | F71: วันหยุด | G71: =IF(AND(E71="",F71=""),"Y","")
A72: =YEAR(B72) -> 2007 | B72: 39439 | C72: =INDEX(Sheet3!$A$1:$A$7,WEEKDAY(B72)) -> อาทิตย์ | D72: เลือกตั้งสมาชิกสภาผู้แทนราษฎร | E72: เสาร์-อาทิตย์ | F72: เสาร์-อาทิตย์ | G72: =IF(AND(E72="",F72=""),"Y","")
A73: =YEAR(B73) -> 2007 | B73: 39440 | C73: =INDEX(Sheet3!$A$1:$A$7,WEEKDAY(B73)) -> จันทร์ | D73: ประกาศหยุด เลือกตั้งสมาชิกสภาผู้แทนราษฎร | E73: วันหยุด | F73: วันหยุด | G73: =IF(AND(E73="",F73=""),"Y","")
A74: =YEAR(B74) -> 2007 | B74: 39447 | C74: =INDEX(Sheet3!$A$1:$A$7,WEEKDAY(B74)) -> จันทร์ | D74: วันสิ้นปี (New Year's Eve) | E74: วันหยุด | F74: วันหยุด | G74: =IF(AND(E74="",F74=""),"Y","")
A75: =YEAR(B75) -> 2008 | B75: 39448 | C75: =INDEX(Sheet3!$A$1:$A$7,WEEKDAY(B75)) -> อังคาร | D75: วันขึ้นปีใหม่ (New Year's Days) | E75: วันหยุด | F75: วันหยุด | G75: =IF(AND(E75="",F75=""),"Y","")
A76: =YEAR(B76) -> 2008 | B76: 39459 | C76: =INDEX(Sheet3!$A$1:$A$7,WEEKDAY(B76)) -> เสาร์ | D76: วันเด็กแห่งชาติ (Children Day) | E76: เสาร์-อาทิตย์ | F76: เสาร์-อาทิตย์ | G76: =IF(AND(E76="",F76=""),"Y","")
A77: =YEAR(B77) -> 2008 | B77: 39463 | C77: =INDEX(Sheet3!$A$1:$A$7,WEEKDAY(B77)) -> พุธ | D77: วันครู (Teacher Day) | G77: =IF(AND(E77="",F77=""),"Y","") -> Y
A78: =YEAR(B78) -> 2008 | B78: 39465 | C78: =INDEX(Sheet3!$A$1:$A$7,WEEKDAY(B78)) -> ศุกร์ | D78: วันยุทธหัตถี | G78: =IF(AND(E78="",F78=""),"Y","") -> Y
A79: =YEAR(B79) -> 2008 | B79: 39485 | C79: =INDEX(Sheet3!$A$1:$A$7,WEEKDAY(B79)) -> พฤหัสบดี | D79: วันตรุษจีน (Chinese New Year's Day) ? | G79: =IF(AND(E79="",F79=""),"Y","") -> Y
A80: =YEAR(B80) -> 2008 | B80: 39492 | C80: =INDEX(Sheet3!$A$1:$A$7,WEEKDAY(B80)) -> พฤหัสบดี | D80: วันแห่งความรัก (Valentine's Day) | G80: =IF(AND(E80="",F80=""),"Y","") -> Y
A81: =YEAR(B81) -> 2008 | B81: 39499 | C81: =INDEX(Sheet3!$A$1:$A$7,WEEKDAY(B81)) -> พฤหัสบดี | D81: วันมาฆบูชา (Makha Bucha Day) | E81: วันหยุด | F81: วันหยุด | G81: =IF(AND(E81="",F81=""),"Y","")
A82: =YEAR(B82) -> 2008 | B82: 39502 | C82: =INDEX(Sheet3!$A$1:$A$7,WEEKDAY(B82)) -> อาทิตย์ | D82: วันศิลปินแห่งชาติ ? | E82: เสาร์-อาทิตย์ | F82: เสาร์-อาทิตย์ | G82: =IF(AND(E82="",F82=""),"Y","")
A83: =YEAR(B83) -> 2008 | B83: 39509 | C83: =INDEX(Sheet3!$A$1:$A$7,WEEKDAY(B83)) -> อาทิตย์ | D83: เลือกตั้งสมาชิกวุฒิสภา (ส.ว.) ? | E83: เสาร์-อาทิตย์ | F83: เสาร์-อาทิตย์ | G83: =IF(AND(E83="",F83=""),"Y","")
A84: =YEAR(B84) -> 2008 | B84: 39544 | C84: =INDEX(Sheet3!$A$1:$A$7,WEEKDAY(B84)) -> อาทิตย์ | D84: วันจักรี (Chakri Memorial Day) | E84: เสาร์-อาทิตย์ | F84: เสาร์-อาทิตย์ | G84: =IF(AND(E84="",F84=""),"Y","")
A85: =YEAR(B85) -> 2008 | B85: 39545 | C85: =INDEX(Sheet3!$A$1:$A$7,WEEKDAY(B85)) -> จันทร์ | D85: ชดเชย วันจักรี (Chakri Memorial Day) | E85: วันหยุด | F85: วันหยุด | G85: =IF(AND(E85="",F85=""),"Y","")
A86: =YEAR(B86) -> 2008 | B86: 39551 | C86: =INDEX(Sheet3!$A$1:$A$7,WEEKDAY(B86)) -> อาทิตย์ | D86: วันสงกรานต์ (Songkran Festival Day) | E86: เสาร์-อาทิตย์ | F86: เสาร์-อาทิตย์ | G86: =IF(AND(E86="",F86=""),"Y","")
A87: =YEAR(B87) -> 2008 | B87: 39552 | C87: =INDEX(Sheet3!$A$1:$A$7,WEEKDAY(B87)) -> จันทร์ | D87: วันสงกรานต์ (Songkran Festival Day) | E87: วันหยุด | F87: วันหยุด | G87: =IF(AND(E87="",F87=""),"Y","")
A88: =YEAR(B88) -> 2008 | B88: 39553 | C88: =INDEX(Sheet3!$A$1:$A$7,WEEKDAY(B88)) -> อังคาร | D88: วันสงกรานต์ (Songkran Festival Day) | E88: วันหยุด | F88: วันหยุด | G88: =IF(AND(E88="",F88=""),"Y","")
A89: =YEAR(B89) -> 2008 | B89: 39554 | C89: =INDEX(Sheet3!$A$1:$A$7,WEEKDAY(B89)) -> พุธ | D89: ชดเชยวันสงกรานต์ (Songkran Festival Day) | F89: วันหยุด | G89: =IF(AND(E89="",F89=""),"Y","")
A90: =YEAR(B90) -> 2008 | B90: 39563 | C90: =INDEX(Sheet3!$A$1:$A$7,WEEKDAY(B90)) -> ศุกร์ | D90: วันคล้ายวันสวรรคตของสมเด็จพระนเรศวร | G90: =IF(AND(E90="",F90=""),"Y","") -> Y
A91: =YEAR(B91) -> 2008 | B91: 39569 | C91: =INDEX(Sheet3!$A$1:$A$7,WEEKDAY(B91)) -> พฤหัสบดี | D91: วันแรงงานแห่งชาติ (National Labour Day) | E91: วันหยุด | G91: =IF(AND(E91="",F91=""),"Y","")
A92: =YEAR(B92) -> 2008 | B92: 39573 | C92: =INDEX(Sheet3!$A$1:$A$7,WEEKDAY(B92)) -> จันทร์ | D92: วันฉัตรมงคล (Coronation Day) | E92: วันหยุด | F92: วันหยุด | G92: =IF(AND(E92="",F92=""),"Y","")
A93: =YEAR(B93) -> 2008 | B93: 39577 | C93: =INDEX(Sheet3!$A$1:$A$7,WEEKDAY(B93)) -> ศุกร์ | D93: วันพืชมงคล (Royal Ploughing Ceremony Day) | F93: วันหยุด | G93: =IF(AND(E93="",F93=""),"Y","")
A94: =YEAR(B94) -> 2008 | B94: 39587 | C94: =INDEX(Sheet3!$A$1:$A$7,WEEKDAY(B94)) -> จันทร์ | D94: วันวิสาขบูชา (Visakha Bucha Day) | E94: วันหยุด | F94: วันหยุด | G94: =IF(AND(E94="",F94=""),"Y","")
A95: =YEAR(B95) -> 2008 | B95: 39625 | C95: =INDEX(Sheet3!$A$1:$A$7,WEEKDAY(B95)) -> พฤหัสบดี | D95: วันสุนทรภู่ ? | G95: =IF(AND(E95="",F95=""),"Y","") -> Y
A96: =YEAR(B96) -> 2008 | B96: 39630 | C96: =INDEX(Sheet3!$A$1:$A$7,WEEKDAY(B96)) -> อังคาร | D96: วันหยุดภาคครึ่งปี ธนาคาร | E96: วันหยุด | G96: =IF(AND(E96="",F96=""),"Y","")
A97: =YEAR(B97) -> 2008 | B97: 39646 | C97: =INDEX(Sheet3!$A$1:$A$7,WEEKDAY(B97)) -> พฤหัสบดี | D97: วันอาสาฬหบูชา (Asarnha Bucha Day) | E97: วันหยุด | F97: วันหยุด | G97: =IF(AND(E97="",F97=""),"Y","")
A98: =YEAR(B98) -> 2008 | B98: 39647 | C98: =INDEX(Sheet3!$A$1:$A$7,WEEKDAY(B98)) -> ศุกร์ | D98: วันเข้าพรรษา (Buddhist Lent Day) | F98: วันหยุด | G98: =IF(AND(E98="",F98=""),"Y","")
A99: =YEAR(B99) -> 2008 | B99: 39672 | C99: =INDEX(Sheet3!$A$1:$A$7,WEEKDAY(B99)) -> อังคาร | D99: วันแม่ (H.M. The Queen's BirthDay) | E99: วันหยุด | F99: วันหยุด | G99: =IF(AND(E99="",F99=""),"Y","")
A100: =YEAR(B100) -> 2008 | B100: 39675 | C100: =INDEX(Sheet3!$A$1:$A$7,WEEKDAY(B100)) -> ศุกร์ | D100: วันสารทจีน (Sart Chin Day or Ghost Festival or Spirit Festival) | G100: =IF(AND(E100="",F100=""),"Y","") -> Y
...

Sheet Sheet3
A1: อาทิตย์
A2: จันทร์
A3: อังคาร
A4: พุธ
A5: พฤหัสบดี
A6: ศุกร์
A7: เสาร์

Sheet Sheet1
A1: 38734 | C1: =NETWORKDAYS(A1,A2,Sheet2!$B$3:$B$262) -> 3
A2: 38737
