Workbook

Sheet Sheet2
A1: www.inwexcel.com | D1: รวมวันหยุดและสำคัญของประเทศไทย | E1: อย่าลืมดูวิธีการใช้งานเพื่อใช้ร่วมกับฟังก์ชั่น NETWORKDAYS ได้ในเว็บนะครับ
A2: ปี คศ. | B2: วันที่ | C2: วัน | D2: รายละเอียดเหตุการณ์ | E2: ธนาคาร | F2: ราชการ | G2: ไม่ใช่วันหยุด | H2: เฉพาะพื้นที่
A3: =YEAR(B3) -> 2006 | B3: 38718 | C3: =INDEX(Sheet3!$A$1:$A$7,WEEKDAY(B3)) -> อาทิตย์ | D3: วันขึ้นปีใหม่ (New Year's Days) | E3: เสาร์-อาทิตย์ | F3: เสาร์-อาทิตย์ | G3: =IF(AND(E3="",F3=""),"Y","")
A4: =YEAR(B4) -> 2006 | B4: 38719 | C4: =INDEX(Sheet3!$A$1:$A$7,WEEKDAY(B4)) -> จันทร์ | D4: ชดเชยวันขึ้นปีใหม่ (New Year's Days) | E4: วันหยุด | F4: วันหยุด | G4: =IF(AND(E4="",F4=""),"Y","")
A5: =YEAR(B5) -> 2006 | B5: 38731 | C5: =INDEX(Sheet3!$A$1:$A$7,WEEKDAY(B5)) -> เสาร์ | D5: วันเด็กแห่งชาติ (Children Day) | E5: เสาร์-อาทิตย์ | F5: เสาร์-อาทิตย์ | G5: =IF(AND(E5="",F5=""),"Y","")
A6: =YEAR(B6) -> 2006 | B6: 38733 | C6: =INDEX(Sheet3!$A$1:$A$7,WEEKDAY(B6)) -> จันทร์ | D6: วันครู (Teacher Day) | G6: =IF(AND(E6="",F6=""),"Y","") -> Y
A7: =YEAR(B7) -> 2006 | B7: 38735 | C7: =INDEX(Sheet3!$A$1:$A$7,WEEKDAY(B7)) -> พุธ | D7: วันยุทธหัตถี | G7: =IF(AND(E7="",F7=""),"Y","") -> Y
A8: =YEAR(B8) -> 2006 | B8: 38746 | C8: =INDEX(Sheet3!$A$1:$A$7,WEEKDAY(B8)) -> อาทิตย์ | D8: วันตรุษจีน (Chinese New Year's Day) | E8: เสาร์-อาทิตย์ | F8: เสาร์-อาทิตย์ | G8: =IF(AND(E8="",F8=""),"Y","")
A9: =YEAR(B9) -> 2006 | B9: 38761 | C9: =INDEX(Sheet3!$A$1:$A$7,WEEKDAY(B9)) -> จันทร์ | D9: วันมาฆบูชา (Makha Bucha Day) | E9: วันหยุด | F9: วันหยุด | G9: =IF(AND(E9="",F9=""),"Y","")
A10: =YEAR(B10) -> 2006 | B10: 38762 | C10: =INDEX(Sheet3!$A$1:$A$7,WEEKDAY(B10)) -> อังคาร | D10: วันแห่งความรัก (Valentine's Day) | G10: =IF(AND(E10="",F10=""),"Y","") -> Y
A11: =YEAR(B11) -> 2006 | B11: 38813 | C11: =INDEX(Sheet3!$A$1:$A$7,WEEKDAY(B11)) -> พฤหัสบดี | D11: วันจักรี (Chakri Memorial Day) | E11: วันหยุด | F11: วันหยุด | G11: =IF(AND(E11="",F11=""),"Y","")
A12: =YEAR(B12) -> 2006 | B12: 38820 | C12: =INDEX(Sheet3!$A$1:$A$7,WEEKDAY(B12)) -> พฤหัสบดี | D12: วันสงกรานต์ (Songkran Festival Day) | E12: วันหยุด | F12: วันหยุด | G12: =IF(AND(E12="",F12=""),"Y","")
A13: =YEAR(B13) -> 2006 | B13: 38821 | C13: =INDEX(Sheet3!$A$1:$A$7,WEEKDAY(B13)) -> ศุกร์ | D13: วันสงกรานต์ (Songkran Festival Day) | E13: วันหยุด | F13: วันหยุด | G13: =IF(AND(E13="",F13=""),"Y","")
A14: =YEAR(B14) -> 2006 | B14: 38822 | C14: =INDEX(Sheet3!$A$1:$A$7,WEEKDAY(B14)) -> เสาร์ | D14: วันสงกรานต์ (Songkran Festival Day) | E14: เสาร์-อาทิตย์ | F14: เสาร์-อาทิตย์ | G14: =IF(AND(E14="",F14=""),"Y","")
A15: =YEAR(B15) -> 2006 | B15: 38826 | C15: =INDEX(Sheet3!$A$1:$A$7,WEEKDAY(B15)) -> พุธ | D15: วันหยุดพิเศษ เนื่องจาก เลือกตั้ง ส.ว. | E15: วันหยุด | F15: วันหยุด | G15: =IF(AND(E15="",F15=""),"Y","")
A16: =YEAR(B16) -> 2006 | B16: 38832 | C16: =INDEX(Sheet3!$A$1:$A$7,WEEKDAY(B16)) -> อังคาร | D16: วันคล้ายวันสวรรคตของสมเด็จพระนเรศวร | G16: =IF(AND(E16="",F16=""),"Y","") -> Y
A17: =YEAR(B17) -> 2006 | B17: 38838 | C17: =INDEX(Sheet3!$A$1:$A$7,WEEKDAY(B17)) -> จันทร์ | D17: วันแรงงานแห่งชาติ (National Labour Day) | E17: วันหยุด | G17: =IF(AND(E17="",F17=""),"Y","")
A18: =YEAR(B18) -> 2006 | B18: 38842 | C18: =INDEX(Sheet3!$A$1:$A$7,WEEKDAY(B18)) -> ศุกร์ | D18: วันฉัตรมงคล (Coronation Day) | E18: วันหยุด | F18: วันหยุด | G18: =IF(AND(E18="",F18=""),"Y","")
A19: =YEAR(B19) -> 2006 | B19: 38848 | C19: =INDEX(Sheet3!$A$1:$A$7,WEEKDAY(B19)) -> พฤหัสบดี | D19: วันพืชงคล (Royal Ploughing Ceremony Day) | F19: วันหยุด | G19: =IF(AND(E19="",F19=""),"Y","")
A20: =YEAR(B20) -> 2006 | B20: 38849 | C20: =INDEX(Sheet3!$A$1:$A$7,WEEKDAY(B20)) -> ศุกร์ | D20: วันวิสาขบูชา (Visakha Bucha Day) | E20: วันหยุด | F20: วันหยุด | G20: =IF(AND(E20="",F20=""),"Y","")
A21: =YEAR(B21) -> 2006 | B21: 38877 | C21: =INDEX(Sheet3!$A$1:$A$7,WEEKDAY(B21)) -> ศุกร์ | D21: วันหยุดพิเศษ เนื่องจาก ฉลองศิริราชสมบัติครบ 60 ปี (The Sixtieth Anniversary Celebrations of His Majesty's Accession to The Throne) | E21: วันหยุด | F21: วันหยุด | G21: =IF(AND(E21="",F21=""),"Y","") | H21: กรุงเทพ+ปริมณฑล
A22: =YEAR(B22) -> 2006 | B22: 38880 | C22: =INDEX(Sheet3!$A$1:$A$7,WEEKDAY(B22)) -> จันทร์ | D22: วันหยุดพิเศษ เนื่องจาก ฉลองศิริราชสมบัติครบ 60 ปี (The Sixtieth Anniversary Celebrations of His Majesty's Accession to The Throne) | E22: วันหยุด | F22: วันหยุด | G22: =IF(AND(E22="",F22=""),"Y","") | H22: กรุงเทพ+ปริมณฑล
A23: =YEAR(B23) -> 2006 | B23: 38881 | C23: =INDEX(Sheet3!$A$1:$A$7,WEEKDAY(B23)) -> อังคาร | D23: วันหยุดพิเศษ เนื่องจาก ฉลองศิริราชสมบัติครบ 60 ปี (The Sixtieth Anniversary Celebrations of His Majesty's Accession to The Throne) | E23: วันหยุด | F23: วันหยุด | G23: =IF(AND(E23="",F23=""),"Y","") | H23: กรุงเทพ+ปริมณฑล
A24: =YEAR(B24) -> 2006 | B24: 38908 | C24: =INDEX(Sheet3!$A$1:$A$7,WEEKDAY(B24)) -> จันทร์ | D24: วันอาสาฬหบูชา (Asarnha Bucha Day) | F24: วันหยุด | G24: =IF(AND(E24="",F24=""),"Y","")
A25: =YEAR(B25) -> 2006 | B25: 38909 | C25: =INDEX(Sheet3!$A$1:$A$7,WEEKDAY(B25)) -> อังคาร | D25: วันเข้าพรรษา (Buddhist Lent Day) | E25: วันหยุด | F25: วันหยุด | G25: =IF(AND(E25="",F25=""),"Y","")
A26: =YEAR(B26) -> 2006 | B26: 38937 | C26: =INDEX(Sheet3!$A$1:$A$7,WEEKDAY(B26)) -> อังคาร | D26: วันสารทจีน (Sart Chin Day) | G26: =IF(AND(E26="",F26=""),"Y","") -> Y
A27: =YEAR(B27) -> 2006 | B27: 38941 | C27: =INDEX(Sheet3!$A$1:$A$7,WEEKDAY(B27)) -> เสาร์ | D27: วันแม่ (H.M. The Queen's BirthDay) | E27: เสาร์-อาทิตย์ | F27: เสาร์-อาทิตย์ | G27: =IF(AND(E27="",F27=""),"Y","")
A28: =YEAR(B28) -> 2006 | B28: 38943 | C28: =INDEX(Sheet3!$A$1:$A$7,WEEKDAY(B28)) -> จันทร์ | D28: ชดเชยวันแม่ (H.M. The Queen's BirthDay) | E28: วันหยุด | F28: วันหยุด | G28: =IF(AND(E28="",F28=""),"Y","")
A29: =YEAR(B29) -> 2006 | B29: 38980 | C29: =INDEX(Sheet3!$A$1:$A$7,WEEKDAY(B29)) -> พุธ | D29: ปฏิรูปการปกครองในระบอบประชาธิปไตย นำโดย พล.อ.สนธิ บุณยรัตกลิน | E29: วันหยุด | F29: วันหยุด | G29: =IF(AND(E29="",F29=""),"Y","")
A30: =YEAR(B30) -> 2006 | B30: 38997 | C30: =INDEX(Sheet3!$A$1:$A$7,WEEKDAY(B30)) -> เสาร์ | D30: วันออกพรรษา (End of Buddhist Lent Day) | E30: เสาร์-อาทิตย์ | F30: เสาร์-อาทิตย์ | G30: =IF(AND(E30="",F30=""),"Y","")
A31: =YEAR(B31) -> 2006 | B31: 39013 | C31: =INDEX(Sheet3!$A$1:$A$7,WEEKDAY(B31)) -> จันทร์ | D31: วันปิยมหาราช (Chulalongkorn Memorial Day) | E31: วันหยุด | F31: วันหยุด | G31: =IF(AND(E31="",F31=""),"Y","")
A32: =YEAR(B32) -> 2006 | B32: 39026 | C32: =INDEX(Sheet3!$A$1:$A$7,WEEKDAY(B32)) -> อาทิตย์ | D32: วันลอยกระทง (Loykatong Day) | E32: เสาร์-อาทิตย์ | F32: เสาร์-อาทิตย์ | G32: =IF(AND(E32="",F32=""),"Y","")
A33: =YEAR(B33) -> 2006 | B33: 39056 | C33: =INDEX(Sheet3!$A$1:$A$7,WEEKDAY(B33)) -> อังคาร | D33: วันพ่อ (H.M. The King's BirthDay) | E33: วันหยุด | F33: วันหยุด | G33: =IF(AND(E33="",F33=""),"Y","")
A34: =YEAR(B34) -> 2006 | B34: 39061 | C34: =INDEX(Sheet3!$A$1:$A$7,WEEKDAY(B34)) -> อาทิตย์ | D34: วันพระราชทานรัฐธรรมนูญ (Constitution Day) | E34: เสาร์-อาทิตย์ | F34: เสาร์-อาทิตย์ | G34: =IF(AND(E34="",F34=""),"Y","")
A35: =YEAR(B35) -> 2006 | B35: 39062 | C35: =INDEX(Sheet3!$A$1:$A$7,WEEKDAY(B35)) -> จันทร์ | D35: ชดเชยวันพระราชทานรัฐธรรมนูญ (Constitution Day) | E35: วันหยุด | F35: วันหยุด | G35: =IF(AND(E35="",F35=""),"Y","")
A36: =YEAR(B36) -> 2006 | B36: 39082 | C36: =INDEX(Sheet3!$A$1:$A$7,WEEKDAY(B36)) -> อาทิตย์ | D36: วันสิ้นปี (New Year's Eve) | E36: เสาร์-อาทิตย์ | F36: เสาร์-อาทิตย์ | G36: =IF(AND(E36="",F36=""),"Y","")
A37: =YEAR(B37) -> 2007 | B37: 39083 | C37: =INDEX(Sheet3!$A$1:$A$7,WEEKDAY(B37)) -> จันทร์ | D37: วันขึ้นปีใหม่ (New Year's Days) | E37: วันหยุด | F37: วันหยุด | G37: =IF(AND(E37="",F37=""),"Y","")
A38: =YEAR(B38) -> 2007 | B38: 39084 | C38: =INDEX(Sheet3!$A$1:$A$7,WEEKDAY(B38)) -> อังคาร | D38: ชดเชยวันสิ้นปี (New Year's Eve) | E38: วันหยุด | F38: วันหยุด | G38: =IF(AND(E38="",F38=""),"Y","")
A39: =YEAR(B39) -> 2007 | B39: 39095 | C39: =INDEX(Sheet3!$A$1:$A$7,WEEKDAY(B39)) -> เสาร์ | D39: วันเด็กแห่งชาติ (Children Day) | E39: เสาร์-อาทิตย์ | F39: เสาร์-อาทิตย์ | G39: =IF(AND(E39="",F39=""),"Y","")
A40: =YEAR(B40) -> 2007 | B40: 39098 | C40: =INDEX(Sheet3!$A$1:$A$7,WEEKDAY(B40)) -> อังคาร | D40: วันครู (Teacher Day) | G40: =IF(AND(E40="",F40=""),"Y","") -> Y
...

Sheet Sheet3
A1: อาทิตย์
A2: จันทร์
A3: อังคาร
A4: พุธ
A5: พฤหัสบดี
A6: ศุกร์
A7: เสาร์

Sheet Sheet1
A1: 38734 | C1: =NETWORKDAYS(A1,A2,Sheet2!$B$3:$B$262) -> 3
A2: 38737
