Workbook

Sheet Urgent
A2: 2W Delivery Plan & Stock monitoring
A3: PROCESS | C3: CASTING | K3: TOTAL WIP CAST | L3: CNC | U3: TOTAL WIP CNC | V3: PAINTING | AH3: TOTAL WIP Paint | AI3: ASSY | AL3: TOTAL WIP ASSY | AM3: GRAND TOTAL WIP | AN3: Stock Finished Goods And Pack Spec | AR3: 42185 | AS3: Update : 2- July- 15 Time 08:00 pm
A4: Model | B4: Type | C4: Cast OK | D4: Welding | E4: BF.T-6 | F4: In T-6 | G4: BF. In spec | H4: BF. S/B | I4: S/B OK/ BF.CNC | J4: VR. | L4: BF. CNC | M4: BF. M/C | N4: BF. Broaching | O4: BF.Run-Out | P4: BF.A/L | Q4: BF. Inspection. | R4: AF. Inspection. | S4: BF. X RAY | T4: BF. ReM/C Run out & B/L Bibiri | V4: Paint process | W4: New Ascats | X4: AF.Paint | Y4: AF.Powder | Z4: Paper OK. | AA4: Re-M/C OK | AB4: In Pretreatment | AC4: AF. Pretreatment | AD4: In Bake Oven | AE4: Retouch | AF4: BF.RE-M/C (VR) | AG4: Import wheel | AI4: BF. INSPEC | AJ4: INSPEC OK. | AK4: TEMPORARY PACKING-A/L OK | AR4: Back Oder | AS4: Delivery Plan & Balance Finished goods.
AS5: =+AR3+1 -> 42186 | AU5: =+AS5+1 -> 42187 | AW5: =+AU5+1 -> 42188 | AY5: =+AW5+1 -> 42189 | BA5: =+AY5+1 -> 42190 | BC5: =+BA5+1 -> 42191 | BE5: =+BC5+1 -> 42192 | BG5: =+BE5+1 -> 42193 | BI5: =+BG5+1 -> 42194 | BK5: =+BI5+1 -> 42195 | BM5: =+BK5+1 -> 42196 | BO5: =+BM5+1 -> 42197 | BQ5: =+BO5+1 -> 42198 | BS5: =+BQ5+1 -> 42199 | BU5: =+BS5+1 -> 42200 | BW5: =+BU5+1 -> 42201 | BY5: =+BW5+1 -> 42202 | CA5: =+BY5+1 -> 42203 | CC5: =+CA5+1 -> 42204 | CE5: =+CC5+1 -> 42205 | CG5: =+CE5+1 -> 42206 | CI5: =+CG5+1 -> 42207 | CK5: =+CI5+1 -> 42208 | CM5: =+CK5+1 -> 42209 | CO5: =+CM5+1 -> 42210 | CQ5: =+CO5+1 -> 42211 | CS5: =+CQ5+1 -> 42212 | CU5: =+CS5+1 -> 42213 | CW5: =+CU5+1 -> 42214 | CY5: =+CW5+1 -> 42215 | DA5: =+CY5+1 -> 42216 | DC5: =+DA5+1 -> 42217 | DE5: =+DC5+1 -> 42218 | DG5: =+DE5+1 -> 42219 | DI5: =+DG5+1 -> 42220 | DK5: =+DI5+1 -> 42221 | DM5: =+DK5+1 -> 42222
A6: Total Process | C6: =SUM(C7:C39) -> 0 | D6: =SUM(D7:D39) -> 0 | E6: =SUM(E7:E39) -> 0 | F6: =SUM(F7:F39) -> 0 | G6: =SUM(G7:G39) -> 0 | H6: =SUM(H7:H39) -> 0 | I6: =SUM(I7:I39) -> 24 | J6: =SUM(J7:J39) -> 48 | ... U6: =SUM(U7:U39) -> 46 | W6: =SUM(W7:W39) -> 28 | X6: =SUM(X7:X39) -> 26 | Y6: =SUM(Y7:Y39) -> 0 | Z6: =SUM(Z7:Z39) -> 10 | AA6: =SUM(AA7:AA39) -> 0 | AB6: =SUM(AB7:AB39) -> 0 | AC6: =SUM(AC7:AC39) -> 45 | AD6: =SUM(AD7:AD39) -> 49 | ... AM6: =SUM(AM7:AM39) -> 286 | AN6: Model | AO6: Part No. | AP6: Pack Spec. | AQ6: Q'TY | AS6: D/L | AT6: B/L FG. | AU6: D/L | AV6: B/L FG. | AW6: D/L | AX6: B/L FG. | AY6: D/L | AZ6: B/L FG. | BA6: D/L | BB6: B/L FG. | BC6: D/L | BD6: B/L FG. | BE6: D/L | BF6: B/L FG. | BG6: D/L | BH6: B/L FG. | BI6: D/L | BJ6: B/L FG. | BK6: D/L | BL6: B/L FG. | BM6: D/L | BN6: B/L FG. | BO6: D/L | BP6: B/L FG. | BQ6: D/L | BR6: B/L FG. | BS6: D/L | BT6: B/L FG. | BU6: D/L | BV6: B/L FG. | BW6: D/L | BX6: B/L FG. | BY6: D/L | BZ6: B/L FG. | CA6: D/L | CB6: B/L FG. | CC6: D/L | CD6: B/L FG. | CE6: D/L | CF6: B/L FG. | CG6: D/L | CH6: B/L FG. | CI6: D/L | CJ6: B/L FG. | CK6: D/L | CL6: B/L FG. | CM6: D/L | CN6: B/L FG. | CO6: D/L | CP6: B/L FG. | CQ6: D/L | CR6: B/L FG. | CS6: D/L | CT6: B/L FG. | CU6: D/L | CV6: B/L FG. | CW6: D/L | CX6: B/L FG. | CY6: D/L | CZ6: B/L FG. | DA6: D/L | DB6: B/L FG. | DC6: D/L | DD6: B/L FG. | DE6: D/L | DF6: B/L FG. | DG6: D/L | DH6: B/L FG. | DI6: D/L | DJ6: B/L FG. | DK6: D/L | DL6: B/L FG. | DM6: D/L | DN6: B/L FG. | DO6: *
A7: 0090 | B7: R | K7: =SUM(C7:J8) -> 0 | T7: 37 | U7: =SUM(L7:T8) -> 37 | V7: 0090 Black | AH7: =SUM(W7:AG8) -> 0 | AL7: =SUM(AI7:AK8) -> 0 | AM7: =SUM(K7,U7,AH7,AL7) -> 37 | AN7: 0090-R (Black) | AO7: 49058-0090 QT | AP7: Pack BOX | AQ7: =+FG!K4 -> 0 | AT7: =+AQ7-AS7-AR7 -> 0 | AV7: =+AT7-AU7 -> 0 | AX7: =+AV7-AW7 -> 0 | AZ7: =+AX7-AY7 -> 0 | BB7: =+AZ7-BA7 -> 0 | BD7: =+BB7-BC7 -> 0 | BF7: =+BD7-BE7 -> 0 | BH7: =+BF7-BG7 -> 0 | BJ7: =+BH7-BI7 -> 0 | BL7: =+BJ7-BK7 -> 0 | BN7: =+BL7-BM7 -> 0 | BP7: =+BN7-BO7 -> 0 | BR7: =+BP7-BQ7 -> 0 | BT7: =+BR7-BS7 -> 0 | BV7: =+BT7-BU7 -> 0 | BX7: =+BV7-BW7 -> 0 | BZ7: =+BX7-BY7 -> 0 | CB7: =+BZ7-CA7 -> 0 | CD7: =+CB7-CC7 -> 0 | CF7: =+CD7-CE7 -> 0 | CH7: =+CF7-CG7 -> 0 | CJ7: =+CH7-CI7 -> 0 | CL7: =+CJ7-CK7 -> 0 | CN7: =+CL7-CM7 -> 0 | CP7: =+CN7-CO7 -> 0 | CR7: =+CP7-CQ7 -> 0 | CT7: =+CR7-CS7 -> 0 | CV7: =+CT7-CU7 -> 0 | CX7: =+CV7-CW7 -> 0 | CZ7: =+CX7-CY7 -> 0 | DB7: =+CZ7-DA7 -> 0 | DD7: =+DB7-DC7 -> 0 | DF7: =+DD7-DE7 -> 0 | DH7: =+DF7-DG7 -> 0 | DJ7: =+DH7-DI7 -> 0 | DL7: =+DJ7-DK7 -> 0 | DN7: =+DL7-DM7 -> 0
AN8: 0090-R (Black) | AO8: 49058-0090 QT | AP8: Carry | AQ8: =+FG!K5 -> 162 | AT8: =+AQ8-AS8-AR8 -> 162 | AV8: =+AT8-AU8 -> 162 | AX8: =+AV8-AW8 -> 162 | AZ8: =+AX8-AY8 -> 162 | BB8: =+AZ8-BA8 -> 162 | BD8: =+BB8-BC8 -> 162 | BF8: =+BD8-BE8 -> 162 | BH8: =+BF8-BG8 -> 162 | BJ8: =+BH8-BI8 -> 162 | BL8: =+BJ8-BK8 -> 162 | BN8: =+BL8-BM8 -> 162 | BP8: =+BN8-BO8 -> 162 | BR8: =+BP8-BQ8 -> 162 | BT8: =+BR8-BS8 -> 162 | BV8: =+BT8-BU8 -> 162 | BX8: =+BV8-BW8 -> 162 | BZ8: =+BX8-BY8 -> 162 | CB8: =+BZ8-CA8 -> 162 | CD8: =+CB8-CC8 -> 162 | CF8: =+CD8-CE8 -> 162 | CH8: =+CF8-CG8 -> 162 | CJ8: =+CH8-CI8 -> 162 | CL8: =+CJ8-CK8 -> 162 | CN8: =+CL8-CM8 -> 162 | CP8: =+CN8-CO8 -> 162 | CR8: =+CP8-CQ8 -> 162 | CT8: =+CR8-CS8 -> 162 | CV8: =+CT8-CU8 -> 162 | CX8: =+CV8-CW8 -> 162 | CZ8: =+CX8-CY8 -> 162 | DB8: =+CZ8-DA8 -> 162 | DD8: =+DB8-DC8 -> 162 | DF8: =+DD8-DE8 -> 162 | DH8: =+DF8-DG8 -> 162 | DJ8: =+DH8-DI8 -> 162 | DL8: =+DJ8-DK8 -> 162 | DN8: =+DL8-DM8 -> 162
A9: 0558 | B9: R | J9: 47 | K9: =SUM(C9:J22) -> 47 | U9: =SUM(L9:T22) -> 0 | V9: 0558 Black | W9: 28 | X9: 26 | Z9: 6 | AC9: 45 | AD9: 46 | AH9: =SUM(W9:AG17) -> 151 | AJ9: 5 | AL9: =SUM(AI9:AK17) -> 5 | AM9: =SUM(AL9,AH9,U9,K9) -> 203 | AN9: 0558-R (Black) | AO9: 49058-0558 QT | AP9: Carry | AQ9: =+FG!K6 -> 600 | AS9: 40 | AT9: =+AQ9-AS9-AR9 -> 560 | AU9: 80 | AV9: =+AT9-AU9 -> 480 | AW9: 60 | AX9: =+AV9-AW9 -> 420 | AZ9: =+AX9-AY9 -> 420 | BB9: =+AZ9-BA9 -> 420 | BC9: 60 | BD9: =+BB9-BC9 -> 360 | BE9: 60 | BF9: =+BD9-BE9 -> 300 | BG9: 40 | BH9: =+BF9-BG9 -> 260 | BI9: 40 | BJ9: =+BH9-BI9 -> 220 | BK9: 40 | BL9: =+BJ9-BK9 -> 180 | BN9: =+BL9-BM9 -> 180 | BP9: =+BN9-BO9 -> 180 | BQ9: 40 | BR9: =+BP9-BQ9 -> 140 | BS9: 40 | BT9: =+BR9-BS9 -> 100 | BU9: 40 | BV9: =+BT9-BU9 -> 60 | BW9: 60 | BX9: =+BV9-BW9 -> 0 | BY9: 60 | BZ9: =+BX9-BY9 -> -60 | CB9: =+BZ9-CA9 -> -60 | CD9: =+CB9-CC9 -> -60 | CE9: 40 | CF9: =+CD9-CE9 -> -100 | CG9: 40 | CH9: =+CF9-CG9 -> -140 | CI9: 60 | CJ9: =+CH9-CI9 -> -200 | CK9: 80 | CL9: =+CJ9-CK9 -> -280 | CM9: 40 | CN9: =+CL9-CM9 -> -320 | CP9: =+CN9-CO9 -> -320 | CR9: =+CP9-CQ9 -> -320 | CS9: 60 | CT9: =+CR9-CS9 -> -380 | CU9: 80 | CV9: =+CT9-CU9 -> -460 | CX9: =+CV9-CW9 -> -460 | CZ9: =+CX9-CY9 -> -460 | DB9: =+CZ9-DA9 -> -460 | DD9: =+DB9-DC9 -> -460 | DF9: =+DD9-DE9 -> -460 | DH9: =+DF9-DG9 -> -460 | DJ9: =+DH9-DI9 -> -460 | DL9: =+DJ9-DK9 -> -460 | DN9: =+DL9-DM9 -> -460 | DO9: *
AN10: 0558-R (Black) | AO10: 49058-0558 QT | AP10: Pack BOX | AQ10: =+FG!K7 -> 20 | AT10: =+AQ10-AS10-AR10 -> 20 | AU10: 20 | AV10: =+AT10-AU10 -> 0 | AX10: =+AV10-AW10 -> 0 | AZ10: =+AX10-AY10 -> 0 | BB10: =+AZ10-BA10 -> 0 | BD10: =+BB10-BC10 -> 0 | BE10: 20 | BF10: =+BD10-BE10 -> -20 | BH10: =+BF10-BG10 -> -20 | BJ10: =+BH10-BI10 -> -20 | BL10: =+BJ10-BK10 -> -20 | BN10: =+BL10-BM10 -> -20 | BP10: =+BN10-BO10 -> -20 | BR10: =+BP10-BQ10 -> -20 | BT10: =+BR10-BS10 -> -20 | BV10: =+BT10-BU10 -> -20 | BX10: =+BV10-BW10 -> -20 | BZ10: =+BX10-BY10 -> -20 | CB10: =+BZ10-CA10 -> -20 | CD10: =+CB10-CC10 -> -20 | CF10: =+CD10-CE10 -> -20 | CH10: =+CF10-CG10 -> -20 | CJ10: =+CH10-CI10 -> -20 | CL10: =+CJ10-CK10 -> -20 | CN10: =+CL10-CM10 -> -20 | CP10: =+CN10-CO10 -> -20 | CR10: =+CP10-CQ10 -> -20 | CT10: =+CR10-CS10 -> -20 | CV10: =+CT10-CU10 -> -20 | CX10: =+CV10-CW10 -> -20 | CZ10: =+CX10-CY10 -> -20 | DB10: =+CZ10-DA10 -> -20 | DD10: =+DB10-DC10 -> -20 | DF10: =+DD10-DE10 -> -20 | DH10: =+DF10-DG10 -> -20 | DJ10: =+DH10-DI10 -> -20 | DL10: =+DJ10-DK10 -> -20 | DN10: =+DL10-DM10 -> -20 | DO10: *
AN11: 0558-R (Sticker Green) | AO11: 49058-5079 QT | AP11: Pack BOX | AQ11: =+FG!K8 -> 0 | AT11: =+AQ11-AS11-AR11 -> 0 | AV11: =+AT11-AU11 -> 0 | AX11: =+AV11-AW11 -> 0 | AZ11: =+AX11-AY11 -> 0 | BB11: =+AZ11-BA11 -> 0 | BD11: =+BB11-BC11 -> 0 | BF11: =+BD11-BE11 -> 0 | BH11: =+BF11-BG11 -> 0 | BJ11: =+BH11-BI11 -> 0 | BL11: =+BJ11-BK11 -> 0 | BN11: =+BL11-BM11 -> 0 | BP11: =+BN11-BO11 -> 0 | BR11: =+BP11-BQ11 -> 0 | BT11: =+BR11-BS11 -> 0 | BV11: =+BT11-BU11 -> 0 | BX11: =+BV11-BW11 -> 0 | BZ11: =+BX11-BY11 -> 0 | CB11: =+BZ11-CA11 -> 0 | CD11: =+CB11-CC11 -> 0 | CF11: =+CD11-CE11 -> 0 | CH11: =+CF11-CG11 -> 0 | CJ11: =+CH11-CI11 -> 0 | CL11: =+CJ11-CK11 -> 0 | CN11: =+CL11-CM11 -> 0 | CP11: =+CN11-CO11 -> 0 | CR11: =+CP11-CQ11 -> 0 | CT11: =+CR11-CS11 -> 0 | CV11: =+CT11-CU11 -> 0 | CX11: =+CV11-CW11 -> 0 | CZ11: =+CX11-CY11 -> 0 | DB11: =+CZ11-DA11 -> 0 | DD11: =+DB11-DC11 -> 0 | DF11: =+DD11-DE11 -> 0 | DH11: =+DF11-DG11 -> 0 | DJ11: =+DH11-DI11 -> 0 | DL11: =+DJ11-DK11 -> 0 | DN11: =+DL11-DM11 -> 0
AN12: 0558-R (Sticker Green) | AO12: 49058-5079 QT | AP12: Carry | AQ12: =+FG!K9 -> 120 | AS12: 40 | AT12: =+AQ12-AS12-AR12 -> 80 | AU12: 20 | AV12: =+AT12-AU12 -> 60 | AW12: 20 | AX12: =+AV12-AW12 -> 40 | AZ12: =+AX12-AY12 -> 40 | BB12: =+AZ12-BA12 -> 40 | BC12: 20 | BD12: =+BB12-BC12 -> 20 | BE12: 20 | BF12: =+BD12-BE12 -> 0 | BH12: =+BF12-BG12 -> 0 | BI12: 20 | BJ12: =+BH12-BI12 -> -20 | BL12: =+BJ12-BK12 -> -20 | BN12: =+BL12-BM12 -> -20 | BP12: =+BN12-BO12 -> -20 | BQ12: 40 | BR12: =+BP12-BQ12 -> -60 | BT12: =+BR12-BS12 -> -60 | BU12: 20 | BV12: =+BT12-BU12 -> -80 | BW12: 20 | BX12: =+BV12-BW12 -> -100 | BZ12: =+BX12-BY12 -> -100 | CB12: =+BZ12-CA12 -> -100 | CD12: =+CB12-CC12 -> -100 | CE12: 20 | CF12: =+CD12-CE12 -> -120 | CG12: 20 | CH12: =+CF12-CG12 -> -140 | CI12: 20 | CJ12: =+CH12-CI12 -> -160 | CL12: =+CJ12-CK12 -> -160 | CM12: 20 | CN12: =+CL12-CM12 -> -180 | CP12: =+CN12-CO12 -> -180 | CR12: =+CP12-CQ12 -> -180 | CT12: =+CR12-CS12 -> -180 | CU12: 20 | CV12: =+CT12-CU12 -> -200 | CX12: =+CV12-CW12 -> -200 | CZ12: =+CX12-CY12 -> -200 | DB12: =+CZ12-DA12 -> -200 | DD12: =+DB12-DC12 -> -200 | DF12: =+DD12-DE12 -> -200 | DH12: =+DF12-DG12 -> -200 | DJ12: =+DH12-DI12 -> -200 | DL12: =+DJ12-DK12 -> -200 | DN12: =+DL12-DM12 -> -200 | DO12: *
AN13: 0558-R (Sticker Red) | AO13: 49058-5081 QT | AP13: Pack BOX | AQ13: =+FG!K10 -> 0 | AT13: =+AQ13-AS13-AR13 -> 0 | AV13: =+AT13-AU13 -> 0 | AX13: =+AV13-AW13 -> 0 | AZ13: =+AX13-AY13 -> 0 | BB13: =+AZ13-BA13 -> 0 | BD13: =+BB13-BC13 -> 0 | BF13: =+BD13-BE13 -> 0 | BH13: =+BF13-BG13 -> 0 | BJ13: =+BH13-BI13 -> 0 | BL13: =+BJ13-BK13 -> 0 | BN13: =+BL13-BM13 -> 0 | BP13: =+BN13-BO13 -> 0 | BR13: =+BP13-BQ13 -> 0 | BT13: =+BR13-BS13 -> 0 | BV13: =+BT13-BU13 -> 0 | BX13: =+BV13-BW13 -> 0 | BZ13: =+BX13-BY13 -> 0 | CB13: =+BZ13-CA13 -> 0 | CD13: =+CB13-CC13 -> 0 | CF13: =+CD13-CE13 -> 0 | CH13: =+CF13-CG13 -> 0 | CJ13: =+CH13-CI13 -> 0 | CL13: =+CJ13-CK13 -> 0 | CN13: =+CL13-CM13 -> 0 | CP13: =+CN13-CO13 -> 0 | CR13: =+CP13-CQ13 -> 0 | CT13: =+CR13-CS13 -> 0 | CV13: =+CT13-CU13 -> 0 | CX13: =+CV13-CW13 -> 0 | CZ13: =+CX13-CY13 -> 0 | DB13: =+CZ13-DA13 -> 0 | DD13: =+DB13-DC13 -> 0 | DF13: =+DD13-DE13 -> 0 | DH13: =+DF13-DG13 -> 0 | DJ13: =+DH13-DI13 -> 0 | DL13: =+DJ13-DK13 -> 0 | DN13: =+DL13-DM13 -> 0
AN14: 0558-R (Sticker Red) | AO14: 49058-5081 QT | AP14: Carry | AQ14: =+FG!K11 -> 5 | AT14: =+AQ14-AS14-AR14 -> 5 | AV14: =+AT14-AU14 -> 5 | AX14: =+AV14-AW14 -> 5 | AZ14: =+AX14-AY14 -> 5 | BB14: =+AZ14-BA14 -> 5 | BD14: =+BB14-BC14 -> 5 | BF14: =+BD14-BE14 -> 5 | BH14: =+BF14-BG14 -> 5 | BJ14: =+BH14-BI14 -> 5 | BL14: =+BJ14-BK14 -> 5 | BN14: =+BL14-BM14 -> 5 | BP14: =+BN14-BO14 -> 5 | BR14: =+BP14-BQ14 -> 5 | BT14: =+BR14-BS14 -> 5 | BV14: =+BT14-BU14 -> 5 | BX14: =+BV14-BW14 -> 5 | BZ14: =+BX14-BY14 -> 5 | CB14: =+BZ14-CA14 -> 5 | CD14: =+CB14-CC14 -> 5 | CF14: =+CD14-CE14 -> 5 | CH14: =+CF14-CG14 -> 5 | CJ14: =+CH14-CI14 -> 5 | CL14: =+CJ14-CK14 -> 5 | CN14: =+CL14-CM14 -> 5 | CP14: =+CN14-CO14 -> 5 | CR14: =+CP14-CQ14 -> 5 | CT14: =+CR14-CS14 -> 5 | CV14: =+CT14-CU14 -> 5 | CX14: =+CV14-CW14 -> 5 | CZ14: =+CX14-CY14 -> 5 | DB14: =+CZ14-DA14 -> 5 | DD14: =+DB14-DC14 -> 5 | DF14: =+DD14-DE14 -> 5 | DH14: =+DF14-DG14 -> 5 | DJ14: =+DH14-DI14 -> 5 | DL14: =+DJ14-DK14 -> 5 | DN14: =+DL14-DM14 -> 5
AN15: 0558-R (Sticker Green) | AO15: 49058-5121 QT | AP15: Carry | AQ15: =+FG!K12 -> 80 | AS15: 20 | AT15: =+AQ15-AS15-AR15 -> 60 | AU15: 20 | AV15: =+AT15-AU15 -> 40 | AW15: 20 | AX15: =+AV15-AW15 -> 20 | AZ15: =+AX15-AY15 -> 20 | BB15: =+AZ15-BA15 -> 20 | BC15: 20 | BD15: =+BB15-BC15 -> 0 | BF15: =+BD15-BE15 -> 0 | BG15: 60 | BH15: =+BF15-BG15 -> -60 | BI15: 40 | BJ15: =+BH15-BI15 -> -100 | BK15: 40 | BL15: =+BJ15-BK15 -> -140 | BN15: =+BL15-BM15 -> -140 | BP15: =+BN15-BO15 -> -140 | BQ15: 40 | BR15: =+BP15-BQ15 -> -180 | BS15: 20 | BT15: =+BR15-BS15 -> -200 | BU15: 20 | BV15: =+BT15-BU15 -> -220 | BW15: 20 | BX15: =+BV15-BW15 -> -240 | BY15: 20 | BZ15: =+BX15-BY15 -> -260 | CB15: =+BZ15-CA15 -> -260 | CD15: =+CB15-CC15 -> -260 | CE15: 20 | CF15: =+CD15-CE15 -> -280 | CG15: 40 | CH15: =+CF15-CG15 -> -320 | CI15: 40 | CJ15: =+CH15-CI15 -> -360 | CK15: 20 | CL15: =+CJ15-CK15 -> -380 | CM15: 20 | CN15: =+CL15-CM15 -> -400 | CP15: =+CN15-CO15 -> -400 | CR15: =+CP15-CQ15 -> -400 | CS15: 40 | CT15: =+CR15-CS15 -> -440 | CU15: 20 | CV15: =+CT15-CU15 -> -460 | CX15: =+CV15-CW15 -> -460 | CZ15: =+CX15-CY15 -> -460 | DB15: =+CZ15-DA15 -> -460 | DD15: =+DB15-DC15 -> -460 | DF15: =+DD15-DE15 -> -460 | DH15: =+DF15-DG15 -> -460 | DJ15: =+DH15-DI15 -> -460 | DL15: =+DJ15-DK15 -> -460 | DN15: =+DL15-DM15 -> -460 | DO15: *
AN16: 0558-R (Sticker Red) | AO16: 49058-5125 QT | AP16: Carry | AQ16: =+FG!K13 -> 20 | AT16: =+AQ16-AS16-AR16 -> 20 | AV16: =+AT16-AU16 -> 20 | AX16: =+AV16-AW16 -> 20 | AZ16: =+AX16-AY16 -> 20 | BB16: =+AZ16-BA16 -> 20 | BD16: =+BB16-BC16 -> 20 | BE16: 20 | BF16: =+BD16-BE16 -> 0 | BH16: =+BF16-BG16 -> 0 | BJ16: =+BH16-BI16 -> 0 | BL16: =+BJ16-BK16 -> 0 | BN16: =+BL16-BM16 -> 0 | BP16: =+BN16-BO16 -> 0 | BR16: =+BP16-BQ16 -> 0 | BS16: 20 | BT16: =+BR16-BS16 -> -20 | BU16: 20 | BV16: =+BT16-BU16 -> -40 | BX16: =+BV16-BW16 -> -40 | BZ16: =+BX16-BY16 -> -40 | CB16: =+BZ16-CA16 -> -40 | CD16: =+CB16-CC16 -> -40 | CF16: =+CD16-CE16 -> -40 | CG16: 20 | CH16: =+CF16-CG16 -> -60 | CJ16: =+CH16-CI16 -> -60 | CK16: 20 | CL16: =+CJ16-CK16 -> -80 | CN16: =+CL16-CM16 -> -80 | CP16: =+CN16-CO16 -> -80 | CR16: =+CP16-CQ16 -> -80 | CT16: =+CR16-CS16 -> -80 | CV16: =+CT16-CU16 -> -80 | CX16: =+CV16-CW16 -> -80 | CZ16: =+CX16-CY16 -> -80 | DB16: =+CZ16-DA16 -> -80 | DD16: =+DB16-DC16 -> -80 | DF16: =+DD16-DE16 -> -80 | DH16: =+DF16-DG16 -> -80 | DJ16: =+DH16-DI16 -> -80 | DL16: =+DJ16-DK16 -> -80 | DN16: =+DL16-DM16 -> -80
AN17: 0558-R (Sticker Orange) | AO17: 49058-5127 QT | AP17: Carry | AQ17: =+FG!K14 -> 60 | AS17: 20 | AT17: =+AQ17-AS17-AR17 -> 40 | AU17: 20 | AV17: =+AT17-AU17 -> 20 | AW17: 20 | AX17: =+AV17-AW17 -> 0 | AZ17: =+AX17-AY17 -> 0 | BB17: =+AZ17-BA17 -> 0 | BD17: =+BB17-BC17 -> 0 | BF17: =+BD17-BE17 -> 0 | BG17: 40 | BH17: =+BF17-BG17 -> -40 | BJ17: =+BH17-BI17 -> -40 | BL17: =+BJ17-BK17 -> -40 | BN17: =+BL17-BM17 -> -40 | BP17: =+BN17-BO17 -> -40 | BQ17: 20 | BR17: =+BP17-BQ17 -> -60 | BT17: =+BR17-BS17 -> -60 | BU17: 40 | BV17: =+BT17-BU17 -> -100 | BX17: =+BV17-BW17 -> -100 | BY17: 20 | BZ17: =+BX17-BY17 -> -120 | CB17: =+BZ17-CA17 -> -120 | CD17: =+CB17-CC17 -> -120 | CE17: 40 | CF17: =+CD17-CE17 -> -160 | CH17: =+CF17-CG17 -> -160 | CJ17: =+CH17-CI17 -> -160 | CK17: 20 | CL17: =+CJ17-CK17 -> -180 | CM17: 20 | CN17: =+CL17-CM17 -> -200 | CP17: =+CN17-CO17 -> -200 | CR17: =+CP17-CQ17 -> -200 | CS17: 20 | CT17: =+CR17-CS17 -> -220 | CV17: =+CT17-CU17 -> -220 | CX17: =+CV17-CW17 -> -220 | CZ17: =+CX17-CY17 -> -220 | DB17: =+CZ17-DA17 -> -220 | DD17: =+DB17-DC17 -> -220 | DF17: =+DD17-DE17 -> -220 | DH17: =+DF17-DG17 -> -220 | DJ17: =+DH17-DI17 -> -220 | DL17: =+DJ17-DK17 -> -220 | DN17: =+DL17-DM17 -> -220 | DO17: *
AN18: 0558-R (Sticker Red) | AO18: 49058-5146 QT New | AP18: Carry | AQ18: =+FG!K15 -> 0 | AT18: =+AQ18-AS18-AR18 -> 0 | AV18: =+AT18-AU18 -> 0 | AX18: =+AV18-AW18 -> 0 | AZ18: =+AX18-AY18 -> 0 | BB18: =+AZ18-BA18 -> 0 | BD18: =+BB18-BC18 -> 0 | BF18: =+BD18-BE18 -> 0 | BH18: =+BF18-BG18 -> 0 | BJ18: =+BH18-BI18 -> 0 | BL18: =+BJ18-BK18 -> 0 | BN18: =+BL18-BM18 -> 0 | BP18: =+BN18-BO18 -> 0 | BR18: =+BP18-BQ18 -> 0 | BT18: =+BR18-BS18 -> 0 | BV18: =+BT18-BU18 -> 0 | BX18: =+BV18-BW18 -> 0 | BZ18: =+BX18-BY18 -> 0 | CB18: =+BZ18-CA18 -> 0 | CD18: =+CB18-CC18 -> 0 | CF18: =+CD18-CE18 -> 0 | CH18: =+CF18-CG18 -> 0 | CJ18: =+CH18-CI18 -> 0 | CL18: =+CJ18-CK18 -> 0 | CM18: 1 | CN18: =+CL18-CM18 -> -1 | CP18: =+CN18-CO18 -> -1 | CR18: =+CP18-CQ18 -> -1 | CT18: =+CR18-CS18 -> -1 | CV18: =+CT18-CU18 -> -1 | CX18: =+CV18-CW18 -> -1 | CZ18: =+CX18-CY18 -> -1 | DB18: =+CZ18-DA18 -> -1 | DD18: =+DB18-DC18 -> -1 | DF18: =+DD18-DE18 -> -1 | DH18: =+DF18-DG18 -> -1 | DJ18: =+DH18-DI18 -> -1 | DL18: =+DJ18-DK18 -> -1 | DN18: =+DL18-DM18 -> -1
AN19: 0558-R (Sticker Orange) | AO19: 49058-5148 QT New | AP19: Carry | AQ19: =+FG!K16 -> 0 | AT19: =+AQ19-AS19-AR19 -> 0 | AV19: =+AT19-AU19 -> 0 | AX19: =+AV19-AW19 -> 0 | AZ19: =+AX19-AY19 -> 0 | BB19: =+AZ19-BA19 -> 0 | BD19: =+BB19-BC19 -> 0 | BF19: =+BD19-BE19 -> 0 | BH19: =+BF19-BG19 -> 0 | BJ19: =+BH19-BI19 -> 0 | BL19: =+BJ19-BK19 -> 0 | BN19: =+BL19-BM19 -> 0 | BP19: =+BN19-BO19 -> 0 | BR19: =+BP19-BQ19 -> 0 | BT19: =+BR19-BS19 -> 0 | BV19: =+BT19-BU19 -> 0 | BX19: =+BV19-BW19 -> 0 | BZ19: =+BX19-BY19 -> 0 | CB19: =+BZ19-CA19 -> 0 | CD19: =+CB19-CC19 -> 0 | CF19: =+CD19-CE19 -> 0 | CH19: =+CF19-CG19 -> 0 | CJ19: =+CH19-CI19 -> 0 | CL19: =+CJ19-CK19 -> 0 | CM19: 1 | CN19: =+CL19-CM19 -> -1 | CP19: =+CN19-CO19 -> -1 | CR19: =+CP19-CQ19 -> -1 | CT19: =+CR19-CS19 -> -1 | CV19: =+CT19-CU19 -> -1 | CX19: =+CV19-CW19 -> -1 | CZ19: =+CX19-CY19 -> -1 | DB19: =+CZ19-DA19 -> -1 | DD19: =+DB19-DC19 -> -1 | DF19: =+DD19-DE19 -> -1 | DH19: =+DF19-DG19 -> -1 | DJ19: =+DH19-DI19 -> -1 | DL19: =+DJ19-DK19 -> -1 | DN19: =+DL19-DM19 -> -1
V20: 0558 Gold | AH20: =SUM(W20:AF20) -> 0 | AL20: =SUM(AI20:AK20) -> 0 | AM20: =SUM(AL20,AH20) -> 0 | AN20: 0558-R (Gold) | AO20: 49058-0558 36C | AP20: Carry | AQ20: =+FG!K17 -> 0 | AT20: =+AQ20-AS20-AR20 -> 0 | AV20: =+AT20-AU20 -> 0 | AX20: =+AV20-AW20 -> 0 | AZ20: =+AX20-AY20 -> 0 | BB20: =+AZ20-BA20 -> 0 | BD20: =+BB20-BC20 -> 0 | BF20: =+BD20-BE20 -> 0 | BH20: =+BF20-BG20 -> 0 | BJ20: =+BH20-BI20 -> 0 | BL20: =+BJ20-BK20 -> 0 | BN20: =+BL20-BM20 -> 0 | BP20: =+BN20-BO20 -> 0 | BR20: =+BP20-BQ20 -> 0 | BT20: =+BR20-BS20 -> 0 | BV20: =+BT20-BU20 -> 0 | BX20: =+BV20-BW20 -> 0 | BZ20: =+BX20-BY20 -> 0 | CB20: =+BZ20-CA20 -> 0 | CD20: =+CB20-CC20 -> 0 | CF20: =+CD20-CE20 -> 0 | CH20: =+CF20-CG20 -> 0 | CJ20: =+CH20-CI20 -> 0 | CL20: =+CJ20-CK20 -> 0 | CN20: =+CL20-CM20 -> 0 | CP20: =+CN20-CO20 -> 0 | CR20: =+CP20-CQ20 -> 0 | CT20: =+CR20-CS20 -> 0 | CV20: =+CT20-CU20 -> 0 | CX20: =+CV20-CW20 -> 0 | CZ20: =+CX20-CY20 -> 0 | DB20: =+CZ20-DA20 -> 0 | DD20: =+DB20-DC20 -> 0 | DF20: =+DD20-DE20 -> 0 | DH20: =+DF20-DG20 -> 0 | DJ20: =+DH20-DI20 -> 0 | DL20: =+DJ20-DK20 -> 0 | DN20: =+DL20-DM20 -> 0
V21: 0558 Red | Z21: 4 | AH21: =SUM(W21:AG21) -> 4 | AJ21: 1 | AL21: =SUM(AI21:AK21) -> 1 | AM21: =SUM(AH21,AL21) -> 5 | AN21: 0558P-R (Red) | AO21: 49058-0558 35W | AP21: Carry | AQ21: =+FG!K18 -> 0 | AT21: =+AQ21-AS21-AR21 -> 0 | AV21: =+AT21-AU21 -> 0 | AX21: =+AV21-AW21 -> 0 | AZ21: =+AX21-AY21 -> 0 | BB21: =+AZ21-BA21 -> 0 | BD21: =+BB21-BC21 -> 0 | BF21: =+BD21-BE21 -> 0 | BH21: =+BF21-BG21 -> 0 | BJ21: =+BH21-BI21 -> 0 | BL21: =+BJ21-BK21 -> 0 | BN21: =+BL21-BM21 -> 0 | BP21: =+BN21-BO21 -> 0 | BR21: =+BP21-BQ21 -> 0 | BT21: =+BR21-BS21 -> 0 | BV21: =+BT21-BU21 -> 0 | BX21: =+BV21-BW21 -> 0 | BZ21: =+BX21-BY21 -> 0 | CB21: =+BZ21-CA21 -> 0 | CD21: =+CB21-CC21 -> 0 | CF21: =+CD21-CE21 -> 0 | CH21: =+CF21-CG21 -> 0 | CJ21: =+CH21-CI21 -> 0 | CL21: =+CJ21-CK21 -> 0 | CN21: =+CL21-CM21 -> 0 | CP21: =+CN21-CO21 -> 0 | CR21: =+CP21-CQ21 -> 0 | CT21: =+CR21-CS21 -> 0 | CV21: =+CT21-CU21 -> 0 | CX21: =+CV21-CW21 -> 0 | CZ21: =+CX21-CY21 -> 0 | DB21: =+CZ21-DA21 -> 0 | DD21: =+DB21-DC21 -> 0 | DF21: =+DD21-DE21 -> 0 | DH21: =+DF21-DG21 -> 0 | DJ21: =+DH21-DI21 -> 0 | DL21: =+DJ21-DK21 -> 0 | DN21: =+DL21-DM21 -> 0
V22: 0558 Yellow | AH22: =SUM(W22:AG22) -> 0 | AL22: =SUM(AI22:AK22) -> 0 | AM22: =SUM(AH22,AL22) -> 0 | AN22: 0558-R (Yellow) | AO22: 49058-0558 35X | AP22: Carry | AQ22: =+FG!K19 -> 6 | AT22: =+AQ22-AS22-AR22 -> 6 | AV22: =+AT22-AU22 -> 6 | AX22: =+AV22-AW22 -> 6 | AZ22: =+AX22-AY22 -> 6 | BB22: =+AZ22-BA22 -> 6 | BD22: =+BB22-BC22 -> 6 | BF22: =+BD22-BE22 -> 6 | BH22: =+BF22-BG22 -> 6 | BJ22: =+BH22-BI22 -> 6 | BL22: =+BJ22-BK22 -> 6 | BN22: =+BL22-BM22 -> 6 | BP22: =+BN22-BO22 -> 6 | BR22: =+BP22-BQ22 -> 6 | BT22: =+BR22-BS22 -> 6 | BV22: =+BT22-BU22 -> 6 | BX22: =+BV22-BW22 -> 6 | BZ22: =+BX22-BY22 -> 6 | CB22: =+BZ22-CA22 -> 6 | CD22: =+CB22-CC22 -> 6 | CF22: =+CD22-CE22 -> 6 | CH22: =+CF22-CG22 -> 6 | CJ22: =+CH22-CI22 -> 6 | CL22: =+CJ22-CK22 -> 6 | CN22: =+CL22-CM22 -> 6 | CP22: =+CN22-CO22 -> 6 | CR22: =+CP22-CQ22 -> 6 | CT22: =+CR22-CS22 -> 6 | CV22: =+CT22-CU22 -> 6 | CX22: =+CV22-CW22 -> 6 | CZ22: =+CX22-CY22 -> 6 | DB22: =+CZ22-DA22 -> 6 | DD22: =+DB22-DC22 -> 6 | DF22: =+DD22-DE22 -> 6 | DH22: =+DF22-DG22 -> 6 | DJ22: =+DH22-DI22 -> 6 | DL22: =+DJ22-DK22 -> 6 | DN22: =+DL22-DM22 -> 6 | DO22: *
A23: 0112 | B23: F | I23: 20 | K23: =SUM(C23:J24) -> 20 | M23: 5 | U23: =SUM(L23:T24) -> 5 | V23: Black | AH23: =SUM(W23:AG23) -> 0 | AL23: =SUM(AI23:AK23) -> 0 | AM23: =SUM(AL23,AH23,U23,K23,AH24,AL24) -> 25 | AN23: 0112-F (Black) | AO23: 49058-0112 QT | AP23: Carry | AQ23: =+FG!K20 -> 540 | AT23: =+AQ23-AS23-AR23 -> 540 | AV23: =+AT23-AU23 -> 540 | AX23: =+AV23-AW23 -> 540 | AZ23: =+AX23-AY23 -> 540 | BB23: =+AZ23-BA23 -> 540 | BD23: =+BB23-BC23 -> 540 | BF23: =+BD23-BE23 -> 540 | BH23: =+BF23-BG23 -> 540 | BJ23: =+BH23-BI23 -> 540 | BL23: =+BJ23-BK23 -> 540 | BN23: =+BL23-BM23 -> 540 | BP23: =+BN23-BO23 -> 540 | BR23: =+BP23-BQ23 -> 540 | BT23: =+BR23-BS23 -> 540 | BV23: =+BT23-BU23 -> 540 | BX23: =+BV23-BW23 -> 540 | BY23: 40 | BZ23: =+BX23-BY23 -> 500 | CB23: =+BZ23-CA23 -> 500 | CD23: =+CB23-CC23 -> 500 | CF23: =+CD23-CE23 -> 500 | CH23: =+CF23-CG23 -> 500 | CJ23: =+CH23-CI23 -> 500 | CL23: =+CJ23-CK23 -> 500 | CN23: =+CL23-CM23 -> 500 | CP23: =+CN23-CO23 -> 500 | CR23: =+CP23-CQ23 -> 500 | CT23: =+CR23-CS23 -> 500 | CV23: =+CT23-CU23 -> 500 | CX23: =+CV23-CW23 -> 500 | CZ23: =+CX23-CY23 -> 500 | DB23: =+CZ23-DA23 -> 500 | DD23: =+DB23-DC23 -> 500 | DF23: =+DD23-DE23 -> 500 | DH23: =+DF23-DG23 -> 500 | DJ23: =+DH23-DI23 -> 500 | DL23: =+DJ23-DK23 -> 500 | DN23: =+DL23-DM23 -> 500 | DO23: *
V24: Gold | AH24: =SUM(W24:AG24) -> 0 | AL24: =SUM(AI24:AK24) -> 0 | AN24: 0112-F (Gold) | AO24: 49058-0112 36C | AP24: Carry | AQ24: =+FG!K21 -> 75 | AT24: =+AQ24-AS24-AR24 -> 75 | AV24: =+AT24-AU24 -> 75 | AX24: =+AV24-AW24 -> 75 | AZ24: =+AX24-AY24 -> 75 | BB24: =+AZ24-BA24 -> 75 | BD24: =+BB24-BC24 -> 75 | BF24: =+BD24-BE24 -> 75 | BH24: =+BF24-BG24 -> 75 | BJ24: =+BH24-BI24 -> 75 | BL24: =+BJ24-BK24 -> 75 | BN24: =+BL24-BM24 -> 75 | BP24: =+BN24-BO24 -> 75 | BR24: =+BP24-BQ24 -> 75 | BT24: =+BR24-BS24 -> 75 | BV24: =+BT24-BU24 -> 75 | BX24: =+BV24-BW24 -> 75 | BZ24: =+BX24-BY24 -> 75 | CB24: =+BZ24-CA24 -> 75 | CD24: =+CB24-CC24 -> 75 | CF24: =+CD24-CE24 -> 75 | CH24: =+CF24-CG24 -> 75 | CJ24: =+CH24-CI24 -> 75 | CL24: =+CJ24-CK24 -> 75 | CN24: =+CL24-CM24 -> 75 | CP24: =+CN24-CO24 -> 75 | CR24: =+CP24-CQ24 -> 75 | CT24: =+CR24-CS24 -> 75 | CV24: =+CT24-CU24 -> 75 | CX24: =+CV24-CW24 -> 75 | CZ24: =+CX24-CY24 -> 75 | DB24: =+CZ24-DA24 -> 75 | DD24: =+DB24-DC24 -> 75 | DF24: =+DD24-DE24 -> 75 | DH24: =+DF24-DG24 -> 75 | DJ24: =+DH24-DI24 -> 75 | DL24: =+DJ24-DK24 -> 75 | DN24: =+DL24-DM24 -> 75 | DO24: *
A25: 0113 | B25: R | I25: 4 | K25: =SUM(C25:J26) -> 4 | M25: 4 | U25: =SUM(L25:T26) -> 4 | V25: Black | AH25: =SUM(W25:AG25) -> 0 | AL25: =SUM(AI25:AK25) -> 0 | AM25: =SUM(AL25,AH25,U25,K25,AH26,AL26) -> 8 | AN25: 0571-R (Black) | AO25: 49058-0571 QT | AP25: Carry | AQ25: =+FG!K22 -> 514 | AT25: =+AQ25-AS25-AR25 -> 514 | AV25: =+AT25-AU25 -> 514 | AX25: =+AV25-AW25 -> 514 | AZ25: =+AX25-AY25 -> 514 | BB25: =+AZ25-BA25 -> 514 | BD25: =+BB25-BC25 -> 514 | BF25: =+BD25-BE25 -> 514 | BH25: =+BF25-BG25 -> 514 | BJ25: =+BH25-BI25 -> 514 | BL25: =+BJ25-BK25 -> 514 | BN25: =+BL25-BM25 -> 514 | BP25: =+BN25-BO25 -> 514 | BR25: =+BP25-BQ25 -> 514 | BT25: =+BR25-BS25 -> 514 | BV25: =+BT25-BU25 -> 514 | BW25: 40 | BX25: =+BV25-BW25 -> 474 | BZ25: =+BX25-BY25 -> 474 | CB25: =+BZ25-CA25 -> 474 | CD25: =+CB25-CC25 -> 474 | CF25: =+CD25-CE25 -> 474 | CH25: =+CF25-CG25 -> 474 | CJ25: =+CH25-CI25 -> 474 | CL25: =+CJ25-CK25 -> 474 | CN25: =+CL25-CM25 -> 474 | CP25: =+CN25-CO25 -> 474 | CR25: =+CP25-CQ25 -> 474 | CT25: =+CR25-CS25 -> 474 | CV25: =+CT25-CU25 -> 474 | CX25: =+CV25-CW25 -> 474 | CZ25: =+CX25-CY25 -> 474 | DB25: =+CZ25-DA25 -> 474 | DD25: =+DB25-DC25 -> 474 | DF25: =+DD25-DE25 -> 474 | DH25: =+DF25-DG25 -> 474 | DJ25: =+DH25-DI25 -> 474 | DL25: =+DJ25-DK25 -> 474 | DN25: =+DL25-DM25 -> 474 | DO25: *
V26: Gold | AH26: =SUM(W26:AG26) -> 0 | AL26: =SUM(AI26:AK26) -> 0 | AN26: 0571-R (Gold) | AO26: 49058-0571 36C | AP26: Carry | AQ26: =+FG!K23 -> 57 | AT26: =+AQ26-AS26-AR26 -> 57 | AV26: =+AT26-AU26 -> 57 | AX26: =+AV26-AW26 -> 57 | AZ26: =+AX26-AY26 -> 57 | BB26: =+AZ26-BA26 -> 57 | BD26: =+BB26-BC26 -> 57 | BF26: =+BD26-BE26 -> 57 | BH26: =+BF26-BG26 -> 57 | BJ26: =+BH26-BI26 -> 57 | BL26: =+BJ26-BK26 -> 57 | BN26: =+BL26-BM26 -> 57 | BP26: =+BN26-BO26 -> 57 | BR26: =+BP26-BQ26 -> 57 | BT26: =+BR26-BS26 -> 57 | BV26: =+BT26-BU26 -> 57 | BX26: =+BV26-BW26 -> 57 | BZ26: =+BX26-BY26 -> 57 | CB26: =+BZ26-CA26 -> 57 | CD26: =+CB26-CC26 -> 57 | CF26: =+CD26-CE26 -> 57 | CH26: =+CF26-CG26 -> 57 | CJ26: =+CH26-CI26 -> 57 | CL26: =+CJ26-CK26 -> 57 | CN26: =+CL26-CM26 -> 57 | CP26: =+CN26-CO26 -> 57 | CR26: =+CP26-CQ26 -> 57 | CT26: =+CR26-CS26 -> 57 | CV26: =+CT26-CU26 -> 57 | CX26: =+CV26-CW26 -> 57 | CZ26: =+CX26-CY26 -> 57 | DB26: =+CZ26-DA26 -> 57 | DD26: =+DB26-DC26 -> 57 | DF26: =+DD26-DE26 -> 57 | DH26: =+DF26-DG26 -> 57 | DJ26: =+DH26-DI26 -> 57 | DL26: =+DJ26-DK26 -> 57 | DN26: =+DL26-DM26 -> 57 | DO26: *
A27: 0587 | B27: R | J27: 1 | K27: =SUM(C27:J37) -> 1 | U27: =SUM(L27:T37) -> 0 | V27: Black | AH27: =SUM(W27:AG37) -> 0 | AJ27: 4 | AL27: =SUM(AI27:AK37) -> 4 | AM27: =SUM(AL27,AH27,U27,K27) -> 5 | AN27: 0587-R (Black) | AO27: 49058-0587 QT | AP27: Carry | AQ27: =+FG!K24 -> 273 | AT27: =+AQ27-AS27-AR27 -> 273 | AV27: =+AT27-AU27 -> 273 | AX27: =+AV27-AW27 -> 273 | AZ27: =+AX27-AY27 -> 273 | BB27: =+AZ27-BA27 -> 273 | BD27: =+BB27-BC27 -> 273 | BF27: =+BD27-BE27 -> 273 | BH27: =+BF27-BG27 -> 273 | BJ27: =+BH27-BI27 -> 273 | BL27: =+BJ27-BK27 -> 273 | BN27: =+BL27-BM27 -> 273 | BP27: =+BN27-BO27 -> 273 | BR27: =+BP27-BQ27 -> 273 | BT27: =+BR27-BS27 -> 273 | BV27: =+BT27-BU27 -> 273 | BX27: =+BV27-BW27 -> 273 | BZ27: =+BX27-BY27 -> 273 | CB27: =+BZ27-CA27 -> 273 | CD27: =+CB27-CC27 -> 273 | CE27: 20 | CF27: =+CD27-CE27 -> 253 | CH27: =+CF27-CG27 -> 253 | CJ27: =+CH27-CI27 -> 253 | CL27: =+CJ27-CK27 -> 253 | CN27: =+CL27-CM27 -> 253 | CP27: =+CN27-CO27 -> 253 | CR27: =+CP27-CQ27 -> 253 | CS27: 40 | CT27: =+CR27-CS27 -> 213 | CU27: 40 | CV27: =+CT27-CU27 -> 173 | CX27: =+CV27-CW27 -> 173 | CZ27: =+CX27-CY27 -> 173 | DB27: =+CZ27-DA27 -> 173 | DD27: =+DB27-DC27 -> 173 | DF27: =+DD27-DE27 -> 173 | DH27: =+DF27-DG27 -> 173 | DJ27: =+DH27-DI27 -> 173 | DL27: =+DJ27-DK27 -> 173 | DN27: =+DL27-DM27 -> 173 | DO27: *
AN28: 0587-R (Black) | AO28: 49058-0587 QT | AP28: Pack BOX | AQ28: =+FG!K25 -> 500 | AT28: =+AQ28-AS28-AR28 -> 500 | AV28: =+AT28-AU28 -> 500 | AX28: =+AV28-AW28 -> 500 | AZ28: =+AX28-AY28 -> 500 | BB28: =+AZ28-BA28 -> 500 | BD28: =+BB28-BC28 -> 500 | BF28: =+BD28-BE28 -> 500 | BH28: =+BF28-BG28 -> 500 | BJ28: =+BH28-BI28 -> 500 | BL28: =+BJ28-BK28 -> 500 | BN28: =+BL28-BM28 -> 500 | BP28: =+BN28-BO28 -> 500 | BR28: =+BP28-BQ28 -> 500 | BT28: =+BR28-BS28 -> 500 | BV28: =+BT28-BU28 -> 500 | BX28: =+BV28-BW28 -> 500 | BZ28: =+BX28-BY28 -> 500 | CB28: =+BZ28-CA28 -> 500 | CD28: =+CB28-CC28 -> 500 | CF28: =+CD28-CE28 -> 500 | CH28: =+CF28-CG28 -> 500 | CJ28: =+CH28-CI28 -> 500 | CL28: =+CJ28-CK28 -> 500 | CN28: =+CL28-CM28 -> 500 | CP28: =+CN28-CO28 -> 500 | CR28: =+CP28-CQ28 -> 500 | CT28: =+CR28-CS28 -> 500 | CV28: =+CT28-CU28 -> 500 | CX28: =+CV28-CW28 -> 500 | CZ28: =+CX28-CY28 -> 500 | DB28: =+CZ28-DA28 -> 500 | DD28: =+DB28-DC28 -> 500 | DF28: =+DD28-DE28 -> 500 | DH28: =+DF28-DG28 -> 500 | DJ28: =+DH28-DI28 -> 500 | DL28: =+DJ28-DK28 -> 500 | DN28: =+DL28-DM28 -> 500
AN29: 0587-R (Sticker Green) | AO29: 49058-5039 QT | AP29: Carry | AQ29: =+FG!K26 -> 20 | AT29: =+AQ29-AS29-AR29 -> 20 | AV29: =+AT29-AU29 -> 20 | AX29: =+AV29-AW29 -> 20 | AZ29: =+AX29-AY29 -> 20 | BB29: =+AZ29-BA29 -> 20 | BD29: =+BB29-BC29 -> 20 | BF29: =+BD29-BE29 -> 20 | BH29: =+BF29-BG29 -> 20 | BJ29: =+BH29-BI29 -> 20 | BL29: =+BJ29-BK29 -> 20 | BN29: =+BL29-BM29 -> 20 | BP29: =+BN29-BO29 -> 20 | BR29: =+BP29-BQ29 -> 20 | BT29: =+BR29-BS29 -> 20 | BV29: =+BT29-BU29 -> 20 | BX29: =+BV29-BW29 -> 20 | BZ29: =+BX29-BY29 -> 20 | CB29: =+BZ29-CA29 -> 20 | CD29: =+CB29-CC29 -> 20 | CF29: =+CD29-CE29 -> 20 | CH29: =+CF29-CG29 -> 20 | CJ29: =+CH29-CI29 -> 20 | CL29: =+CJ29-CK29 -> 20 | CN29: =+CL29-CM29 -> 20 | CP29: =+CN29-CO29 -> 20 | CR29: =+CP29-CQ29 -> 20 | CS29: 20 | CT29: =+CR29-CS29 -> 0 | CU29: 40 | CV29: =+CT29-CU29 -> -40 | CX29: =+CV29-CW29 -> -40 | CZ29: =+CX29-CY29 -> -40 | DB29: =+CZ29-DA29 -> -40 | DD29: =+DB29-DC29 -> -40 | DF29: =+DD29-DE29 -> -40 | DH29: =+DF29-DG29 -> -40 | DJ29: =+DH29-DI29 -> -40 | DL29: =+DJ29-DK29 -> -40 | DN29: =+DL29-DM29 -> -40
AN30: 0587-R (Sticker Green) | AO30: 49058-5039 QT | AP30: Pack BOX | AQ30: =+FG!K27 -> 30 | AT30: =+AQ30-AS30-AR30 -> 30 | AV30: =+AT30-AU30 -> 30 | AX30: =+AV30-AW30 -> 30 | AZ30: =+AX30-AY30 -> 30 | BB30: =+AZ30-BA30 -> 30 | BD30: =+BB30-BC30 -> 30 | BF30: =+BD30-BE30 -> 30 | BH30: =+BF30-BG30 -> 30 | BJ30: =+BH30-BI30 -> 30 | BL30: =+BJ30-BK30 -> 30 | BN30: =+BL30-BM30 -> 30 | BP30: =+BN30-BO30 -> 30 | BR30: =+BP30-BQ30 -> 30 | BT30: =+BR30-BS30 -> 30 | BV30: =+BT30-BU30 -> 30 | BX30: =+BV30-BW30 -> 30 | BZ30: =+BX30-BY30 -> 30 | CB30: =+BZ30-CA30 -> 30 | CD30: =+CB30-CC30 -> 30 | CF30: =+CD30-CE30 -> 30 | CH30: =+CF30-CG30 -> 30 | CJ30: =+CH30-CI30 -> 30 | CL30: =+CJ30-CK30 -> 30 | CN30: =+CL30-CM30 -> 30 | CP30: =+CN30-CO30 -> 30 | CR30: =+CP30-CQ30 -> 30 | CT30: =+CR30-CS30 -> 30 | CV30: =+CT30-CU30 -> 30 | CX30: =+CV30-CW30 -> 30 | CZ30: =+CX30-CY30 -> 30 | DB30: =+CZ30-DA30 -> 30 | DD30: =+DB30-DC30 -> 30 | DF30: =+DD30-DE30 -> 30 | DH30: =+DF30-DG30 -> 30 | DJ30: =+DH30-DI30 -> 30 | DL30: =+DJ30-DK30 -> 30 | DN30: =+DL30-DM30 -> 30
AN31: 0587-R (Sticker-Red) | AO31: 49058-5041 QT | AP31: Carry | AQ31: =+FG!K28 -> 40 | AT31: =+AQ31-AS31-AR31 -> 40 | AV31: =+AT31-AU31 -> 40 | AX31: =+AV31-AW31 -> 40 | AZ31: =+AX31-AY31 -> 40 | BB31: =+AZ31-BA31 -> 40 | BD31: =+BB31-BC31 -> 40 | BF31: =+BD31-BE31 -> 40 | BH31: =+BF31-BG31 -> 40 | BJ31: =+BH31-BI31 -> 40 | BL31: =+BJ31-BK31 -> 40 | BN31: =+BL31-BM31 -> 40 | BP31: =+BN31-BO31 -> 40 | BR31: =+BP31-BQ31 -> 40 | BT31: =+BR31-BS31 -> 40 | BV31: =+BT31-BU31 -> 40 | BX31: =+BV31-BW31 -> 40 | BZ31: =+BX31-BY31 -> 40 | CB31: =+BZ31-CA31 -> 40 | CD31: =+CB31-CC31 -> 40 | CF31: =+CD31-CE31 -> 40 | CH31: =+CF31-CG31 -> 40 | CJ31: =+CH31-CI31 -> 40 | CL31: =+CJ31-CK31 -> 40 | CN31: =+CL31-CM31 -> 40 | CP31: =+CN31-CO31 -> 40 | CR31: =+CP31-CQ31 -> 40 | CT31: =+CR31-CS31 -> 40 | CV31: =+CT31-CU31 -> 40 | CX31: =+CV31-CW31 -> 40 | CZ31: =+CX31-CY31 -> 40 | DB31: =+CZ31-DA31 -> 40 | DD31: =+DB31-DC31 -> 40 | DF31: =+DD31-DE31 -> 40 | DH31: =+DF31-DG31 -> 40 | DJ31: =+DH31-DI31 -> 40 | DL31: =+DJ31-DK31 -> 40 | DN31: =+DL31-DM31 -> 40
AN32: 0587-R (Sticker-Red) | AO32: 49058-5041 QT | AP32: Pack BOX | AQ32: =+FG!K29 -> 20 | AT32: =+AQ32-AS32-AR32 -> 20 | AV32: =+AT32-AU32 -> 20 | AX32: =+AV32-AW32 -> 20 | AZ32: =+AX32-AY32 -> 20 | BB32: =+AZ32-BA32 -> 20 | BD32: =+BB32-BC32 -> 20 | BF32: =+BD32-BE32 -> 20 | BH32: =+BF32-BG32 -> 20 | BJ32: =+BH32-BI32 -> 20 | BL32: =+BJ32-BK32 -> 20 | BN32: =+BL32-BM32 -> 20 | BP32: =+BN32-BO32 -> 20 | BR32: =+BP32-BQ32 -> 20 | BT32: =+BR32-BS32 -> 20 | BV32: =+BT32-BU32 -> 20 | BX32: =+BV32-BW32 -> 20 | BZ32: =+BX32-BY32 -> 20 | CB32: =+BZ32-CA32 -> 20 | CD32: =+CB32-CC32 -> 20 | CF32: =+CD32-CE32 -> 20 | CH32: =+CF32-CG32 -> 20 | CJ32: =+CH32-CI32 -> 20 | CL32: =+CJ32-CK32 -> 20 | CN32: =+CL32-CM32 -> 20 | CP32: =+CN32-CO32 -> 20 | CR32: =+CP32-CQ32 -> 20 | CT32: =+CR32-CS32 -> 20 | CV32: =+CT32-CU32 -> 20 | CX32: =+CV32-CW32 -> 20 | CZ32: =+CX32-CY32 -> 20 | DB32: =+CZ32-DA32 -> 20 | DD32: =+DB32-DC32 -> 20 | DF32: =+DD32-DE32 -> 20 | DH32: =+DF32-DG32 -> 20 | DJ32: =+DH32-DI32 -> 20 | DL32: =+DJ32-DK32 -> 20 | DN32: =+DL32-DM32 -> 20
AN33: 0587-R (Sticker Orange) | AO33: 49058-5060 QT | AP33: Carry | AQ33: =+FG!K30 -> 30 | AT33: =+AQ33-AS33-AR33 -> 30 | AV33: =+AT33-AU33 -> 30 | AX33: =+AV33-AW33 -> 30 | AZ33: =+AX33-AY33 -> 30 | BB33: =+AZ33-BA33 -> 30 | BD33: =+BB33-BC33 -> 30 | BF33: =+BD33-BE33 -> 30 | BH33: =+BF33-BG33 -> 30 | BJ33: =+BH33-BI33 -> 30 | BL33: =+BJ33-BK33 -> 30 | BN33: =+BL33-BM33 -> 30 | BP33: =+BN33-BO33 -> 30 | BR33: =+BP33-BQ33 -> 30 | BT33: =+BR33-BS33 -> 30 | BV33: =+BT33-BU33 -> 30 | BX33: =+BV33-BW33 -> 30 | BZ33: =+BX33-BY33 -> 30 | CB33: =+BZ33-CA33 -> 30 | CD33: =+CB33-CC33 -> 30 | CF33: =+CD33-CE33 -> 30 | CH33: =+CF33-CG33 -> 30 | CJ33: =+CH33-CI33 -> 30 | CL33: =+CJ33-CK33 -> 30 | CN33: =+CL33-CM33 -> 30 | CP33: =+CN33-CO33 -> 30 | CR33: =+CP33-CQ33 -> 30 | CT33: =+CR33-CS33 -> 30 | CV33: =+CT33-CU33 -> 30 | CX33: =+CV33-CW33 -> 30 | CZ33: =+CX33-CY33 -> 30 | DB33: =+CZ33-DA33 -> 30 | DD33: =+DB33-DC33 -> 30 | DF33: =+DD33-DE33 -> 30 | DH33: =+DF33-DG33 -> 30 | DJ33: =+DH33-DI33 -> 30 | DL33: =+DJ33-DK33 -> 30 | DN33: =+DL33-DM33 -> 30
AN34: 0587-R (Sticker Orange) | AO34: 49058-5060 QT | AP34: Pack BOX | AQ34: =+FG!K31 -> 30 | AT34: =+AQ34-AS34-AR34 -> 30 | AV34: =+AT34-AU34 -> 30 | AX34: =+AV34-AW34 -> 30 | AZ34: =+AX34-AY34 -> 30 | BB34: =+AZ34-BA34 -> 30 | BD34: =+BB34-BC34 -> 30 | BF34: =+BD34-BE34 -> 30 | BH34: =+BF34-BG34 -> 30 | BJ34: =+BH34-BI34 -> 30 | BL34: =+BJ34-BK34 -> 30 | BN34: =+BL34-BM34 -> 30 | BP34: =+BN34-BO34 -> 30 | BR34: =+BP34-BQ34 -> 30 | BT34: =+BR34-BS34 -> 30 | BV34: =+BT34-BU34 -> 30 | BX34: =+BV34-BW34 -> 30 | BZ34: =+BX34-BY34 -> 30 | CB34: =+BZ34-CA34 -> 30 | CD34: =+CB34-CC34 -> 30 | CF34: =+CD34-CE34 -> 30 | CH34: =+CF34-CG34 -> 30 | CJ34: =+CH34-CI34 -> 30 | CL34: =+CJ34-CK34 -> 30 | CN34: =+CL34-CM34 -> 30 | CP34: =+CN34-CO34 -> 30 | CR34: =+CP34-CQ34 -> 30 | CT34: =+CR34-CS34 -> 30 | CV34: =+CT34-CU34 -> 30 | CX34: =+CV34-CW34 -> 30 | CZ34: =+CX34-CY34 -> 30 | DB34: =+CZ34-DA34 -> 30 | DD34: =+DB34-DC34 -> 30 | DF34: =+DD34-DE34 -> 30 | DH34: =+DF34-DG34 -> 30 | DJ34: =+DH34-DI34 -> 30 | DL34: =+DJ34-DK34 -> 30 | DN34: =+DL34-DM34 -> 30
AN35: 0587-R (Sticker Green) | AO35: 49058-5128 QT | AP35: Carry | AQ35: =+FG!K32 -> 30 | AT35: =+AQ35-AS35-AR35 -> 30 | AV35: =+AT35-AU35 -> 30 | AX35: =+AV35-AW35 -> 30 | AZ35: =+AX35-AY35 -> 30 | BB35: =+AZ35-BA35 -> 30 | BD35: =+BB35-BC35 -> 30 | BF35: =+BD35-BE35 -> 30 | BH35: =+BF35-BG35 -> 30 | BJ35: =+BH35-BI35 -> 30 | BL35: =+BJ35-BK35 -> 30 | BN35: =+BL35-BM35 -> 30 | BP35: =+BN35-BO35 -> 30 | BR35: =+BP35-BQ35 -> 30 | BT35: =+BR35-BS35 -> 30 | BV35: =+BT35-BU35 -> 30 | BX35: =+BV35-BW35 -> 30 | BZ35: =+BX35-BY35 -> 30 | CB35: =+BZ35-CA35 -> 30 | CD35: =+CB35-CC35 -> 30 | CF35: =+CD35-CE35 -> 30 | CH35: =+CF35-CG35 -> 30 | CJ35: =+CH35-CI35 -> 30 | CL35: =+CJ35-CK35 -> 30 | CN35: =+CL35-CM35 -> 30 | CP35: =+CN35-CO35 -> 30 | CR35: =+CP35-CQ35 -> 30 | CT35: =+CR35-CS35 -> 30 | CV35: =+CT35-CU35 -> 30 | CX35: =+CV35-CW35 -> 30 | CZ35: =+CX35-CY35 -> 30 | DB35: =+CZ35-DA35 -> 30 | DD35: =+DB35-DC35 -> 30 | DF35: =+DD35-DE35 -> 30 | DH35: =+DF35-DG35 -> 30 | DJ35: =+DH35-DI35 -> 30 | DL35: =+DJ35-DK35 -> 30 | DN35: =+DL35-DM35 -> 30
AN36: 0587-R (Sticker-Red) | AO36: 49058-5130 QT | AP36: Carry | AQ36: =+FG!K33 -> 0 | AT36: =+AQ36-AS36-AR36 -> 0 | AV36: =+AT36-AU36 -> 0 | AX36: =+AV36-AW36 -> 0 | AZ36: =+AX36-AY36 -> 0 | BB36: =+AZ36-BA36 -> 0 | BD36: =+BB36-BC36 -> 0 | BF36: =+BD36-BE36 -> 0 | BH36: =+BF36-BG36 -> 0 | BJ36: =+BH36-BI36 -> 0 | BL36: =+BJ36-BK36 -> 0 | BN36: =+BL36-BM36 -> 0 | BP36: =+BN36-BO36 -> 0 | BR36: =+BP36-BQ36 -> 0 | BT36: =+BR36-BS36 -> 0 | BV36: =+BT36-BU36 -> 0 | BX36: =+BV36-BW36 -> 0 | BZ36: =+BX36-BY36 -> 0 | CB36: =+BZ36-CA36 -> 0 | CD36: =+CB36-CC36 -> 0 | CF36: =+CD36-CE36 -> 0 | CH36: =+CF36-CG36 -> 0 | CJ36: =+CH36-CI36 -> 0 | CL36: =+CJ36-CK36 -> 0 | CN36: =+CL36-CM36 -> 0 | CP36: =+CN36-CO36 -> 0 | CR36: =+CP36-CQ36 -> 0 | CT36: =+CR36-CS36 -> 0 | CV36: =+CT36-CU36 -> 0 | CX36: =+CV36-CW36 -> 0 | CZ36: =+CX36-CY36 -> 0 | DB36: =+CZ36-DA36 -> 0 | DD36: =+DB36-DC36 -> 0 | DF36: =+DD36-DE36 -> 0 | DH36: =+DF36-DG36 -> 0 | DJ36: =+DH36-DI36 -> 0 | DL36: =+DJ36-DK36 -> 0 | DN36: =+DL36-DM36 -> 0
AN37: 0587-R (Sticker Blue) | AO37: 49058-5132 QT | AP37: Carry | AQ37: =+FG!K34 -> 0 | AT37: =+AQ37-AS37-AR37 -> 0 | AV37: =+AT37-AU37 -> 0 | AX37: =+AV37-AW37 -> 0 | AZ37: =+AX37-AY37 -> 0 | BB37: =+AZ37-BA37 -> 0 | BD37: =+BB37-BC37 -> 0 | BF37: =+BD37-BE37 -> 0 | BH37: =+BF37-BG37 -> 0 | BJ37: =+BH37-BI37 -> 0 | BL37: =+BJ37-BK37 -> 0 | BN37: =+BL37-BM37 -> 0 | BP37: =+BN37-BO37 -> 0 | BQ37: 1 | BR37: =+BP37-BQ37 -> -1 | BT37: =+BR37-BS37 -> -1 | BV37: =+BT37-BU37 -> -1 | BX37: =+BV37-BW37 -> -1 | BZ37: =+BX37-BY37 -> -1 | CB37: =+BZ37-CA37 -> -1 | CD37: =+CB37-CC37 -> -1 | CF37: =+CD37-CE37 -> -1 | CH37: =+CF37-CG37 -> -1 | CJ37: =+CH37-CI37 -> -1 | CL37: =+CJ37-CK37 -> -1 | CN37: =+CL37-CM37 -> -1 | CP37: =+CN37-CO37 -> -1 | CR37: =+CP37-CQ37 -> -1 | CT37: =+CR37-CS37 -> -1 | CV37: =+CT37-CU37 -> -1 | CX37: =+CV37-CW37 -> -1 | CZ37: =+CX37-CY37 -> -1 | DB37: =+CZ37-DA37 -> -1 | DD37: =+DB37-DC37 -> -1 | DF37: =+DD37-DE37 -> -1 | DH37: =+DF37-DG37 -> -1 | DJ37: =+DH37-DI37 -> -1 | DL37: =+DJ37-DK37 -> -1 | DN37: =+DL37-DM37 -> -1 | DO37: *
A38: 0593 | B38: F | K38: =SUM(C38:J38) -> 0 | U38: =SUM(L38:T38) -> 0 | V38: Black | AH38: =SUM(W38:AG38) -> 0 | AL38: =SUM(AI38:AK38) -> 0 | AM38: =SUM(K38,U38,AH38,AL38) -> 0 | AN38: 0593-F (Black) | AO38: 49058-0593 R2 | AP38: Carry | AQ38: =+FG!K35 -> 17 | AT38: =+AQ38-AS38-AR38 -> 17 | AV38: =+AT38-AU38 -> 17 | AX38: =+AV38-AW38 -> 17 | AZ38: =+AX38-AY38 -> 17 | BB38: =+AZ38-BA38 -> 17 | BD38: =+BB38-BC38 -> 17 | BF38: =+BD38-BE38 -> 17 | BH38: =+BF38-BG38 -> 17 | BJ38: =+BH38-BI38 -> 17 | BL38: =+BJ38-BK38 -> 17 | BN38: =+BL38-BM38 -> 17 | BP38: =+BN38-BO38 -> 17 | BR38: =+BP38-BQ38 -> 17 | BT38: =+BR38-BS38 -> 17 | BV38: =+BT38-BU38 -> 17 | BX38: =+BV38-BW38 -> 17 | BZ38: =+BX38-BY38 -> 17 | CB38: =+BZ38-CA38 -> 17 | CD38: =+CB38-CC38 -> 17 | CF38: =+CD38-CE38 -> 17 | CH38: =+CF38-CG38 -> 17 | CI38: 5 | CJ38: =+CH38-CI38 -> 12 | CL38: =+CJ38-CK38 -> 12 | CN38: =+CL38-CM38 -> 12 | CP38: =+CN38-CO38 -> 12 | CR38: =+CP38-CQ38 -> 12 | CT38: =+CR38-CS38 -> 12 | CV38: =+CT38-CU38 -> 12 | CX38: =+CV38-CW38 -> 12 | CZ38: =+CX38-CY38 -> 12 | DB38: =+CZ38-DA38 -> 12 | DD38: =+DB38-DC38 -> 12 | DF38: =+DD38-DE38 -> 12 | DH38: =+DF38-DG38 -> 12 | DJ38: =+DH38-DI38 -> 12 | DL38: =+DJ38-DK38 -> 12 | DN38: =+DL38-DM38 -> 12
A39: 0594 | B39: R | K39: =SUM(C39:J39) -> 0 | U39: =SUM(L39:T39) -> 0 | V39: Black | AD39: 3 | AH39: =SUM(W39:AG39) -> 3 | AL39: =SUM(AI39:AK39) -> 0 | AM39: =SUM(K39,U39,AH39,AL39) -> 3 | AN39: 0594-R (Black) | AO39: 49058-0594 QT | AP39: Carry | AQ39: =+FG!K36 -> 159 | AT39: =+AQ39-AS39-AR39 -> 159 | AV39: =+AT39-AU39 -> 159 | AX39: =+AV39-AW39 -> 159 | AZ39: =+AX39-AY39 -> 159 | BB39: =+AZ39-BA39 -> 159 | BD39: =+BB39-BC39 -> 159 | BF39: =+BD39-BE39 -> 159 | BH39: =+BF39-BG39 -> 159 | BJ39: =+BH39-BI39 -> 159 | BL39: =+BJ39-BK39 -> 159 | BN39: =+BL39-BM39 -> 159 | BP39: =+BN39-BO39 -> 159 | BR39: =+BP39-BQ39 -> 159 | BT39: =+BR39-BS39 -> 159 | BV39: =+BT39-BU39 -> 159 | BX39: =+BV39-BW39 -> 159 | BZ39: =+BX39-BY39 -> 159 | CB39: =+BZ39-CA39 -> 159 | CD39: =+CB39-CC39 -> 159 | CF39: =+CD39-CE39 -> 159 | CH39: =+CF39-CG39 -> 159 | CJ39: =+CH39-CI39 -> 159 | CL39: =+CJ39-CK39 -> 159 | CN39: =+CL39-CM39 -> 159 | CP39: =+CN39-CO39 -> 159 | CR39: =+CP39-CQ39 -> 159 | CT39: =+CR39-CS39 -> 159 | CV39: =+CT39-CU39 -> 159 | CX39: =+CV39-CW39 -> 159 | CZ39: =+CX39-CY39 -> 159 | DB39: =+CZ39-DA39 -> 159 | DD39: =+DB39-DC39 -> 159 | DF39: =+DD39-DE39 -> 159 | DH39: =+DF39-DG39 -> 159 | DJ39: =+DH39-DI39 -> 159 | DL39: =+DJ39-DK39 -> 159 | DN39: =+DL39-DM39 -> 159
K40: =2730-K6 -> 2658 | U40: =1256-U6 -> 1210 | AH40: =SUM(W6:AE6)-2108 -> -1950 | AK40: =SUM(AI6:AJ6)-447 -> -437 | AQ40: =SUM(AQ7:AQ39) -> 3408 | AR40: =SUM(AR7:AR39) -> 0 | AS40: =SUM(AS7:AS39) -> 120 | AT40: =SUM(AT7:AT39) -> 3288 | AU40: =SUM(AU7:AU39) -> 160 | AV40: =SUM(AV7:AV39) -> 3128 | AW40: =SUM(AW7:AW39) -> 120 | AX40: =SUM(AX7:AX39) -> 3008 | ... DN40: =SUM(DN7:DN39) -> 820 | DO40: *
BE42: =SUM(#REF!,#REF!,#REF!,#REF!,#REF!,#REF!,#REF!,#REF!,#REF!,#REF!,#REF!,#REF!,#REF!,#REF!,#REF!,#REF!,#REF!,#REF!,#REF!,#REF!,#REF!,#REF!,#REF!,#REF!,#REF!,#REF!,#REF!,#REF!,#REF!,#REF!,#REF!,#REF!,#REF!) -> #REF! | BF42: =SUM(#REF!,#REF!,#REF!,#REF!,#REF!,#REF!,#REF!,#REF!,#REF!,#REF!,#REF!,#REF!,#REF!,#REF!,#REF!,#REF!,#REF!,#REF!,#REF!,#REF!,#REF!,#REF!,#REF!,#REF!,#REF!,#REF!,#REF!,#REF!,#REF!,#REF!,#REF!,#REF!,#REF!) -> #REF! | BG42: =SUM(#REF!,#REF!,#REF!,#REF!,#REF!,#REF!,#REF!,#REF!,#REF!,#REF!,#REF!,#REF!,#REF!,#REF!,#REF!,#REF!,#REF!,#REF!,#REF!,#REF!,#REF!,#REF!,#REF!,#REF!,#REF!,#REF!,#REF!,#REF!,#REF!,#REF!,#REF!,#REF!,#REF!) -> #REF! | BH42: =SUM(#REF!,#REF!,#REF!,#REF!,#REF!,#REF!,#REF!,#REF!,#REF!,#REF!,#REF!,#REF!,#REF!,#REF!,#REF!,#REF!,#REF!,#REF!,#REF!,#REF!,#REF!,#REF!,#REF!,#REF!,#REF!,#REF!,#REF!,#REF!,#REF!,#REF!,#REF!,#REF!,#REF!) -> #REF! | BI42: =SUM(#REF!,#REF!,#REF!,#REF!,#REF!,#REF!,#REF!,#REF!,#REF!,#REF!,#REF!,#REF!,#REF!,#REF!,#REF!,#REF!,#REF!,#REF!,#REF!,#REF!,#REF!,#REF!,#REF!,#REF!,#REF!,#REF!,#REF!,#REF!,#REF!,#REF!,#REF!,#REF!,#REF!) -> #REF! | BJ42: =SUM(#REF!,#REF!,#REF!,#REF!,#REF!,#REF!,#REF!,#REF!,#REF!,#REF!,#REF!,#REF!,#REF!,#REF!,#REF!,#REF!,#REF!,#REF!,#REF!,#REF!,#REF!,#REF!,#REF!,#REF!,#REF!,#REF!,#REF!,#REF!,#REF!,#REF!,#REF!,#REF!,#REF!) -> #REF! | BK42: =SUM(#REF!,#REF!,#REF!,#REF!,#REF!,#REF!,#REF!,#REF!,#REF!,#REF!,#REF!,#REF!,#REF!,#REF!,#REF!,#REF!,#REF!,#REF!,#REF!,#REF!,#REF!,#REF!,#REF!,#REF!,#REF!,#REF!,#REF!,#REF!,#REF!,#REF!,#REF!,#REF!,#REF!) -> #REF! | BL42: =SUM(#REF!,#REF!,#REF!,#REF!,#REF!,#REF!,#REF!,#REF!,#REF!,#REF!,#REF!,#REF!,#REF!,#REF!,#REF!,#REF!,#REF!,#REF!,#REF!,#REF!,#REF!,#REF!,#REF!,#REF!,#REF!,#REF!,#REF!,#REF!,#REF!,#REF!,#REF!,#REF!,#REF!) -> #REF! | ... DN42: =SUM(#REF!,#REF!,#REF!,#REF!,#REF!,#REF!,#REF!,#REF!,#REF!,#REF!,#REF!,#REF!,#REF!,#REF!,#REF!,#REF!,#REF!,#REF!,#REF!,#REF!,#REF!,#REF!,#REF!,#REF!,#REF!,#REF!,#REF!,#REF!,#REF!,#REF!,#REF!,#REF!,#REF!) -> #REF!
BO43: 8 | BQ43: =20+10+32+32 -> 94 | CE43: =16+16+32+32 -> 96 | CS43: =20+20+16+16+32+32 -> 136 | DG43: =16*4 -> 64

Sheet Sale
A3: Model | B3: Type | C3: Model | D3: Part No. | E3: Pack Spec. | F3: Plan | G3: 42186 | H3: 42187 | I3: 42188 | J3: 42189 | K3: 42190 | L3: 42191 | M3: 42192 | N3: 42193 | O3: 42194 | P3: 42195 | Q3: 42196 | R3: 42197 | S3: 42198 | T3: 42199 | U3: 42200 | V3: 42201 | W3: 42202 | X3: 42203 | Y3: 42204 | Z3: 42205 | AA3: 42206 | AB3: 42207 | AC3: 42208 | AD3: 42209 | AE3: 42210 | AF3: 42211 | AG3: 42212 | AH3: 42213 | AI3: 42214 | AJ3: 42215 | AK3: 42216
A4: 0090 | B4: R | C4: 0090-R (Black) | D4: 49058-0090 QT | E4: Pack BOX | F4: =SUM(G4:AK4) -> 0
C5: 0090-R (Black) | D5: 49058-0090 QT | E5: Carry | F5: =SUM(G5:AK5) -> 0
A6: 0558 | B6: R | C6: 0558-R (Black) | D6: 49058-0558 QT | E6: Carry | F6: =SUM(G6:AK6) -> 1060 | G6: 40 | H6: 80 | I6: 60 | L6: 60 | M6: 60 | N6: 40 | O6: 40 | P6: 40 | S6: 40 | T6: 40 | U6: 40 | V6: 60 | W6: 60 | Z6: 40 | AA6: 40 | AB6: 60 | AC6: 80 | AD6: 40 | AG6: 60 | AH6: 80
C7: 0558-R (Black) | D7: 49058-0558 QT | E7: Pack BOX | F7: =SUM(G7:AK7) -> 40 | H7: 20 | M7: 20
C8: 0558-R (Sticker Green) | D8: 49058-5079 QT | E8: Pack BOX | F8: =SUM(G8:AK8) -> 0
C9: 0558-R (Sticker Green) | D9: 49058-5079 QT | E9: Carry | F9: =SUM(G9:AK9) -> 320 | G9: 40 | H9: 20 | I9: 20 | L9: 20 | M9: 20 | O9: 20 | S9: 40 | U9: 20 | V9: 20 | Z9: 20 | AA9: 20 | AB9: 20 | AD9: 20 | AH9: 20
C10: 0558-R (Sticker Red) | D10: 49058-5081 QT | E10: Pack BOX | F10: =SUM(G10:AK10) -> 0
C11: 0558-R (Sticker Red) | D11: 49058-5081 QT | E11: Carry | F11: =SUM(G11:AK11) -> 0
C12: 0558-R (Sticker Green) | D12: 49058-5121 QT | E12: Carry | F12: =SUM(G12:AK12) -> 540 | G12: 20 | H12: 20 | I12: 20 | L12: 20 | N12: 60 | O12: 40 | P12: 40 | S12: 40 | T12: 20 | U12: 20 | V12: 20 | W12: 20 | Z12: 20 | AA12: 40 | AB12: 40 | AC12: 20 | AD12: 20 | AG12: 40 | AH12: 20
C13: 0558-R (Sticker Red) | D13: 49058-5125 QT | E13: Carry | F13: =SUM(G13:AK13) -> 100 | M13: 20 | T13: 20 | U13: 20 | AA13: 20 | AC13: 20
C14: 0558-R (Sticker Orange) | D14: 49058-5127 QT | E14: Carry | F14: =SUM(G14:AK14) -> 280 | G14: 20 | H14: 20 | I14: 20 | N14: 40 | S14: 20 | U14: 40 | W14: 20 | Z14: 40 | AC14: 20 | AD14: 20 | AG14: 20
C15: 0558-R (Sticker Red) | D15: 49058-5146 QT New | E15: Carry | F15: =SUM(G15:AK15) -> 1 | AD15: 1
C16: 0558-R (Sticker Orange) | D16: 49058-5148 QT New | E16: Carry | F16: =SUM(G16:AK16) -> 1 | AD16: 1
C17: 0558-R (Gold) | D17: 49058-0558 36C | E17: Carry | F17: =SUM(G17:AK17) -> 0
C18: 0558P-R (Red) | D18: 49058-0558 35W | E18: Carry | F18: =SUM(G18:AK18) -> 0
C19: 0558-R (Yellow) | D19: 49058-0558 35X | E19: Carry | F19: =SUM(G19:AK19) -> 0
A20: 0112 | B20: F | C20: 0112-F (Black) | D20: 49058-0112 QT | E20: Carry | F20: =SUM(G20:AK20) -> 400 | G20: 50 | H20: 60 | I20: 30 | M20: 20 | N20: 50 | O20: 50 | P20: 50 | S20: 50 | W20: 40
C21: 0112-F (Gold) | D21: 49058-0112 36C | E21: Carry | F21: =SUM(G21:AK21) -> 0
A22: 0113 | B22: R | C22: 0571-R (Black) | D22: 49058-0571 QT | E22: Carry | F22: =SUM(G22:AK22) -> 40 | V22: 40
C23: 0571-R (Gold) | D23: 49058-0571 36C | E23: Carry | F23: =SUM(G23:AK23) -> 0
A24: 0587 | B24: R | C24: 0587-R (Black) | D24: 49058-0587 QT | E24: Carry | F24: =SUM(G24:AK24) -> 1060 | G24: 40 | H24: 80 | I24: 60 | L24: 60 | M24: 60 | N24: 40 | O24: 40 | P24: 40 | S24: 40 | T24: 40 | U24: 40 | V24: 60 | W24: 60 | Z24: 40 | AA24: 40 | AB24: 60 | AC24: 80 | AD24: 40 | AG24: 60 | AH24: 80
C25: 0587-R (Black) | D25: 49058-0587 QT | E25: Pack BOX | F25: =SUM(G25:AK25) -> 40 | H25: 20 | M25: 20
C26: 0587-R (Sticker Green) | D26: 49058-5039 QT | E26: Carry | F26: =SUM(G26:AK26) -> 0
C27: 0587-R (Sticker Green) | D27: 49058-5039 QT | E27: Pack BOX | F27: =SUM(G27:AK27) -> 320 | G27: 40 | H27: 20 | I27: 20 | L27: 20 | M27: 20 | O27: 20 | S27: 40 | U27: 20 | V27: 20 | Z27: 20 | AA27: 20 | AB27: 20 | AD27: 20 | AH27: 20
C28: 0587-R (Sticker-Red) | D28: 49058-5041 QT | E28: Carry | F28: =SUM(G28:AK28) -> 0
C29: 0587-R (Sticker-Red) | D29: 49058-5041 QT | E29: Pack BOX | F29: =SUM(G29:AK29) -> 0
C30: 0587-R (Sticker Orange) | D30: 49058-5060 QT | E30: Carry | F30: =SUM(G30:AK30) -> 540 | G30: 20 | H30: 20 | I30: 20 | L30: 20 | N30: 60 | O30: 40 | P30: 40 | S30: 40 | T30: 20 | U30: 20 | V30: 20 | W30: 20 | Z30: 20 | AA30: 40 | AB30: 40 | AC30: 20 | AD30: 20 | AG30: 40 | AH30: 20
C31: 0587-R (Sticker Orange) | D31: 49058-5060 QT | E31: Pack BOX | F31: =SUM(G31:AK31) -> 100 | M31: 20 | T31: 20 | U31: 20 | AA31: 20 | AC31: 20
C32: 0587-R (Sticker Green) | D32: 49058-5128 QT | E32: Carry | F32: =SUM(G32:AK32) -> 280 | G32: 20 | H32: 20 | I32: 20 | N32: 40 | S32: 20 | U32: 40 | W32: 20 | Z32: 40 | AC32: 20 | AD32: 20 | AG32: 20
C33: 0587-R (Sticker-Red) | D33: 49058-5130 QT | E33: Carry | F33: =SUM(G33:AK33) -> 0
C34: 0587-R (Sticker Blue) | D34: 49058-5132 QT | E34: Carry | F34: =SUM(G34:AK34) -> 1 | S34: 1
A35: 0593 | B35: F | C35: 0593-F (Black) | D35: 49058-0593 R2 | E35: Carry | F35: =SUM(G35:AK35) -> 5 | AB35: 5
A36: 0594 | B36: R | C36: 0594-R (Black) | D36: 49058-0594 QT | E36: Carry | F36: =SUM(G36:AK36) -> 0
F37: =SUM(F4:F36) -> 5128 | G37: =SUM(G4:G36) -> 290 | H37: =SUM(H4:H36) -> 380 | I37: =SUM(I4:I36) -> 270 | J37: =SUM(J4:J36) -> 0 | K37: =SUM(K4:K36) -> 0 | L37: =SUM(L4:L36) -> 200 | M37: =SUM(M4:M36) -> 260 | ... AK37: =SUM(AK4:AK36) -> 0

Sheet FG
G1: =+G37 -> 3328 | H1: =+H37 -> 0 | I1: =+I37 -> 80 | J1: =+J37 -> 0 | K1: =+K37 -> 3408 | L1: =+L37 -> 0 | M1: =+M37 -> 0 | N1: =+N37 -> 0 | ... FE1: =+FE37 -> 0
F2: End of month | G2: 42186 | L2: 42187 | Q2: 42188 | V2: 42189 | AA2: 42190 | AF2: 42191 | AK2: 42192 | AP2: 42193 | AU2: 42194 | AZ2: 42195 | BE2: 42196 | BJ2: 42197 | BO2: 42198 | BT2: 42199 | BY2: 42200 | CD2: 42201 | CI2: 42202 | CN2: 42203 | CS2: 42204 | CX2: 42205 | DC2: 42206 | DH2: 42207 | DM2: 42208 | DR2: 42209 | DW2: 42210 | EB2: 42211 | EG2: 42212 | EL2: 42213 | EQ2: 42214 | EV2: 42215 | FA2: 42216
A3: Model | B3: Type | C3: Model | D3: Part No. | E3: Pack Spec. | F3: FG. | G3: Nigth | H3: Temporary | I3: Day | J3: Temporary | K3: Sum FG | L3: Nigth | M3: Temporary | N3: Day | O3: Temporary | P3: Sum FG | Q3: Nigth | R3: Temporary | S3: Day | T3: Temporary | U3: Sum FG | V3: Nigth | W3: Temporary | X3: Day | Y3: Temporary | Z3: Sum FG | AA3: Nigth | AB3: Temporary | AC3: Day | AD3: Temporary | AE3: Sum FG | AF3: Nigth | AG3: Temporary | AH3: Day | AI3: Temporary | AJ3: Sum FG | AK3: Nigth | AL3: Temporary | AM3: Day | AN3: Temporary | AO3: Sum FG | AP3: Nigth | AQ3: Temporary | AR3: Day | AS3: Temporary | AT3: Sum FG | AU3: Nigth | AV3: Temporary | AW3: Day | AX3: Temporary | AY3: Sum FG | AZ3: Nigth | BA3: Temporary | BB3: Day | BC3: Temporary | BD3: Sum FG | BE3: Nigth | BF3: Temporary | BG3: Day | BH3: Temporary | BI3: Sum FG | BJ3: Nigth | BK3: Temporary | BL3: Day | BM3: Temporary | BN3: Sum FG | BO3: Nigth | BP3: Temporary | BQ3: Day | BR3: Temporary | BS3: Sum FG | BT3: Nigth | BU3: Temporary | BV3: Day | BW3: Temporary | BX3: Sum FG | BY3: Nigth | BZ3: Temporary | CA3: Day | CB3: Temporary | CC3: Sum FG | CD3: Nigth | CE3: Temporary | CF3: Day | CG3: Temporary | CH3: Sum FG | CI3: Nigth | CJ3: Temporary | CK3: Day | CL3: Temporary | CM3: Sum FG | CN3: Nigth | CO3: Temporary | CP3: Day | CQ3: Temporary | CR3: Sum FG | CS3: Nigth | CT3: Temporary | CU3: Day | CV3: Temporary | CW3: Sum FG | CX3: Nigth | CY3: Temporary | CZ3: Day | DA3: Temporary | DB3: Sum FG | DC3: Nigth | DD3: Temporary | DE3: Day | DF3: Temporary | DG3: Sum FG | DH3: Nigth | DI3: Temporary | DJ3: Day | DK3: Temporary | DL3: Sum FG | DM3: Nigth | DN3: Temporary | DO3: Day | DP3: Temporary | DQ3: Sum FG | DR3: Nigth | DS3: Temporary | DT3: Day | DU3: Temporary | DV3: Sum FG | DW3: Nigth | DX3: Temporary | DY3: Day | DZ3: Temporary | EA3: Sum FG | EB3: Nigth | EC3: Temporary | ED3: Day | EE3: Temporary | EF3: Sum FG | EG3: Nigth | EH3: Temporary | EI3: Day | EJ3: Temporary | EK3: Sum FG | EL3: Nigth | EM3: Temporary | EN3: Day | EO3: Temporary | EP3: Sum FG | EQ3: Nigth | ER3: Temporary | ES3: Day | ET3: Temporary | EU3: Sum FG | EV3: Nigth | EW3: Temporary | EX3: Day | EY3: Temporary | EZ3: Sum FG | FA3: Nigth | FB3: Temporary | FC3: Day | FD3: Temporary | FE3: Sum FG
A4: 0090 | B4: R | C4: 0090-R (Black) | D4: 49058-0090 QT | E4: Pack BOX | F4: =+K4 -> 0 | G4: 0 | K4: =SUM(G4,I4) -> 0 | P4: =SUM(L4,N4) -> 0 | U4: =SUM(Q4,S4) -> 0 | Z4: =SUM(V4,X4) -> 0 | AE4: =SUM(AA4,AC4) -> 0 | AJ4: =SUM(AF4,AH4) -> 0 | AO4: =SUM(AK4,AM4) -> 0 | AT4: =SUM(AP4,AR4) -> 0 | AY4: =SUM(AU4,AW4) -> 0 | BD4: =SUM(AZ4,BB4) -> 0 | BI4: =SUM(BE4,BG4) -> 0 | BN4: =SUM(BJ4,BL4) -> 0 | BS4: =SUM(BO4,BQ4) -> 0 | BX4: =SUM(BT4,BV4) -> 0 | CC4: =SUM(BY4,CA4) -> 0 | CH4: =SUM(CD4,CF4) -> 0 | CM4: =SUM(CI4,CK4) -> 0 | CR4: =SUM(CN4,CP4) -> 0 | CW4: =SUM(CS4,CU4) -> 0 | DB4: =SUM(CX4,CZ4) -> 0 | DG4: =SUM(DC4,DE4) -> 0 | DL4: =SUM(DH4,DJ4) -> 0 | DQ4: =SUM(DM4,DO4) -> 0 | DV4: =SUM(DR4,DT4) -> 0 | EA4: =SUM(DW4,DY4) -> 0 | EF4: =SUM(EB4,ED4) -> 0 | EK4: =SUM(EG4,EI4) -> 0 | EP4: =SUM(EL4,EN4) -> 0 | EU4: =SUM(EQ4,ES4) -> 0 | EZ4: =SUM(EV4,EX4) -> 0 | FE4: =SUM(FA4,FC4) -> 0
C5: 0090-R (Black) | D5: 49058-0090 QT | E5: Carry | F5: =+K5 -> 162 | G5: 162 | K5: =SUM(G5,I5) -> 162 | P5: =SUM(L5,N5) -> 0 | U5: =SUM(Q5,S5) -> 0 | Z5: =SUM(V5,X5) -> 0 | AE5: =SUM(AA5,AC5) -> 0 | AJ5: =SUM(AF5,AH5) -> 0 | AO5: =SUM(AK5,AM5) -> 0 | AT5: =SUM(AP5,AR5) -> 0 | AY5: =SUM(AU5,AW5) -> 0 | BD5: =SUM(AZ5,BB5) -> 0 | BI5: =SUM(BE5,BG5) -> 0 | BN5: =SUM(BJ5,BL5) -> 0 | BS5: =SUM(BO5,BQ5) -> 0 | BX5: =SUM(BT5,BV5) -> 0 | CC5: =SUM(BY5,CA5) -> 0 | CH5: =SUM(CD5,CF5) -> 0 | CM5: =SUM(CI5,CK5) -> 0 | CR5: =SUM(CN5,CP5) -> 0 | CW5: =SUM(CS5,CU5) -> 0 | DB5: =SUM(CX5,CZ5) -> 0 | DG5: =SUM(DC5,DE5) -> 0 | DL5: =SUM(DH5,DJ5) -> 0 | DQ5: =SUM(DM5,DO5) -> 0 | DV5: =SUM(DR5,DT5) -> 0 | EA5: =SUM(DW5,DY5) -> 0 | EF5: =SUM(EB5,ED5) -> 0 | EK5: =SUM(EG5,EI5) -> 0 | EP5: =SUM(EL5,EN5) -> 0 | EU5: =SUM(EQ5,ES5) -> 0 | EZ5: =SUM(EV5,EX5) -> 0 | FE5: =SUM(FA5,FC5) -> 0
A6: 0558 | B6: R | C6: 0558-R (Black) | D6: 49058-0558 QT | E6: Carry | F6: =+K6 -> 600 | G6: =640-40-20 -> 580 | I6: 20 | K6: =SUM(G6,I6) -> 600 | P6: =SUM(L6,N6) -> 0 | U6: =SUM(Q6,S6) -> 0 | Z6: =SUM(V6,X6) -> 0 | AE6: =SUM(AA6,AC6) -> 0 | AJ6: =SUM(AF6,AH6) -> 0 | AO6: =SUM(AK6,AM6) -> 0 | AT6: =SUM(AP6,AR6) -> 0 | AY6: =SUM(AU6,AW6) -> 0 | BD6: =SUM(AZ6,BB6) -> 0 | BI6: =SUM(BE6,BG6) -> 0 | BN6: =SUM(BJ6,BL6) -> 0 | BS6: =SUM(BO6,BQ6) -> 0 | BX6: =SUM(BT6,BV6) -> 0 | CC6: =SUM(BY6,CA6) -> 0 | CH6: =SUM(CD6,CF6) -> 0 | CM6: =SUM(CI6,CK6) -> 0 | CR6: =SUM(CN6,CP6) -> 0 | CW6: =SUM(CS6,CU6) -> 0 | DB6: =SUM(CX6,CZ6) -> 0 | DG6: =SUM(DC6,DE6) -> 0 | DL6: =SUM(DH6,DJ6) -> 0 | DQ6: =SUM(DM6,DO6) -> 0 | DV6: =SUM(DR6,DT6) -> 0 | EA6: =SUM(DW6,DY6) -> 0 | EF6: =SUM(EB6,ED6) -> 0 | EK6: =SUM(EG6,EI6) -> 0 | EP6: =SUM(EL6,EN6) -> 0 | EU6: =SUM(EQ6,ES6) -> 0 | EZ6: =SUM(EV6,EX6) -> 0 | FE6: =SUM(FA6,FC6) -> 0
C7: 0558-R (Black) | D7: 49058-0558 QT | E7: Pack BOX | F7: =+K7 -> 20 | G7: 20 | K7: =SUM(G7,I7) -> 20 | P7: =SUM(L7,N7) -> 0 | U7: =SUM(Q7,S7) -> 0 | Z7: =SUM(V7,X7) -> 0 | AE7: =SUM(AA7,AC7) -> 0 | AJ7: =SUM(AF7,AH7) -> 0 | AO7: =SUM(AK7,AM7) -> 0 | AT7: =SUM(AP7,AR7) -> 0 | AY7: =SUM(AU7,AW7) -> 0 | BD7: =SUM(AZ7,BB7) -> 0 | BI7: =SUM(BE7,BG7) -> 0 | BN7: =SUM(BJ7,BL7) -> 0 | BS7: =SUM(BO7,BQ7) -> 0 | BX7: =SUM(BT7,BV7) -> 0 | CC7: =SUM(BY7,CA7) -> 0 | CH7: =SUM(CD7,CF7) -> 0 | CM7: =SUM(CI7,CK7) -> 0 | CR7: =SUM(CN7,CP7) -> 0 | CW7: =SUM(CS7,CU7) -> 0 | DB7: =SUM(CX7,CZ7) -> 0 | DG7: =SUM(DC7,DE7) -> 0 | DL7: =SUM(DH7,DJ7) -> 0 | DQ7: =SUM(DM7,DO7) -> 0 | DV7: =SUM(DR7,DT7) -> 0 | EA7: =SUM(DW7,DY7) -> 0 | EF7: =SUM(EB7,ED7) -> 0 | EK7: =SUM(EG7,EI7) -> 0 | EP7: =SUM(EL7,EN7) -> 0 | EU7: =SUM(EQ7,ES7) -> 0 | EZ7: =SUM(EV7,EX7) -> 0 | FE7: =SUM(FA7,FC7) -> 0
C8: 0558-R (Sticker Green) | D8: 49058-5079 QT | E8: Pack BOX | F8: =+K8 -> 0 | G8: 0 | K8: =SUM(G8,I8) -> 0 | P8: =SUM(L8,N8) -> 0 | U8: =SUM(Q8,S8) -> 0 | Z8: =SUM(V8,X8) -> 0 | AE8: =SUM(AA8,AC8) -> 0 | AJ8: =SUM(AF8,AH8) -> 0 | AO8: =SUM(AK8,AM8) -> 0 | AT8: =SUM(AP8,AR8) -> 0 | AY8: =SUM(AU8,AW8) -> 0 | BD8: =SUM(AZ8,BB8) -> 0 | BI8: =SUM(BE8,BG8) -> 0 | BN8: =SUM(BJ8,BL8) -> 0 | BS8: =SUM(BO8,BQ8) -> 0 | BX8: =SUM(BT8,BV8) -> 0 | CC8: =SUM(BY8,CA8) -> 0 | CH8: =SUM(CD8,CF8) -> 0 | CM8: =SUM(CI8,CK8) -> 0 | CR8: =SUM(CN8,CP8) -> 0 | CW8: =SUM(CS8,CU8) -> 0 | DB8: =SUM(CX8,CZ8) -> 0 | DG8: =SUM(DC8,DE8) -> 0 | DL8: =SUM(DH8,DJ8) -> 0 | DQ8: =SUM(DM8,DO8) -> 0 | DV8: =SUM(DR8,DT8) -> 0 | EA8: =SUM(DW8,DY8) -> 0 | EF8: =SUM(EB8,ED8) -> 0 | EK8: =SUM(EG8,EI8) -> 0 | EP8: =SUM(EL8,EN8) -> 0 | EU8: =SUM(EQ8,ES8) -> 0 | EZ8: =SUM(EV8,EX8) -> 0 | FE8: =SUM(FA8,FC8) -> 0
C9: 0558-R (Sticker Green) | D9: 49058-5079 QT | E9: Carry | F9: =+K9 -> 120 | G9: 100 | I9: 20 | K9: =SUM(G9,I9) -> 120 | P9: =SUM(L9,N9) -> 0 | U9: =SUM(Q9,S9) -> 0 | Z9: =SUM(V9,X9) -> 0 | AE9: =SUM(AA9,AC9) -> 0 | AJ9: =SUM(AF9,AH9) -> 0 | AO9: =SUM(AK9,AM9) -> 0 | AT9: =SUM(AP9,AR9) -> 0 | AY9: =SUM(AU9,AW9) -> 0 | BD9: =SUM(AZ9,BB9) -> 0 | BI9: =SUM(BE9,BG9) -> 0 | BN9: =SUM(BJ9,BL9) -> 0 | BS9: =SUM(BO9,BQ9) -> 0 | BX9: =SUM(BT9,BV9) -> 0 | CC9: =SUM(BY9,CA9) -> 0 | CH9: =SUM(CD9,CF9) -> 0 | CM9: =SUM(CI9,CK9) -> 0 | CR9: =SUM(CN9,CP9) -> 0 | CW9: =SUM(CS9,CU9) -> 0 | DB9: =SUM(CX9,CZ9) -> 0 | DG9: =SUM(DC9,DE9) -> 0 | DL9: =SUM(DH9,DJ9) -> 0 | DQ9: =SUM(DM9,DO9) -> 0 | DV9: =SUM(DR9,DT9) -> 0 | EA9: =SUM(DW9,DY9) -> 0 | EF9: =SUM(EB9,ED9) -> 0 | EK9: =SUM(EG9,EI9) -> 0 | EP9: =SUM(EL9,EN9) -> 0 | EU9: =SUM(EQ9,ES9) -> 0 | EZ9: =SUM(EV9,EX9) -> 0 | FE9: =SUM(FA9,FC9) -> 0
C10: 0558-R (Sticker Red) | D10: 49058-5081 QT | E10: Pack BOX | F10: =+K10 -> 0 | G10: 0 | K10: =SUM(G10,I10) -> 0 | P10: =SUM(L10,N10) -> 0 | U10: =SUM(Q10,S10) -> 0 | Z10: =SUM(V10,X10) -> 0 | AE10: =SUM(AA10,AC10) -> 0 | AJ10: =SUM(AF10,AH10) -> 0 | AO10: =SUM(AK10,AM10) -> 0 | AT10: =SUM(AP10,AR10) -> 0 | AY10: =SUM(AU10,AW10) -> 0 | BD10: =SUM(AZ10,BB10) -> 0 | BI10: =SUM(BE10,BG10) -> 0 | BN10: =SUM(BJ10,BL10) -> 0 | BS10: =SUM(BO10,BQ10) -> 0 | BX10: =SUM(BT10,BV10) -> 0 | CC10: =SUM(BY10,CA10) -> 0 | CH10: =SUM(CD10,CF10) -> 0 | CM10: =SUM(CI10,CK10) -> 0 | CR10: =SUM(CN10,CP10) -> 0 | CW10: =SUM(CS10,CU10) -> 0 | DB10: =SUM(CX10,CZ10) -> 0 | DG10: =SUM(DC10,DE10) -> 0 | DL10: =SUM(DH10,DJ10) -> 0 | DQ10: =SUM(DM10,DO10) -> 0 | DV10: =SUM(DR10,DT10) -> 0 | EA10: =SUM(DW10,DY10) -> 0 | EF10: =SUM(EB10,ED10) -> 0 | EK10: =SUM(EG10,EI10) -> 0 | EP10: =SUM(EL10,EN10) -> 0 | EU10: =SUM(EQ10,ES10) -> 0 | EZ10: =SUM(EV10,EX10) -> 0 | FE10: =SUM(FA10,FC10) -> 0
C11: 0558-R (Sticker Red) | D11: 49058-5081 QT | E11: Carry | F11: =+K11 -> 5 | G11: 5 | K11: =SUM(G11,I11) -> 5 | P11: =SUM(L11,N11) -> 0 | U11: =SUM(Q11,S11) -> 0 | Z11: =SUM(V11,X11) -> 0 | AE11: =SUM(AA11,AC11) -> 0 | AJ11: =SUM(AF11,AH11) -> 0 | AO11: =SUM(AK11,AM11) -> 0 | AT11: =SUM(AP11,AR11) -> 0 | AY11: =SUM(AU11,AW11) -> 0 | BD11: =SUM(AZ11,BB11) -> 0 | BI11: =SUM(BE11,BG11) -> 0 | BN11: =SUM(BJ11,BL11) -> 0 | BS11: =SUM(BO11,BQ11) -> 0 | BX11: =SUM(BT11,BV11) -> 0 | CC11: =SUM(BY11,CA11) -> 0 | CH11: =SUM(CD11,CF11) -> 0 | CM11: =SUM(CI11,CK11) -> 0 | CR11: =SUM(CN11,CP11) -> 0 | CW11: =SUM(CS11,CU11) -> 0 | DB11: =SUM(CX11,CZ11) -> 0 | DG11: =SUM(DC11,DE11) -> 0 | DL11: =SUM(DH11,DJ11) -> 0 | DQ11: =SUM(DM11,DO11) -> 0 | DV11: =SUM(DR11,DT11) -> 0 | EA11: =SUM(DW11,DY11) -> 0 | EF11: =SUM(EB11,ED11) -> 0 | EK11: =SUM(EG11,EI11) -> 0 | EP11: =SUM(EL11,EN11) -> 0 | EU11: =SUM(EQ11,ES11) -> 0 | EZ11: =SUM(EV11,EX11) -> 0 | FE11: =SUM(FA11,FC11) -> 0
C12: 0558-R (Sticker Green) | D12: 49058-5121 QT | E12: Carry | F12: =+K12 -> 80 | G12: 60 | I12: 20 | K12: =SUM(G12,I12) -> 80 | P12: =SUM(L12,N12) -> 0 | U12: =SUM(Q12,S12) -> 0 | Z12: =SUM(V12,X12) -> 0 | AE12: =SUM(AA12,AC12) -> 0 | AJ12: =SUM(AF12,AH12) -> 0 | AO12: =SUM(AK12,AM12) -> 0 | AT12: =SUM(AP12,AR12) -> 0 | AY12: =SUM(AU12,AW12) -> 0 | BD12: =SUM(AZ12,BB12) -> 0 | BI12: =SUM(BE12,BG12) -> 0 | BN12: =SUM(BJ12,BL12) -> 0 | BS12: =SUM(BO12,BQ12) -> 0 | BX12: =SUM(BT12,BV12) -> 0 | CC12: =SUM(BY12,CA12) -> 0 | CH12: =SUM(CD12,CF12) -> 0 | CM12: =SUM(CI12,CK12) -> 0 | CR12: =SUM(CN12,CP12) -> 0 | CW12: =SUM(CS12,CU12) -> 0 | DB12: =SUM(CX12,CZ12) -> 0 | DG12: =SUM(DC12,DE12) -> 0 | DL12: =SUM(DH12,DJ12) -> 0 | DQ12: =SUM(DM12,DO12) -> 0 | DV12: =SUM(DR12,DT12) -> 0 | EA12: =SUM(DW12,DY12) -> 0 | EF12: =SUM(EB12,ED12) -> 0 | EK12: =SUM(EG12,EI12) -> 0 | EP12: =SUM(EL12,EN12) -> 0 | EU12: =SUM(EQ12,ES12) -> 0 | EZ12: =SUM(EV12,EX12) -> 0 | FE12: =SUM(FA12,FC12) -> 0
C13: 0558-R (Sticker Red) | D13: 49058-5125 QT | E13: Carry | F13: =+K13 -> 20 | G13: 0 | I13: 20 | K13: =SUM(G13,I13) -> 20 | P13: =SUM(L13,N13) -> 0 | U13: =SUM(Q13,S13) -> 0 | Z13: =SUM(V13,X13) -> 0 | AE13: =SUM(AA13,AC13) -> 0 | AJ13: =SUM(AF13,AH13) -> 0 | AO13: =SUM(AK13,AM13) -> 0 | AT13: =SUM(AP13,AR13) -> 0 | AY13: =SUM(AU13,AW13) -> 0 | BD13: =SUM(AZ13,BB13) -> 0 | BI13: =SUM(BE13,BG13) -> 0 | BN13: =SUM(BJ13,BL13) -> 0 | BS13: =SUM(BO13,BQ13) -> 0 | BX13: =SUM(BT13,BV13) -> 0 | CC13: =SUM(BY13,CA13) -> 0 | CH13: =SUM(CD13,CF13) -> 0 | CM13: =SUM(CI13,CK13) -> 0 | CR13: =SUM(CN13,CP13) -> 0 | CW13: =SUM(CS13,CU13) -> 0 | DB13: =SUM(CX13,CZ13) -> 0 | DG13: =SUM(DC13,DE13) -> 0 | DL13: =SUM(DH13,DJ13) -> 0 | DQ13: =SUM(DM13,DO13) -> 0 | DV13: =SUM(DR13,DT13) -> 0 | EA13: =SUM(DW13,DY13) -> 0 | EF13: =SUM(EB13,ED13) -> 0 | EK13: =SUM(EG13,EI13) -> 0 | EP13: =SUM(EL13,EN13) -> 0 | EU13: =SUM(EQ13,ES13) -> 0 | EZ13: =SUM(EV13,EX13) -> 0 | FE13: =SUM(FA13,FC13) -> 0
C14: 0558-R (Sticker Orange) | D14: 49058-5127 QT | E14: Carry | F14: =+K14 -> 60 | G14: 60 | K14: =SUM(G14,I14) -> 60 | P14: =SUM(L14,N14) -> 0 | U14: =SUM(Q14,S14) -> 0 | Z14: =SUM(V14,X14) -> 0 | AE14: =SUM(AA14,AC14) -> 0 | AJ14: =SUM(AF14,AH14) -> 0 | AO14: =SUM(AK14,AM14) -> 0 | AT14: =SUM(AP14,AR14) -> 0 | AY14: =SUM(AU14,AW14) -> 0 | BD14: =SUM(AZ14,BB14) -> 0 | BI14: =SUM(BE14,BG14) -> 0 | BN14: =SUM(BJ14,BL14) -> 0 | BS14: =SUM(BO14,BQ14) -> 0 | BX14: =SUM(BT14,BV14) -> 0 | CC14: =SUM(BY14,CA14) -> 0 | CH14: =SUM(CD14,CF14) -> 0 | CM14: =SUM(CI14,CK14) -> 0 | CR14: =SUM(CN14,CP14) -> 0 | CW14: =SUM(CS14,CU14) -> 0 | DB14: =SUM(CX14,CZ14) -> 0 | DG14: =SUM(DC14,DE14) -> 0 | DL14: =SUM(DH14,DJ14) -> 0 | DQ14: =SUM(DM14,DO14) -> 0 | DV14: =SUM(DR14,DT14) -> 0 | EA14: =SUM(DW14,DY14) -> 0 | EF14: =SUM(EB14,ED14) -> 0 | EK14: =SUM(EG14,EI14) -> 0 | EP14: =SUM(EL14,EN14) -> 0 | EU14: =SUM(EQ14,ES14) -> 0 | EZ14: =SUM(EV14,EX14) -> 0 | FE14: =SUM(FA14,FC14) -> 0
C15: 0558-R (Sticker Red) | D15: 49058-5146 QT New | E15: Carry | F15: =+K15 -> 0 | K15: =SUM(G15,I15) -> 0 | P15: =SUM(L15,N15) -> 0 | U15: =SUM(Q15,S15) -> 0 | Z15: =SUM(V15,X15) -> 0 | AE15: =SUM(AA15,AC15) -> 0 | AJ15: =SUM(AF15,AH15) -> 0 | AO15: =SUM(AK15,AM15) -> 0 | AT15: =SUM(AP15,AR15) -> 0 | AY15: =SUM(AU15,AW15) -> 0 | BD15: =SUM(AZ15,BB15) -> 0 | BI15: =SUM(BE15,BG15) -> 0 | BN15: =SUM(BJ15,BL15) -> 0 | BS15: =SUM(BO15,BQ15) -> 0 | BX15: =SUM(BT15,BV15) -> 0 | CC15: =SUM(BY15,CA15) -> 0 | CH15: =SUM(CD15,CF15) -> 0 | CM15: =SUM(CI15,CK15) -> 0 | CR15: =SUM(CN15,CP15) -> 0 | CW15: =SUM(CS15,CU15) -> 0 | DB15: =SUM(CX15,CZ15) -> 0 | DG15: =SUM(DC15,DE15) -> 0 | DL15: =SUM(DH15,DJ15) -> 0 | DQ15: =SUM(DM15,DO15) -> 0 | DV15: =SUM(DR15,DT15) -> 0 | EA15: =SUM(DW15,DY15) -> 0 | EF15: =SUM(EB15,ED15) -> 0 | EK15: =SUM(EG15,EI15) -> 0 | EP15: =SUM(EL15,EN15) -> 0 | EU15: =SUM(EQ15,ES15) -> 0 | EZ15: =SUM(EV15,EX15) -> 0 | FE15: =SUM(FA15,FC15) -> 0
C16: 0558-R (Sticker Orange) | D16: 49058-5148 QT New | E16: Carry | F16: =+K16 -> 0 | K16: =SUM(G16,I16) -> 0 | P16: =SUM(L16,N16) -> 0 | U16: =SUM(Q16,S16) -> 0 | Z16: =SUM(V16,X16) -> 0 | AE16: =SUM(AA16,AC16) -> 0 | AJ16: =SUM(AF16,AH16) -> 0 | AO16: =SUM(AK16,AM16) -> 0 | AT16: =SUM(AP16,AR16) -> 0 | AY16: =SUM(AU16,AW16) -> 0 | BD16: =SUM(AZ16,BB16) -> 0 | BI16: =SUM(BE16,BG16) -> 0 | BN16: =SUM(BJ16,BL16) -> 0 | BS16: =SUM(BO16,BQ16) -> 0 | BX16: =SUM(BT16,BV16) -> 0 | CC16: =SUM(BY16,CA16) -> 0 | CH16: =SUM(CD16,CF16) -> 0 | CM16: =SUM(CI16,CK16) -> 0 | CR16: =SUM(CN16,CP16) -> 0 | CW16: =SUM(CS16,CU16) -> 0 | DB16: =SUM(CX16,CZ16) -> 0 | DG16: =SUM(DC16,DE16) -> 0 | DL16: =SUM(DH16,DJ16) -> 0 | DQ16: =SUM(DM16,DO16) -> 0 | DV16: =SUM(DR16,DT16) -> 0 | EA16: =SUM(DW16,DY16) -> 0 | EF16: =SUM(EB16,ED16) -> 0 | EK16: =SUM(EG16,EI16) -> 0 | EP16: =SUM(EL16,EN16) -> 0 | EU16: =SUM(EQ16,ES16) -> 0 | EZ16: =SUM(EV16,EX16) -> 0 | FE16: =SUM(FA16,FC16) -> 0
C17: 0558-R (Gold) | D17: 49058-0558 36C | E17: Carry | F17: =+K17 -> 0 | G17: 0 | K17: =SUM(G17,I17) -> 0 | P17: =SUM(L17,N17) -> 0 | U17: =SUM(Q17,S17) -> 0 | Z17: =SUM(V17,X17) -> 0 | AE17: =SUM(AA17,AC17) -> 0 | AJ17: =SUM(AF17,AH17) -> 0 | AO17: =SUM(AK17,AM17) -> 0 | AT17: =SUM(AP17,AR17) -> 0 | AY17: =SUM(AU17,AW17) -> 0 | BD17: =SUM(AZ17,BB17) -> 0 | BI17: =SUM(BE17,BG17) -> 0 | BN17: =SUM(BJ17,BL17) -> 0 | BS17: =SUM(BO17,BQ17) -> 0 | BX17: =SUM(BT17,BV17) -> 0 | CC17: =SUM(BY17,CA17) -> 0 | CH17: =SUM(CD17,CF17) -> 0 | CM17: =SUM(CI17,CK17) -> 0 | CR17: =SUM(CN17,CP17) -> 0 | CW17: =SUM(CS17,CU17) -> 0 | DB17: =SUM(CX17,CZ17) -> 0 | DG17: =SUM(DC17,DE17) -> 0 | DL17: =SUM(DH17,DJ17) -> 0 | DQ17: =SUM(DM17,DO17) -> 0 | DV17: =SUM(DR17,DT17) -> 0 | EA17: =SUM(DW17,DY17) -> 0 | EF17: =SUM(EB17,ED17) -> 0 | EK17: =SUM(EG17,EI17) -> 0 | EP17: =SUM(EL17,EN17) -> 0 | EU17: =SUM(EQ17,ES17) -> 0 | EZ17: =SUM(EV17,EX17) -> 0 | FE17: =SUM(FA17,FC17) -> 0
C18: 0558P-R (Red) | D18: 49058-0558 35W | E18: Carry | F18: =+K18 -> 0 | G18: 0 | K18: =SUM(G18,I18) -> 0 | P18: =SUM(L18,N18) -> 0 | U18: =SUM(Q18,S18) -> 0 | Z18: =SUM(V18,X18) -> 0 | AE18: =SUM(AA18,AC18) -> 0 | AJ18: =SUM(AF18,AH18) -> 0 | AO18: =SUM(AK18,AM18) -> 0 | AT18: =SUM(AP18,AR18) -> 0 | AY18: =SUM(AU18,AW18) -> 0 | BD18: =SUM(AZ18,BB18) -> 0 | BI18: =SUM(BE18,BG18) -> 0 | BN18: =SUM(BJ18,BL18) -> 0 | BS18: =SUM(BO18,BQ18) -> 0 | BX18: =SUM(BT18,BV18) -> 0 | CC18: =SUM(BY18,CA18) -> 0 | CH18: =SUM(CD18,CF18) -> 0 | CM18: =SUM(CI18,CK18) -> 0 | CR18: =SUM(CN18,CP18) -> 0 | CW18: =SUM(CS18,CU18) -> 0 | DB18: =SUM(CX18,CZ18) -> 0 | DG18: =SUM(DC18,DE18) -> 0 | DL18: =SUM(DH18,DJ18) -> 0 | DQ18: =SUM(DM18,DO18) -> 0 | DV18: =SUM(DR18,DT18) -> 0 | EA18: =SUM(DW18,DY18) -> 0 | EF18: =SUM(EB18,ED18) -> 0 | EK18: =SUM(EG18,EI18) -> 0 | EP18: =SUM(EL18,EN18) -> 0 | EU18: =SUM(EQ18,ES18) -> 0 | EZ18: =SUM(EV18,EX18) -> 0 | FE18: =SUM(FA18,FC18) -> 0
C19: 0558-R (Yellow) | D19: 49058-0558 35X | E19: Carry | F19: =+K19 -> 6 | G19: 6 | K19: =SUM(G19,I19) -> 6 | P19: =SUM(L19,N19) -> 0 | U19: =SUM(Q19,S19) -> 0 | Z19: =SUM(V19,X19) -> 0 | AE19: =SUM(AA19,AC19) -> 0 | AJ19: =SUM(AF19,AH19) -> 0 | AO19: =SUM(AK19,AM19) -> 0 | AT19: =SUM(AP19,AR19) -> 0 | AY19: =SUM(AU19,AW19) -> 0 | BD19: =SUM(AZ19,BB19) -> 0 | BI19: =SUM(BE19,BG19) -> 0 | BN19: =SUM(BJ19,BL19) -> 0 | BS19: =SUM(BO19,BQ19) -> 0 | BX19: =SUM(BT19,BV19) -> 0 | CC19: =SUM(BY19,CA19) -> 0 | CH19: =SUM(CD19,CF19) -> 0 | CM19: =SUM(CI19,CK19) -> 0 | CR19: =SUM(CN19,CP19) -> 0 | CW19: =SUM(CS19,CU19) -> 0 | DB19: =SUM(CX19,CZ19) -> 0 | DG19: =SUM(DC19,DE19) -> 0 | DL19: =SUM(DH19,DJ19) -> 0 | DQ19: =SUM(DM19,DO19) -> 0 | DV19: =SUM(DR19,DT19) -> 0 | EA19: =SUM(DW19,DY19) -> 0 | EF19: =SUM(EB19,ED19) -> 0 | EK19: =SUM(EG19,EI19) -> 0 | EP19: =SUM(EL19,EN19) -> 0 | EU19: =SUM(EQ19,ES19) -> 0 | EZ19: =SUM(EV19,EX19) -> 0 | FE19: =SUM(FA19,FC19) -> 0
A20: 0112 | B20: F | C20: 0112-F (Black) | D20: 49058-0112 QT | E20: Carry | F20: =+K20 -> 540 | G20: 540 | K20: =SUM(G20,I20) -> 540 | P20: =SUM(L20,N20) -> 0 | U20: =SUM(Q20,S20) -> 0 | Z20: =SUM(V20,X20) -> 0 | AE20: =SUM(AA20,AC20) -> 0 | AJ20: =SUM(AF20,AH20) -> 0 | AO20: =SUM(AK20,AM20) -> 0 | AT20: =SUM(AP20,AR20) -> 0 | AY20: =SUM(AU20,AW20) -> 0 | BD20: =SUM(AZ20,BB20) -> 0 | BI20: =SUM(BE20,BG20) -> 0 | BN20: =SUM(BJ20,BL20) -> 0 | BS20: =SUM(BO20,BQ20) -> 0 | BX20: =SUM(BT20,BV20) -> 0 | CC20: =SUM(BY20,CA20) -> 0 | CH20: =SUM(CD20,CF20) -> 0 | CM20: =SUM(CI20,CK20) -> 0 | CR20: =SUM(CN20,CP20) -> 0 | CW20: =SUM(CS20,CU20) -> 0 | DB20: =SUM(CX20,CZ20) -> 0 | DG20: =SUM(DC20,DE20) -> 0 | DL20: =SUM(DH20,DJ20) -> 0 | DQ20: =SUM(DM20,DO20) -> 0 | DV20: =SUM(DR20,DT20) -> 0 | EA20: =SUM(DW20,DY20) -> 0 | EF20: =SUM(EB20,ED20) -> 0 | EK20: =SUM(EG20,EI20) -> 0 | EP20: =SUM(EL20,EN20) -> 0 | EU20: =SUM(EQ20,ES20) -> 0 | EZ20: =SUM(EV20,EX20) -> 0 | FE20: =SUM(FA20,FC20) -> 0
C21: 0112-F (Gold) | D21: 49058-0112 36C | E21: Carry | F21: =+K21 -> 75 | G21: 75 | K21: =SUM(G21,I21) -> 75 | P21: =SUM(L21,N21) -> 0 | U21: =SUM(Q21,S21) -> 0 | Z21: =SUM(V21,X21) -> 0 | AE21: =SUM(AA21,AC21) -> 0 | AJ21: =SUM(AF21,AH21) -> 0 | AO21: =SUM(AK21,AM21) -> 0 | AT21: =SUM(AP21,AR21) -> 0 | AY21: =SUM(AU21,AW21) -> 0 | BD21: =SUM(AZ21,BB21) -> 0 | BI21: =SUM(BE21,BG21) -> 0 | BN21: =SUM(BJ21,BL21) -> 0 | BS21: =SUM(BO21,BQ21) -> 0 | BX21: =SUM(BT21,BV21) -> 0 | CC21: =SUM(BY21,CA21) -> 0 | CH21: =SUM(CD21,CF21) -> 0 | CM21: =SUM(CI21,CK21) -> 0 | CR21: =SUM(CN21,CP21) -> 0 | CW21: =SUM(CS21,CU21) -> 0 | DB21: =SUM(CX21,CZ21) -> 0 | DG21: =SUM(DC21,DE21) -> 0 | DL21: =SUM(DH21,DJ21) -> 0 | DQ21: =SUM(DM21,DO21) -> 0 | DV21: =SUM(DR21,DT21) -> 0 | EA21: =SUM(DW21,DY21) -> 0 | EF21: =SUM(EB21,ED21) -> 0 | EK21: =SUM(EG21,EI21) -> 0 | EP21: =SUM(EL21,EN21) -> 0 | EU21: =SUM(EQ21,ES21) -> 0 | EZ21: =SUM(EV21,EX21) -> 0 | FE21: =SUM(FA21,FC21) -> 0
A22: 0113 | B22: R | C22: 0571-R (Black) | D22: 49058-0571 QT | E22: Carry | F22: =+K22 -> 514 | G22: 514 | K22: =SUM(G22,I22) -> 514 | P22: =SUM(L22,N22) -> 0 | U22: =SUM(Q22,S22) -> 0 | Z22: =SUM(V22,X22) -> 0 | AE22: =SUM(AA22,AC22) -> 0 | AJ22: =SUM(AF22,AH22) -> 0 | AO22: =SUM(AK22,AM22) -> 0 | AT22: =SUM(AP22,AR22) -> 0 | AY22: =SUM(AU22,AW22) -> 0 | BD22: =SUM(AZ22,BB22) -> 0 | BI22: =SUM(BE22,BG22) -> 0 | BN22: =SUM(BJ22,BL22) -> 0 | BS22: =SUM(BO22,BQ22) -> 0 | BX22: =SUM(BT22,BV22) -> 0 | CC22: =SUM(BY22,CA22) -> 0 | CH22: =SUM(CD22,CF22) -> 0 | CM22: =SUM(CI22,CK22) -> 0 | CR22: =SUM(CN22,CP22) -> 0 | CW22: =SUM(CS22,CU22) -> 0 | DB22: =SUM(CX22,CZ22) -> 0 | DG22: =SUM(DC22,DE22) -> 0 | DL22: =SUM(DH22,DJ22) -> 0 | DQ22: =SUM(DM22,DO22) -> 0 | DV22: =SUM(DR22,DT22) -> 0 | EA22: =SUM(DW22,DY22) -> 0 | EF22: =SUM(EB22,ED22) -> 0 | EK22: =SUM(EG22,EI22) -> 0 | EP22: =SUM(EL22,EN22) -> 0 | EU22: =SUM(EQ22,ES22) -> 0 | EZ22: =SUM(EV22,EX22) -> 0 | FE22: =SUM(FA22,FC22) -> 0
C23: 0571-R (Gold) | D23: 49058-0571 36C | E23: Carry | F23: =+K23 -> 57 | G23: 57 | K23: =SUM(G23,I23) -> 57 | P23: =SUM(L23,N23) -> 0 | U23: =SUM(Q23,S23) -> 0 | Z23: =SUM(V23,X23) -> 0 | AE23: =SUM(AA23,AC23) -> 0 | AJ23: =SUM(AF23,AH23) -> 0 | AO23: =SUM(AK23,AM23) -> 0 | AT23: =SUM(AP23,AR23) -> 0 | AY23: =SUM(AU23,AW23) -> 0 | BD23: =SUM(AZ23,BB23) -> 0 | BI23: =SUM(BE23,BG23) -> 0 | BN23: =SUM(BJ23,BL23) -> 0 | BS23: =SUM(BO23,BQ23) -> 0 | BX23: =SUM(BT23,BV23) -> 0 | CC23: =SUM(BY23,CA23) -> 0 | CH23: =SUM(CD23,CF23) -> 0 | CM23: =SUM(CI23,CK23) -> 0 | CR23: =SUM(CN23,CP23) -> 0 | CW23: =SUM(CS23,CU23) -> 0 | DB23: =SUM(CX23,CZ23) -> 0 | DG23: =SUM(DC23,DE23) -> 0 | DL23: =SUM(DH23,DJ23) -> 0 | DQ23: =SUM(DM23,DO23) -> 0 | DV23: =SUM(DR23,DT23) -> 0 | EA23: =SUM(DW23,DY23) -> 0 | EF23: =SUM(EB23,ED23) -> 0 | EK23: =SUM(EG23,EI23) -> 0 | EP23: =SUM(EL23,EN23) -> 0 | EU23: =SUM(EQ23,ES23) -> 0 | EZ23: =SUM(EV23,EX23) -> 0 | FE23: =SUM(FA23,FC23) -> 0
A24: 0587 | B24: R | C24: 0587-R (Black) | D24: 49058-0587 QT | E24: Carry | F24: =+K24 -> 273 | G24: 273 | K24: =SUM(G24,I24) -> 273 | P24: =SUM(L24,N24) -> 0 | U24: =SUM(Q24,S24) -> 0 | Z24: =SUM(V24,X24) -> 0 | AE24: =SUM(AA24,AC24) -> 0 | AJ24: =SUM(AF24,AH24) -> 0 | AO24: =SUM(AK24,AM24) -> 0 | AT24: =SUM(AP24,AR24) -> 0 | AY24: =SUM(AU24,AW24) -> 0 | BD24: =SUM(AZ24,BB24) -> 0 | BI24: =SUM(BE24,BG24) -> 0 | BN24: =SUM(BJ24,BL24) -> 0 | BS24: =SUM(BO24,BQ24) -> 0 | BX24: =SUM(BT24,BV24) -> 0 | CC24: =SUM(BY24,CA24) -> 0 | CH24: =SUM(CD24,CF24) -> 0 | CM24: =SUM(CI24,CK24) -> 0 | CR24: =SUM(CN24,CP24) -> 0 | CW24: =SUM(CS24,CU24) -> 0 | DB24: =SUM(CX24,CZ24) -> 0 | DG24: =SUM(DC24,DE24) -> 0 | DL24: =SUM(DH24,DJ24) -> 0 | DQ24: =SUM(DM24,DO24) -> 0 | DV24: =SUM(DR24,DT24) -> 0 | EA24: =SUM(DW24,DY24) -> 0 | EF24: =SUM(EB24,ED24) -> 0 | EK24: =SUM(EG24,EI24) -> 0 | EP24: =SUM(EL24,EN24) -> 0 | EU24: =SUM(EQ24,ES24) -> 0 | EZ24: =SUM(EV24,EX24) -> 0 | FE24: =SUM(FA24,FC24) -> 0
C25: 0587-R (Black) | D25: 49058-0587 QT | E25: Pack BOX | F25: =+K25 -> 500 | G25: 500 | K25: =SUM(G25,I25) -> 500 | P25: =SUM(L25,N25) -> 0 | U25: =SUM(Q25,S25) -> 0 | Z25: =SUM(V25,X25) -> 0 | AE25: =SUM(AA25,AC25) -> 0 | AJ25: =SUM(AF25,AH25) -> 0 | AO25: =SUM(AK25,AM25) -> 0 | AT25: =SUM(AP25,AR25) -> 0 | AY25: =SUM(AU25,AW25) -> 0 | BD25: =SUM(AZ25,BB25) -> 0 | BI25: =SUM(BE25,BG25) -> 0 | BN25: =SUM(BJ25,BL25) -> 0 | BS25: =SUM(BO25,BQ25) -> 0 | BX25: =SUM(BT25,BV25) -> 0 | CC25: =SUM(BY25,CA25) -> 0 | CH25: =SUM(CD25,CF25) -> 0 | CM25: =SUM(CI25,CK25) -> 0 | CR25: =SUM(CN25,CP25) -> 0 | CW25: =SUM(CS25,CU25) -> 0 | DB25: =SUM(CX25,CZ25) -> 0 | DG25: =SUM(DC25,DE25) -> 0 | DL25: =SUM(DH25,DJ25) -> 0 | DQ25: =SUM(DM25,DO25) -> 0 | DV25: =SUM(DR25,DT25) -> 0 | EA25: =SUM(DW25,DY25) -> 0 | EF25: =SUM(EB25,ED25) -> 0 | EK25: =SUM(EG25,EI25) -> 0 | EP25: =SUM(EL25,EN25) -> 0 | EU25: =SUM(EQ25,ES25) -> 0 | EZ25: =SUM(EV25,EX25) -> 0 | FE25: =SUM(FA25,FC25) -> 0
C26: 0587-R (Sticker Green) | D26: 49058-5039 QT | E26: Carry | F26: =+K26 -> 20 | G26: 20 | K26: =SUM(G26,I26) -> 20 | P26: =SUM(L26,N26) -> 0 | U26: =SUM(Q26,S26) -> 0 | Z26: =SUM(V26,X26) -> 0 | AE26: =SUM(AA26,AC26) -> 0 | AJ26: =SUM(AF26,AH26) -> 0 | AO26: =SUM(AK26,AM26) -> 0 | AT26: =SUM(AP26,AR26) -> 0 | AY26: =SUM(AU26,AW26) -> 0 | BD26: =SUM(AZ26,BB26) -> 0 | BI26: =SUM(BE26,BG26) -> 0 | BN26: =SUM(BJ26,BL26) -> 0 | BS26: =SUM(BO26,BQ26) -> 0 | BX26: =SUM(BT26,BV26) -> 0 | CC26: =SUM(BY26,CA26) -> 0 | CH26: =SUM(CD26,CF26) -> 0 | CM26: =SUM(CI26,CK26) -> 0 | CR26: =SUM(CN26,CP26) -> 0 | CW26: =SUM(CS26,CU26) -> 0 | DB26: =SUM(CX26,CZ26) -> 0 | DG26: =SUM(DC26,DE26) -> 0 | DL26: =SUM(DH26,DJ26) -> 0 | DQ26: =SUM(DM26,DO26) -> 0 | DV26: =SUM(DR26,DT26) -> 0 | EA26: =SUM(DW26,DY26) -> 0 | EF26: =SUM(EB26,ED26) -> 0 | EK26: =SUM(EG26,EI26) -> 0 | EP26: =SUM(EL26,EN26) -> 0 | EU26: =SUM(EQ26,ES26) -> 0 | EZ26: =SUM(EV26,EX26) -> 0 | FE26: =SUM(FA26,FC26) -> 0
C27: 0587-R (Sticker Green) | D27: 49058-5039 QT | E27: Pack BOX | F27: =+K27 -> 30 | G27: 30 | K27: =SUM(G27,I27) -> 30 | P27: =SUM(L27,N27) -> 0 | U27: =SUM(Q27,S27) -> 0 | Z27: =SUM(V27,X27) -> 0 | AE27: =SUM(AA27,AC27) -> 0 | AJ27: =SUM(AF27,AH27) -> 0 | AO27: =SUM(AK27,AM27) -> 0 | AT27: =SUM(AP27,AR27) -> 0 | AY27: =SUM(AU27,AW27) -> 0 | BD27: =SUM(AZ27,BB27) -> 0 | BI27: =SUM(BE27,BG27) -> 0 | BN27: =SUM(BJ27,BL27) -> 0 | BS27: =SUM(BO27,BQ27) -> 0 | BX27: =SUM(BT27,BV27) -> 0 | CC27: =SUM(BY27,CA27) -> 0 | CH27: =SUM(CD27,CF27) -> 0 | CM27: =SUM(CI27,CK27) -> 0 | CR27: =SUM(CN27,CP27) -> 0 | CW27: =SUM(CS27,CU27) -> 0 | DB27: =SUM(CX27,CZ27) -> 0 | DG27: =SUM(DC27,DE27) -> 0 | DL27: =SUM(DH27,DJ27) -> 0 | DQ27: =SUM(DM27,DO27) -> 0 | DV27: =SUM(DR27,DT27) -> 0 | EA27: =SUM(DW27,DY27) -> 0 | EF27: =SUM(EB27,ED27) -> 0 | EK27: =SUM(EG27,EI27) -> 0 | EP27: =SUM(EL27,EN27) -> 0 | EU27: =SUM(EQ27,ES27) -> 0 | EZ27: =SUM(EV27,EX27) -> 0 | FE27: =SUM(FA27,FC27) -> 0
C28: 0587-R (Sticker-Red) | D28: 49058-5041 QT | E28: Carry | F28: =+K28 -> 40 | G28: 40 | K28: =SUM(G28,I28) -> 40 | P28: =SUM(L28,N28) -> 0 | U28: =SUM(Q28,S28) -> 0 | Z28: =SUM(V28,X28) -> 0 | AE28: =SUM(AA28,AC28) -> 0 | AJ28: =SUM(AF28,AH28) -> 0 | AO28: =SUM(AK28,AM28) -> 0 | AT28: =SUM(AP28,AR28) -> 0 | AY28: =SUM(AU28,AW28) -> 0 | BD28: =SUM(AZ28,BB28) -> 0 | BI28: =SUM(BE28,BG28) -> 0 | BN28: =SUM(BJ28,BL28) -> 0 | BS28: =SUM(BO28,BQ28) -> 0 | BX28: =SUM(BT28,BV28) -> 0 | CC28: =SUM(BY28,CA28) -> 0 | CH28: =SUM(CD28,CF28) -> 0 | CM28: =SUM(CI28,CK28) -> 0 | CR28: =SUM(CN28,CP28) -> 0 | CW28: =SUM(CS28,CU28) -> 0 | DB28: =SUM(CX28,CZ28) -> 0 | DG28: =SUM(DC28,DE28) -> 0 | DL28: =SUM(DH28,DJ28) -> 0 | DQ28: =SUM(DM28,DO28) -> 0 | DV28: =SUM(DR28,DT28) -> 0 | EA28: =SUM(DW28,DY28) -> 0 | EF28: =SUM(EB28,ED28) -> 0 | EK28: =SUM(EG28,EI28) -> 0 | EP28: =SUM(EL28,EN28) -> 0 | EU28: =SUM(EQ28,ES28) -> 0 | EZ28: =SUM(EV28,EX28) -> 0 | FE28: =SUM(FA28,FC28) -> 0
C29: 0587-R (Sticker-Red) | D29: 49058-5041 QT | E29: Pack BOX | F29: =+K29 -> 20 | G29: 20 | K29: =SUM(G29,I29) -> 20 | P29: =SUM(L29,N29) -> 0 | U29: =SUM(Q29,S29) -> 0 | Z29: =SUM(V29,X29) -> 0 | AE29: =SUM(AA29,AC29) -> 0 | AJ29: =SUM(AF29,AH29) -> 0 | AO29: =SUM(AK29,AM29) -> 0 | AT29: =SUM(AP29,AR29) -> 0 | AY29: =SUM(AU29,AW29) -> 0 | BD29: =SUM(AZ29,BB29) -> 0 | BI29: =SUM(BE29,BG29) -> 0 | BN29: =SUM(BJ29,BL29) -> 0 | BS29: =SUM(BO29,BQ29) -> 0 | BX29: =SUM(BT29,BV29) -> 0 | CC29: =SUM(BY29,CA29) -> 0 | CH29: =SUM(CD29,CF29) -> 0 | CM29: =SUM(CI29,CK29) -> 0 | CR29: =SUM(CN29,CP29) -> 0 | CW29: =SUM(CS29,CU29) -> 0 | DB29: =SUM(CX29,CZ29) -> 0 | DG29: =SUM(DC29,DE29) -> 0 | DL29: =SUM(DH29,DJ29) -> 0 | DQ29: =SUM(DM29,DO29) -> 0 | DV29: =SUM(DR29,DT29) -> 0 | EA29: =SUM(DW29,DY29) -> 0 | EF29: =SUM(EB29,ED29) -> 0 | EK29: =SUM(EG29,EI29) -> 0 | EP29: =SUM(EL29,EN29) -> 0 | EU29: =SUM(EQ29,ES29) -> 0 | EZ29: =SUM(EV29,EX29) -> 0 | FE29: =SUM(FA29,FC29) -> 0
C30: 0587-R (Sticker Orange) | D30: 49058-5060 QT | E30: Carry | F30: =+K30 -> 30 | G30: 30 | K30: =SUM(G30,I30) -> 30 | P30: =SUM(L30,N30) -> 0 | U30: =SUM(Q30,S30) -> 0 | Z30: =SUM(V30,X30) -> 0 | AE30: =SUM(AA30,AC30) -> 0 | AJ30: =SUM(AF30,AH30) -> 0 | AO30: =SUM(AK30,AM30) -> 0 | AT30: =SUM(AP30,AR30) -> 0 | AY30: =SUM(AU30,AW30) -> 0 | BD30: =SUM(AZ30,BB30) -> 0 | BI30: =SUM(BE30,BG30) -> 0 | BN30: =SUM(BJ30,BL30) -> 0 | BS30: =SUM(BO30,BQ30) -> 0 | BX30: =SUM(BT30,BV30) -> 0 | CC30: =SUM(BY30,CA30) -> 0 | CH30: =SUM(CD30,CF30) -> 0 | CM30: =SUM(CI30,CK30) -> 0 | CR30: =SUM(CN30,CP30) -> 0 | CW30: =SUM(CS30,CU30) -> 0 | DB30: =SUM(CX30,CZ30) -> 0 | DG30: =SUM(DC30,DE30) -> 0 | DL30: =SUM(DH30,DJ30) -> 0 | DQ30: =SUM(DM30,DO30) -> 0 | DV30: =SUM(DR30,DT30) -> 0 | EA30: =SUM(DW30,DY30) -> 0 | EF30: =SUM(EB30,ED30) -> 0 | EK30: =SUM(EG30,EI30) -> 0 | EP30: =SUM(EL30,EN30) -> 0 | EU30: =SUM(EQ30,ES30) -> 0 | EZ30: =SUM(EV30,EX30) -> 0 | FE30: =SUM(FA30,FC30) -> 0
C31: 0587-R (Sticker Orange) | D31: 49058-5060 QT | E31: Pack BOX | F31: =+K31 -> 30 | G31: 30 | K31: =SUM(G31,I31) -> 30 | P31: =SUM(L31,N31) -> 0 | U31: =SUM(Q31,S31) -> 0 | Z31: =SUM(V31,X31) -> 0 | AE31: =SUM(AA31,AC31) -> 0 | AJ31: =SUM(AF31,AH31) -> 0 | AO31: =SUM(AK31,AM31) -> 0 | AT31: =SUM(AP31,AR31) -> 0 | AY31: =SUM(AU31,AW31) -> 0 | BD31: =SUM(AZ31,BB31) -> 0 | BI31: =SUM(BE31,BG31) -> 0 | BN31: =SUM(BJ31,BL31) -> 0 | BS31: =SUM(BO31,BQ31) -> 0 | BX31: =SUM(BT31,BV31) -> 0 | CC31: =SUM(BY31,CA31) -> 0 | CH31: =SUM(CD31,CF31) -> 0 | CM31: =SUM(CI31,CK31) -> 0 | CR31: =SUM(CN31,CP31) -> 0 | CW31: =SUM(CS31,CU31) -> 0 | DB31: =SUM(CX31,CZ31) -> 0 | DG31: =SUM(DC31,DE31) -> 0 | DL31: =SUM(DH31,DJ31) -> 0 | DQ31: =SUM(DM31,DO31) -> 0 | DV31: =SUM(DR31,DT31) -> 0 | EA31: =SUM(DW31,DY31) -> 0 | EF31: =SUM(EB31,ED31) -> 0 | EK31: =SUM(EG31,EI31) -> 0 | EP31: =SUM(EL31,EN31) -> 0 | EU31: =SUM(EQ31,ES31) -> 0 | EZ31: =SUM(EV31,EX31) -> 0 | FE31: =SUM(FA31,FC31) -> 0
C32: 0587-R (Sticker Green) | D32: 49058-5128 QT | E32: Carry | F32: =+K32 -> 30 | G32: 30 | K32: =SUM(G32,I32) -> 30 | P32: =SUM(L32,N32) -> 0 | U32: =SUM(Q32,S32) -> 0 | Z32: =SUM(V32,X32) -> 0 | AE32: =SUM(AA32,AC32) -> 0 | AJ32: =SUM(AF32,AH32) -> 0 | AO32: =SUM(AK32,AM32) -> 0 | AT32: =SUM(AP32,AR32) -> 0 | AY32: =SUM(AU32,AW32) -> 0 | BD32: =SUM(AZ32,BB32) -> 0 | BI32: =SUM(BE32,BG32) -> 0 | BN32: =SUM(BJ32,BL32) -> 0 | BS32: =SUM(BO32,BQ32) -> 0 | BX32: =SUM(BT32,BV32) -> 0 | CC32: =SUM(BY32,CA32) -> 0 | CH32: =SUM(CD32,CF32) -> 0 | CM32: =SUM(CI32,CK32) -> 0 | CR32: =SUM(CN32,CP32) -> 0 | CW32: =SUM(CS32,CU32) -> 0 | DB32: =SUM(CX32,CZ32) -> 0 | DG32: =SUM(DC32,DE32) -> 0 | DL32: =SUM(DH32,DJ32) -> 0 | DQ32: =SUM(DM32,DO32) -> 0 | DV32: =SUM(DR32,DT32) -> 0 | EA32: =SUM(DW32,DY32) -> 0 | EF32: =SUM(EB32,ED32) -> 0 | EK32: =SUM(EG32,EI32) -> 0 | EP32: =SUM(EL32,EN32) -> 0 | EU32: =SUM(EQ32,ES32) -> 0 | EZ32: =SUM(EV32,EX32) -> 0 | FE32: =SUM(FA32,FC32) -> 0
C33: 0587-R (Sticker-Red) | D33: 49058-5130 QT | E33: Carry | F33: =+K33 -> 0 | G33: 0 | K33: =SUM(G33,I33) -> 0 | P33: =SUM(L33,N33) -> 0 | U33: =SUM(Q33,S33) -> 0 | Z33: =SUM(V33,X33) -> 0 | AE33: =SUM(AA33,AC33) -> 0 | AJ33: =SUM(AF33,AH33) -> 0 | AO33: =SUM(AK33,AM33) -> 0 | AT33: =SUM(AP33,AR33) -> 0 | AY33: =SUM(AU33,AW33) -> 0 | BD33: =SUM(AZ33,BB33) -> 0 | BI33: =SUM(BE33,BG33) -> 0 | BN33: =SUM(BJ33,BL33) -> 0 | BS33: =SUM(BO33,BQ33) -> 0 | BX33: =SUM(BT33,BV33) -> 0 | CC33: =SUM(BY33,CA33) -> 0 | CH33: =SUM(CD33,CF33) -> 0 | CM33: =SUM(CI33,CK33) -> 0 | CR33: =SUM(CN33,CP33) -> 0 | CW33: =SUM(CS33,CU33) -> 0 | DB33: =SUM(CX33,CZ33) -> 0 | DG33: =SUM(DC33,DE33) -> 0 | DL33: =SUM(DH33,DJ33) -> 0 | DQ33: =SUM(DM33,DO33) -> 0 | DV33: =SUM(DR33,DT33) -> 0 | EA33: =SUM(DW33,DY33) -> 0 | EF33: =SUM(EB33,ED33) -> 0 | EK33: =SUM(EG33,EI33) -> 0 | EP33: =SUM(EL33,EN33) -> 0 | EU33: =SUM(EQ33,ES33) -> 0 | EZ33: =SUM(EV33,EX33) -> 0 | FE33: =SUM(FA33,FC33) -> 0
C34: 0587-R (Sticker Blue) | D34: 49058-5132 QT | E34: Carry | F34: =+K34 -> 0 | G34: 0 | K34: =SUM(G34,I34) -> 0 | P34: =SUM(L34,N34) -> 0 | U34: =SUM(Q34,S34) -> 0 | Z34: =SUM(V34,X34) -> 0 | AE34: =SUM(AA34,AC34) -> 0 | AJ34: =SUM(AF34,AH34) -> 0 | AO34: =SUM(AK34,AM34) -> 0 | AT34: =SUM(AP34,AR34) -> 0 | AY34: =SUM(AU34,AW34) -> 0 | BD34: =SUM(AZ34,BB34) -> 0 | BI34: =SUM(BE34,BG34) -> 0 | BN34: =SUM(BJ34,BL34) -> 0 | BS34: =SUM(BO34,BQ34) -> 0 | BX34: =SUM(BT34,BV34) -> 0 | CC34: =SUM(BY34,CA34) -> 0 | CH34: =SUM(CD34,CF34) -> 0 | CM34: =SUM(CI34,CK34) -> 0 | CR34: =SUM(CN34,CP34) -> 0 | CW34: =SUM(CS34,CU34) -> 0 | DB34: =SUM(CX34,CZ34) -> 0 | DG34: =SUM(DC34,DE34) -> 0 | DL34: =SUM(DH34,DJ34) -> 0 | DQ34: =SUM(DM34,DO34) -> 0 | DV34: =SUM(DR34,DT34) -> 0 | EA34: =SUM(DW34,DY34) -> 0 | EF34: =SUM(EB34,ED34) -> 0 | EK34: =SUM(EG34,EI34) -> 0 | EP34: =SUM(EL34,EN34) -> 0 | EU34: =SUM(EQ34,ES34) -> 0 | EZ34: =SUM(EV34,EX34) -> 0 | FE34: =SUM(FA34,FC34) -> 0
A35: 0593 | B35: F | C35: 0593-F (Black) | D35: 49058-0593 R2 | E35: Carry | F35: =+K35 -> 17 | G35: 17 | K35: =SUM(G35,I35) -> 17 | P35: =SUM(L35,N35) -> 0 | U35: =SUM(Q35,S35) -> 0 | Z35: =SUM(V35,X35) -> 0 | AE35: =SUM(AA35,AC35) -> 0 | AJ35: =SUM(AF35,AH35) -> 0 | AO35: =SUM(AK35,AM35) -> 0 | AT35: =SUM(AP35,AR35) -> 0 | AY35: =SUM(AU35,AW35) -> 0 | BD35: =SUM(AZ35,BB35) -> 0 | BI35: =SUM(BE35,BG35) -> 0 | BN35: =SUM(BJ35,BL35) -> 0 | BS35: =SUM(BO35,BQ35) -> 0 | BX35: =SUM(BT35,BV35) -> 0 | CC35: =SUM(BY35,CA35) -> 0 | CH35: =SUM(CD35,CF35) -> 0 | CM35: =SUM(CI35,CK35) -> 0 | CR35: =SUM(CN35,CP35) -> 0 | CW35: =SUM(CS35,CU35) -> 0 | DB35: =SUM(CX35,CZ35) -> 0 | DG35: =SUM(DC35,DE35) -> 0 | DL35: =SUM(DH35,DJ35) -> 0 | DQ35: =SUM(DM35,DO35) -> 0 | DV35: =SUM(DR35,DT35) -> 0 | EA35: =SUM(DW35,DY35) -> 0 | EF35: =SUM(EB35,ED35) -> 0 | EK35: =SUM(EG35,EI35) -> 0 | EP35: =SUM(EL35,EN35) -> 0 | EU35: =SUM(EQ35,ES35) -> 0 | EZ35: =SUM(EV35,EX35) -> 0 | FE35: =SUM(FA35,FC35) -> 0
A36: 0594 | B36: R | C36: 0594-R (Black) | D36: 49058-0594 QT | E36: Carry | F36: =+K36 -> 159 | G36: 159 | K36: =SUM(G36,I36) -> 159 | P36: =SUM(L36,N36) -> 0 | U36: =SUM(Q36,S36) -> 0 | Z36: =SUM(V36,X36) -> 0 | AE36: =SUM(AA36,AC36) -> 0 | AJ36: =SUM(AF36,AH36) -> 0 | AO36: =SUM(AK36,AM36) -> 0 | AT36: =SUM(AP36,AR36) -> 0 | AY36: =SUM(AU36,AW36) -> 0 | BD36: =SUM(AZ36,BB36) -> 0 | BI36: =SUM(BE36,BG36) -> 0 | BN36: =SUM(BJ36,BL36) -> 0 | BS36: =SUM(BO36,BQ36) -> 0 | BX36: =SUM(BT36,BV36) -> 0 | CC36: =SUM(BY36,CA36) -> 0 | CH36: =SUM(CD36,CF36) -> 0 | CM36: =SUM(CI36,CK36) -> 0 | CR36: =SUM(CN36,CP36) -> 0 | CW36: =SUM(CS36,CU36) -> 0 | DB36: =SUM(CX36,CZ36) -> 0 | DG36: =SUM(DC36,DE36) -> 0 | DL36: =SUM(DH36,DJ36) -> 0 | DQ36: =SUM(DM36,DO36) -> 0 | DV36: =SUM(DR36,DT36) -> 0 | EA36: =SUM(DW36,DY36) -> 0 | EF36: =SUM(EB36,ED36) -> 0 | EK36: =SUM(EG36,EI36) -> 0 | EP36: =SUM(EL36,EN36) -> 0 | EU36: =SUM(EQ36,ES36) -> 0 | EZ36: =SUM(EV36,EX36) -> 0 | FE36: =SUM(FA36,FC36) -> 0
F37: =SUM(F4:F36) -> 3408 | G37: =SUM(G4:G36) -> 3328 | H37: =SUM(H4:H36) -> 0 | I37: =SUM(I4:I36) -> 80 | J37: =SUM(J4:J36) -> 0 | K37: =SUM(K4:K36) -> 3408 | L37: =SUM(L4:L36) -> 0 | M37: =SUM(M4:M36) -> 0 | ... FE37: =SUM(FE4:FE36) -> 0

Sheet Balance
A3: Model | B3: Type | C3: Model | D3: Part No. | E3: Pack Spec. | F3: FG | G3: 42186 | H3: 42187 | I3: 42188 | J3: 42189 | K3: 42190 | L3: 42191 | M3: 42192 | N3: 42193 | O3: 42194 | P3: 42195 | Q3: 42196 | R3: 42197 | S3: 42198 | T3: 42199 | U3: 42200 | V3: 42201 | W3: 42202 | X3: 42203 | Y3: 42204 | Z3: 42205 | AA3: 42206 | AB3: 42207 | AC3: 42208 | AD3: 42209 | AE3: 42210 | AF3: 42211 | AG3: 42212 | AH3: 42213 | AI3: 42214 | AJ3: 42215 | AK3: 42216
A4: 0090 | B4: R | C4: 0090-R (Black) | D4: 49058-0090 QT | E4: Pack BOX | F4: =+FG!F4 -> 0 | G4: =+FG!K4-Sale!G4 -> 0 | H4: =G4+FG!$P4-Sale!H4 -> 0 | I4: =H4+FG!$U4-Sale!I4 -> 0 | J4: =I4+FG!$Z4-Sale!J4 -> 0 | K4: =J4+FG!$AE4-Sale!K4 -> 0 | L4: =K4+FG!$AJ4-Sale!L4 -> 0 | M4: =L4+FG!$AO4-Sale!M4 -> 0 | N4: =M4+FG!$AT4-Sale!N4 -> 0 | O4: =N4+FG!$AY4-Sale!O4 -> 0 | P4: =O4+FG!$BD4-Sale!P4 -> 0 | Q4: =P4+FG!$BI4-Sale!Q4 -> 0 | R4: =Q4+FG!$BN4-Sale!R4 -> 0 | S4: =R4+FG!$BS4-Sale!S4 -> 0 | T4: =S4+FG!$BX4-Sale!T4 -> 0 | U4: =T4+FG!$CC4-Sale!U4 -> 0 | V4: =U4+FG!$CH4-Sale!V4 -> 0 | W4: =V4+FG!$CM4-Sale!W4 -> 0 | X4: =W4+FG!$CR4-Sale!X4 -> 0 | Y4: =X4+FG!$CW4-Sale!Y4 -> 0 | Z4: =Y4+FG!$CD4-Sale!Z4 -> 0 | AA4: =Z4+FG!$DG4-Sale!AA4 -> 0 | AB4: =AA4+FG!$DK4-Sale!AB4 -> 0 | AC4: =AB4+FG!$DQ4-Sale!AC4 -> 0 | AD4: =AC4+FG!$DV4-Sale!AD4 -> 0 | AE4: =AD4+FG!$EA4-Sale!AE4 -> 0 | AF4: =AE4+FG!$EF4-Sale!AF4 -> 0 | AG4: =AF4+FG!$EK4-Sale!AG4 -> 0 | AH4: =AG4+FG!$EP4-Sale!AH4 -> 0 | AI4: =AH4+FG!$EU4-Sale!AI4 -> 0 | AJ4: =AI4+FG!$EZ4-Sale!AJ4 -> 0 | AK4: =AJ4+FG!$FE4-Sale!AK4 -> 0
C5: 0090-R (Black) | D5: 49058-0090 QT | E5: Carry | F5: =+FG!F5 -> 162 | G5: =+FG!K5-Sale!G5 -> 162 | H5: =G5+FG!$P5-Sale!H5 -> 162 | I5: =H5+FG!$U5-Sale!I5 -> 162 | J5: =I5+FG!$Z5-Sale!J5 -> 162 | K5: =J5+FG!$AE5-Sale!K5 -> 162 | L5: =K5+FG!$AJ5-Sale!L5 -> 162 | M5: =L5+FG!$AO5-Sale!M5 -> 162 | N5: =M5+FG!$AT5-Sale!N5 -> 162 | O5: =N5+FG!$AY5-Sale!O5 -> 162 | P5: =O5+FG!$BD5-Sale!P5 -> 162 | Q5: =P5+FG!$BI5-Sale!Q5 -> 162 | R5: =Q5+FG!$BN5-Sale!R5 -> 162 | S5: =R5+FG!$BS5-Sale!S5 -> 162 | T5: =S5+FG!$BX5-Sale!T5 -> 162 | U5: =T5+FG!$CC5-Sale!U5 -> 162 | V5: =U5+FG!$CH5-Sale!V5 -> 162 | W5: =V5+FG!$CM5-Sale!W5 -> 162 | X5: =W5+FG!$CR5-Sale!X5 -> 162 | Y5: =X5+FG!$CW5-Sale!Y5 -> 162 | Z5: =Y5+FG!$CD5-Sale!Z5 -> 162 | AA5: =Z5+FG!$DG5-Sale!AA5 -> 162 | AB5: =AA5+FG!$DK5-Sale!AB5 -> 162 | AC5: =AB5+FG!$DQ5-Sale!AC5 -> 162 | AD5: =AC5+FG!$DV5-Sale!AD5 -> 162 | AE5: =AD5+FG!$EA5-Sale!AE5 -> 162 | AF5: =AE5+FG!$EF5-Sale!AF5 -> 162 | AG5: =AF5+FG!$EK5-Sale!AG5 -> 162 | AH5: =AG5+FG!$EP5-Sale!AH5 -> 162 | AI5: =AH5+FG!$EU5-Sale!AI5 -> 162 | AJ5: =AI5+FG!$EZ5-Sale!AJ5 -> 162 | AK5: =AJ5+FG!$FE5-Sale!AK5 -> 162
A6: 0558 | B6: R | C6: 0558-R (Black) | D6: 49058-0558 QT | E6: Carry | F6: =+FG!F6 -> 600 | G6: =+FG!K6-Sale!G6 -> 560 | H6: =G6+FG!$P6-Sale!H6 -> 480 | I6: =H6+FG!$U6-Sale!I6 -> 420 | J6: =I6+FG!$Z6-Sale!J6 -> 420 | K6: =J6+FG!$AE6-Sale!K6 -> 420 | L6: =K6+FG!$AJ6-Sale!L6 -> 360 | M6: =L6+FG!$AO6-Sale!M6 -> 300 | N6: =M6+FG!$AT6-Sale!N6 -> 260 | O6: =N6+FG!$AY6-Sale!O6 -> 220 | P6: =O6+FG!$BD6-Sale!P6 -> 180 | Q6: =P6+FG!$BI6-Sale!Q6 -> 180 | R6: =Q6+FG!$BN6-Sale!R6 -> 180 | S6: =R6+FG!$BS6-Sale!S6 -> 140 | T6: =S6+FG!$BX6-Sale!T6 -> 100 | U6: =T6+FG!$CC6-Sale!U6 -> 60 | V6: =U6+FG!$CH6-Sale!V6 -> 0 | W6: =V6+FG!$CM6-Sale!W6 -> -60 | X6: =W6+FG!$CR6-Sale!X6 -> -60 | Y6: =X6+FG!$CW6-Sale!Y6 -> -60 | Z6: =Y6+FG!$CD6-Sale!Z6 -> -100 | AA6: =Z6+FG!$DG6-Sale!AA6 -> -140 | AB6: =AA6+FG!$DK6-Sale!AB6 -> -200 | AC6: =AB6+FG!$DQ6-Sale!AC6 -> -280 | AD6: =AC6+FG!$DV6-Sale!AD6 -> -320 | AE6: =AD6+FG!$EA6-Sale!AE6 -> -320 | AF6: =AE6+FG!$EF6-Sale!AF6 -> -320 | AG6: =AF6+FG!$EK6-Sale!AG6 -> -380 | AH6: =AG6+FG!$EP6-Sale!AH6 -> -460 | AI6: =AH6+FG!$EU6-Sale!AI6 -> -460 | AJ6: =AI6+FG!$EZ6-Sale!AJ6 -> -460 | AK6: =AJ6+FG!$FE6-Sale!AK6 -> -460
C7: 0558-R (Black) | D7: 49058-0558 QT | E7: Pack BOX | F7: =+FG!F7 -> 20 | G7: =+FG!K7-Sale!G7 -> 20 | H7: =G7+FG!$P7-Sale!H7 -> 0 | I7: =H7+FG!$U7-Sale!I7 -> 0 | J7: =I7+FG!$Z7-Sale!J7 -> 0 | K7: =J7+FG!$AE7-Sale!K7 -> 0 | L7: =K7+FG!$AJ7-Sale!L7 -> 0 | M7: =L7+FG!$AO7-Sale!M7 -> -20 | N7: =M7+FG!$AT7-Sale!N7 -> -20 | O7: =N7+FG!$AY7-Sale!O7 -> -20 | P7: =O7+FG!$BD7-Sale!P7 -> -20 | Q7: =P7+FG!$BI7-Sale!Q7 -> -20 | R7: =Q7+FG!$BN7-Sale!R7 -> -20 | S7: =R7+FG!$BS7-Sale!S7 -> -20 | T7: =S7+FG!$BX7-Sale!T7 -> -20 | U7: =T7+FG!$CC7-Sale!U7 -> -20 | V7: =U7+FG!$CH7-Sale!V7 -> -20 | W7: =V7+FG!$CM7-Sale!W7 -> -20 | X7: =W7+FG!$CR7-Sale!X7 -> -20 | Y7: =X7+FG!$CW7-Sale!Y7 -> -20 | Z7: =Y7+FG!$CD7-Sale!Z7 -> -20 | AA7: =Z7+FG!$DG7-Sale!AA7 -> -20 | AB7: =AA7+FG!$DK7-Sale!AB7 -> -20 | AC7: =AB7+FG!$DQ7-Sale!AC7 -> -20 | AD7: =AC7+FG!$DV7-Sale!AD7 -> -20 | AE7: =AD7+FG!$EA7-Sale!AE7 -> -20 | AF7: =AE7+FG!$EF7-Sale!AF7 -> -20 | AG7: =AF7+FG!$EK7-Sale!AG7 -> -20 | AH7: =AG7+FG!$EP7-Sale!AH7 -> -20 | AI7: =AH7+FG!$EU7-Sale!AI7 -> -20 | AJ7: =AI7+FG!$EZ7-Sale!AJ7 -> -20 | AK7: =AJ7+FG!$FE7-Sale!AK7 -> -20
C8: 0558-R (Sticker Green) | D8: 49058-5079 QT | E8: Pack BOX | F8: =+FG!F8 -> 0 | G8: =+FG!K8-Sale!G8 -> 0 | H8: =G8+FG!$P8-Sale!H8 -> 0 | I8: =H8+FG!$U8-Sale!I8 -> 0 | J8: =I8+FG!$Z8-Sale!J8 -> 0 | K8: =J8+FG!$AE8-Sale!K8 -> 0 | L8: =K8+FG!$AJ8-Sale!L8 -> 0 | M8: =L8+FG!$AO8-Sale!M8 -> 0 | N8: =M8+FG!$AT8-Sale!N8 -> 0 | O8: =N8+FG!$AY8-Sale!O8 -> 0 | P8: =O8+FG!$BD8-Sale!P8 -> 0 | Q8: =P8+FG!$BI8-Sale!Q8 -> 0 | R8: =Q8+FG!$BN8-Sale!R8 -> 0 | S8: =R8+FG!$BS8-Sale!S8 -> 0 | T8: =S8+FG!$BX8-Sale!T8 -> 0 | U8: =T8+FG!$CC8-Sale!U8 -> 0 | V8: =U8+FG!$CH8-Sale!V8 -> 0 | W8: =V8+FG!$CM8-Sale!W8 -> 0 | X8: =W8+FG!$CR8-Sale!X8 -> 0 | Y8: =X8+FG!$CW8-Sale!Y8 -> 0 | Z8: =Y8+FG!$CD8-Sale!Z8 -> 0 | AA8: =Z8+FG!$DG8-Sale!AA8 -> 0 | AB8: =AA8+FG!$DK8-Sale!AB8 -> 0 | AC8: =AB8+FG!$DQ8-Sale!AC8 -> 0 | AD8: =AC8+FG!$DV8-Sale!AD8 -> 0 | AE8: =AD8+FG!$EA8-Sale!AE8 -> 0 | AF8: =AE8+FG!$EF8-Sale!AF8 -> 0 | AG8: =AF8+FG!$EK8-Sale!AG8 -> 0 | AH8: =AG8+FG!$EP8-Sale!AH8 -> 0 | AI8: =AH8+FG!$EU8-Sale!AI8 -> 0 | AJ8: =AI8+FG!$EZ8-Sale!AJ8 -> 0 | AK8: =AJ8+FG!$FE8-Sale!AK8 -> 0
C9: 0558-R (Sticker Green) | D9: 49058-5079 QT | E9: Carry | F9: =+FG!F9 -> 120 | G9: =+FG!K9-Sale!G9 -> 80 | H9: =G9+FG!$P9-Sale!H9 -> 60 | I9: =H9+FG!$U9-Sale!I9 -> 40 | J9: =I9+FG!$Z9-Sale!J9 -> 40 | K9: =J9+FG!$AE9-Sale!K9 -> 40 | L9: =K9+FG!$AJ9-Sale!L9 -> 20 | M9: =L9+FG!$AO9-Sale!M9 -> 0 | N9: =M9+FG!$AT9-Sale!N9 -> 0 | O9: =N9+FG!$AY9-Sale!O9 -> -20 | P9: =O9+FG!$BD9-Sale!P9 -> -20 | Q9: =P9+FG!$BI9-Sale!Q9 -> -20 | R9: =Q9+FG!$BN9-Sale!R9 -> -20 | S9: =R9+FG!$BS9-Sale!S9 -> -60 | T9: =S9+FG!$BX9-Sale!T9 -> -60 | U9: =T9+FG!$CC9-Sale!U9 -> -80 | V9: =U9+FG!$CH9-Sale!V9 -> -100 | W9: =V9+FG!$CM9-Sale!W9 -> -100 | X9: =W9+FG!$CR9-Sale!X9 -> -100 | Y9: =X9+FG!$CW9-Sale!Y9 -> -100 | Z9: =Y9+FG!$CD9-Sale!Z9 -> -120 | AA9: =Z9+FG!$DG9-Sale!AA9 -> -140 | AB9: =AA9+FG!$DK9-Sale!AB9 -> -160 | AC9: =AB9+FG!$DQ9-Sale!AC9 -> -160 | AD9: =AC9+FG!$DV9-Sale!AD9 -> -180 | AE9: =AD9+FG!$EA9-Sale!AE9 -> -180 | AF9: =AE9+FG!$EF9-Sale!AF9 -> -180 | AG9: =AF9+FG!$EK9-Sale!AG9 -> -180 | AH9: =AG9+FG!$EP9-Sale!AH9 -> -200 | AI9: =AH9+FG!$EU9-Sale!AI9 -> -200 | AJ9: =AI9+FG!$EZ9-Sale!AJ9 -> -200 | AK9: =AJ9+FG!$FE9-Sale!AK9 -> -200
C10: 0558-R (Sticker Red) | D10: 49058-5081 QT | E10: Pack BOX | F10: =+FG!F10 -> 0 | G10: =+FG!K10-Sale!G10 -> 0 | H10: =G10+FG!$P10-Sale!H10 -> 0 | I10: =H10+FG!$U10-Sale!I10 -> 0 | J10: =I10+FG!$Z10-Sale!J10 -> 0 | K10: =J10+FG!$AE10-Sale!K10 -> 0 | L10: =K10+FG!$AJ10-Sale!L10 -> 0 | M10: =L10+FG!$AO10-Sale!M10 -> 0 | N10: =M10+FG!$AT10-Sale!N10 -> 0 | O10: =N10+FG!$AY10-Sale!O10 -> 0 | P10: =O10+FG!$BD10-Sale!P10 -> 0 | Q10: =P10+FG!$BI10-Sale!Q10 -> 0 | R10: =Q10+FG!$BN10-Sale!R10 -> 0 | S10: =R10+FG!$BS10-Sale!S10 -> 0 | T10: =S10+FG!$BX10-Sale!T10 -> 0 | U10: =T10+FG!$CC10-Sale!U10 -> 0 | V10: =U10+FG!$CH10-Sale!V10 -> 0 | W10: =V10+FG!$CM10-Sale!W10 -> 0 | X10: =W10+FG!$CR10-Sale!X10 -> 0 | Y10: =X10+FG!$CW10-Sale!Y10 -> 0 | Z10: =Y10+FG!$CD10-Sale!Z10 -> 0 | AA10: =Z10+FG!$DG10-Sale!AA10 -> 0 | AB10: =AA10+FG!$DK10-Sale!AB10 -> 0 | AC10: =AB10+FG!$DQ10-Sale!AC10 -> 0 | AD10: =AC10+FG!$DV10-Sale!AD10 -> 0 | AE10: =AD10+FG!$EA10-Sale!AE10 -> 0 | AF10: =AE10+FG!$EF10-Sale!AF10 -> 0 | AG10: =AF10+FG!$EK10-Sale!AG10 -> 0 | AH10: =AG10+FG!$EP10-Sale!AH10 -> 0 | AI10: =AH10+FG!$EU10-Sale!AI10 -> 0 | AJ10: =AI10+FG!$EZ10-Sale!AJ10 -> 0 | AK10: =AJ10+FG!$FE10-Sale!AK10 -> 0
C11: 0558-R (Sticker Red) | D11: 49058-5081 QT | E11: Carry | F11: =+FG!F11 -> 5 | G11: =+FG!K11-Sale!G11 -> 5 | H11: =G11+FG!$P11-Sale!H11 -> 5 | I11: =H11+FG!$U11-Sale!I11 -> 5 | J11: =I11+FG!$Z11-Sale!J11 -> 5 | K11: =J11+FG!$AE11-Sale!K11 -> 5 | L11: =K11+FG!$AJ11-Sale!L11 -> 5 | M11: =L11+FG!$AO11-Sale!M11 -> 5 | N11: =M11+FG!$AT11-Sale!N11 -> 5 | O11: =N11+FG!$AY11-Sale!O11 -> 5 | P11: =O11+FG!$BD11-Sale!P11 -> 5 | Q11: =P11+FG!$BI11-Sale!Q11 -> 5 | R11: =Q11+FG!$BN11-Sale!R11 -> 5 | S11: =R11+FG!$BS11-Sale!S11 -> 5 | T11: =S11+FG!$BX11-Sale!T11 -> 5 | U11: =T11+FG!$CC11-Sale!U11 -> 5 | V11: =U11+FG!$CH11-Sale!V11 -> 5 | W11: =V11+FG!$CM11-Sale!W11 -> 5 | X11: =W11+FG!$CR11-Sale!X11 -> 5 | Y11: =X11+FG!$CW11-Sale!Y11 -> 5 | Z11: =Y11+FG!$CD11-Sale!Z11 -> 5 | AA11: =Z11+FG!$DG11-Sale!AA11 -> 5 | AB11: =AA11+FG!$DK11-Sale!AB11 -> 5 | AC11: =AB11+FG!$DQ11-Sale!AC11 -> 5 | AD11: =AC11+FG!$DV11-Sale!AD11 -> 5 | AE11: =AD11+FG!$EA11-Sale!AE11 -> 5 | AF11: =AE11+FG!$EF11-Sale!AF11 -> 5 | AG11: =AF11+FG!$EK11-Sale!AG11 -> 5 | AH11: =AG11+FG!$EP11-Sale!AH11 -> 5 | AI11: =AH11+FG!$EU11-Sale!AI11 -> 5 | AJ11: =AI11+FG!$EZ11-Sale!AJ11 -> 5 | AK11: =AJ11+FG!$FE11-Sale!AK11 -> 5
C12: 0558-R (Sticker Green) | D12: 49058-5121 QT | E12: Carry | F12: =+FG!F12 -> 80 | G12: =+FG!K12-Sale!G12 -> 60 | H12: =G12+FG!$P12-Sale!H12 -> 40 | I12: =H12+FG!$U12-Sale!I12 -> 20 | J12: =I12+FG!$Z12-Sale!J12 -> 20 | K12: =J12+FG!$AE12-Sale!K12 -> 20 | L12: =K12+FG!$AJ12-Sale!L12 -> 0 | M12: =L12+FG!$AO12-Sale!M12 -> 0 | N12: =M12+FG!$AT12-Sale!N12 -> -60 | O12: =N12+FG!$AY12-Sale!O12 -> -100 | P12: =O12+FG!$BD12-Sale!P12 -> -140 | Q12: =P12+FG!$BI12-Sale!Q12 -> -140 | R12: =Q12+FG!$BN12-Sale!R12 -> -140 | S12: =R12+FG!$BS12-Sale!S12 -> -180 | T12: =S12+FG!$BX12-Sale!T12 -> -200 | U12: =T12+FG!$CC12-Sale!U12 -> -220 | V12: =U12+FG!$CH12-Sale!V12 -> -240 | W12: =V12+FG!$CM12-Sale!W12 -> -260 | X12: =W12+FG!$CR12-Sale!X12 -> -260 | Y12: =X12+FG!$CW12-Sale!Y12 -> -260 | Z12: =Y12+FG!$CD12-Sale!Z12 -> -280 | AA12: =Z12+FG!$DG12-Sale!AA12 -> -320 | AB12: =AA12+FG!$DK12-Sale!AB12 -> -360 | AC12: =AB12+FG!$DQ12-Sale!AC12 -> -380 | AD12: =AC12+FG!$DV12-Sale!AD12 -> -400 | AE12: =AD12+FG!$EA12-Sale!AE12 -> -400 | AF12: =AE12+FG!$EF12-Sale!AF12 -> -400 | AG12: =AF12+FG!$EK12-Sale!AG12 -> -440 | AH12: =AG12+FG!$EP12-Sale!AH12 -> -460 | AI12: =AH12+FG!$EU12-Sale!AI12 -> -460 | AJ12: =AI12+FG!$EZ12-Sale!AJ12 -> -460 | AK12: =AJ12+FG!$FE12-Sale!AK12 -> -460
C13: 0558-R (Sticker Red) | D13: 49058-5125 QT | E13: Carry | F13: =+FG!F13 -> 20 | G13: =+FG!K13-Sale!G13 -> 20 | H13: =G13+FG!$P13-Sale!H13 -> 20 | I13: =H13+FG!$U13-Sale!I13 -> 20 | J13: =I13+FG!$Z13-Sale!J13 -> 20 | K13: =J13+FG!$AE13-Sale!K13 -> 20 | L13: =K13+FG!$AJ13-Sale!L13 -> 20 | M13: =L13+FG!$AO13-Sale!M13 -> 0 | N13: =M13+FG!$AT13-Sale!N13 -> 0 | O13: =N13+FG!$AY13-Sale!O13 -> 0 | P13: =O13+FG!$BD13-Sale!P13 -> 0 | Q13: =P13+FG!$BI13-Sale!Q13 -> 0 | R13: =Q13+FG!$BN13-Sale!R13 -> 0 | S13: =R13+FG!$BS13-Sale!S13 -> 0 | T13: =S13+FG!$BX13-Sale!T13 -> -20 | U13: =T13+FG!$CC13-Sale!U13 -> -40 | V13: =U13+FG!$CH13-Sale!V13 -> -40 | W13: =V13+FG!$CM13-Sale!W13 -> -40 | X13: =W13+FG!$CR13-Sale!X13 -> -40 | Y13: =X13+FG!$CW13-Sale!Y13 -> -40 | Z13: =Y13+FG!$CD13-Sale!Z13 -> -40 | AA13: =Z13+FG!$DG13-Sale!AA13 -> -60 | AB13: =AA13+FG!$DK13-Sale!AB13 -> -60 | AC13: =AB13+FG!$DQ13-Sale!AC13 -> -80 | AD13: =AC13+FG!$DV13-Sale!AD13 -> -80 | AE13: =AD13+FG!$EA13-Sale!AE13 -> -80 | AF13: =AE13+FG!$EF13-Sale!AF13 -> -80 | AG13: =AF13+FG!$EK13-Sale!AG13 -> -80 | AH13: =AG13+FG!$EP13-Sale!AH13 -> -80 | AI13: =AH13+FG!$EU13-Sale!AI13 -> -80 | AJ13: =AI13+FG!$EZ13-Sale!AJ13 -> -80 | AK13: =AJ13+FG!$FE13-Sale!AK13 -> -80
C14: 0558-R (Sticker Orange) | D14: 49058-5127 QT | E14: Carry | F14: =+FG!F14 -> 60 | G14: =+FG!K14-Sale!G14 -> 40 | H14: =G14+FG!$P14-Sale!H14 -> 20 | I14: =H14+FG!$U14-Sale!I14 -> 0 | J14: =I14+FG!$Z14-Sale!J14 -> 0 | K14: =J14+FG!$AE14-Sale!K14 -> 0 | L14: =K14+FG!$AJ14-Sale!L14 -> 0 | M14: =L14+FG!$AO14-Sale!M14 -> 0 | N14: =M14+FG!$AT14-Sale!N14 -> -40 | O14: =N14+FG!$AY14-Sale!O14 -> -40 | P14: =O14+FG!$BD14-Sale!P14 -> -40 | Q14: =P14+FG!$BI14-Sale!Q14 -> -40 | R14: =Q14+FG!$BN14-Sale!R14 -> -40 | S14: =R14+FG!$BS14-Sale!S14 -> -60 | T14: =S14+FG!$BX14-Sale!T14 -> -60 | U14: =T14+FG!$CC14-Sale!U14 -> -100 | V14: =U14+FG!$CH14-Sale!V14 -> -100 | W14: =V14+FG!$CM14-Sale!W14 -> -120 | X14: =W14+FG!$CR14-Sale!X14 -> -120 | Y14: =X14+FG!$CW14-Sale!Y14 -> -120 | Z14: =Y14+FG!$CD14-Sale!Z14 -> -160 | AA14: =Z14+FG!$DG14-Sale!AA14 -> -160 | AB14: =AA14+FG!$DK14-Sale!AB14 -> -160 | AC14: =AB14+FG!$DQ14-Sale!AC14 -> -180 | AD14: =AC14+FG!$DV14-Sale!AD14 -> -200 | AE14: =AD14+FG!$EA14-Sale!AE14 -> -200 | AF14: =AE14+FG!$EF14-Sale!AF14 -> -200 | AG14: =AF14+FG!$EK14-Sale!AG14 -> -220 | AH14: =AG14+FG!$EP14-Sale!AH14 -> -220 | AI14: =AH14+FG!$EU14-Sale!AI14 -> -220 | AJ14: =AI14+FG!$EZ14-Sale!AJ14 -> -220 | AK14: =AJ14+FG!$FE14-Sale!AK14 -> -220
C15: 0558-R (Sticker Red) | D15: 49058-5146 QT New | E15: Carry | F15: =+FG!F15 -> 0 | G15: =+FG!K15-Sale!G15 -> 0 | H15: =G15+FG!$P15-Sale!H15 -> 0 | I15: =H15+FG!$U15-Sale!I15 -> 0 | J15: =I15+FG!$Z15-Sale!J15 -> 0 | K15: =J15+FG!$AE15-Sale!K15 -> 0 | L15: =K15+FG!$AJ15-Sale!L15 -> 0 | M15: =L15+FG!$AO15-Sale!M15 -> 0 | N15: =M15+FG!$AT15-Sale!N15 -> 0 | O15: =N15+FG!$AY15-Sale!O15 -> 0 | P15: =O15+FG!$BD15-Sale!P15 -> 0 | Q15: =P15+FG!$BI15-Sale!Q15 -> 0 | R15: =Q15+FG!$BN15-Sale!R15 -> 0 | S15: =R15+FG!$BS15-Sale!S15 -> 0 | T15: =S15+FG!$BX15-Sale!T15 -> 0 | U15: =T15+FG!$CC15-Sale!U15 -> 0 | V15: =U15+FG!$CH15-Sale!V15 -> 0 | W15: =V15+FG!$CM15-Sale!W15 -> 0 | X15: =W15+FG!$CR15-Sale!X15 -> 0 | Y15: =X15+FG!$CW15-Sale!Y15 -> 0 | Z15: =Y15+FG!$CD15-Sale!Z15 -> 0 | AA15: =Z15+FG!$DG15-Sale!AA15 -> 0 | AB15: =AA15+FG!$DK15-Sale!AB15 -> 0 | AC15: =AB15+FG!$DQ15-Sale!AC15 -> 0 | AD15: =AC15+FG!$DV15-Sale!AD15 -> -1 | AE15: =AD15+FG!$EA15-Sale!AE15 -> -1 | AF15: =AE15+FG!$EF15-Sale!AF15 -> -1 | AG15: =AF15+FG!$EK15-Sale!AG15 -> -1 | AH15: =AG15+FG!$EP15-Sale!AH15 -> -1 | AI15: =AH15+FG!$EU15-Sale!AI15 -> -1 | AJ15: =AI15+FG!$EZ15-Sale!AJ15 -> -1 | AK15: =AJ15+FG!$FE15-Sale!AK15 -> -1
C16: 0558-R (Sticker Orange) | D16: 49058-5148 QT New | E16: Carry | F16: =+FG!F16 -> 0 | G16: =+FG!K16-Sale!G16 -> 0 | H16: =G16+FG!$P16-Sale!H16 -> 0 | I16: =H16+FG!$U16-Sale!I16 -> 0 | J16: =I16+FG!$Z16-Sale!J16 -> 0 | K16: =J16+FG!$AE16-Sale!K16 -> 0 | L16: =K16+FG!$AJ16-Sale!L16 -> 0 | M16: =L16+FG!$AO16-Sale!M16 -> 0 | N16: =M16+FG!$AT16-Sale!N16 -> 0 | O16: =N16+FG!$AY16-Sale!O16 -> 0 | P16: =O16+FG!$BD16-Sale!P16 -> 0 | Q16: =P16+FG!$BI16-Sale!Q16 -> 0 | R16: =Q16+FG!$BN16-Sale!R16 -> 0 | S16: =R16+FG!$BS16-Sale!S16 -> 0 | T16: =S16+FG!$BX16-Sale!T16 -> 0 | U16: =T16+FG!$CC16-Sale!U16 -> 0 | V16: =U16+FG!$CH16-Sale!V16 -> 0 | W16: =V16+FG!$CM16-Sale!W16 -> 0 | X16: =W16+FG!$CR16-Sale!X16 -> 0 | Y16: =X16+FG!$CW16-Sale!Y16 -> 0 | Z16: =Y16+FG!$CD16-Sale!Z16 -> 0 | AA16: =Z16+FG!$DG16-Sale!AA16 -> 0 | AB16: =AA16+FG!$DK16-Sale!AB16 -> 0 | AC16: =AB16+FG!$DQ16-Sale!AC16 -> 0 | AD16: =AC16+FG!$DV16-Sale!AD16 -> -1 | AE16: =AD16+FG!$EA16-Sale!AE16 -> -1 | AF16: =AE16+FG!$EF16-Sale!AF16 -> -1 | AG16: =AF16+FG!$EK16-Sale!AG16 -> -1 | AH16: =AG16+FG!$EP16-Sale!AH16 -> -1 | AI16: =AH16+FG!$EU16-Sale!AI16 -> -1 | AJ16: =AI16+FG!$EZ16-Sale!AJ16 -> -1 | AK16: =AJ16+FG!$FE16-Sale!AK16 -> -1
C17: 0558-R (Gold) | D17: 49058-0558 36C | E17: Carry | F17: =+FG!F17 -> 0 | G17: =+FG!K17-Sale!G17 -> 0 | H17: =G17+FG!$P17-Sale!H17 -> 0 | I17: =H17+FG!$U17-Sale!I17 -> 0 | J17: =I17+FG!$Z17-Sale!J17 -> 0 | K17: =J17+FG!$AE17-Sale!K17 -> 0 | L17: =K17+FG!$AJ17-Sale!L17 -> 0 | M17: =L17+FG!$AO17-Sale!M17 -> 0 | N17: =M17+FG!$AT17-Sale!N17 -> 0 | O17: =N17+FG!$AY17-Sale!O17 -> 0 | P17: =O17+FG!$BD17-Sale!P17 -> 0 | Q17: =P17+FG!$BI17-Sale!Q17 -> 0 | R17: =Q17+FG!$BN17-Sale!R17 -> 0 | S17: =R17+FG!$BS17-Sale!S17 -> 0 | T17: =S17+FG!$BX17-Sale!T17 -> 0 | U17: =T17+FG!$CC17-Sale!U17 -> 0 | V17: =U17+FG!$CH17-Sale!V17 -> 0 | W17: =V17+FG!$CM17-Sale!W17 -> 0 | X17: =W17+FG!$CR17-Sale!X17 -> 0 | Y17: =X17+FG!$CW17-Sale!Y17 -> 0 | Z17: =Y17+FG!$CD17-Sale!Z17 -> 0 | AA17: =Z17+FG!$DG17-Sale!AA17 -> 0 | AB17: =AA17+FG!$DK17-Sale!AB17 -> 0 | AC17: =AB17+FG!$DQ17-Sale!AC17 -> 0 | AD17: =AC17+FG!$DV17-Sale!AD17 -> 0 | AE17: =AD17+FG!$EA17-Sale!AE17 -> 0 | AF17: =AE17+FG!$EF17-Sale!AF17 -> 0 | AG17: =AF17+FG!$EK17-Sale!AG17 -> 0 | AH17: =AG17+FG!$EP17-Sale!AH17 -> 0 | AI17: =AH17+FG!$EU17-Sale!AI17 -> 0 | AJ17: =AI17+FG!$EZ17-Sale!AJ17 -> 0 | AK17: =AJ17+FG!$FE17-Sale!AK17 -> 0
C18: 0558P-R (Red) | D18: 49058-0558 35W | E18: Carry | F18: =+FG!F18 -> 0 | G18: =+FG!K18-Sale!G18 -> 0 | H18: =G18+FG!$P18-Sale!H18 -> 0 | I18: =H18+FG!$U18-Sale!I18 -> 0 | J18: =I18+FG!$Z18-Sale!J18 -> 0 | K18: =J18+FG!$AE18-Sale!K18 -> 0 | L18: =K18+FG!$AJ18-Sale!L18 -> 0 | M18: =L18+FG!$AO18-Sale!M18 -> 0 | N18: =M18+FG!$AT18-Sale!N18 -> 0 | O18: =N18+FG!$AY18-Sale!O18 -> 0 | P18: =O18+FG!$BD18-Sale!P18 -> 0 | Q18: =P18+FG!$BI18-Sale!Q18 -> 0 | R18: =Q18+FG!$BN18-Sale!R18 -> 0 | S18: =R18+FG!$BS18-Sale!S18 -> 0 | T18: =S18+FG!$BX18-Sale!T18 -> 0 | U18: =T18+FG!$CC18-Sale!U18 -> 0 | V18: =U18+FG!$CH18-Sale!V18 -> 0 | W18: =V18+FG!$CM18-Sale!W18 -> 0 | X18: =W18+FG!$CR18-Sale!X18 -> 0 | Y18: =X18+FG!$CW18-Sale!Y18 -> 0 | Z18: =Y18+FG!$CD18-Sale!Z18 -> 0 | AA18: =Z18+FG!$DG18-Sale!AA18 -> 0 | AB18: =AA18+FG!$DK18-Sale!AB18 -> 0 | AC18: =AB18+FG!$DQ18-Sale!AC18 -> 0 | AD18: =AC18+FG!$DV18-Sale!AD18 -> 0 | AE18: =AD18+FG!$EA18-Sale!AE18 -> 0 | AF18: =AE18+FG!$EF18-Sale!AF18 -> 0 | AG18: =AF18+FG!$EK18-Sale!AG18 -> 0 | AH18: =AG18+FG!$EP18-Sale!AH18 -> 0 | AI18: =AH18+FG!$EU18-Sale!AI18 -> 0 | AJ18: =AI18+FG!$EZ18-Sale!AJ18 -> 0 | AK18: =AJ18+FG!$FE18-Sale!AK18 -> 0
C19: 0558-R (Yellow) | D19: 49058-0558 35X | E19: Carry | F19: =+FG!F19 -> 6 | G19: =+FG!K19-Sale!G19 -> 6 | H19: =G19+FG!$P19-Sale!H19 -> 6 | I19: =H19+FG!$U19-Sale!I19 -> 6 | J19: =I19+FG!$Z19-Sale!J19 -> 6 | K19: =J19+FG!$AE19-Sale!K19 -> 6 | L19: =K19+FG!$AJ19-Sale!L19 -> 6 | M19: =L19+FG!$AO19-Sale!M19 -> 6 | N19: =M19+FG!$AT19-Sale!N19 -> 6 | O19: =N19+FG!$AY19-Sale!O19 -> 6 | P19: =O19+FG!$BD19-Sale!P19 -> 6 | Q19: =P19+FG!$BI19-Sale!Q19 -> 6 | R19: =Q19+FG!$BN19-Sale!R19 -> 6 | S19: =R19+FG!$BS19-Sale!S19 -> 6 | T19: =S19+FG!$BX19-Sale!T19 -> 6 | U19: =T19+FG!$CC19-Sale!U19 -> 6 | V19: =U19+FG!$CH19-Sale!V19 -> 6 | W19: =V19+FG!$CM19-Sale!W19 -> 6 | X19: =W19+FG!$CR19-Sale!X19 -> 6 | Y19: =X19+FG!$CW19-Sale!Y19 -> 6 | Z19: =Y19+FG!$CD19-Sale!Z19 -> 6 | AA19: =Z19+FG!$DG19-Sale!AA19 -> 6 | AB19: =AA19+FG!$DK19-Sale!AB19 -> 6 | AC19: =AB19+FG!$DQ19-Sale!AC19 -> 6 | AD19: =AC19+FG!$DV19-Sale!AD19 -> 6 | AE19: =AD19+FG!$EA19-Sale!AE19 -> 6 | AF19: =AE19+FG!$EF19-Sale!AF19 -> 6 | AG19: =AF19+FG!$EK19-Sale!AG19 -> 6 | AH19: =AG19+FG!$EP19-Sale!AH19 -> 6 | AI19: =AH19+FG!$EU19-Sale!AI19 -> 6 | AJ19: =AI19+FG!$EZ19-Sale!AJ19 -> 6 | AK19: =AJ19+FG!$FE19-Sale!AK19 -> 6
A20: 0112 | B20: F | C20: 0112-F (Black) | D20: 49058-0112 QT | E20: Carry | F20: =+FG!F20 -> 540 | G20: =+FG!K20-Sale!G20 -> 490 | H20: =G20+FG!$P20-Sale!H20 -> 430 | I20: =H20+FG!$U20-Sale!I20 -> 400 | J20: =I20+FG!$Z20-Sale!J20 -> 400 | K20: =J20+FG!$AE20-Sale!K20 -> 400 | L20: =K20+FG!$AJ20-Sale!L20 -> 400 | M20: =L20+FG!$AO20-Sale!M20 -> 380 | N20: =M20+FG!$AT20-Sale!N20 -> 330 | O20: =N20+FG!$AY20-Sale!O20 -> 280 | P20: =O20+FG!$BD20-Sale!P20 -> 230 | Q20: =P20+FG!$BI20-Sale!Q20 -> 230 | R20: =Q20+FG!$BN20-Sale!R20 -> 230 | S20: =R20+FG!$BS20-Sale!S20 -> 180 | T20: =S20+FG!$BX20-Sale!T20 -> 180 | U20: =T20+FG!$CC20-Sale!U20 -> 180 | V20: =U20+FG!$CH20-Sale!V20 -> 180 | W20: =V20+FG!$CM20-Sale!W20 -> 140 | X20: =W20+FG!$CR20-Sale!X20 -> 140 | Y20: =X20+FG!$CW20-Sale!Y20 -> 140 | Z20: =Y20+FG!$CD20-Sale!Z20 -> 140 | AA20: =Z20+FG!$DG20-Sale!AA20 -> 140 | AB20: =AA20+FG!$DK20-Sale!AB20 -> 140 | AC20: =AB20+FG!$DQ20-Sale!AC20 -> 140 | AD20: =AC20+FG!$DV20-Sale!AD20 -> 140 | AE20: =AD20+FG!$EA20-Sale!AE20 -> 140 | AF20: =AE20+FG!$EF20-Sale!AF20 -> 140 | AG20: =AF20+FG!$EK20-Sale!AG20 -> 140 | AH20: =AG20+FG!$EP20-Sale!AH20 -> 140 | AI20: =AH20+FG!$EU20-Sale!AI20 -> 140 | AJ20: =AI20+FG!$EZ20-Sale!AJ20 -> 140 | AK20: =AJ20+FG!$FE20-Sale!AK20 -> 140
C21: 0112-F (Gold) | D21: 49058-0112 36C | E21: Carry | F21: =+FG!F21 -> 75 | G21: =+FG!K21-Sale!G21 -> 75 | H21: =G21+FG!$P21-Sale!H21 -> 75 | I21: =H21+FG!$U21-Sale!I21 -> 75 | J21: =I21+FG!$Z21-Sale!J21 -> 75 | K21: =J21+FG!$AE21-Sale!K21 -> 75 | L21: =K21+FG!$AJ21-Sale!L21 -> 75 | M21: =L21+FG!$AO21-Sale!M21 -> 75 | N21: =M21+FG!$AT21-Sale!N21 -> 75 | O21: =N21+FG!$AY21-Sale!O21 -> 75 | P21: =O21+FG!$BD21-Sale!P21 -> 75 | Q21: =P21+FG!$BI21-Sale!Q21 -> 75 | R21: =Q21+FG!$BN21-Sale!R21 -> 75 | S21: =R21+FG!$BS21-Sale!S21 -> 75 | T21: =S21+FG!$BX21-Sale!T21 -> 75 | U21: =T21+FG!$CC21-Sale!U21 -> 75 | V21: =U21+FG!$CH21-Sale!V21 -> 75 | W21: =V21+FG!$CM21-Sale!W21 -> 75 | X21: =W21+FG!$CR21-Sale!X21 -> 75 | Y21: =X21+FG!$CW21-Sale!Y21 -> 75 | Z21: =Y21+FG!$CD21-Sale!Z21 -> 75 | AA21: =Z21+FG!$DG21-Sale!AA21 -> 75 | AB21: =AA21+FG!$DK21-Sale!AB21 -> 75 | AC21: =AB21+FG!$DQ21-Sale!AC21 -> 75 | AD21: =AC21+FG!$DV21-Sale!AD21 -> 75 | AE21: =AD21+FG!$EA21-Sale!AE21 -> 75 | AF21: =AE21+FG!$EF21-Sale!AF21 -> 75 | AG21: =AF21+FG!$EK21-Sale!AG21 -> 75 | AH21: =AG21+FG!$EP21-Sale!AH21 -> 75 | AI21: =AH21+FG!$EU21-Sale!AI21 -> 75 | AJ21: =AI21+FG!$EZ21-Sale!AJ21 -> 75 | AK21: =AJ21+FG!$FE21-Sale!AK21 -> 75
A22: 0113 | B22: R | C22: 0571-R (Black) | D22: 49058-0571 QT | E22: Carry | F22: =+FG!F22 -> 514 | G22: =+FG!K22-Sale!G22 -> 514 | H22: =G22+FG!$P22-Sale!H22 -> 514 | I22: =H22+FG!$U22-Sale!I22 -> 514 | J22: =I22+FG!$Z22-Sale!J22 -> 514 | K22: =J22+FG!$AE22-Sale!K22 -> 514 | L22: =K22+FG!$AJ22-Sale!L22 -> 514 | M22: =L22+FG!$AO22-Sale!M22 -> 514 | N22: =M22+FG!$AT22-Sale!N22 -> 514 | O22: =N22+FG!$AY22-Sale!O22 -> 514 | P22: =O22+FG!$BD22-Sale!P22 -> 514 | Q22: =P22+FG!$BI22-Sale!Q22 -> 514 | R22: =Q22+FG!$BN22-Sale!R22 -> 514 | S22: =R22+FG!$BS22-Sale!S22 -> 514 | T22: =S22+FG!$BX22-Sale!T22 -> 514 | U22: =T22+FG!$CC22-Sale!U22 -> 514 | V22: =U22+FG!$CH22-Sale!V22 -> 474 | W22: =V22+FG!$CM22-Sale!W22 -> 474 | X22: =W22+FG!$CR22-Sale!X22 -> 474 | Y22: =X22+FG!$CW22-Sale!Y22 -> 474 | Z22: =Y22+FG!$CD22-Sale!Z22 -> 474 | AA22: =Z22+FG!$DG22-Sale!AA22 -> 474 | AB22: =AA22+FG!$DK22-Sale!AB22 -> 474 | AC22: =AB22+FG!$DQ22-Sale!AC22 -> 474 | AD22: =AC22+FG!$DV22-Sale!AD22 -> 474 | AE22: =AD22+FG!$EA22-Sale!AE22 -> 474 | AF22: =AE22+FG!$EF22-Sale!AF22 -> 474 | AG22: =AF22+FG!$EK22-Sale!AG22 -> 474 | AH22: =AG22+FG!$EP22-Sale!AH22 -> 474 | AI22: =AH22+FG!$EU22-Sale!AI22 -> 474 | AJ22: =AI22+FG!$EZ22-Sale!AJ22 -> 474 | AK22: =AJ22+FG!$FE22-Sale!AK22 -> 474
C23: 0571-R (Gold) | D23: 49058-0571 36C | E23: Carry | F23: =+FG!F23 -> 57 | G23: =+FG!K23-Sale!G23 -> 57 | H23: =G23+FG!$P23-Sale!H23 -> 57 | I23: =H23+FG!$U23-Sale!I23 -> 57 | J23: =I23+FG!$Z23-Sale!J23 -> 57 | K23: =J23+FG!$AE23-Sale!K23 -> 57 | L23: =K23+FG!$AJ23-Sale!L23 -> 57 | M23: =L23+FG!$AO23-Sale!M23 -> 57 | N23: =M23+FG!$AT23-Sale!N23 -> 57 | O23: =N23+FG!$AY23-Sale!O23 -> 57 | P23: =O23+FG!$BD23-Sale!P23 -> 57 | Q23: =P23+FG!$BI23-Sale!Q23 -> 57 | R23: =Q23+FG!$BN23-Sale!R23 -> 57 | S23: =R23+FG!$BS23-Sale!S23 -> 57 | T23: =S23+FG!$BX23-Sale!T23 -> 57 | U23: =T23+FG!$CC23-Sale!U23 -> 57 | V23: =U23+FG!$CH23-Sale!V23 -> 57 | W23: =V23+FG!$CM23-Sale!W23 -> 57 | X23: =W23+FG!$CR23-Sale!X23 -> 57 | Y23: =X23+FG!$CW23-Sale!Y23 -> 57 | Z23: =Y23+FG!$CD23-Sale!Z23 -> 57 | AA23: =Z23+FG!$DG23-Sale!AA23 -> 57 | AB23: =AA23+FG!$DK23-Sale!AB23 -> 57 | AC23: =AB23+FG!$DQ23-Sale!AC23 -> 57 | AD23: =AC23+FG!$DV23-Sale!AD23 -> 57 | AE23: =AD23+FG!$EA23-Sale!AE23 -> 57 | AF23: =AE23+FG!$EF23-Sale!AF23 -> 57 | AG23: =AF23+FG!$EK23-Sale!AG23 -> 57 | AH23: =AG23+FG!$EP23-Sale!AH23 -> 57 | AI23: =AH23+FG!$EU23-Sale!AI23 -> 57 | AJ23: =AI23+FG!$EZ23-Sale!AJ23 -> 57 | AK23: =AJ23+FG!$FE23-Sale!AK23 -> 57
A24: 0587 | B24: R | C24: 0587-R (Black) | D24: 49058-0587 QT | E24: Carry | F24: =+FG!F24 -> 273 | G24: =+FG!K24-Sale!G24 -> 233 | H24: =G24+FG!$P24-Sale!H24 -> 153 | I24: =H24+FG!$U24-Sale!I24 -> 93 | J24: =I24+FG!$Z24-Sale!J24 -> 93 | K24: =J24+FG!$AE24-Sale!K24 -> 93 | L24: =K24+FG!$AJ24-Sale!L24 -> 33 | M24: =L24+FG!$AO24-Sale!M24 -> -27 | N24: =M24+FG!$AT24-Sale!N24 -> -67 | O24: =N24+FG!$AY24-Sale!O24 -> -107 | P24: =O24+FG!$BD24-Sale!P24 -> -147 | Q24: =P24+FG!$BI24-Sale!Q24 -> -147 | R24: =Q24+FG!$BN24-Sale!R24 -> -147 | S24: =R24+FG!$BS24-Sale!S24 -> -187 | T24: =S24+FG!$BX24-Sale!T24 -> -227 | U24: =T24+FG!$CC24-Sale!U24 -> -267 | V24: =U24+FG!$CH24-Sale!V24 -> -327 | W24: =V24+FG!$CM24-Sale!W24 -> -387 | X24: =W24+FG!$CR24-Sale!X24 -> -387 | Y24: =X24+FG!$CW24-Sale!Y24 -> -387 | Z24: =Y24+FG!$CD24-Sale!Z24 -> -427 | AA24: =Z24+FG!$DG24-Sale!AA24 -> -467 | AB24: =AA24+FG!$DK24-Sale!AB24 -> -527 | AC24: =AB24+FG!$DQ24-Sale!AC24 -> -607 | AD24: =AC24+FG!$DV24-Sale!AD24 -> -647 | AE24: =AD24+FG!$EA24-Sale!AE24 -> -647 | AF24: =AE24+FG!$EF24-Sale!AF24 -> -647 | AG24: =AF24+FG!$EK24-Sale!AG24 -> -707 | AH24: =AG24+FG!$EP24-Sale!AH24 -> -787 | AI24: =AH24+FG!$EU24-Sale!AI24 -> -787 | AJ24: =AI24+FG!$EZ24-Sale!AJ24 -> -787 | AK24: =AJ24+FG!$FE24-Sale!AK24 -> -787
C25: 0587-R (Black) | D25: 49058-0587 QT | E25: Pack BOX | F25: =+FG!F25 -> 500 | G25: =+FG!K25-Sale!G25 -> 500 | H25: =G25+FG!$P25-Sale!H25 -> 480 | I25: =H25+FG!$U25-Sale!I25 -> 480 | J25: =I25+FG!$Z25-Sale!J25 -> 480 | K25: =J25+FG!$AE25-Sale!K25 -> 480 | L25: =K25+FG!$AJ25-Sale!L25 -> 480 | M25: =L25+FG!$AO25-Sale!M25 -> 460 | N25: =M25+FG!$AT25-Sale!N25 -> 460 | O25: =N25+FG!$AY25-Sale!O25 -> 460 | P25: =O25+FG!$BD25-Sale!P25 -> 460 | Q25: =P25+FG!$BI25-Sale!Q25 -> 460 | R25: =Q25+FG!$BN25-Sale!R25 -> 460 | S25: =R25+FG!$BS25-Sale!S25 -> 460 | T25: =S25+FG!$BX25-Sale!T25 -> 460 | U25: =T25+FG!$CC25-Sale!U25 -> 460 | V25: =U25+FG!$CH25-Sale!V25 -> 460 | W25: =V25+FG!$CM25-Sale!W25 -> 460 | X25: =W25+FG!$CR25-Sale!X25 -> 460 | Y25: =X25+FG!$CW25-Sale!Y25 -> 460 | Z25: =Y25+FG!$CD25-Sale!Z25 -> 460 | AA25: =Z25+FG!$DG25-Sale!AA25 -> 460 | AB25: =AA25+FG!$DK25-Sale!AB25 -> 460 | AC25: =AB25+FG!$DQ25-Sale!AC25 -> 460 | AD25: =AC25+FG!$DV25-Sale!AD25 -> 460 | AE25: =AD25+FG!$EA25-Sale!AE25 -> 460 | AF25: =AE25+FG!$EF25-Sale!AF25 -> 460 | AG25: =AF25+FG!$EK25-Sale!AG25 -> 460 | AH25: =AG25+FG!$EP25-Sale!AH25 -> 460 | AI25: =AH25+FG!$EU25-Sale!AI25 -> 460 | AJ25: =AI25+FG!$EZ25-Sale!AJ25 -> 460 | AK25: =AJ25+FG!$FE25-Sale!AK25 -> 460
C26: 0587-R (Sticker Green) | D26: 49058-5039 QT | E26: Carry | F26: =+FG!F26 -> 20 | G26: =+FG!K26-Sale!G26 -> 20 | H26: =G26+FG!$P26-Sale!H26 -> 20 | I26: =H26+FG!$U26-Sale!I26 -> 20 | J26: =I26+FG!$Z26-Sale!J26 -> 20 | K26: =J26+FG!$AE26-Sale!K26 -> 20 | L26: =K26+FG!$AJ26-Sale!L26 -> 20 | M26: =L26+FG!$AO26-Sale!M26 -> 20 | N26: =M26+FG!$AT26-Sale!N26 -> 20 | O26: =N26+FG!$AY26-Sale!O26 -> 20 | P26: =O26+FG!$BD26-Sale!P26 -> 20 | Q26: =P26+FG!$BI26-Sale!Q26 -> 20 | R26: =Q26+FG!$BN26-Sale!R26 -> 20 | S26: =R26+FG!$BS26-Sale!S26 -> 20 | T26: =S26+FG!$BX26-Sale!T26 -> 20 | U26: =T26+FG!$CC26-Sale!U26 -> 20 | V26: =U26+FG!$CH26-Sale!V26 -> 20 | W26: =V26+FG!$CM26-Sale!W26 -> 20 | X26: =W26+FG!$CR26-Sale!X26 -> 20 | Y26: =X26+FG!$CW26-Sale!Y26 -> 20 | Z26: =Y26+FG!$CD26-Sale!Z26 -> 20 | AA26: =Z26+FG!$DG26-Sale!AA26 -> 20 | AB26: =AA26+FG!$DK26-Sale!AB26 -> 20 | AC26: =AB26+FG!$DQ26-Sale!AC26 -> 20 | AD26: =AC26+FG!$DV26-Sale!AD26 -> 20 | AE26: =AD26+FG!$EA26-Sale!AE26 -> 20 | AF26: =AE26+FG!$EF26-Sale!AF26 -> 20 | AG26: =AF26+FG!$EK26-Sale!AG26 -> 20 | AH26: =AG26+FG!$EP26-Sale!AH26 -> 20 | AI26: =AH26+FG!$EU26-Sale!AI26 -> 20 | AJ26: =AI26+FG!$EZ26-Sale!AJ26 -> 20 | AK26: =AJ26+FG!$FE26-Sale!AK26 -> 20
C27: 0587-R (Sticker Green) | D27: 49058-5039 QT | E27: Pack BOX | F27: =+FG!F27 -> 30 | G27: =+FG!K27-Sale!G27 -> -10 | H27: =G27+FG!$P27-Sale!H27 -> -30 | I27: =H27+FG!$U27-Sale!I27 -> -50 | J27: =I27+FG!$Z27-Sale!J27 -> -50 | K27: =J27+FG!$AE27-Sale!K27 -> -50 | L27: =K27+FG!$AJ27-Sale!L27 -> -70 | M27: =L27+FG!$AO27-Sale!M27 -> -90 | N27: =M27+FG!$AT27-Sale!N27 -> -90 | O27: =N27+FG!$AY27-Sale!O27 -> -110 | P27: =O27+FG!$BD27-Sale!P27 -> -110 | Q27: =P27+FG!$BI27-Sale!Q27 -> -110 | R27: =Q27+FG!$BN27-Sale!R27 -> -110 | S27: =R27+FG!$BS27-Sale!S27 -> -150 | T27: =S27+FG!$BX27-Sale!T27 -> -150 | U27: =T27+FG!$CC27-Sale!U27 -> -170 | V27: =U27+FG!$CH27-Sale!V27 -> -190 | W27: =V27+FG!$CM27-Sale!W27 -> -190 | X27: =W27+FG!$CR27-Sale!X27 -> -190 | Y27: =X27+FG!$CW27-Sale!Y27 -> -190 | Z27: =Y27+FG!$CD27-Sale!Z27 -> -210 | AA27: =Z27+FG!$DG27-Sale!AA27 -> -230 | AB27: =AA27+FG!$DK27-Sale!AB27 -> -250 | AC27: =AB27+FG!$DQ27-Sale!AC27 -> -250 | AD27: =AC27+FG!$DV27-Sale!AD27 -> -270 | AE27: =AD27+FG!$EA27-Sale!AE27 -> -270 | AF27: =AE27+FG!$EF27-Sale!AF27 -> -270 | AG27: =AF27+FG!$EK27-Sale!AG27 -> -270 | AH27: =AG27+FG!$EP27-Sale!AH27 -> -290 | AI27: =AH27+FG!$EU27-Sale!AI27 -> -290 | AJ27: =AI27+FG!$EZ27-Sale!AJ27 -> -290 | AK27: =AJ27+FG!$FE27-Sale!AK27 -> -290
C28: 0587-R (Sticker-Red) | D28: 49058-5041 QT | E28: Carry | F28: =+FG!F28 -> 40 | G28: =+FG!K28-Sale!G28 -> 40 | H28: =G28+FG!$P28-Sale!H28 -> 40 | I28: =H28+FG!$U28-Sale!I28 -> 40 | J28: =I28+FG!$Z28-Sale!J28 -> 40 | K28: =J28+FG!$AE28-Sale!K28 -> 40 | L28: =K28+FG!$AJ28-Sale!L28 -> 40 | M28: =L28+FG!$AO28-Sale!M28 -> 40 | N28: =M28+FG!$AT28-Sale!N28 -> 40 | O28: =N28+FG!$AY28-Sale!O28 -> 40 | P28: =O28+FG!$BD28-Sale!P28 -> 40 | Q28: =P28+FG!$BI28-Sale!Q28 -> 40 | R28: =Q28+FG!$BN28-Sale!R28 -> 40 | S28: =R28+FG!$BS28-Sale!S28 -> 40 | T28: =S28+FG!$BX28-Sale!T28 -> 40 | U28: =T28+FG!$CC28-Sale!U28 -> 40 | V28: =U28+FG!$CH28-Sale!V28 -> 40 | W28: =V28+FG!$CM28-Sale!W28 -> 40 | X28: =W28+FG!$CR28-Sale!X28 -> 40 | Y28: =X28+FG!$CW28-Sale!Y28 -> 40 | Z28: =Y28+FG!$CD28-Sale!Z28 -> 40 | AA28: =Z28+FG!$DG28-Sale!AA28 -> 40 | AB28: =AA28+FG!$DK28-Sale!AB28 -> 40 | AC28: =AB28+FG!$DQ28-Sale!AC28 -> 40 | AD28: =AC28+FG!$DV28-Sale!AD28 -> 40 | AE28: =AD28+FG!$EA28-Sale!AE28 -> 40 | AF28: =AE28+FG!$EF28-Sale!AF28 -> 40 | AG28: =AF28+FG!$EK28-Sale!AG28 -> 40 | AH28: =AG28+FG!$EP28-Sale!AH28 -> 40 | AI28: =AH28+FG!$EU28-Sale!AI28 -> 40 | AJ28: =AI28+FG!$EZ28-Sale!AJ28 -> 40 | AK28: =AJ28+FG!$FE28-Sale!AK28 -> 40
C29: 0587-R (Sticker-Red) | D29: 49058-5041 QT | E29: Pack BOX | F29: =+FG!F29 -> 20 | G29: =+FG!K29-Sale!G29 -> 20 | H29: =G29+FG!$P29-Sale!H29 -> 20 | I29: =H29+FG!$U29-Sale!I29 -> 20 | J29: =I29+FG!$Z29-Sale!J29 -> 20 | K29: =J29+FG!$AE29-Sale!K29 -> 20 | L29: =K29+FG!$AJ29-Sale!L29 -> 20 | M29: =L29+FG!$AO29-Sale!M29 -> 20 | N29: =M29+FG!$AT29-Sale!N29 -> 20 | O29: =N29+FG!$AY29-Sale!O29 -> 20 | P29: =O29+FG!$BD29-Sale!P29 -> 20 | Q29: =P29+FG!$BI29-Sale!Q29 -> 20 | R29: =Q29+FG!$BN29-Sale!R29 -> 20 | S29: =R29+FG!$BS29-Sale!S29 -> 20 | T29: =S29+FG!$BX29-Sale!T29 -> 20 | U29: =T29+FG!$CC29-Sale!U29 -> 20 | V29: =U29+FG!$CH29-Sale!V29 -> 20 | W29: =V29+FG!$CM29-Sale!W29 -> 20 | X29: =W29+FG!$CR29-Sale!X29 -> 20 | Y29: =X29+FG!$CW29-Sale!Y29 -> 20 | Z29: =Y29+FG!$CD29-Sale!Z29 -> 20 | AA29: =Z29+FG!$DG29-Sale!AA29 -> 20 | AB29: =AA29+FG!$DK29-Sale!AB29 -> 20 | AC29: =AB29+FG!$DQ29-Sale!AC29 -> 20 | AD29: =AC29+FG!$DV29-Sale!AD29 -> 20 | AE29: =AD29+FG!$EA29-Sale!AE29 -> 20 | AF29: =AE29+FG!$EF29-Sale!AF29 -> 20 | AG29: =AF29+FG!$EK29-Sale!AG29 -> 20 | AH29: =AG29+FG!$EP29-Sale!AH29 -> 20 | AI29: =AH29+FG!$EU29-Sale!AI29 -> 20 | AJ29: =AI29+FG!$EZ29-Sale!AJ29 -> 20 | AK29: =AJ29+FG!$FE29-Sale!AK29 -> 20
C30: 0587-R (Sticker Orange) | D30: 49058-5060 QT | E30: Carry | F30: =+FG!F30 -> 30 | G30: =+FG!K30-Sale!G30 -> 10 | H30: =G30+FG!$P30-Sale!H30 -> -10 | I30: =H30+FG!$U30-Sale!I30 -> -30 | J30: =I30+FG!$Z30-Sale!J30 -> -30 | K30: =J30+FG!$AE30-Sale!K30 -> -30 | L30: =K30+FG!$AJ30-Sale!L30 -> -50 | M30: =L30+FG!$AO30-Sale!M30 -> -50 | N30: =M30+FG!$AT30-Sale!N30 -> -110 | O30: =N30+FG!$AY30-Sale!O30 -> -150 | P30: =O30+FG!$BD30-Sale!P30 -> -190 | Q30: =P30+FG!$BI30-Sale!Q30 -> -190 | R30: =Q30+FG!$BN30-Sale!R30 -> -190 | S30: =R30+FG!$BS30-Sale!S30 -> -230 | T30: =S30+FG!$BX30-Sale!T30 -> -250 | U30: =T30+FG!$CC30-Sale!U30 -> -270 | V30: =U30+FG!$CH30-Sale!V30 -> -290 | W30: =V30+FG!$CM30-Sale!W30 -> -310 | X30: =W30+FG!$CR30-Sale!X30 -> -310 | Y30: =X30+FG!$CW30-Sale!Y30 -> -310 | Z30: =Y30+FG!$CD30-Sale!Z30 -> -330 | AA30: =Z30+FG!$DG30-Sale!AA30 -> -370 | AB30: =AA30+FG!$DK30-Sale!AB30 -> -410 | AC30: =AB30+FG!$DQ30-Sale!AC30 -> -430 | AD30: =AC30+FG!$DV30-Sale!AD30 -> -450 | AE30: =AD30+FG!$EA30-Sale!AE30 -> -450 | AF30: =AE30+FG!$EF30-Sale!AF30 -> -450 | AG30: =AF30+FG!$EK30-Sale!AG30 -> -490 | AH30: =AG30+FG!$EP30-Sale!AH30 -> -510 | AI30: =AH30+FG!$EU30-Sale!AI30 -> -510 | AJ30: =AI30+FG!$EZ30-Sale!AJ30 -> -510 | AK30: =AJ30+FG!$FE30-Sale!AK30 -> -510
C31: 0587-R (Sticker Orange) | D31: 49058-5060 QT | E31: Pack BOX | F31: =+FG!F31 -> 30 | G31: =+FG!K31-Sale!G31 -> 30 | H31: =G31+FG!$P31-Sale!H31 -> 30 | I31: =H31+FG!$U31-Sale!I31 -> 30 | J31: =I31+FG!$Z31-Sale!J31 -> 30 | K31: =J31+FG!$AE31-Sale!K31 -> 30 | L31: =K31+FG!$AJ31-Sale!L31 -> 30 | M31: =L31+FG!$AO31-Sale!M31 -> 10 | N31: =M31+FG!$AT31-Sale!N31 -> 10 | O31: =N31+FG!$AY31-Sale!O31 -> 10 | P31: =O31+FG!$BD31-Sale!P31 -> 10 | Q31: =P31+FG!$BI31-Sale!Q31 -> 10 | R31: =Q31+FG!$BN31-Sale!R31 -> 10 | S31: =R31+FG!$BS31-Sale!S31 -> 10 | T31: =S31+FG!$BX31-Sale!T31 -> -10 | U31: =T31+FG!$CC31-Sale!U31 -> -30 | V31: =U31+FG!$CH31-Sale!V31 -> -30 | W31: =V31+FG!$CM31-Sale!W31 -> -30 | X31: =W31+FG!$CR31-Sale!X31 -> -30 | Y31: =X31+FG!$CW31-Sale!Y31 -> -30 | Z31: =Y31+FG!$CD31-Sale!Z31 -> -30 | AA31: =Z31+FG!$DG31-Sale!AA31 -> -50 | AB31: =AA31+FG!$DK31-Sale!AB31 -> -50 | AC31: =AB31+FG!$DQ31-Sale!AC31 -> -70 | AD31: =AC31+FG!$DV31-Sale!AD31 -> -70 | AE31: =AD31+FG!$EA31-Sale!AE31 -> -70 | AF31: =AE31+FG!$EF31-Sale!AF31 -> -70 | AG31: =AF31+FG!$EK31-Sale!AG31 -> -70 | AH31: =AG31+FG!$EP31-Sale!AH31 -> -70 | AI31: =AH31+FG!$EU31-Sale!AI31 -> -70 | AJ31: =AI31+FG!$EZ31-Sale!AJ31 -> -70 | AK31: =AJ31+FG!$FE31-Sale!AK31 -> -70
C32: 0587-R (Sticker Green) | D32: 49058-5128 QT | E32: Carry | F32: =+FG!F32 -> 30 | G32: =+FG!K32-Sale!G32 -> 10 | H32: =G32+FG!$P32-Sale!H32 -> -10 | I32: =H32+FG!$U32-Sale!I32 -> -30 | J32: =I32+FG!$Z32-Sale!J32 -> -30 | K32: =J32+FG!$AE32-Sale!K32 -> -30 | L32: =K32+FG!$AJ32-Sale!L32 -> -30 | M32: =L32+FG!$AO32-Sale!M32 -> -30 | N32: =M32+FG!$AT32-Sale!N32 -> -70 | O32: =N32+FG!$AY32-Sale!O32 -> -70 | P32: =O32+FG!$BD32-Sale!P32 -> -70 | Q32: =P32+FG!$BI32-Sale!Q32 -> -70 | R32: =Q32+FG!$BN32-Sale!R32 -> -70 | S32: =R32+FG!$BS32-Sale!S32 -> -90 | T32: =S32+FG!$BX32-Sale!T32 -> -90 | U32: =T32+FG!$CC32-Sale!U32 -> -130 | V32: =U32+FG!$CH32-Sale!V32 -> -130 | W32: =V32+FG!$CM32-Sale!W32 -> -150 | X32: =W32+FG!$CR32-Sale!X32 -> -150 | Y32: =X32+FG!$CW32-Sale!Y32 -> -150 | Z32: =Y32+FG!$CD32-Sale!Z32 -> -190 | AA32: =Z32+FG!$DG32-Sale!AA32 -> -190 | AB32: =AA32+FG!$DK32-Sale!AB32 -> -190 | AC32: =AB32+FG!$DQ32-Sale!AC32 -> -210 | AD32: =AC32+FG!$DV32-Sale!AD32 -> -230 | AE32: =AD32+FG!$EA32-Sale!AE32 -> -230 | AF32: =AE32+FG!$EF32-Sale!AF32 -> -230 | AG32: =AF32+FG!$EK32-Sale!AG32 -> -250 | AH32: =AG32+FG!$EP32-Sale!AH32 -> -250 | AI32: =AH32+FG!$EU32-Sale!AI32 -> -250 | AJ32: =AI32+FG!$EZ32-Sale!AJ32 -> -250 | AK32: =AJ32+FG!$FE32-Sale!AK32 -> -250
C33: 0587-R (Sticker-Red) | D33: 49058-5130 QT | E33: Carry | F33: =+FG!F33 -> 0 | G33: =+FG!K33-Sale!G33 -> 0 | H33: =G33+FG!$P33-Sale!H33 -> 0 | I33: =H33+FG!$U33-Sale!I33 -> 0 | J33: =I33+FG!$Z33-Sale!J33 -> 0 | K33: =J33+FG!$AE33-Sale!K33 -> 0 | L33: =K33+FG!$AJ33-Sale!L33 -> 0 | M33: =L33+FG!$AO33-Sale!M33 -> 0 | N33: =M33+FG!$AT33-Sale!N33 -> 0 | O33: =N33+FG!$AY33-Sale!O33 -> 0 | P33: =O33+FG!$BD33-Sale!P33 -> 0 | Q33: =P33+FG!$BI33-Sale!Q33 -> 0 | R33: =Q33+FG!$BN33-Sale!R33 -> 0 | S33: =R33+FG!$BS33-Sale!S33 -> 0 | T33: =S33+FG!$BX33-Sale!T33 -> 0 | U33: =T33+FG!$CC33-Sale!U33 -> 0 | V33: =U33+FG!$CH33-Sale!V33 -> 0 | W33: =V33+FG!$CM33-Sale!W33 -> 0 | X33: =W33+FG!$CR33-Sale!X33 -> 0 | Y33: =X33+FG!$CW33-Sale!Y33 -> 0 | Z33: =Y33+FG!$CD33-Sale!Z33 -> 0 | AA33: =Z33+FG!$DG33-Sale!AA33 -> 0 | AB33: =AA33+FG!$DK33-Sale!AB33 -> 0 | AC33: =AB33+FG!$DQ33-Sale!AC33 -> 0 | AD33: =AC33+FG!$DV33-Sale!AD33 -> 0 | AE33: =AD33+FG!$EA33-Sale!AE33 -> 0 | AF33: =AE33+FG!$EF33-Sale!AF33 -> 0 | AG33: =AF33+FG!$EK33-Sale!AG33 -> 0 | AH33: =AG33+FG!$EP33-Sale!AH33 -> 0 | AI33: =AH33+FG!$EU33-Sale!AI33 -> 0 | AJ33: =AI33+FG!$EZ33-Sale!AJ33 -> 0 | AK33: =AJ33+FG!$FE33-Sale!AK33 -> 0
C34: 0587-R (Sticker Blue) | D34: 49058-5132 QT | E34: Carry | F34: =+FG!F34 -> 0 | G34: =+FG!K34-Sale!G34 -> 0 | H34: =G34+FG!$P34-Sale!H34 -> 0 | I34: =H34+FG!$U34-Sale!I34 -> 0 | J34: =I34+FG!$Z34-Sale!J34 -> 0 | K34: =J34+FG!$AE34-Sale!K34 -> 0 | L34: =K34+FG!$AJ34-Sale!L34 -> 0 | M34: =L34+FG!$AO34-Sale!M34 -> 0 | N34: =M34+FG!$AT34-Sale!N34 -> 0 | O34: =N34+FG!$AY34-Sale!O34 -> 0 | P34: =O34+FG!$BD34-Sale!P34 -> 0 | Q34: =P34+FG!$BI34-Sale!Q34 -> 0 | R34: =Q34+FG!$BN34-Sale!R34 -> 0 | S34: =R34+FG!$BS34-Sale!S34 -> -1 | T34: =S34+FG!$BX34-Sale!T34 -> -1 | U34: =T34+FG!$CC34-Sale!U34 -> -1 | V34: =U34+FG!$CH34-Sale!V34 -> -1 | W34: =V34+FG!$CM34-Sale!W34 -> -1 | X34: =W34+FG!$CR34-Sale!X34 -> -1 | Y34: =X34+FG!$CW34-Sale!Y34 -> -1 | Z34: =Y34+FG!$CD34-Sale!Z34 -> -1 | AA34: =Z34+FG!$DG34-Sale!AA34 -> -1 | AB34: =AA34+FG!$DK34-Sale!AB34 -> -1 | AC34: =AB34+FG!$DQ34-Sale!AC34 -> -1 | AD34: =AC34+FG!$DV34-Sale!AD34 -> -1 | AE34: =AD34+FG!$EA34-Sale!AE34 -> -1 | AF34: =AE34+FG!$EF34-Sale!AF34 -> -1 | AG34: =AF34+FG!$EK34-Sale!AG34 -> -1 | AH34: =AG34+FG!$EP34-Sale!AH34 -> -1 | AI34: =AH34+FG!$EU34-Sale!AI34 -> -1 | AJ34: =AI34+FG!$EZ34-Sale!AJ34 -> -1 | AK34: =AJ34+FG!$FE34-Sale!AK34 -> -1
A35: 0593 | B35: F | C35: 0593-F (Black) | D35: 49058-0593 R2 | E35: Carry | F35: =+FG!F35 -> 17 | G35: =+FG!K35-Sale!G35 -> 17 | H35: =G35+FG!$P35-Sale!H35 -> 17 | I35: =H35+FG!$U35-Sale!I35 -> 17 | J35: =I35+FG!$Z35-Sale!J35 -> 17 | K35: =J35+FG!$AE35-Sale!K35 -> 17 | L35: =K35+FG!$AJ35-Sale!L35 -> 17 | M35: =L35+FG!$AO35-Sale!M35 -> 17 | N35: =M35+FG!$AT35-Sale!N35 -> 17 | O35: =N35+FG!$AY35-Sale!O35 -> 17 | P35: =O35+FG!$BD35-Sale!P35 -> 17 | Q35: =P35+FG!$BI35-Sale!Q35 -> 17 | R35: =Q35+FG!$BN35-Sale!R35 -> 17 | S35: =R35+FG!$BS35-Sale!S35 -> 17 | T35: =S35+FG!$BX35-Sale!T35 -> 17 | U35: =T35+FG!$CC35-Sale!U35 -> 17 | V35: =U35+FG!$CH35-Sale!V35 -> 17 | W35: =V35+FG!$CM35-Sale!W35 -> 17 | X35: =W35+FG!$CR35-Sale!X35 -> 17 | Y35: =X35+FG!$CW35-Sale!Y35 -> 17 | Z35: =Y35+FG!$CD35-Sale!Z35 -> 17 | AA35: =Z35+FG!$DG35-Sale!AA35 -> 17 | AB35: =AA35+FG!$DK35-Sale!AB35 -> 12 | AC35: =AB35+FG!$DQ35-Sale!AC35 -> 12 | AD35: =AC35+FG!$DV35-Sale!AD35 -> 12 | AE35: =AD35+FG!$EA35-Sale!AE35 -> 12 | AF35: =AE35+FG!$EF35-Sale!AF35 -> 12 | AG35: =AF35+FG!$EK35-Sale!AG35 -> 12 | AH35: =AG35+FG!$EP35-Sale!AH35 -> 12 | AI35: =AH35+FG!$EU35-Sale!AI35 -> 12 | AJ35: =AI35+FG!$EZ35-Sale!AJ35 -> 12 | AK35: =AJ35+FG!$FE35-Sale!AK35 -> 12
A36: 0594 | B36: R | C36: 0594-R (Black) | D36: 49058-0594 QT | E36: Carry | F36: =+FG!F36 -> 159 | G36: =+FG!K36-Sale!G36 -> 159 | H36: =G36+FG!$P36-Sale!H36 -> 159 | I36: =H36+FG!$U36-Sale!I36 -> 159 | J36: =I36+FG!$Z36-Sale!J36 -> 159 | K36: =J36+FG!$AE36-Sale!K36 -> 159 | L36: =K36+FG!$AJ36-Sale!L36 -> 159 | M36: =L36+FG!$AO36-Sale!M36 -> 159 | N36: =M36+FG!$AT36-Sale!N36 -> 159 | O36: =N36+FG!$AY36-Sale!O36 -> 159 | P36: =O36+FG!$BD36-Sale!P36 -> 159 | Q36: =P36+FG!$BI36-Sale!Q36 -> 159 | R36: =Q36+FG!$BN36-Sale!R36 -> 159 | S36: =R36+FG!$BS36-Sale!S36 -> 159 | T36: =S36+FG!$BX36-Sale!T36 -> 159 | U36: =T36+FG!$CC36-Sale!U36 -> 159 | V36: =U36+FG!$CH36-Sale!V36 -> 159 | W36: =V36+FG!$CM36-Sale!W36 -> 159 | X36: =W36+FG!$CR36-Sale!X36 -> 159 | Y36: =X36+FG!$CW36-Sale!Y36 -> 159 | Z36: =Y36+FG!$CD36-Sale!Z36 -> 159 | AA36: =Z36+FG!$DG36-Sale!AA36 -> 159 | AB36: =AA36+FG!$DK36-Sale!AB36 -> 159 | AC36: =AB36+FG!$DQ36-Sale!AC36 -> 159 | AD36: =AC36+FG!$DV36-Sale!AD36 -> 159 | AE36: =AD36+FG!$EA36-Sale!AE36 -> 159 | AF36: =AE36+FG!$EF36-Sale!AF36 -> 159 | AG36: =AF36+FG!$EK36-Sale!AG36 -> 159 | AH36: =AG36+FG!$EP36-Sale!AH36 -> 159 | AI36: =AH36+FG!$EU36-Sale!AI36 -> 159 | AJ36: =AI36+FG!$EZ36-Sale!AJ36 -> 159 | AK36: =AJ36+FG!$FE36-Sale!AK36 -> 159
F37: =SUM(F4:F36) -> 3408 | G37: =SUM(G4:G36) -> 3118 | H37: =SUM(H4:H36) -> 2738 | I37: =SUM(I4:I36) -> 2468 | J37: =SUM(J4:J36) -> 2468 | K37: =SUM(K4:K36) -> 2468 | L37: =SUM(L4:L36) -> 2268 | M37: =SUM(M4:M36) -> 2008 | ... AK37: =SUM(AK4:AK36) -> -1720
