Workbook

Sheet Urgent
A2: 2W Delivery Plan & Stock monitoring
A3: PROCESS | C3: CASTING | K3: TOTAL WIP CAST | L3: CNC | U3: TOTAL WIP CNC | V3: PAINTING | AH3: TOTAL WIP Paint | AI3: ASSY | AL3: TOTAL WIP ASSY | AM3: GRAND TOTAL WIP | AN3: Stock Finished Goods And Pack Spec | AR3: 42185 | AS3: Update : 2- July- 15 Time 08:00 pm
A4: Model | B4: Type | C4: Cast OK | D4: Welding | E4: BF.T-6 | F4: In T-6 | G4: BF. In spec | H4: BF. S/B | I4: S/B OK/ BF.CNC | J4: VR. | L4: BF. CNC | M4: BF. M/C | N4: BF. Broaching | O4: BF.Run-Out | P4: BF.A/L | Q4: BF. Inspection. | R4: AF. Inspection. | S4: BF. X RAY | T4: BF. ReM/C Run out & B/L Bibiri | V4: Paint process | W4: New Ascats | X4: AF.Paint | Y4: AF.Powder | Z4: Paper OK. | AA4: Re-M/C OK | AB4: In Pretreatment | AC4: AF. Pretreatment | AD4: In Bake Oven | AE4: Retouch | AF4: BF.RE-M/C (VR) | AG4: Import wheel | AI4: BF. INSPEC | AJ4: INSPEC OK. | AK4: TEMPORARY PACKING-A/L OK | AR4: Back Oder | AS4: Delivery Plan & Balance Finished goods.
AS5: =+AR3+1 -> 42186 | AU5: =+AS5+1 -> 42187 | AW5: =+AU5+1 -> 42188 | AY5: =+AW5+1 -> 42189 | BA5: =+AY5+1 -> 42190 | BC5: =+BA5+1 -> 42191 | BE5: =+BC5+1 -> 42192 | BG5: =+BE5+1 -> 42193 | BI5: =+BG5+1 -> 42194 | BK5: =+BI5+1 -> 42195 | BM5: =+BK5+1 -> 42196 | BO5: =+BM5+1 -> 42197 | BQ5: =+BO5+1 -> 42198 | BS5: =+BQ5+1 -> 42199 | BU5: =+BS5+1 -> 42200 | BW5: =+BU5+1 -> 42201 | BY5: =+BW5+1 -> 42202 | CA5: =+BY5+1 -> 42203 | CC5: =+CA5+1 -> 42204 | CE5: =+CC5+1 -> 42205 | CG5: =+CE5+1 -> 42206 | CI5: =+CG5+1 -> 42207 | CK5: =+CI5+1 -> 42208 | CM5: =+CK5+1 -> 42209 | CO5: =+CM5+1 -> 42210 | CQ5: =+CO5+1 -> 42211 | CS5: =+CQ5+1 -> 42212 | CU5: =+CS5+1 -> 42213 | CW5: =+CU5+1 -> 42214 | CY5: =+CW5+1 -> 42215 | DA5: =+CY5+1 -> 42216 | DC5: =+DA5+1 -> 42217 | DE5: =+DC5+1 -> 42218 | DG5: =+DE5+1 -> 42219 | DI5: =+DG5+1 -> 42220 | DK5: =+DI5+1 -> 42221 | DM5: =+DK5+1 -> 42222
A6: Total Process | C6: =SUM(C7:C39) -> 0 | D6: =SUM(D7:D39) -> 0 | E6: =SUM(E7:E39) -> 0 | F6: =SUM(F7:F39) -> 0 | G6: =SUM(G7:G39) -> 0 | H6: =SUM(H7:H39) -> 0 | I6: =SUM(I7:I39) -> 24 | J6: =SUM(J7:J39) -> 48 | ... U6: =SUM(U7:U39) -> 46 | W6: =SUM(W7:W39) -> 28 | X6: =SUM(X7:X39) -> 26 | Y6: =SUM(Y7:Y39) -> 0 | Z6: =SUM(Z7:Z39) -> 10 | AA6: =SUM(AA7:AA39) -> 0 | AB6: =SUM(AB7:AB39) -> 0 | AC6: =SUM(AC7:AC39) -> 45 | AD6: =SUM(AD7:AD39) -> 49 | ... AM6: =SUM(AM7:AM39) -> 286 | AN6: Model | AO6: Part No. | AP6: Pack Spec. | AQ6: Q'TY | AS6: D/L | AT6: B/L FG. | AU6: D/L | AV6: B/L FG. | AW6: D/L | AX6: B/L FG. | AY6: D/L | AZ6: B/L FG. | BA6: D/L | BB6: B/L FG. | BC6: D/L | BD6: B/L FG. | BE6: D/L | BF6: B/L FG. | BG6: D/L | BH6: B/L FG. | BI6: D/L | BJ6: B/L FG. | BK6: D/L | BL6: B/L FG. | BM6: D/L | BN6: B/L FG. | BO6: D/L | BP6: B/L FG. | BQ6: D/L | BR6: B/L FG. | BS6: D/L | BT6: B/L FG. | BU6: D/L | BV6: B/L FG. | BW6: D/L | BX6: B/L FG. | BY6: D/L | BZ6: B/L FG. | CA6: D/L | CB6: B/L FG. | CC6: D/L | CD6: B/L FG. | CE6: D/L | CF6: B/L FG. | CG6: D/L | CH6: B/L FG. | CI6: D/L | CJ6: B/L FG. | CK6: D/L | CL6: B/L FG. | CM6: D/L | CN6: B/L FG. | CO6: D/L | CP6: B/L FG. | CQ6: D/L | CR6: B/L FG. | CS6: D/L | CT6: B/L FG. | CU6: D/L | CV6: B/L FG. | CW6: D/L | CX6: B/L FG. | CY6: D/L | CZ6: B/L FG. | DA6: D/L | DB6: B/L FG. | DC6: D/L | DD6: B/L FG. | DE6: D/L | DF6: B/L FG. | DG6: D/L | DH6: B/L FG. | DI6: D/L | DJ6: B/L FG. | DK6: D/L | DL6: B/L FG. | DM6: D/L | DN6: B/L FG. | DO6: *
A7: 0090 | B7: R | K7: =SUM(C7:J8) -> 0 | T7: 37 | U7: =SUM(L7:T8) -> 37 | V7: 0090 Black | AH7: =SUM(W7:AG8) -> 0 | AL7: =SUM(AI7:AK8) -> 0 | AM7: =SUM(K7,U7,AH7,AL7) -> 37 | AN7: 0090-R (Black) | AO7: 49058-0090 QT | AP7: Pack BOX | AQ7: =+FG!K4 -> 0 | AT7: =+AQ7-AS7-AR7 -> 0 | AV7: =+AT7-AU7 -> 0 | AX7: =+AV7-AW7 -> 0 | AZ7: =+AX7-AY7 -> 0 | BB7: =+AZ7-BA7 -> 0 | BD7: =+BB7-BC7 -> 0 | BF7: =+BD7-BE7 -> 0 | BH7: =+BF7-BG7 -> 0 | BJ7: =+BH7-BI7 -> 0 | BL7: =+BJ7-BK7 -> 0 | BN7: =+BL7-BM7 -> 0 | BP7: =+BN7-BO7 -> 0 | BR7: =+BP7-BQ7 -> 0 | BT7: =+BR7-BS7 -> 0 | BV7: =+BT7-BU7 -> 0 | BX7: =+BV7-BW7 -> 0 | BZ7: =+BX7-BY7 -> 0 | CB7: =+BZ7-CA7 -> 0 | CD7: =+CB7-CC7 -> 0 | CF7: =+CD7-CE7 -> 0 | CH7: =+CF7-CG7 -> 0 | CJ7: =+CH7-CI7 -> 0 | CL7: =+CJ7-CK7 -> 0 | CN7: =+CL7-CM7 -> 0 | CP7: =+CN7-CO7 -> 0 | CR7: =+CP7-CQ7 -> 0 | CT7: =+CR7-CS7 -> 0 | CV7: =+CT7-CU7 -> 0 | CX7: =+CV7-CW7 -> 0 | CZ7: =+CX7-CY7 -> 0 | DB7: =+CZ7-DA7 -> 0 | DD7: =+DB7-DC7 -> 0 | DF7: =+DD7-DE7 -> 0 | DH7: =+DF7-DG7 -> 0 | DJ7: =+DH7-DI7 -> 0 | DL7: =+DJ7-DK7 -> 0 | DN7: =+DL7-DM7 -> 0
AN8: 0090-R (Black) | AO8: 49058-0090 QT | AP8: Carry | AQ8: =+FG!K5 -> 162 | AT8: =+AQ8-AS8-AR8 -> 162 | AV8: =+AT8-AU8 -> 162 | AX8: =+AV8-AW8 -> 162 | AZ8: =+AX8-AY8 -> 162 | BB8: =+AZ8-BA8 -> 162 | BD8: =+BB8-BC8 -> 162 | BF8: =+BD8-BE8 -> 162 | BH8: =+BF8-BG8 -> 162 | BJ8: =+BH8-BI8 -> 162 | BL8: =+BJ8-BK8 -> 162 | BN8: =+BL8-BM8 -> 162 | BP8: =+BN8-BO8 -> 162 | BR8: =+BP8-BQ8 -> 162 | BT8: =+BR8-BS8 -> 162 | BV8: =+BT8-BU8 -> 162 | BX8: =+BV8-BW8 -> 162 | BZ8: =+BX8-BY8 -> 162 | CB8: =+BZ8-CA8 -> 162 | CD8: =+CB8-CC8 -> 162 | CF8: =+CD8-CE8 -> 162 | CH8: =+CF8-CG8 -> 162 | CJ8: =+CH8-CI8 -> 162 | CL8: =+CJ8-CK8 -> 162 | CN8: =+CL8-CM8 -> 162 | CP8: =+CN8-CO8 -> 162 | CR8: =+CP8-CQ8 -> 162 | CT8: =+CR8-CS8 -> 162 | CV8: =+CT8-CU8 -> 162 | CX8: =+CV8-CW8 -> 162 | CZ8: =+CX8-CY8 -> 162 | DB8: =+CZ8-DA8 -> 162 | DD8: =+DB8-DC8 -> 162 | DF8: =+DD8-DE8 -> 162 | DH8: =+DF8-DG8 -> 162 | DJ8: =+DH8-DI8 -> 162 | DL8: =+DJ8-DK8 -> 162 | DN8: =+DL8-DM8 -> 162
A9: 0558 | B9: R | J9: 47 | K9: =SUM(C9:J22) -> 47 | U9: =SUM(L9:T22) -> 0 | V9: 0558 Black | W9: 28 | X9: 26 | Z9: 6 | AC9: 45 | AD9: 46 | AH9: =SUM(W9:AG17) -> 151 | AJ9: 5 | AL9: =SUM(AI9:AK17) -> 5 | AM9: =SUM(AL9,AH9,U9,K9) -> 203 | AN9: 0558-R (Black) | AO9: 49058-0558 QT | AP9: Carry | AQ9: =+FG!K6 -> 600 | AS9: 40 | AT9: =+AQ9-AS9-AR9 -> 560 | AU9: 80 | AV9: =+AT9-AU9 -> 480 | AW9: 60 | AX9: =+AV9-AW9 -> 420 | AZ9: =+AX9-AY9 -> 420 | BB9: =+AZ9-BA9 -> 420 | BC9: 60 | BD9: =+BB9-BC9 -> 360 | BE9: 60 | BF9: =+BD9-BE9 -> 300 | BG9: 40 | BH9: =+BF9-BG9 -> 260 | BI9: 40 | BJ9: =+BH9-BI9 -> 220 | BK9: 40 | BL9: =+BJ9-BK9 -> 180 | BN9: =+BL9-BM9 -> 180 | BP9: =+BN9-BO9 -> 180 | BQ9: 40 | BR9: =+BP9-BQ9 -> 140 | BS9: 40 | BT9: =+BR9-BS9 -> 100 | BU9: 40 | BV9: =+BT9-BU9 -> 60 | BW9: 60 | BX9: =+BV9-BW9 -> 0 | BY9: 60 | BZ9: =+BX9-BY9 -> -60 | CB9: =+BZ9-CA9 -> -60 | CD9: =+CB9-CC9 -> -60 | CE9: 40 | CF9: =+CD9-CE9 -> -100 | CG9: 40 | CH9: =+CF9-CG9 -> -140 | CI9: 60 | CJ9: =+CH9-CI9 -> -200 | CK9: 80 | CL9: =+CJ9-CK9 -> -280 | CM9: 40 | CN9: =+CL9-CM9 -> -320 | CP9: =+CN9-CO9 -> -320 | CR9: =+CP9-CQ9 -> -320 | CS9: 60 | CT9: =+CR9-CS9 -> -380 | CU9: 80 | CV9: =+CT9-CU9 -> -460 | CX9: =+CV9-CW9 -> -460 | CZ9: =+CX9-CY9 -> -460 | DB9: =+CZ9-DA9 -> -460 | DD9: =+DB9-DC9 -> -460 | DF9: =+DD9-DE9 -> -460 | DH9: =+DF9-DG9 -> -460 | DJ9: =+DH9-DI9 -> -460 | DL9: =+DJ9-DK9 -> -460 | DN9: =+DL9-DM9 -> -460 | DO9: *
AN10: 0558-R (Black) | AO10: 49058-0558 QT | AP10: Pack BOX | AQ10: =+FG!K7 -> 20 | AT10: =+AQ10-AS10-AR10 -> 20 | AU10: 20 | AV10: =+AT10-AU10 -> 0 | AX10: =+AV10-AW10 -> 0 | AZ10: =+AX10-AY10 -> 0 | BB10: =+AZ10-BA10 -> 0 | BD10: =+BB10-BC10 -> 0 | BE10: 20 | BF10: =+BD10-BE10 -> -20 | BH10: =+BF10-BG10 -> -20 | BJ10: =+BH10-BI10 -> -20 | BL10: =+BJ10-BK10 -> -20 | BN10: =+BL10-BM10 -> -20 | BP10: =+BN10-BO10 -> -20 | BR10: =+BP10-BQ10 -> -20 | BT10: =+BR10-BS10 -> -20 | BV10: =+BT10-BU10 -> -20 | BX10: =+BV10-BW10 -> -20 | BZ10: =+BX10-BY10 -> -20 | CB10: =+BZ10-CA10 -> -20 | CD10: =+CB10-CC10 -> -20 | CF10: =+CD10-CE10 -> -20 | CH10: =+CF10-CG10 -> -20 | CJ10: =+CH10-CI10 -> -20 | CL10: =+CJ10-CK10 -> -20 | CN10: =+CL10-CM10 -> -20 | CP10: =+CN10-CO10 -> -20 | CR10: =+CP10-CQ10 -> -20 | CT10: =+CR10-CS10 -> -20 | CV10: =+CT10-CU10 -> -20 | CX10: =+CV10-CW10 -> -20 | CZ10: =+CX10-CY10 -> -20 | DB10: =+CZ10-DA10 -> -20 | DD10: =+DB10-DC10 -> -20 | DF10: =+DD10-DE10 -> -20 | DH10: =+DF10-DG10 -> -20 | DJ10: =+DH10-DI10 -> -20 | DL10: =+DJ10-DK10 -> -20 | DN10: =+DL10-DM10 -> -20 | DO10: *
AN11: 0558-R (Sticker Green) | AO11: 49058-5079 QT | AP11: Pack BOX | AQ11: =+FG!K8 -> 0 | AT11: =+AQ11-AS11-AR11 -> 0 | AV11: =+AT11-AU11 -> 0 | AX11: =+AV11-AW11 -> 0 | AZ11: =+AX11-AY11 -> 0 | BB11: =+AZ11-BA11 -> 0 | BD11: =+BB11-BC11 -> 0 | BF11: =+BD11-BE11 -> 0 | BH11: =+BF11-BG11 -> 0 | BJ11: =+BH11-BI11 -> 0 | BL11: =+BJ11-BK11 -> 0 | BN11: =+BL11-BM11 -> 0 | BP11: =+BN11-BO11 -> 0 | BR11: =+BP11-BQ11 -> 0 | BT11: =+BR11-BS11 -> 0 | BV11: =+BT11-BU11 -> 0 | BX11: =+BV11-BW11 -> 0 | BZ11: =+BX11-BY11 -> 0 | CB11: =+BZ11-CA11 -> 0 | CD11: =+CB11-CC11 -> 0 | CF11: =+CD11-CE11 -> 0 | CH11: =+CF11-CG11 -> 0 | CJ11: =+CH11-CI11 -> 0 | CL11: =+CJ11-CK11 -> 0 | CN11: =+CL11-CM11 -> 0 | CP11: =+CN11-CO11 -> 0 | CR11: =+CP11-CQ11 -> 0 | CT11: =+CR11-CS11 -> 0 | CV11: =+CT11-CU11 -> 0 | CX11: =+CV11-CW11 -> 0 | CZ11: =+CX11-CY11 -> 0 | DB11: =+CZ11-DA11 -> 0 | DD11: =+DB11-DC11 -> 0 | DF11: =+DD11-DE11 -> 0 | DH11: =+DF11-DG11 -> 0 | DJ11: =+DH11-DI11 -> 0 | DL11: =+DJ11-DK11 -> 0 | DN11: =+DL11-DM11 -> 0
AN12: 0558-R (Sticker Green) | AO12: 49058-5079 QT | AP12: Carry | AQ12: =+FG!K9 -> 120 | AS12: 40 | AT12: =+AQ12-AS12-AR12 -> 80 | AU12: 20 | AV12: =+AT12-AU12 -> 60 | AW12: 20 | AX12: =+AV12-AW12 -> 40 | AZ12: =+AX12-AY12 -> 40 | BB12: =+AZ12-BA12 -> 40 | BC12: 20 | BD12: =+BB12-BC12 -> 20 | BE12: 20 | BF12: =+BD12-BE12 -> 0 | BH12: =+BF12-BG12 -> 0 | BI12: 20 | BJ12: =+BH12-BI12 -> -20 | BL12: =+BJ12-BK12 -> -20 | BN12: =+BL12-BM12 -> -20 | BP12: =+BN12-BO12 -> -20 | BQ12: 40 | BR12: =+BP12-BQ12 -> -60 | BT12: =+BR12-BS12 -> -60 | BU12: 20 | BV12: =+BT12-BU12 -> -80 | BW12: 20 | BX12: =+BV12-BW12 -> -100 | BZ12: =+BX12-BY12 -> -100 | CB12: =+BZ12-CA12 -> -100 | CD12: =+CB12-CC12 -> -100 | CE12: 20 | CF12: =+CD12-CE12 -> -120 | CG12: 20 | CH12: =+CF12-CG12 -> -140 | CI12: 20 | CJ12: =+CH12-CI12 -> -160 | CL12: =+CJ12-CK12 -> -160 | CM12: 20 | CN12: =+CL12-CM12 -> -180 | CP12: =+CN12-CO12 -> -180 | CR12: =+CP12-CQ12 -> -180 | CT12: =+CR12-CS12 -> -180 | CU12: 20 | CV12: =+CT12-CU12 -> -200 | CX12: =+CV12-CW12 -> -200 | CZ12: =+CX12-CY12 -> -200 | DB12: =+CZ12-DA12 -> -200 | DD12: =+DB12-DC12 -> -200 | DF12: =+DD12-DE12 -> -200 | DH12: =+DF12-DG12 -> -200 | DJ12: =+DH12-DI12 -> -200 | DL12: =+DJ12-DK12 -> -200 | DN12: =+DL12-DM12 -> -200 | DO12: *
AN13: 0558-R (Sticker Red) | AO13: 49058-5081 QT | AP13: Pack BOX | AQ13: =+FG!K10 -> 0 | AT13: =+AQ13-AS13-AR13 -> 0 | AV13: =+AT13-AU13 -> 0 | AX13: =+AV13-AW13 -> 0 | AZ13: =+AX13-AY13 -> 0 | BB13: =+AZ13-BA13 -> 0 | BD13: =+BB13-BC13 -> 0 | BF13: =+BD13-BE13 -> 0 | BH13: =+BF13-BG13 -> 0 | BJ13: =+BH13-BI13 -> 0 | BL13: =+BJ13-BK13 -> 0 | BN13: =+BL13-BM13 -> 0 | BP13: =+BN13-BO13 -> 0 | BR13: =+BP13-BQ13 -> 0 | BT13: =+BR13-BS13 -> 0 | BV13: =+BT13-BU13 -> 0 | BX13: =+BV13-BW13 -> 0 | BZ13: =+BX13-BY13 -> 0 | CB13: =+BZ13-CA13 -> 0 | CD13: =+CB13-CC13 -> 0 | CF13: =+CD13-CE13 -> 0 | CH13: =+CF13-CG13 -> 0 | CJ13: =+CH13-CI13 -> 0 | CL13: =+CJ13-CK13 -> 0 | CN13: =+CL13-CM13 -> 0 | CP13: =+CN13-CO13 -> 0 | CR13: =+CP13-CQ13 -> 0 | CT13: =+CR13-CS13 -> 0 | CV13: =+CT13-CU13 -> 0 | CX13: =+CV13-CW13 -> 0 | CZ13: =+CX13-CY13 -> 0 | DB13: =+CZ13-DA13 -> 0 | DD13: =+DB13-DC13 -> 0 | DF13: =+DD13-DE13 -> 0 | DH13: =+DF13-DG13 -> 0 | DJ13: =+DH13-DI13 -> 0 | DL13: =+DJ13-DK13 -> 0 | DN13: =+DL13-DM13 -> 0
AN14: 0558-R (Sticker Red) | AO14: 49058-5081 QT | AP14: Carry | AQ14: =+FG!K11 -> 5 | AT14: =+AQ14-AS14-AR14 -> 5 | AV14: =+AT14-AU14 -> 5 | AX14: =+AV14-AW14 -> 5 | AZ14: =+AX14-AY14 -> 5 | BB14: =+AZ14-BA14 -> 5 | BD14: =+BB14-BC14 -> 5 | BF14: =+BD14-BE14 -> 5 | BH14: =+BF14-BG14 -> 5 | BJ14: =+BH14-BI14 -> 5 | BL14: =+BJ14-BK14 -> 5 | BN14: =+BL14-BM14 -> 5 | BP14: =+BN14-BO14 -> 5 | BR14: =+BP14-BQ14 -> 5 | BT14: =+BR14-BS14 -> 5 | BV14: =+BT14-BU14 -> 5 | BX14: =+BV14-BW14 -> 5 | BZ14: =+BX14-BY14 -> 5 | CB14: =+BZ14-CA14 -> 5 | CD14: =+CB14-CC14 -> 5 | CF14: =+CD14-CE14 -> 5 | CH14: =+CF14-CG14 -> 5 | CJ14: =+CH14-CI14 -> 5 | CL14: =+CJ14-CK14 -> 5 | CN14: =+CL14-CM14 -> 5 | CP14: =+CN14-CO14 -> 5 | CR14: =+CP14-CQ14 -> 5 | CT14: =+CR14-CS14 -> 5 | CV14: =+CT14-CU14 -> 5 | CX14: =+CV14-CW14 -> 5 | CZ14: =+CX14-CY14 -> 5 | DB14: =+CZ14-DA14 -> 5 | DD14: =+DB14-DC14 -> 5 | DF14: =+DD14-DE14 -> 5 | DH14: =+DF14-DG14 -> 5 | DJ14: =+DH14-DI14 -> 5 | DL14: =+DJ14-DK14 -> 5 | DN14: =+DL14-DM14 -> 5
AN15: 0558-R (Sticker Green) | AO15: 49058-5121 QT | AP15: Carry | AQ15: =+FG!K12 -> 80 | AS15: 20 | AT15: =+AQ15-AS15-AR15 -> 60 | AU15: 20 | AV15: =+AT15-AU15 -> 40 | AW15: 20 | AX15: =+AV15-AW15 -> 20 | AZ15: =+AX15-AY15 -> 20 | BB15: =+AZ15-BA15 -> 20 | BC15: 20 | BD15: =+BB15-BC15 -> 0 | BF15: =+BD15-BE15 -> 0 | BG15: 60 | BH15: =+BF15-BG15 -> -60 | BI15: 40 | BJ15: =+BH15-BI15 -> -100 | BK15: 40 | BL15: =+BJ15-BK15 -> -140 | BN15: =+BL15-BM15 -> -140 | BP15: =+BN15-BO15 -> -140 | BQ15: 40 | BR15: =+BP15-BQ15 -> -180 | BS15: 20 | BT15: =+BR15-BS15 -> -200 | BU15: 20 | BV15: =+BT15-BU15 -> -220 | BW15: 20 | BX15: =+BV15-BW15 -> -240 | BY15: 20 | BZ15: =+BX15-BY15 -> -260 | CB15: =+BZ15-CA15 -> -260 | CD15: =+CB15-CC15 -> -260 | CE15: 20 | CF15: =+CD15-CE15 -> -280 | CG15: 40 | CH15: =+CF15-CG15 -> -320 | CI15: 40 | CJ15: =+CH15-CI15 -> -360 | CK15: 20 | CL15: =+CJ15-CK15 -> -380 | CM15: 20 | CN15: =+CL15-CM15 -> -400 | CP15: =+CN15-CO15 -> -400 | CR15: =+CP15-CQ15 -> -400 | CS15: 40 | CT15: =+CR15-CS15 -> -440 | CU15: 20 | CV15: =+CT15-CU15 -> -460 | CX15: =+CV15-CW15 -> -460 | CZ15: =+CX15-CY15 -> -460 | DB15: =+CZ15-DA15 -> -460 | DD15: =+DB15-DC15 -> -460 | DF15: =+DD15-DE15 -> -460 | DH15: =+DF15-DG15 -> -460 | DJ15: =+DH15-DI15 -> -460 | DL15: =+DJ15-DK15 -> -460 | DN15: =+DL15-DM15 -> -460 | DO15: *
AN16: 0558-R (Sticker Red) | AO16: 49058-5125 QT | AP16: Carry | AQ16: =+FG!K13 -> 20 | AT16: =+AQ16-AS16-AR16 -> 20 | AV16: =+AT16-AU16 -> 20 | AX16: =+AV16-AW16 -> 20 | AZ16: =+AX16-AY16 -> 20 | BB16: =+AZ16-BA16 -> 20 | BD16: =+BB16-BC16 -> 20 | BE16: 20 | BF16: =+BD16-BE16 -> 0 | BH16: =+BF16-BG16 -> 0 | BJ16: =+BH16-BI16 -> 0 | BL16: =+BJ16-BK16 -> 0 | BN16: =+BL16-BM16 -> 0 | BP16: =+BN16-BO16 -> 0 | BR16: =+BP16-BQ16 -> 0 | BS16: 20 | BT16: =+BR16-BS16 -> -20 | BU16: 20 | BV16: =+BT16-BU16 -> -40 | BX16: =+BV16-BW16 -> -40 | BZ16: =+BX16-BY16 -> -40 | CB16: =+BZ16-CA16 -> -40 | CD16: =+CB16-CC16 -> -40 | CF16: =+CD16-CE16 -> -40 | CG16: 20 | CH16: =+CF16-CG16 -> -60 | CJ16: =+CH16-CI16 -> -60 | CK16: 20 | CL16: =+CJ16-CK16 -> -80 | CN16: =+CL16-CM16 -> -80 | CP16: =+CN16-CO16 -> -80 | CR16: =+CP16-CQ16 -> -80 | CT16: =+CR16-CS16 -> -80 | CV16: =+CT16-CU16 -> -80 | CX16: =+CV16-CW16 -> -80 | CZ16: =+CX16-CY16 -> -80 | DB16: =+CZ16-DA16 -> -80 | DD16: =+DB16-DC16 -> -80 | DF16: =+DD16-DE16 -> -80 | DH16: =+DF16-DG16 -> -80 | DJ16: =+DH16-DI16 -> -80 | DL16: =+DJ16-DK16 -> -80 | DN16: =+DL16-DM16 -> -80
AN17: 0558-R (Sticker Orange) | AO17: 49058-5127 QT | AP17: Carry | AQ17: =+FG!K14 -> 60 | AS17: 20 | AT17: =+AQ17-AS17-AR17 -> 40 | AU17: 20 | AV17: =+AT17-AU17 -> 20 | AW17: 20 | AX17: =+AV17-AW17 -> 0 | AZ17: =+AX17-AY17 -> 0 | BB17: =+AZ17-BA17 -> 0 | BD17: =+BB17-BC17 -> 0 | BF17: =+BD17-BE17 -> 0 | BG17: 40 | BH17: =+BF17-BG17 -> -40 | BJ17: =+BH17-BI17 -> -40 | BL17: =+BJ17-BK17 -> -40 | BN17: =+BL17-BM17 -> -40 | BP17: =+BN17-BO17 -> -40 | BQ17: 20 | BR17: =+BP17-BQ17 -> -60 | BT17: =+BR17-BS17 -> -60 | BU17: 40 | BV17: =+BT17-BU17 -> -100 | BX17: =+BV17-BW17 -> -100 | BY17: 20 | BZ17: =+BX17-BY17 -> -120 | CB17: =+BZ17-CA17 -> -120 | CD17: =+CB17-CC17 -> -120 | CE17: 40 | CF17: =+CD17-CE17 -> -160 | CH17: =+CF17-CG17 -> -160 | CJ17: =+CH17-CI17 -> -160 | CK17: 20 | CL17: =+CJ17-CK17 -> -180 | CM17: 20 | CN17: =+CL17-CM17 -> -200 | CP17: =+CN17-CO17 -> -200 | CR17: =+CP17-CQ17 -> -200 | CS17: 20 | CT17: =+CR17-CS17 -> -220 | CV17: =+CT17-CU17 -> -220 | CX17: =+CV17-CW17 -> -220 | CZ17: =+CX17-CY17 -> -220 | DB17: =+CZ17-DA17 -> -220 | DD17: =+DB17-DC17 -> -220 | DF17: =+DD17-DE17 -> -220 | DH17: =+DF17-DG17 -> -220 | DJ17: =+DH17-DI17 -> -220 | DL17: =+DJ17-DK17 -> -220 | DN17: =+DL17-DM17 -> -220 | DO17: *
AN18: 0558-R (Sticker Red) | AO18: 49058-5146 QT New | AP18: Carry | AQ18: =+FG!K15 -> 0 | AT18: =+AQ18-AS18-AR18 -> 0 | AV18: =+AT18-AU18 -> 0 | AX18: =+AV18-AW18 -> 0 | AZ18: =+AX18-AY18 -> 0 | BB18: =+AZ18-BA18 -> 0 | BD18: =+BB18-BC18 -> 0 | BF18: =+BD18-BE18 -> 0 | BH18: =+BF18-BG18 -> 0 | BJ18: =+BH18-BI18 -> 0 | BL18: =+BJ18-BK18 -> 0 | BN18: =+BL18-BM18 -> 0 | BP18: =+BN18-BO18 -> 0 | BR18: =+BP18-BQ18 -> 0 | BT18: =+BR18-BS18 -> 0 | BV18: =+BT18-BU18 -> 0 | BX18: =+BV18-BW18 -> 0 | BZ18: =+BX18-BY18 -> 0 | CB18: =+BZ18-CA18 -> 0 | CD18: =+CB18-CC18 -> 0 | CF18: =+CD18-CE18 -> 0 | CH18: =+CF18-CG18 -> 0 | CJ18: =+CH18-CI18 -> 0 | CL18: =+CJ18-CK18 -> 0 | CM18: 1 | CN18: =+CL18-CM18 -> -1 | CP18: =+CN18-CO18 -> -1 | CR18: =+CP18-CQ18 -> -1 | CT18: =+CR18-CS18 -> -1 | CV18: =+CT18-CU18 -> -1 | CX18: =+CV18-CW18 -> -1 | CZ18: =+CX18-CY18 -> -1 | DB18: =+CZ18-DA18 -> -1 | DD18: =+DB18-DC18 -> -1 | DF18: =+DD18-DE18 -> -1 | DH18: =+DF18-DG18 -> -1 | DJ18: =+DH18-DI18 -> -1 | DL18: =+DJ18-DK18 -> -1 | DN18: =+DL18-DM18 -> -1
AN19: 0558-R (Sticker Orange) | AO19: 49058-5148 QT New | AP19: Carry | AQ19: =+FG!K16 -> 0 | AT19: =+AQ19-AS19-AR19 -> 0 | AV19: =+AT19-AU19 -> 0 | AX19: =+AV19-AW19 -> 0 | AZ19: =+AX19-AY19 -> 0 | BB19: =+AZ19-BA19 -> 0 | BD19: =+BB19-BC19 -> 0 | BF19: =+BD19-BE19 -> 0 | BH19: =+BF19-BG19 -> 0 | BJ19: =+BH19-BI19 -> 0 | BL19: =+BJ19-BK19 -> 0 | BN19: =+BL19-BM19 -> 0 | BP19: =+BN19-BO19 -> 0 | BR19: =+BP19-BQ19 -> 0 | BT19: =+BR19-BS19 -> 0 | BV19: =+BT19-BU19 -> 0 | BX19: =+BV19-BW19 -> 0 | BZ19: =+BX19-BY19 -> 0 | CB19: =+BZ19-CA19 -> 0 | CD19: =+CB19-CC19 -> 0 | CF19: =+CD19-CE19 -> 0 | CH19: =+CF19-CG19 -> 0 | CJ19: =+CH19-CI19 -> 0 | CL19: =+CJ19-CK19 -> 0 | CM19: 1 | CN19: =+CL19-CM19 -> -1 | CP19: =+CN19-CO19 -> -1 | CR19: =+CP19-CQ19 -> -1 | CT19: =+CR19-CS19 -> -1 | CV19: =+CT19-CU19 -> -1 | CX19: =+CV19-CW19 -> -1 | CZ19: =+CX19-CY19 -> -1 | DB19: =+CZ19-DA19 -> -1 | DD19: =+DB19-DC19 -> -1 | DF19: =+DD19-DE19 -> -1 | DH19: =+DF19-DG19 -> -1 | DJ19: =+DH19-DI19 -> -1 | DL19: =+DJ19-DK19 -> -1 | DN19: =+DL19-DM19 -> -1
V20: 0558 Gold | AH20: =SUM(W20:AF20) -> 0 | AL20: =SUM(AI20:AK20) -> 0 | AM20: =SUM(AL20,AH20) -> 0 | AN20: 0558-R (Gold) | AO20: 49058-0558 36C | AP20: Carry | AQ20: =+FG!K17 -> 0 | AT20: =+AQ20-AS20-AR20 -> 0 | AV20: =+AT20-AU20 -> 0 | AX20: =+AV20-AW20 -> 0 | AZ20: =+AX20-AY20 -> 0 | BB20: =+AZ20-BA20 -> 0 | BD20: =+BB20-BC20 -> 0 | BF20: =+BD20-BE20 -> 0 | BH20: =+BF20-BG20 -> 0 | BJ20: =+BH20-BI20 -> 0 | BL20: =+BJ20-BK20 -> 0 | BN20: =+BL20-BM20 -> 0 | BP20: =+BN20-BO20 -> 0 | BR20: =+BP20-BQ20 -> 0 | BT20: =+BR20-BS20 -> 0 | BV20: =+BT20-BU20 -> 0 | BX20: =+BV20-BW20 -> 0 | BZ20: =+BX20-BY20 -> 0 | CB20: =+BZ20-CA20 -> 0 | CD20: =+CB20-CC20 -> 0 | CF20: =+CD20-CE20 -> 0 | CH20: =+CF20-CG20 -> 0 | CJ20: =+CH20-CI20 -> 0 | CL20: =+CJ20-CK20 -> 0 | CN20: =+CL20-CM20 -> 0 | CP20: =+CN20-CO20 -> 0 | CR20: =+CP20-CQ20 -> 0 | CT20: =+CR20-CS20 -> 0 | CV20: =+CT20-CU20 -> 0 | CX20: =+CV20-CW20 -> 0 | CZ20: =+CX20-CY20 -> 0 | DB20: =+CZ20-DA20 -> 0 | DD20: =+DB20-DC20 -> 0 | DF20: =+DD20-DE20 -> 0 | DH20: =+DF20-DG20 -> 0 | DJ20: =+DH20-DI20 -> 0 | DL20: =+DJ20-DK20 -> 0 | DN20: =+DL20-DM20 -> 0
V21: 0558 Red | Z21: 4 | AH21: =SUM(W21:AG21) -> 4 | AJ21: 1 | AL21: =SUM(AI21:AK21) -> 1 | AM21: =SUM(AH21,AL21) -> 5 | AN21: 0558P-R (Red) | AO21: 49058-0558 35W | AP21: Carry | AQ21: =+FG!K18 -> 0 | AT21: =+AQ21-AS21-AR21 -> 0 | AV21: =+AT21-AU21 -> 0 | AX21: =+AV21-AW21 -> 0 | AZ21: =+AX21-AY21 -> 0 | BB21: =+AZ21-BA21 -> 0 | BD21: =+BB21-BC21 -> 0 | BF21: =+BD21-BE21 -> 0 | BH21: =+BF21-BG21 -> 0 | BJ21: =+BH21-BI21 -> 0 | BL21: =+BJ21-BK21 -> 0 | BN21: =+BL21-BM21 -> 0 | BP21: =+BN21-BO21 -> 0 | BR21: =+BP21-BQ21 -> 0 | BT21: =+BR21-BS21 -> 0 | BV21: =+BT21-BU21 -> 0 | BX21: =+BV21-BW21 -> 0 | BZ21: =+BX21-BY21 -> 0 | CB21: =+BZ21-CA21 -> 0 | CD21: =+CB21-CC21 -> 0 | CF21: =+CD21-CE21 -> 0 | CH21: =+CF21-CG21 -> 0 | CJ21: =+CH21-CI21 -> 0 | CL21: =+CJ21-CK21 -> 0 | CN21: =+CL21-CM21 -> 0 | CP21: =+CN21-CO21 -> 0 | CR21: =+CP21-CQ21 -> 0 | CT21: =+CR21-CS21 -> 0 | CV21: =+CT21-CU21 -> 0 | CX21: =+CV21-CW21 -> 0 | CZ21: =+CX21-CY21 -> 0 | DB21: =+CZ21-DA21 -> 0 | DD21: =+DB21-DC21 -> 0 | DF21: =+DD21-DE21 -> 0 | DH21: =+DF21-DG21 -> 0 | DJ21: =+DH21-DI21 -> 0 | DL21: =+DJ21-DK21 -> 0 | DN21: =+DL21-DM21 -> 0
V22: 0558 Yellow | AH22: =SUM(W22:AG22) -> 0 | AL22: =SUM(AI22:AK22) -> 0 | AM22: =SUM(AH22,AL22) -> 0 | AN22: 0558-R (Yellow) | AO22: 49058-0558 35X | AP22: Carry | AQ22: =+FG!K19 -> 6 | AT22: =+AQ22-AS22-AR22 -> 6 | AV22: =+AT22-AU22 -> 6 | AX22: =+AV22-AW22 -> 6 | AZ22: =+AX22-AY22 -> 6 | BB22: =+AZ22-BA22 -> 6 | BD22: =+BB22-BC22 -> 6 | BF22: =+BD22-BE22 -> 6 | BH22: =+BF22-BG22 -> 6 | BJ22: =+BH22-BI22 -> 6 | BL22: =+BJ22-BK22 -> 6 | BN22: =+BL22-BM22 -> 6 | BP22: =+BN22-BO22 -> 6 | BR22: =+BP22-BQ22 -> 6 | BT22: =+BR22-BS22 -> 6 | BV22: =+BT22-BU22 -> 6 | BX22: =+BV22-BW22 -> 6 | BZ22: =+BX22-BY22 -> 6 | CB22: =+BZ22-CA22 -> 6 | CD22: =+CB22-CC22 -> 6 | CF22: =+CD22-CE22 -> 6 | CH22: =+CF22-CG22 -> 6 | CJ22: =+CH22-CI22 -> 6 | CL22: =+CJ22-CK22 -> 6 | CN22: =+CL22-CM22 -> 6 | CP22: =+CN22-CO22 -> 6 | CR22: =+CP22-CQ22 -> 6 | CT22: =+CR22-CS22 -> 6 | CV22: =+CT22-CU22 -> 6 | CX22: =+CV22-CW22 -> 6 | CZ22: =+CX22-CY22 -> 6 | DB22: =+CZ22-DA22 -> 6 | DD22: =+DB22-DC22 -> 6 | DF22: =+DD22-DE22 -> 6 | DH22: =+DF22-DG22 -> 6 | DJ22: =+DH22-DI22 -> 6 | DL22: =+DJ22-DK22 -> 6 | DN22: =+DL22-DM22 -> 6 | DO22: *
A23: 0112 | B23: F | I23: 20 | K23: =SUM(C23:J24) -> 20 | M23: 5 | U23: =SUM(L23:T24) -> 5 | V23: Black | AH23: =SUM(W23:AG23) -> 0 | AL23: =SUM(AI23:AK23) -> 0 | AM23: =SUM(AL23,AH23,U23,K23,AH24,AL24) -> 25 | AN23: 0112-F (Black) | AO23: 49058-0112 QT | AP23: Carry | AQ23: =+FG!K20 -> 540 | AT23: =+AQ23-AS23-AR23 -> 540 | AV23: =+AT23-AU23 -> 540 | AX23: =+AV23-AW23 -> 540 | AZ23: =+AX23-AY23 -> 540 | BB23: =+AZ23-BA23 -> 540 | BD23: =+BB23-BC23 -> 540 | BF23: =+BD23-BE23 -> 540 | BH23: =+BF23-BG23 -> 540 | BJ23: =+BH23-BI23 -> 540 | BL23: =+BJ23-BK23 -> 540 | BN23: =+BL23-BM23 -> 540 | BP23: =+BN23-BO23 -> 540 | BR23: =+BP23-BQ23 -> 540 | BT23: =+BR23-BS23 -> 540 | BV23: =+BT23-BU23 -> 540 | BX23: =+BV23-BW23 -> 540 | BY23: 40 | BZ23: =+BX23-BY23 -> 500 | CB23: =+BZ23-CA23 -> 500 | CD23: =+CB23-CC23 -> 500 | CF23: =+CD23-CE23 -> 500 | CH23: =+CF23-CG23 -> 500 | CJ23: =+CH23-CI23 -> 500 | CL23: =+CJ23-CK23 -> 500 | CN23: =+CL23-CM23 -> 500 | CP23: =+CN23-CO23 -> 500 | CR23: =+CP23-CQ23 -> 500 | CT23: =+CR23-CS23 -> 500 | CV23: =+CT23-CU23 -> 500 | CX23: =+CV23-CW23 -> 500 | CZ23: =+CX23-CY23 -> 500 | DB23: =+CZ23-DA23 -> 500 | DD23: =+DB23-DC23 -> 500 | DF23: =+DD23-DE23 -> 500 | DH23: =+DF23-DG23 -> 500 | DJ23: =+DH23-DI23 -> 500 | DL23: =+DJ23-DK23 -> 500 | DN23: =+DL23-DM23 -> 500 | DO23: *
V24: Gold | AH24: =SUM(W24:AG24) -> 0 | AL24: =SUM(AI24:AK24) -> 0 | AN24: 0112-F (Gold) | AO24: 49058-0112 36C | AP24: Carry | AQ24: =+FG!K21 -> 75 | AT24: =+AQ24-AS24-AR24 -> 75 | AV24: =+AT24-AU24 -> 75 | AX24: =+AV24-AW24 -> 75 | AZ24: =+AX24-AY24 -> 75 | BB24: =+AZ24-BA24 -> 75 | BD24: =+BB24-BC24 -> 75 | BF24: =+BD24-BE24 -> 75 | BH24: =+BF24-BG24 -> 75 | BJ24: =+BH24-BI24 -> 75 | BL24: =+BJ24-BK24 -> 75 | BN24: =+BL24-BM24 -> 75 | BP24: =+BN24-BO24 -> 75 | BR24: =+BP24-BQ24 -> 75 | BT24: =+BR24-BS24 -> 75 | BV24: =+BT24-BU24 -> 75 | BX24: =+BV24-BW24 -> 75 | BZ24: =+BX24-BY24 -> 75 | CB24: =+BZ24-CA24 -> 75 | CD24: =+CB24-CC24 -> 75 | CF24: =+CD24-CE24 -> 75 | CH24: =+CF24-CG24 -> 75 | CJ24: =+CH24-CI24 -> 75 | CL24: =+CJ24-CK24 -> 75 | CN24: =+CL24-CM24 -> 75 | CP24: =+CN24-CO24 -> 75 | CR24: =+CP24-CQ24 -> 75 | CT24: =+CR24-CS24 -> 75 | CV24: =+CT24-CU24 -> 75 | CX24: =+CV24-CW24 -> 75 | CZ24: =+CX24-CY24 -> 75 | DB24: =+CZ24-DA24 -> 75 | DD24: =+DB24-DC24 -> 75 | DF24: =+DD24-DE24 -> 75 | DH24: =+DF24-DG24 -> 75 | DJ24: =+DH24-DI24 -> 75 | DL24: =+DJ24-DK24 -> 75 | DN24: =+DL24-DM24 -> 75 | DO24: *
A25: 0113 | B25: R | I25: 4 | K25: =SUM(C25:J26) -> 4 | M25: 4 | U25: =SUM(L25:T26) -> 4 | V25: Black | AH25: =SUM(W25:AG25) -> 0 | AL25: =SUM(AI25:AK25) -> 0 | AM25: =SUM(AL25,AH25,U25,K25,AH26,AL26) -> 8 | AN25: 0571-R (Black) | AO25: 49058-0571 QT | AP25: Carry | AQ25: =+FG!K22 -> 514 | AT25: =+AQ25-AS25-AR25 -> 514 | AV25: =+AT25-AU25 -> 514 | AX25: =+AV25-AW25 -> 514 | AZ25: =+AX25-AY25 -> 514 | BB25: =+AZ25-BA25 -> 514 | BD25: =+BB25-BC25 -> 514 | BF25: =+BD25-BE25 -> 514 | BH25: =+BF25-BG25 -> 514 | BJ25: =+BH25-BI25 -> 514 | BL25: =+BJ25-BK25 -> 514 | BN25: =+BL25-BM25 -> 514 | BP25: =+BN25-BO25 -> 514 | BR25: =+BP25-BQ25 -> 514 | BT25: =+BR25-BS25 -> 514 | BV25: =+BT25-BU25 -> 514 | BW25: 40 | BX25: =+BV25-BW25 -> 474 | BZ25: =+BX25-BY25 -> 474 | CB25: =+BZ25-CA25 -> 474 | CD25: =+CB25-CC25 -> 474 | CF25: =+CD25-CE25 -> 474 | CH25: =+CF25-CG25 -> 474 | CJ25: =+CH25-CI25 -> 474 | CL25: =+CJ25-CK25 -> 474 | CN25: =+CL25-CM25 -> 474 | CP25: =+CN25-CO25 -> 474 | CR25: =+CP25-CQ25 -> 474 | CT25: =+CR25-CS25 -> 474 | CV25: =+CT25-CU25 -> 474 | CX25: =+CV25-CW25 -> 474 | CZ25: =+CX25-CY25 -> 474 | DB25: =+CZ25-DA25 -> 474 | DD25: =+DB25-DC25 -> 474 | DF25: =+DD25-DE25 -> 474 | DH25: =+DF25-DG25 -> 474 | DJ25: =+DH25-DI25 -> 474 | DL25: =+DJ25-DK25 -> 474 | DN25: =+DL25-DM25 -> 474 | DO25: *
V26: Gold | AH26: =SUM(W26:AG26) -> 0 | AL26: =SUM(AI26:AK26) -> 0 | AN26: 0571-R (Gold) | AO26: 49058-0571 36C | AP26: Carry | AQ26: =+FG!K23 -> 57 | AT26: =+AQ26-AS26-AR26 -> 57 | AV26: =+AT26-AU26 -> 57 | AX26: =+AV26-AW26 -> 57 | AZ26: =+AX26-AY26 -> 57 | BB26: =+AZ26-BA26 -> 57 | BD26: =+BB26-BC26 -> 57 | BF26: =+BD26-BE26 -> 57 | BH26: =+BF26-BG26 -> 57 | BJ26: =+BH26-BI26 -> 57 | BL26: =+BJ26-BK26 -> 57 | BN26: =+BL26-BM26 -> 57 | BP26: =+BN26-BO26 -> 57 | BR26: =+BP26-BQ26 -> 57 | BT26: =+BR26-BS26 -> 57 | BV26: =+BT26-BU26 -> 57 | BX26: =+BV26-BW26 -> 57 | BZ26: =+BX26-BY26 -> 57 | CB26: =+BZ26-CA26 -> 57 | CD26: =+CB26-CC26 -> 57 | CF26: =+CD26-CE26 -> 57 | CH26: =+CF26-CG26 -> 57 | CJ26: =+CH26-CI26 -> 57 | CL26: =+CJ26-CK26 -> 57 | CN26: =+CL26-CM26 -> 57 | CP26: =+CN26-CO26 -> 57 | CR26: =+CP26-CQ26 -> 57 | CT26: =+CR26-CS26 -> 57 | CV26: =+CT26-CU26 -> 57 | CX26: =+CV26-CW26 -> 57 | CZ26: =+CX26-CY26 -> 57 | DB26: =+CZ26-DA26 -> 57 | DD26: =+DB26-DC26 -> 57 | DF26: =+DD26-DE26 -> 57 | DH26: =+DF26-DG26 -> 57 | DJ26: =+DH26-DI26 -> 57 | DL26: =+DJ26-DK26 -> 57 | DN26: =+DL26-DM26 -> 57 | DO26: *
A27: 0587 | B27: R | J27: 1 | K27: =SUM(C27:J37) -> 1 | U27: =SUM(L27:T37) -> 0 | V27: Black | AH27: =SUM(W27:AG37) -> 0 | AJ27: 4 | AL27: =SUM(AI27:AK37) -> 4 | AM27: =SUM(AL27,AH27,U27,K27) -> 5 | AN27: 0587-R (Black) | AO27: 49058-0587 QT | AP27: Carry | AQ27: =+FG!K24 -> 273 | AT27: =+AQ27-AS27-AR27 -> 273 | AV27: =+AT27-AU27 -> 273 | AX27: =+AV27-AW27 -> 273 | AZ27: =+AX27-AY27 -> 273 | BB27: =+AZ27-BA27 -> 273 | BD27: =+BB27-BC27 -> 273 | BF27: =+BD27-BE27 -> 273 | BH27: =+BF27-BG27 -> 273 | BJ27: =+BH27-BI27 -> 273 | BL27: =+BJ27-BK27 -> 273 | BN27: =+BL27-BM27 -> 273 | BP27: =+BN27-BO27 -> 273 | BR27: =+BP27-BQ27 -> 273 | BT27: =+BR27-BS27 -> 273 | BV27: =+BT27-BU27 -> 273 | BX27: =+BV27-BW27 -> 273 | BZ27: =+BX27-BY27 -> 273 | CB27: =+BZ27-CA27 -> 273 | CD27: =+CB27-CC27 -> 273 | CE27: 20 | CF27: =+CD27-CE27 -> 253 | CH27: =+CF27-CG27 -> 253 | CJ27: =+CH27-CI27 -> 253 | CL27: =+CJ27-CK27 -> 253 | CN27: =+CL27-CM27 -> 253 | CP27: =+CN27-CO27 -> 253 | CR27: =+CP27-CQ27 -> 253 | CS27: 40 | CT27: =+CR27-CS27 -> 213 | CU27: 40 | CV27: =+CT27-CU27 -> 173 | CX27: =+CV27-CW27 -> 173 | CZ27: =+CX27-CY27 -> 173 | DB27: =+CZ27-DA27 -> 173 | DD27: =+DB27-DC27 -> 173 | DF27: =+DD27-DE27 -> 173 | DH27: =+DF27-DG27 -> 173 | DJ27: =+DH27-DI27 -> 173 | DL27: =+DJ27-DK27 -> 173 | DN27: =+DL27-DM27 -> 173 | DO27: *
AN28: 0587-R (Black) | AO28: 49058-0587 QT | AP28: Pack BOX | AQ28: =+FG!K25 -> 500 | AT28: =+AQ28-AS28-AR28 -> 500 | AV28: =+AT28-AU28 -> 500 | AX28: =+AV28-AW28 -> 500 | AZ28: =+AX28-AY28 -> 500 | BB28: =+AZ28-BA28 -> 500 | BD28: =+BB28-BC28 -> 500 | BF28: =+BD28-BE28 -> 500 | BH28: =+BF28-BG28 -> 500 | BJ28: =+BH28-BI28 -> 500 | BL28: =+BJ28-BK28 -> 500 | BN28: =+BL28-BM28 -> 500 | BP28: =+BN28-BO28 -> 500 | BR28: =+BP28-BQ28 -> 500 | BT28: =+BR28-BS28 -> 500 | BV28: =+BT28-BU28 -> 500 | BX28: =+BV28-BW28 -> 500 | BZ28: =+BX28-BY28 -> 500 | CB28: =+BZ28-CA28 -> 500 | CD28: =+CB28-CC28 -> 500 | CF28: =+CD28-CE28 -> 500 | CH28: =+CF28-CG28 -> 500 | CJ28: =+CH28-CI28 -> 500 | CL28: =+CJ28-CK28 -> 500 | CN28: =+CL28-CM28 -> 500 | CP28: =+CN28-CO28 -> 500 | CR28: =+CP28-CQ28 -> 500 | CT28: =+CR28-CS28 -> 500 | CV28: =+CT28-CU28 -> 500 | CX28: =+CV28-CW28 -> 500 | CZ28: =+CX28-CY28 -> 500 | DB28: =+CZ28-DA28 -> 500 | DD28: =+DB28-DC28 -> 500 | DF28: =+DD28-DE28 -> 500 | DH28: =+DF28-DG28 -> 500 | DJ28: =+DH28-DI28 -> 500 | DL28: =+DJ28-DK28 -> 500 | DN28: =+DL28-DM28 -> 500
AN29: 0587-R (Sticker Green) | AO29: 49058-5039 QT | AP29: Carry | AQ29: =+FG!K26 -> 20 | AT29: =+AQ29-AS29-AR29 -> 20 | AV29: =+AT29-AU29 -> 20 | AX29: =+AV29-AW29 -> 20 | AZ29: =+AX29-AY29 -> 20 | BB29: =+AZ29-BA29 -> 20 | BD29: =+BB29-BC29 -> 20 | BF29: =+BD29-BE29 -> 20 | BH29: =+BF29-BG29 -> 20 | BJ29: =+BH29-BI29 -> 20 | BL29: =+BJ29-BK29 -> 20 | BN29: =+BL29-BM29 -> 20 | BP29: =+BN29-BO29 -> 20 | BR29: =+BP29-BQ29 -> 20 | BT29: =+BR29-BS29 -> 20 | BV29: =+BT29-BU29 -> 20 | BX29: =+BV29-BW29 -> 20 | BZ29: =+BX29-BY29 -> 20 | CB29: =+BZ29-CA29 -> 20 | CD29: =+CB29-CC29 -> 20 | CF29: =+CD29-CE29 -> 20 | CH29: =+CF29-CG29 -> 20 | CJ29: =+CH29-CI29 -> 20 | CL29: =+CJ29-CK29 -> 20 | CN29: =+CL29-CM29 -> 20 | CP29: =+CN29-CO29 -> 20 | CR29: =+CP29-CQ29 -> 20 | CS29: 20 | CT29: =+CR29-CS29 -> 0 | CU29: 40 | CV29: =+CT29-CU29 -> -40 | CX29: =+CV29-CW29 -> -40 | CZ29: =+CX29-CY29 -> -40 | DB29: =+CZ29-DA29 -> -40 | DD29: =+DB29-DC29 -> -40 | DF29: =+DD29-DE29 -> -40 | DH29: =+DF29-DG29 -> -40 | DJ29: =+DH29-DI29 -> -40 | DL29: =+DJ29-DK29 -> -40 | DN29: =+DL29-DM29 -> -40
AN30: 0587-R (Sticker Green) | AO30: 49058-5039 QT | AP30: Pack BOX | AQ30: =+FG!K27 -> 30 | AT30: =+AQ30-AS30-AR30 -> 30 | AV30: =+AT30-AU30 -> 30 | AX30: =+AV30-AW30 -> 30 | AZ30: =+AX30-AY30 -> 30 | BB30: =+AZ30-BA30 -> 30 | BD30: =+BB30-BC30 -> 30 | BF30: =+BD30-BE30 -> 30 | BH30: =+BF30-BG30 -> 30 | BJ30: =+BH30-BI30 -> 30 | BL30: =+BJ30-BK30 -> 30 | BN30: =+BL30-BM30 -> 30 | BP30: =+BN30-BO30 -> 30 | BR30: =+BP30-BQ30 -> 30 | BT30: =+BR30-BS30 -> 30 | BV30: =+BT30-BU30 -> 30 | BX30: =+BV30-BW30 -> 30 | BZ30: =+BX30-BY30 -> 30 | CB30: =+BZ30-CA30 -> 30 | CD30: =+CB30-CC30 -> 30 | CF30: =+CD30-CE30 -> 30 | CH30: =+CF30-CG30 -> 30 | CJ30: =+CH30-CI30 -> 30 | CL30: =+CJ30-CK30 -> 30 | CN30: =+CL30-CM30 -> 30 | CP30: =+CN30-CO30 -> 30 | CR30: =+CP30-CQ30 -> 30 | CT30: =+CR30-CS30 -> 30 | CV30: =+CT30-CU30 -> 30 | CX30: =+CV30-CW30 -> 30 | CZ30: =+CX30-CY30 -> 30 | DB30: =+CZ30-DA30 -> 30 | DD30: =+DB30-DC30 -> 30 | DF30: =+DD30-DE30 -> 30 | DH30: =+DF30-DG30 -> 30 | DJ30: =+DH30-DI30 -> 30 | DL30: =+DJ30-DK30 -> 30 | DN30: =+DL30-DM30 -> 30
AN31: 0587-R (Sticker-Red) | AO31: 49058-5041 QT | AP31: Carry | AQ31: =+FG!K28 -> 40 | AT31: =+AQ31-AS31-AR31 -> 40 | AV31: =+AT31-AU31 -> 40 | AX31: =+AV31-AW31 -> 40 | AZ31: =+AX31-AY31 -> 40 | BB31: =+AZ31-BA31 -> 40 | BD31: =+BB31-BC31 -> 40 | BF31: =+BD31-BE31 -> 40 | BH31: =+BF31-BG31 -> 40 | BJ31: =+BH31-BI31 -> 40 | BL31: =+BJ31-BK31 -> 40 | BN31: =+BL31-BM31 -> 40 | BP31: =+BN31-BO31 -> 40 | BR31: =+BP31-BQ31 -> 40 | BT31: =+BR31-BS31 -> 40 | BV31: =+BT31-BU31 -> 40 | BX31: =+BV31-BW31 -> 40 | BZ31: =+BX31-BY31 -> 40 | CB31: =+BZ31-CA31 -> 40 | CD31: =+CB31-CC31 -> 40 | CF31: =+CD31-CE31 -> 40 | CH31: =+CF31-CG31 -> 40 | CJ31: =+CH31-CI31 -> 40 | CL31: =+CJ31-CK31 -> 40 | CN31: =+CL31-CM31 -> 40 | CP31: =+CN31-CO31 -> 40 | CR31: =+CP31-CQ31 -> 40 | CT31: =+CR31-CS31 -> 40 | CV31: =+CT31-CU31 -> 40 | CX31: =+CV31-CW31 -> 40 | CZ31: =+CX31-CY31 -> 40 | DB31: =+CZ31-DA31 -> 40 | DD31: =+DB31-DC31 -> 40 | DF31: =+DD31-DE31 -> 40 | DH31: =+DF31-DG31 -> 40 | DJ31: =+DH31-DI31 -> 40 | DL31: =+DJ31-DK31 -> 40 | DN31: =+DL31-DM31 -> 40
AN32: 0587-R (Sticker-Red) | AO32: 49058-5041 QT | AP32: Pack BOX | AQ32: =+FG!K29 -> 20 | AT32: =+AQ32-AS32-AR32 -> 20 | AV32: =+AT32-AU32 -> 20 | AX32: =+AV32-AW32 -> 20 | AZ32: =+AX32-AY32 -> 20 | BB32: =+AZ32-BA32 -> 20 | BD32: =+BB32-BC32 -> 20 | BF32: =+BD32-BE32 -> 20 | BH32: =+BF32-BG32 -> 20 | BJ32: =+BH32-BI32 -> 20 | BL32: =+BJ32-BK32 -> 20 | BN32: =+BL32-BM32 -> 20 | BP32: =+BN32-BO32 -> 20 | BR32: =+BP32-BQ32 -> 20 | BT32: =+BR32-BS32 -> 20 | BV32: =+BT32-BU32 -> 20 | BX32: =+BV32-BW32 -> 20 | BZ32: =+BX32-BY32 -> 20 | CB32: =+BZ32-CA32 -> 20 | CD32: =+CB32-CC32 -> 20 | CF32: =+CD32-CE32 -> 20 | CH32: =+CF32-CG32 -> 20 | CJ32: =+CH32-CI32 -> 20 | CL32: =+CJ32-CK32 -> 20 | CN32: =+CL32-CM32 -> 20 | CP32: =+CN32-CO32 -> 20 | CR32: =+CP32-CQ32 -> 20 | CT32: =+CR32-CS32 -> 20 | CV32: =+CT32-CU32 -> 20 | CX32: =+CV32-CW32 -> 20 | CZ32: =+CX32-CY32 -> 20 | DB32: =+CZ32-DA32 -> 20 | DD32: =+DB32-DC32 -> 20 | DF32: =+DD32-DE32 -> 20 | DH32: =+DF32-DG32 -> 20 | DJ32: =+DH32-DI32 -> 20 | DL32: =+DJ32-DK32 -> 20 | DN32: =+DL32-DM32 -> 20
AN33: 0587-R (Sticker Orange) | AO33: 49058-5060 QT | AP33: Carry | AQ33: =+FG!K30 -> 30 | AT33: =+AQ33-AS33-AR33 -> 30 | AV33: =+AT33-AU33 -> 30 | AX33: =+AV33-AW33 -> 30 | AZ33: =+AX33-AY33 -> 30 | BB33: =+AZ33-BA33 -> 30 | BD33: =+BB33-BC33 -> 30 | BF33: =+BD33-BE33 -> 30 | BH33: =+BF33-BG33 -> 30 | BJ33: =+BH33-BI33 -> 30 | BL33: =+BJ33-BK33 -> 30 | BN33: =+BL33-BM33 -> 30 | BP33: =+BN33-BO33 -> 30 | BR33: =+BP33-BQ33 -> 30 | BT33: =+BR33-BS33 -> 30 | BV33: =+BT33-BU33 -> 30 | BX33: =+BV33-BW33 -> 30 | BZ33: =+BX33-BY33 -> 30 | CB33: =+BZ33-CA33 -> 30 | CD33: =+CB33-CC33 -> 30 | CF33: =+CD33-CE33 -> 30 | CH33: =+CF33-CG33 -> 30 | CJ33: =+CH33-CI33 -> 30 | CL33: =+CJ33-CK33 -> 30 | CN33: =+CL33-CM33 -> 30 | CP33: =+CN33-CO33 -> 30 | CR33: =+CP33-CQ33 -> 30 | CT33: =+CR33-CS33 -> 30 | CV33: =+CT33-CU33 -> 30 | CX33: =+CV33-CW33 -> 30 | CZ33: =+CX33-CY33 -> 30 | DB33: =+CZ33-DA33 -> 30 | DD33: =+DB33-DC33 -> 30 | DF33: =+DD33-DE33 -> 30 | DH33: =+DF33-DG33 -> 30 | DJ33: =+DH33-DI33 -> 30 | DL33: =+DJ33-DK33 -> 30 | DN33: =+DL33-DM33 -> 30
AN34: 0587-R (Sticker Orange) | AO34: 49058-5060 QT | AP34: Pack BOX | AQ34: =+FG!K31 -> 30 | AT34: =+AQ34-AS34-AR34 -> 30 | AV34: =+AT34-AU34 -> 30 | AX34: =+AV34-AW34 -> 30 | AZ34: =+AX34-AY34 -> 30 | BB34: =+AZ34-BA34 -> 30 | BD34: =+BB34-BC34 -> 30 | BF34: =+BD34-BE34 -> 30 | BH34: =+BF34-BG34 -> 30 | BJ34: =+BH34-BI34 -> 30 | BL34: =+BJ34-BK34 -> 30 | BN34: =+BL34-BM34 -> 30 | BP34: =+BN34-BO34 -> 30 | BR34: =+BP34-BQ34 -> 30 | BT34: =+BR34-BS34 -> 30 | BV34: =+BT34-BU34 -> 30 | BX34: =+BV34-BW34 -> 30 | BZ34: =+BX34-BY34 -> 30 | CB34: =+BZ34-CA34 -> 30 | CD34: =+CB34-CC34 -> 30 | CF34: =+CD34-CE34 -> 30 | CH34: =+CF34-CG34 -> 30 | CJ34: =+CH34-CI34 -> 30 | CL34: =+CJ34-CK34 -> 30 | CN34: =+CL34-CM34 -> 30 | CP34: =+CN34-CO34 -> 30 | CR34: =+CP34-CQ34 -> 30 | CT34: =+CR34-CS34 -> 30 | CV34: =+CT34-CU34 -> 30 | CX34: =+CV34-CW34 -> 30 | CZ34: =+CX34-CY34 -> 30 | DB34: =+CZ34-DA34 -> 30 | DD34: =+DB34-DC34 -> 30 | DF34: =+DD34-DE34 -> 30 | DH34: =+DF34-DG34 -> 30 | DJ34: =+DH34-DI34 -> 30 | DL34: =+DJ34-DK34 -> 30 | DN34: =+DL34-DM34 -> 30
AN35: 0587-R (Sticker Green) | AO35: 49058-5128 QT | AP35: Carry | AQ35: =+FG!K32 -> 30 | AT35: =+AQ35-AS35-AR35 -> 30 | AV35: =+AT35-AU35 -> 30 | AX35: =+AV35-AW35 -> 30 | AZ35: =+AX35-AY35 -> 30 | BB35: =+AZ35-BA35 -> 30 | BD35: =+BB35-BC35 -> 30 | BF35: =+BD35-BE35 -> 30 | BH35: =+BF35-BG35 -> 30 | BJ35: =+BH35-BI35 -> 30 | BL35: =+BJ35-BK35 -> 30 | BN35: =+BL35-BM35 -> 30 | BP35: =+BN35-BO35 -> 30 | BR35: =+BP35-BQ35 -> 30 | BT35: =+BR35-BS35 -> 30 | BV35: =+BT35-BU35 -> 30 | BX35: =+BV35-BW35 -> 30 | BZ35: =+BX35-BY35 -> 30 | CB35: =+BZ35-CA35 -> 30 | CD35: =+CB35-CC35 -> 30 | CF35: =+CD35-CE35 -> 30 | CH35: =+CF35-CG35 -> 30 | CJ35: =+CH35-CI35 -> 30 | CL35: =+CJ35-CK35 -> 30 | CN35: =+CL35-CM35 -> 30 | CP35: =+CN35-CO35 -> 30 | CR35: =+CP35-CQ35 -> 30 | CT35: =+CR35-CS35 -> 30 | CV35: =+CT35-CU35 -> 30 | CX35: =+CV35-CW35 -> 30 | CZ35: =+CX35-CY35 -> 30 | DB35: =+CZ35-DA35 -> 30 | DD35: =+DB35-DC35 -> 30 | DF35: =+DD35-DE35 -> 30 | DH35: =+DF35-DG35 -> 30 | DJ35: =+DH35-DI35 -> 30 | DL35: =+DJ35-DK35 -> 30 | DN35: =+DL35-DM35 -> 30
AN36: 0587-R (Sticker-Red) | AO36: 49058-5130 QT | AP36: Carry | AQ36: =+FG!K33 -> 0 | AT36: =+AQ36-AS36-AR36 -> 0 | AV36: =+AT36-AU36 -> 0 | AX36: =+AV36-AW36 -> 0 | AZ36: =+AX36-AY36 -> 0 | BB36: =+AZ36-BA36 -> 0 | BD36: =+BB36-BC36 -> 0 | BF36: =+BD36-BE36 -> 0 | BH36: =+BF36-BG36 -> 0 | BJ36: =+BH36-BI36 -> 0 | BL36: =+BJ36-BK36 -> 0 | BN36: =+BL36-BM36 -> 0 | BP36: =+BN36-BO36 -> 0 | BR36: =+BP36-BQ36 -> 0 | BT36: =+BR36-BS36 -> 0 | BV36: =+BT36-BU36 -> 0 | BX36: =+BV36-BW36 -> 0 | BZ36: =+BX36-BY36 -> 0 | CB36: =+BZ36-CA36 -> 0 | CD36: =+CB36-CC36 -> 0 | CF36: =+CD36-CE36 -> 0 | CH36: =+CF36-CG36 -> 0 | CJ36: =+CH36-CI36 -> 0 | CL36: =+CJ36-CK36 -> 0 | CN36: =+CL36-CM36 -> 0 | CP36: =+CN36-CO36 -> 0 | CR36: =+CP36-CQ36 -> 0 | CT36: =+CR36-CS36 -> 0 | CV36: =+CT36-CU36 -> 0 | CX36: =+CV36-CW36 -> 0 | CZ36: =+CX36-CY36 -> 0 | DB36: =+CZ36-DA36 -> 0 | DD36: =+DB36-DC36 -> 0 | DF36: =+DD36-DE36 -> 0 | DH36: =+DF36-DG36 -> 0 | DJ36: =+DH36-DI36 -> 0 | DL36: =+DJ36-DK36 -> 0 | DN36: =+DL36-DM36 -> 0
AN37: 0587-R (Sticker Blue) | AO37: 49058-5132 QT | AP37: Carry | AQ37: =+FG!K34 -> 0 | AT37: =+AQ37-AS37-AR37 -> 0 | AV37: =+AT37-AU37 -> 0 | AX37: =+AV37-AW37 -> 0 | AZ37: =+AX37-AY37 -> 0 | BB37: =+AZ37-BA37 -> 0 | BD37: =+BB37-BC37 -> 0 | BF37: =+BD37-BE37 -> 0 | BH37: =+BF37-BG37 -> 0 | BJ37: =+BH37-BI37 -> 0 | BL37: =+BJ37-BK37 -> 0 | BN37: =+BL37-BM37 -> 0 | BP37: =+BN37-BO37 -> 0 | BQ37: 1 | BR37: =+BP37-BQ37 -> -1 | BT37: =+BR37-BS37 -> -1 | BV37: =+BT37-BU37 -> -1 | BX37: =+BV37-BW37 -> -1 | BZ37: =+BX37-BY37 -> -1 | CB37: =+BZ37-CA37 -> -1 | CD37: =+CB37-CC37 -> -1 | CF37: =+CD37-CE37 -> -1 | CH37: =+CF37-CG37 -> -1 | CJ37: =+CH37-CI37 -> -1 | CL37: =+CJ37-CK37 -> -1 | CN37: =+CL37-CM37 -> -1 | CP37: =+CN37-CO37 -> -1 | CR37: =+CP37-CQ37 -> -1 | CT37: =+CR37-CS37 -> -1 | CV37: =+CT37-CU37 -> -1 | CX37: =+CV37-CW37 -> -1 | CZ37: =+CX37-CY37 -> -1 | DB37: =+CZ37-DA37 -> -1 | DD37: =+DB37-DC37 -> -1 | DF37: =+DD37-DE37 -> -1 | DH37: =+DF37-DG37 -> -1 | DJ37: =+DH37-DI37 -> -1 | DL37: =+DJ37-DK37 -> -1 | DN37: =+DL37-DM37 -> -1 | DO37: *
A38: 0593 | B38: F | K38: =SUM(C38:J38) -> 0 | U38: =SUM(L38:T38) -> 0 | V38: Black | AH38: =SUM(W38:AG38) -> 0 | AL38: =SUM(AI38:AK38) -> 0 | AM38: =SUM(K38,U38,AH38,AL38) -> 0 | AN38: 0593-F (Black) | AO38: 49058-0593 R2 | AP38: Carry | AQ38: =+FG!K35 -> 17 | AT38: =+AQ38-AS38-AR38 -> 17 | AV38: =+AT38-AU38 -> 17 | AX38: =+AV38-AW38 -> 17 | AZ38: =+AX38-AY38 -> 17 | BB38: =+AZ38-BA38 -> 17 | BD38: =+BB38-BC38 -> 17 | BF38: =+BD38-BE38 -> 17 | BH38: =+BF38-BG38 -> 17 | BJ38: =+BH38-BI38 -> 17 | BL38: =+BJ38-BK38 -> 17 | BN38: =+BL38-BM38 -> 17 | BP38: =+BN38-BO38 -> 17 | BR38: =+BP38-BQ38 -> 17 | BT38: =+BR38-BS38 -> 17 | BV38: =+BT38-BU38 -> 17 | BX38: =+BV38-BW38 -> 17 | BZ38: =+BX38-BY38 -> 17 | CB38: =+BZ38-CA38 -> 17 | CD38: =+CB38-CC38 -> 17 | CF38: =+CD38-CE38 -> 17 | CH38: =+CF38-CG38 -> 17 | CI38: 5 | CJ38: =+CH38-CI38 -> 12 | CL38: =+CJ38-CK38 -> 12 | CN38: =+CL38-CM38 -> 12 | CP38: =+CN38-CO38 -> 12 | CR38: =+CP38-CQ38 -> 12 | CT38: =+CR38-CS38 -> 12 | CV38: =+CT38-CU38 -> 12 | CX38: =+CV38-CW38 -> 12 | CZ38: =+CX38-CY38 -> 12 | DB38: =+CZ38-DA38 -> 12 | DD38: =+DB38-DC38 -> 12 | DF38: =+DD38-DE38 -> 12 | DH38: =+DF38-DG38 -> 12 | DJ38: =+DH38-DI38 -> 12 | DL38: =+DJ38-DK38 -> 12 | DN38: =+DL38-DM38 -> 12
A39: 0594 | B39: R | K39: =SUM(C39:J39) -> 0 | U39: =SUM(L39:T39) -> 0 | V39: Black | AD39: 3 | AH39: =SUM(W39:AG39) -> 3 | AL39: =SUM(AI39:AK39) -> 0 | AM39: =SUM(K39,U39,AH39,AL39) -> 3 | AN39: 0594-R (Black) | AO39: 49058-0594 QT | AP39: Carry | AQ39: =+FG!K36 -> 159 | AT39: =+AQ39-AS39-AR39 -> 159 | AV39: =+AT39-AU39 -> 159 | AX39: =+AV39-AW39 -> 159 | AZ39: =+AX39-AY39 -> 159 | BB39: =+AZ39-BA39 -> 159 | BD39: =+BB39-BC39 -> 159 | BF39: =+BD39-BE39 -> 159 | BH39: =+BF39-BG39 -> 159 | BJ39: =+BH39-BI39 -> 159 | BL39: =+BJ39-BK39 -> 159 | BN39: =+BL39-BM39 -> 159 | BP39: =+BN39-BO39 -> 159 | BR39: =+BP39-BQ39 -> 159 | BT39: =+BR39-BS39 -> 159 | BV39: =+BT39-BU39 -> 159 | BX39: =+BV39-BW39 -> 159 | BZ39: =+BX39-BY39 -> 159 | CB39: =+BZ39-CA39 -> 159 | CD39: =+CB39-CC39 -> 159 | CF39: =+CD39-CE39 -> 159 | CH39: =+CF39-CG39 -> 159 | CJ39: =+CH39-CI39 -> 159 | CL39: =+CJ39-CK39 -> 159 | CN39: =+CL39-CM39 -> 159 | CP39: =+CN39-CO39 -> 159 | CR39: =+CP39-CQ39 -> 159 | CT39: =+CR39-CS39 -> 159 | CV39: =+CT39-CU39 -> 159 | CX39: =+CV39-CW39 -> 159 | CZ39: =+CX39-CY39 -> 159 | DB39: =+CZ39-DA39 -> 159 | DD39: =+DB39-DC39 -> 159 | DF39: =+DD39-DE39 -> 159 | DH39: =+DF39-DG39 -> 159 | DJ39: =+DH39-DI39 -> 159 | DL39: =+DJ39-DK39 -> 159 | DN39: =+DL39-DM39 -> 159
K40: =2730-K6 -> 2658 | U40: =1256-U6 -> 1210 | AH40: =SUM(W6:AE6)-2108 -> -1950 | AK40: =SUM(AI6:AJ6)-447 -> -437 | AQ40: =SUM(AQ7:AQ39) -> 3408 | AR40: =SUM(AR7:AR39) -> 0 | AS40: =SUM(AS7:AS39) -> 120 | AT40: =SUM(AT7:AT39) -> 3288 | AU40: =SUM(AU7:AU39) -> 160 | AV40: =SUM(AV7:AV39) -> 3128 | AW40: =SUM(AW7:AW39) -> 120 | AX40: =SUM(AX7:AX39) -> 3008 | ... DN40: =SUM(DN7:DN39) -> 820 | DO40: *
BE42: =SUM(#REF!,#REF!,#REF!,#REF!,#REF!,#REF!,#REF!,#REF!,#REF!,#REF!,#REF!,#REF!,#REF!,#REF!,#REF!,#REF!,#REF!,#REF!,#REF!,#REF!,#REF!,#REF!,#REF!,#REF!,#REF!,#REF!,#REF!,#REF!,#REF!,#REF!,#REF!,#REF!,#REF!) -> #REF! | BF42: =SUM(#REF!,#REF!,#REF!,#REF!,#REF!,#REF!,#REF!,#REF!,#REF!,#REF!,#REF!,#REF!,#REF!,#REF!,#REF!,#REF!,#REF!,#REF!,#REF!,#REF!,#REF!,#REF!,#REF!,#REF!,#REF!,#REF!,#REF!,#REF!,#REF!,#REF!,#REF!,#REF!,#REF!) -> #REF! | BG42: =SUM(#REF!,#REF!,#REF!,#REF!,#REF!,#REF!,#REF!,#REF!,#REF!,#REF!,#REF!,#REF!,#REF!,#REF!,#REF!,#REF!,#REF!,#REF!,#REF!,#REF!,#REF!,#REF!,#REF!,#REF!,#REF!,#REF!,#REF!,#REF!,#REF!,#REF!,#REF!,#REF!,#REF!) -> #REF! | BH42: =SUM(#REF!,#REF!,#REF!,#REF!,#REF!,#REF!,#REF!,#REF!,#REF!,#REF!,#REF!,#REF!,#REF!,#REF!,#REF!,#REF!,#REF!,#REF!,#REF!,#REF!,#REF!,#REF!,#REF!,#REF!,#REF!,#REF!,#REF!,#REF!,#REF!,#REF!,#REF!,#REF!,#REF!) -> #REF! | BI42: =SUM(#REF!,#REF!,#REF!,#REF!,#REF!,#REF!,#REF!,#REF!,#REF!,#REF!,#REF!,#REF!,#REF!,#REF!,#REF!,#REF!,#REF!,#REF!,#REF!,#REF!,#REF!,#REF!,#REF!,#REF!,#REF!,#REF!,#REF!,#REF!,#REF!,#REF!,#REF!,#REF!,#REF!) -> #REF! | BJ42: =SUM(#REF!,#REF!,#REF!,#REF!,#REF!,#REF!,#REF!,#REF!,#REF!,#REF!,#REF!,#REF!,#REF!,#REF!,#REF!,#REF!,#REF!,#REF!,#REF!,#REF!,#REF!,#REF!,#REF!,#REF!,#REF!,#REF!,#REF!,#REF!,#REF!,#REF!,#REF!,#REF!,#REF!) -> #REF! | BK42: =SUM(#REF!,#REF!,#REF!,#REF!,#REF!,#REF!,#REF!,#REF!,#REF!,#REF!,#REF!,#REF!,#REF!,#REF!,#REF!,#REF!,#REF!,#REF!,#REF!,#REF!,#REF!,#REF!,#REF!,#REF!,#REF!,#REF!,#REF!,#REF!,#REF!,#REF!,#REF!,#REF!,#REF!) -> #REF! | BL42: =SUM(#REF!,#REF!,#REF!,#REF!,#REF!,#REF!,#REF!,#REF!,#REF!,#REF!,#REF!,#REF!,#REF!,#REF!,#REF!,#REF!,#REF!,#REF!,#REF!,#REF!,#REF!,#REF!,#REF!,#REF!,#REF!,#REF!,#REF!,#REF!,#REF!,#REF!,#REF!,#REF!,#REF!) -> #REF! | ... DN42: =SUM(#REF!,#REF!,#REF!,#REF!,#REF!,#REF!,#REF!,#REF!,#REF!,#REF!,#REF!,#REF!,#REF!,#REF!,#REF!,#REF!,#REF!,#REF!,#REF!,#REF!,#REF!,#REF!,#REF!,#REF!,#REF!,#REF!,#REF!,#REF!,#REF!,#REF!,#REF!,#REF!,#REF!) -> #REF!
...

Sheet Sale
A3: Model | B3: Type | C3: Model | D3: Part No. | E3: Pack Spec. | F3: Plan | G3: 42186 | H3: 42187 | I3: 42188 | J3: 42189 | K3: 42190 | L3: 42191 | M3: 42192 | N3: 42193 | O3: 42194 | P3: 42195 | Q3: 42196 | R3: 42197 | S3: 42198 | T3: 42199 | U3: 42200 | V3: 42201 | W3: 42202 | X3: 42203 | Y3: 42204 | Z3: 42205 | AA3: 42206 | AB3: 42207 | AC3: 42208 | AD3: 42209 | AE3: 42210 | AF3: 42211 | AG3: 42212 | AH3: 42213 | AI3: 42214 | AJ3: 42215 | AK3: 42216
A4: 0090 | B4: R | C4: 0090-R (Black) | D4: 49058-0090 QT | E4: Pack BOX | F4: =SUM(G4:AK4) -> 0
C5: 0090-R (Black) | D5: 49058-0090 QT | E5: Carry | F5: =SUM(G5:AK5) -> 0
A6: 0558 | B6: R | C6: 0558-R (Black) | D6: 49058-0558 QT | E6: Carry | F6: =SUM(G6:AK6) -> 1060 | G6: 40 | H6: 80 | I6: 60 | L6: 60 | M6: 60 | N6: 40 | O6: 40 | P6: 40 | S6: 40 | T6: 40 | U6: 40 | V6: 60 | W6: 60 | Z6: 40 | AA6: 40 | AB6: 60 | AC6: 80 | AD6: 40 | AG6: 60 | AH6: 80
C7: 0558-R (Black) | D7: 49058-0558 QT | E7: Pack BOX | F7: =SUM(G7:AK7) -> 40 | H7: 20 | M7: 20
C8: 0558-R (Sticker Green) | D8: 49058-5079 QT | E8: Pack BOX | F8: =SUM(G8:AK8) -> 0
C9: 0558-R (Sticker Green) | D9: 49058-5079 QT | E9: Carry | F9: =SUM(G9:AK9) -> 320 | G9: 40 | H9: 20 | I9: 20 | L9: 20 | M9: 20 | O9: 20 | S9: 40 | U9: 20 | V9: 20 | Z9: 20 | AA9: 20 | AB9: 20 | AD9: 20 | AH9: 20
C10: 0558-R (Sticker Red) | D10: 49058-5081 QT | E10: Pack BOX | F10: =SUM(G10:AK10) -> 0
C11: 0558-R (Sticker Red) | D11: 49058-5081 QT | E11: Carry | F11: =SUM(G11:AK11) -> 0
C12: 0558-R (Sticker Green) | D12: 49058-5121 QT | E12: Carry | F12: =SUM(G12:AK12) -> 540 | G12: 20 | H12: 20 | I12: 20 | L12: 20 | N12: 60 | O12: 40 | P12: 40 | S12: 40 | T12: 20 | U12: 20 | V12: 20 | W12: 20 | Z12: 20 | AA12: 40 | AB12: 40 | AC12: 20 | AD12: 20 | AG12: 40 | AH12: 20
C13: 0558-R (Sticker Red) | D13: 49058-5125 QT | E13: Carry | F13: =SUM(G13:AK13) -> 100 | M13: 20 | T13: 20 | U13: 20 | AA13: 20 | AC13: 20
C14: 0558-R (Sticker Orange) | D14: 49058-5127 QT | E14: Carry | F14: =SUM(G14:AK14) -> 280 | G14: 20 | H14: 20 | I14: 20 | N14: 40 | S14: 20 | U14: 40 | W14: 20 | Z14: 40 | AC14: 20 | AD14: 20 | AG14: 20
C15: 0558-R (Sticker Red) | D15: 49058-5146 QT New | E15: Carry | F15: =SUM(G15:AK15) -> 1 | AD15: 1
C16: 0558-R (Sticker Orange) | D16: 49058-5148 QT New | E16: Carry | F16: =SUM(G16:AK16) -> 1 | AD16: 1
C17: 0558-R (Gold) | D17: 49058-0558 36C | E17: Carry | F17: =SUM(G17:AK17) -> 0
C18: 0558P-R (Red) | D18: 49058-0558 35W | E18: Carry | F18: =SUM(G18:AK18) -> 0
C19: 0558-R (Yellow) | D19: 49058-0558 35X | E19: Carry | F19: =SUM(G19:AK19) -> 0
A20: 0112 | B20: F | C20: 0112-F (Black) | D20: 49058-0112 QT | E20: Carry | F20: =SUM(G20:AK20) -> 400 | G20: 50 | H20: 60 | I20: 30 | M20: 20 | N20: 50 | O20: 50 | P20: 50 | S20: 50 | W20: 40
C21: 0112-F (Gold) | D21: 49058-0112 36C | E21: Carry | F21: =SUM(G21:AK21) -> 0
A22: 0113 | B22: R | C22: 0571-R (Black) | D22: 49058-0571 QT | E22: Carry | F22: =SUM(G22:AK22) -> 40 | V22: 40
C23: 0571-R (Gold) | D23: 49058-0571 36C | E23: Carry | F23: =SUM(G23:AK23) -> 0
A24: 0587 | B24: R | C24: 0587-R (Black) | D24: 49058-0587 QT | E24: Carry | F24: =SUM(G24:AK24) -> 1060 | G24: 40 | H24: 80 | I24: 60 | L24: 60 | M24: 60 | N24: 40 | O24: 40 | P24: 40 | S24: 40 | T24: 40 | U24: 40 | V24: 60 | W24: 60 | Z24: 40 | AA24: 40 | AB24: 60 | AC24: 80 | AD24: 40 | AG24: 60 | AH24: 80
C25: 0587-R (Black) | D25: 49058-0587 QT | E25: Pack BOX | F25: =SUM(G25:AK25) -> 40 | H25: 20 | M25: 20
C26: 0587-R (Sticker Green) | D26: 49058-5039 QT | E26: Carry | F26: =SUM(G26:AK26) -> 0
C27: 0587-R (Sticker Green) | D27: 49058-5039 QT | E27: Pack BOX | F27: =SUM(G27:AK27) -> 320 | G27: 40 | H27: 20 | I27: 20 | L27: 20 | M27: 20 | O27: 20 | S27: 40 | U27: 20 | V27: 20 | Z27: 20 | AA27: 20 | AB27: 20 | AD27: 20 | AH27: 20
C28: 0587-R (Sticker-Red) | D28: 49058-5041 QT | E28: Carry | F28: =SUM(G28:AK28) -> 0
C29: 0587-R (Sticker-Red) | D29: 49058-5041 QT | E29: Pack BOX | F29: =SUM(G29:AK29) -> 0
C30: 0587-R (Sticker Orange) | D30: 49058-5060 QT | E30: Carry | F30: =SUM(G30:AK30) -> 540 | G30: 20 | H30: 20 | I30: 20 | L30: 20 | N30: 60 | O30: 40 | P30: 40 | S30: 40 | T30: 20 | U30: 20 | V30: 20 | W30: 20 | Z30: 20 | AA30: 40 | AB30: 40 | AC30: 20 | AD30: 20 | AG30: 40 | AH30: 20
C31: 0587-R (Sticker Orange) | D31: 49058-5060 QT | E31: Pack BOX | F31: =SUM(G31:AK31) -> 100 | M31: 20 | T31: 20 | U31: 20 | AA31: 20 | AC31: 20
C32: 0587-R (Sticker Green) | D32: 49058-5128 QT | E32: Carry | F32: =SUM(G32:AK32) -> 280 | G32: 20 | H32: 20 | I32: 20 | N32: 40 | S32: 20 | U32: 40 | W32: 20 | Z32: 40 | AC32: 20 | AD32: 20 | AG32: 20
C33: 0587-R (Sticker-Red) | D33: 49058-5130 QT | E33: Carry | F33: =SUM(G33:AK33) -> 0
C34: 0587-R (Sticker Blue) | D34: 49058-5132 QT | E34: Carry | F34: =SUM(G34:AK34) -> 1 | S34: 1
A35: 0593 | B35: F | C35: 0593-F (Black) | D35: 49058-0593 R2 | E35: Carry | F35: =SUM(G35:AK35) -> 5 | AB35: 5
A36: 0594 | B36: R | C36: 0594-R (Black) | D36: 49058-0594 QT | E36: Carry | F36: =SUM(G36:AK36) -> 0
F37: =SUM(F4:F36) -> 5128 | G37: =SUM(G4:G36) -> 290 | H37: =SUM(H4:H36) -> 380 | I37: =SUM(I4:I36) -> 270 | J37: =SUM(J4:J36) -> 0 | K37: =SUM(K4:K36) -> 0 | L37: =SUM(L4:L36) -> 200 | M37: =SUM(M4:M36) -> 260 | ... AK37: =SUM(AK4:AK36) -> 0

Sheet FG
G1: =+G37 -> 3328 | H1: =+H37 -> 0 | I1: =+I37 -> 80 | J1: =+J37 -> 0 | K1: =+K37 -> 3408 | L1: =+L37 -> 0 | M1: =+M37 -> 0 | N1: =+N37 -> 0 | ... FE1: =+FE37 -> 0
F2: End of month | G2: 42186 | L2: 42187 | Q2: 42188 | V2: 42189 | AA2: 42190 | AF2: 42191 | AK2: 42192 | AP2: 42193 | AU2: 42194 | AZ2: 42195 | BE2: 42196 | BJ2: 42197 | BO2: 42198 | BT2: 42199 | BY2: 42200 | CD2: 42201 | CI2: 42202 | CN2: 42203 | CS2: 42204 | CX2: 42205 | DC2: 42206 | DH2: 42207 | DM2: 42208 | DR2: 42209 | DW2: 42210 | EB2: 42211 | EG2: 42212 | EL2: 42213 | EQ2: 42214 | EV2: 42215 | FA2: 42216
A3: Model | B3: Type | C3: Model | D3: Part No. | E3: Pack Spec. | F3: FG. | G3: Nigth | H3: Temporary | I3: Day | J3: Temporary | K3: Sum FG | L3: Nigth | M3: Temporary | N3: Day | O3: Temporary | P3: Sum FG | Q3: Nigth | R3: Temporary | S3: Day | T3: Temporary | U3: Sum FG | V3: Nigth | W3: Temporary | X3: Day | Y3: Temporary | Z3: Sum FG | AA3: Nigth | AB3: Temporary | AC3: Day | AD3: Temporary | AE3: Sum FG | AF3: Nigth | AG3: Temporary | AH3: Day | AI3: Temporary | AJ3: Sum FG | AK3: Nigth | AL3: Temporary | AM3: Day | AN3: Temporary | AO3: Sum FG | AP3: Nigth | AQ3: Temporary | AR3: Day | AS3: Temporary | AT3: Sum FG | AU3: Nigth | AV3: Temporary | AW3: Day | AX3: Temporary | AY3: Sum FG | AZ3: Nigth | BA3: Temporary | BB3: Day | BC3: Temporary | BD3: Sum FG | BE3: Nigth | BF3: Temporary | BG3: Day | BH3: Temporary | BI3: Sum FG | BJ3: Nigth | BK3: Temporary | BL3: Day | BM3: Temporary | BN3: Sum FG | BO3: Nigth | BP3: Temporary | BQ3: Day | BR3: Temporary | BS3: Sum FG | BT3: Nigth | BU3: Temporary | BV3: Day | BW3: Temporary | BX3: Sum FG | BY3: Nigth | BZ3: Temporary | CA3: Day | CB3: Temporary | CC3: Sum FG | CD3: Nigth | CE3: Temporary | CF3: Day | CG3: Temporary | CH3: Sum FG | CI3: Nigth | CJ3: Temporary | CK3: Day | CL3: Temporary | CM3: Sum FG | CN3: Nigth | CO3: Temporary | CP3: Day | CQ3: Temporary | CR3: Sum FG | CS3: Nigth | CT3: Temporary | CU3: Day | CV3: Temporary | CW3: Sum FG | CX3: Nigth | CY3: Temporary | CZ3: Day | DA3: Temporary | DB3: Sum FG | DC3: Nigth | DD3: Temporary | DE3: Day | DF3: Temporary | DG3: Sum FG | DH3: Nigth | DI3: Temporary | DJ3: Day | DK3: Temporary | DL3: Sum FG | DM3: Nigth | DN3: Temporary | DO3: Day | DP3: Temporary | DQ3: Sum FG | DR3: Nigth | DS3: Temporary | DT3: Day | DU3: Temporary | DV3: Sum FG | DW3: Nigth | DX3: Temporary | DY3: Day | DZ3: Temporary | EA3: Sum FG | EB3: Nigth | EC3: Temporary | ED3: Day | EE3: Temporary | EF3: Sum FG | EG3: Nigth | EH3: Temporary | EI3: Day | EJ3: Temporary | EK3: Sum FG | EL3: Nigth | EM3: Temporary | EN3: Day | EO3: Temporary | EP3: Sum FG | EQ3: Nigth | ER3: Temporary | ES3: Day | ET3: Temporary | EU3: Sum FG | EV3: Nigth | EW3: Temporary | EX3: Day | EY3: Temporary | EZ3: Sum FG | FA3: Nigth | FB3: Temporary | FC3: Day | FD3: Temporary | FE3: Sum FG
A4: 0090 | B4: R | C4: 0090-R (Black) | D4: 49058-0090 QT | E4: Pack BOX | F4: =+K4 -> 0 | G4: 0 | K4: =SUM(G4,I4) -> 0 | P4: =SUM(L4,N4) -> 0 | U4: =SUM(Q4,S4) -> 0 | Z4: =SUM(V4,X4) -> 0 | AE4: =SUM(AA4,AC4) -> 0 | AJ4: =SUM(AF4,AH4) -> 0 | AO4: =SUM(AK4,AM4) -> 0 | AT4: =SUM(AP4,AR4) -> 0 | AY4: =SUM(AU4,AW4) -> 0 | BD4: =SUM(AZ4,BB4) -> 0 | BI4: =SUM(BE4,BG4) -> 0 | BN4: =SUM(BJ4,BL4) -> 0 | BS4: =SUM(BO4,BQ4) -> 0 | BX4: =SUM(BT4,BV4) -> 0 | CC4: =SUM(BY4,CA4) -> 0 | CH4: =SUM(CD4,CF4) -> 0 | CM4: =SUM(CI4,CK4) -> 0 | CR4: =SUM(CN4,CP4) -> 0 | CW4: =SUM(CS4,CU4) -> 0 | DB4: =SUM(CX4,CZ4) -> 0 | DG4: =SUM(DC4,DE4) -> 0 | DL4: =SUM(DH4,DJ4) -> 0 | DQ4: =SUM(DM4,DO4) -> 0 | DV4: =SUM(DR4,DT4) -> 0 | EA4: =SUM(DW4,DY4) -> 0 | EF4: =SUM(EB4,ED4) -> 0 | EK4: =SUM(EG4,EI4) -> 0 | EP4: =SUM(EL4,EN4) -> 0 | EU4: =SUM(EQ4,ES4) -> 0 | EZ4: =SUM(EV4,EX4) -> 0 | FE4: =SUM(FA4,FC4) -> 0
C5: 0090-R (Black) | D5: 49058-0090 QT | E5: Carry | F5: =+K5 -> 162 | G5: 162 | K5: =SUM(G5,I5) -> 162 | P5: =SUM(L5,N5) -> 0 | U5: =SUM(Q5,S5) -> 0 | Z5: =SUM(V5,X5) -> 0 | AE5: =SUM(AA5,AC5) -> 0 | AJ5: =SUM(AF5,AH5) -> 0 | AO5: =SUM(AK5,AM5) -> 0 | AT5: =SUM(AP5,AR5) -> 0 | AY5: =SUM(AU5,AW5) -> 0 | BD5: =SUM(AZ5,BB5) -> 0 | BI5: =SUM(BE5,BG5) -> 0 | BN5: =SUM(BJ5,BL5) -> 0 | BS5: =SUM(BO5,BQ5) -> 0 | BX5: =SUM(BT5,BV5) -> 0 | CC5: =SUM(BY5,CA5) -> 0 | CH5: =SUM(CD5,CF5) -> 0 | CM5: =SUM(CI5,CK5) -> 0 | CR5: =SUM(CN5,CP5) -> 0 | CW5: =SUM(CS5,CU5) -> 0 | DB5: =SUM(CX5,CZ5) -> 0 | DG5: =SUM(DC5,DE5) -> 0 | DL5: =SUM(DH5,DJ5) -> 0 | DQ5: =SUM(DM5,DO5) -> 0 | DV5: =SUM(DR5,DT5) -> 0 | EA5: =SUM(DW5,DY5) -> 0 | EF5: =SUM(EB5,ED5) -> 0 | EK5: =SUM(EG5,EI5) -> 0 | EP5: =SUM(EL5,EN5) -> 0 | EU5: =SUM(EQ5,ES5) -> 0 | EZ5: =SUM(EV5,EX5) -> 0 | FE5: =SUM(FA5,FC5) -> 0
A6: 0558 | B6: R | C6: 0558-R (Black) | D6: 49058-0558 QT | E6: Carry | F6: =+K6 -> 600 | G6: =640-40-20 -> 580 | I6: 20 | K6: =SUM(G6,I6) -> 600 | P6: =SUM(L6,N6) -> 0 | U6: =SUM(Q6,S6) -> 0 | Z6: =SUM(V6,X6) -> 0 | AE6: =SUM(AA6,AC6) -> 0 | AJ6: =SUM(AF6,AH6) -> 0 | AO6: =SUM(AK6,AM6) -> 0 | AT6: =SUM(AP6,AR6) -> 0 | AY6: =SUM(AU6,AW6) -> 0 | BD6: =SUM(AZ6,BB6) -> 0 | BI6: =SUM(BE6,BG6) -> 0 | BN6: =SUM(BJ6,BL6) -> 0 | BS6: =SUM(BO6,BQ6) -> 0 | BX6: =SUM(BT6,BV6) -> 0 | CC6: =SUM(BY6,CA6) -> 0 | CH6: =SUM(CD6,CF6) -> 0 | CM6: =SUM(CI6,CK6) -> 0 | CR6: =SUM(CN6,CP6) -> 0 | CW6: =SUM(CS6,CU6) -> 0 | DB6: =SUM(CX6,CZ6) -> 0 | DG6: =SUM(DC6,DE6) -> 0 | DL6: =SUM(DH6,DJ6) -> 0 | DQ6: =SUM(DM6,DO6) -> 0 | DV6: =SUM(DR6,DT6) -> 0 | EA6: =SUM(DW6,DY6) -> 0 | EF6: =SUM(EB6,ED6) -> 0 | EK6: =SUM(EG6,EI6) -> 0 | EP6: =SUM(EL6,EN6) -> 0 | EU6: =SUM(EQ6,ES6) -> 0 | EZ6: =SUM(EV6,EX6) -> 0 | FE6: =SUM(FA6,FC6) -> 0
C7: 0558-R (Black) | D7: 49058-0558 QT | E7: Pack BOX | F7: =+K7 -> 20 | G7: 20 | K7: =SUM(G7,I7) -> 20 | P7: =SUM(L7,N7) -> 0 | U7: =SUM(Q7,S7) -> 0 | Z7: =SUM(V7,X7) -> 0 | AE7: =SUM(AA7,AC7) -> 0 | AJ7: =SUM(AF7,AH7) -> 0 | AO7: =SUM(AK7,AM7) -> 0 | AT7: =SUM(AP7,AR7) -> 0 | AY7: =SUM(AU7,AW7) -> 0 | BD7: =SUM(AZ7,BB7) -> 0 | BI7: =SUM(BE7,BG7) -> 0 | BN7: =SUM(BJ7,BL7) -> 0 | BS7: =SUM(BO7,BQ7) -> 0 | BX7: =SUM(BT7,BV7) -> 0 | CC7: =SUM(BY7,CA7) -> 0 | CH7: =SUM(CD7,CF7) -> 0 | CM7: =SUM(CI7,CK7) -> 0 | CR7: =SUM(CN7,CP7) -> 0 | CW7: =SUM(CS7,CU7) -> 0 | DB7: =SUM(CX7,CZ7) -> 0 | DG7: =SUM(DC7,DE7) -> 0 | DL7: =SUM(DH7,DJ7) -> 0 | DQ7: =SUM(DM7,DO7) -> 0 | DV7: =SUM(DR7,DT7) -> 0 | EA7: =SUM(DW7,DY7) -> 0 | EF7: =SUM(EB7,ED7) -> 0 | EK7: =SUM(EG7,EI7) -> 0 | EP7: =SUM(EL7,EN7) -> 0 | EU7: =SUM(EQ7,ES7) -> 0 | EZ7: =SUM(EV7,EX7) -> 0 | FE7: =SUM(FA7,FC7) -> 0
C8: 0558-R (Sticker Green) | D8: 49058-5079 QT | E8: Pack BOX | F8: =+K8 -> 0 | G8: 0 | K8: =SUM(G8,I8) -> 0 | P8: =SUM(L8,N8) -> 0 | U8: =SUM(Q8,S8) -> 0 | Z8: =SUM(V8,X8) -> 0 | AE8: =SUM(AA8,AC8) -> 0 | AJ8: =SUM(AF8,AH8) -> 0 | AO8: =SUM(AK8,AM8) -> 0 | AT8: =SUM(AP8,AR8) -> 0 | AY8: =SUM(AU8,AW8) -> 0 | BD8: =SUM(AZ8,BB8) -> 0 | BI8: =SUM(BE8,BG8) -> 0 | BN8: =SUM(BJ8,BL8) -> 0 | BS8: =SUM(BO8,BQ8) -> 0 | BX8: =SUM(BT8,BV8) -> 0 | CC8: =SUM(BY8,CA8) -> 0 | CH8: =SUM(CD8,CF8) -> 0 | CM8: =SUM(CI8,CK8) -> 0 | CR8: =SUM(CN8,CP8) -> 0 | CW8: =SUM(CS8,CU8) -> 0 | DB8: =SUM(CX8,CZ8) -> 0 | DG8: =SUM(DC8,DE8) -> 0 | DL8: =SUM(DH8,DJ8) -> 0 | DQ8: =SUM(DM8,DO8) -> 0 | DV8: =SUM(DR8,DT8) -> 0 | EA8: =SUM(DW8,DY8) -> 0 | EF8: =SUM(EB8,ED8) -> 0 | EK8: =SUM(EG8,EI8) -> 0 | EP8: =SUM(EL8,EN8) -> 0 | EU8: =SUM(EQ8,ES8) -> 0 | EZ8: =SUM(EV8,EX8) -> 0 | FE8: =SUM(FA8,FC8) -> 0
C9: 0558-R (Sticker Green) | D9: 49058-5079 QT | E9: Carry | F9: =+K9 -> 120 | G9: 100 | I9: 20 | K9: =SUM(G9,I9) -> 120 | P9: =SUM(L9,N9) -> 0 | U9: =SUM(Q9,S9) -> 0 | Z9: =SUM(V9,X9) -> 0 | AE9: =SUM(AA9,AC9) -> 0 | AJ9: =SUM(AF9,AH9) -> 0 | AO9: =SUM(AK9,AM9) -> 0 | AT9: =SUM(AP9,AR9) -> 0 | AY9: =SUM(AU9,AW9) -> 0 | BD9: =SUM(AZ9,BB9) -> 0 | BI9: =SUM(BE9,BG9) -> 0 | BN9: =SUM(BJ9,BL9) -> 0 | BS9: =SUM(BO9,BQ9) -> 0 | BX9: =SUM(BT9,BV9) -> 0 | CC9: =SUM(BY9,CA9) -> 0 | CH9: =SUM(CD9,CF9) -> 0 | CM9: =SUM(CI9,CK9) -> 0 | CR9: =SUM(CN9,CP9) -> 0 | CW9: =SUM(CS9,CU9) -> 0 | DB9: =SUM(CX9,CZ9) -> 0 | DG9: =SUM(DC9,DE9) -> 0 | DL9: =SUM(DH9,DJ9) -> 0 | DQ9: =SUM(DM9,DO9) -> 0 | DV9: =SUM(DR9,DT9) -> 0 | EA9: =SUM(DW9,DY9) -> 0 | EF9: =SUM(EB9,ED9) -> 0 | EK9: =SUM(EG9,EI9) -> 0 | EP9: =SUM(EL9,EN9) -> 0 | EU9: =SUM(EQ9,ES9) -> 0 | EZ9: =SUM(EV9,EX9) -> 0 | FE9: =SUM(FA9,FC9) -> 0
C10: 0558-R (Sticker Red) | D10: 49058-5081 QT | E10: Pack BOX | F10: =+K10 -> 0 | G10: 0 | K10: =SUM(G10,I10) -> 0 | P10: =SUM(L10,N10) -> 0 | U10: =SUM(Q10,S10) -> 0 | Z10: =SUM(V10,X10) -> 0 | AE10: =SUM(AA10,AC10) -> 0 | AJ10: =SUM(AF10,AH10) -> 0 | AO10: =SUM(AK10,AM10) -> 0 | AT10: =SUM(AP10,AR10) -> 0 | AY10: =SUM(AU10,AW10) -> 0 | BD10: =SUM(AZ10,BB10) -> 0 | BI10: =SUM(BE10,BG10) -> 0 | BN10: =SUM(BJ10,BL10) -> 0 | BS10: =SUM(BO10,BQ10) -> 0 | BX10: =SUM(BT10,BV10) -> 0 | CC10: =SUM(BY10,CA10) -> 0 | CH10: =SUM(CD10,CF10) -> 0 | CM10: =SUM(CI10,CK10) -> 0 | CR10: =SUM(CN10,CP10) -> 0 | CW10: =SUM(CS10,CU10) -> 0 | DB10: =SUM(CX10,CZ10) -> 0 | DG10: =SUM(DC10,DE10) -> 0 | DL10: =SUM(DH10,DJ10) -> 0 | DQ10: =SUM(DM10,DO10) -> 0 | DV10: =SUM(DR10,DT10) -> 0 | EA10: =SUM(DW10,DY10) -> 0 | EF10: =SUM(EB10,ED10) -> 0 | EK10: =SUM(EG10,EI10) -> 0 | EP10: =SUM(EL10,EN10) -> 0 | EU10: =SUM(EQ10,ES10) -> 0 | EZ10: =SUM(EV10,EX10) -> 0 | FE10: =SUM(FA10,FC10) -> 0
C11: 0558-R (Sticker Red) | D11: 49058-5081 QT | E11: Carry | F11: =+K11 -> 5 | G11: 5 | K11: =SUM(G11,I11) -> 5 | P11: =SUM(L11,N11) -> 0 | U11: =SUM(Q11,S11) -> 0 | Z11: =SUM(V11,X11) -> 0 | AE11: =SUM(AA11,AC11) -> 0 | AJ11: =SUM(AF11,AH11) -> 0 | AO11: =SUM(AK11,AM11) -> 0 | AT11: =SUM(AP11,AR11) -> 0 | AY11: =SUM(AU11,AW11) -> 0 | BD11: =SUM(AZ11,BB11) -> 0 | BI11: =SUM(BE11,BG11) -> 0 | BN11: =SUM(BJ11,BL11) -> 0 | BS11: =SUM(BO11,BQ11) -> 0 | BX11: =SUM(BT11,BV11) -> 0 | CC11: =SUM(BY11,CA11) -> 0 | CH11: =SUM(CD11,CF11) -> 0 | CM11: =SUM(CI11,CK11) -> 0 | CR11: =SUM(CN11,CP11) -> 0 | CW11: =SUM(CS11,CU11) -> 0 | DB11: =SUM(CX11,CZ11) -> 0 | DG11: =SUM(DC11,DE11) -> 0 | DL11: =SUM(DH11,DJ11) -> 0 | DQ11: =SUM(DM11,DO11) -> 0 | DV11: =SUM(DR11,DT11) -> 0 | EA11: =SUM(DW11,DY11) -> 0 | EF11: =SUM(EB11,ED11) -> 0 | EK11: =SUM(EG11,EI11) -> 0 | EP11: =SUM(EL11,EN11) -> 0 | EU11: =SUM(EQ11,ES11) -> 0 | EZ11: =SUM(EV11,EX11) -> 0 | FE11: =SUM(FA11,FC11) -> 0
C12: 0558-R (Sticker Green) | D12: 49058-5121 QT | E12: Carry | F12: =+K12 -> 80 | G12: 60 | I12: 20 | K12: =SUM(G12,I12) -> 80 | P12: =SUM(L12,N12) -> 0 | U12: =SUM(Q12,S12) -> 0 | Z12: =SUM(V12,X12) -> 0 | AE12: =SUM(AA12,AC12) -> 0 | AJ12: =SUM(AF12,AH12) -> 0 | AO12: =SUM(AK12,AM12) -> 0 | AT12: =SUM(AP12,AR12) -> 0 | AY12: =SUM(AU12,AW12) -> 0 | BD12: =SUM(AZ12,BB12) -> 0 | BI12: =SUM(BE12,BG12) -> 0 | BN12: =SUM(BJ12,BL12) -> 0 | BS12: =SUM(BO12,BQ12) -> 0 | BX12: =SUM(BT12,BV12) -> 0 | CC12: =SUM(BY12,CA12) -> 0 | CH12: =SUM(CD12,CF12) -> 0 | CM12: =SUM(CI12,CK12) -> 0 | CR12: =SUM(CN12,CP12) -> 0 | CW12: =SUM(CS12,CU12) -> 0 | DB12: =SUM(CX12,CZ12) -> 0 | DG12: =SUM(DC12,DE12) -> 0 | DL12: =SUM(DH12,DJ12) -> 0 | DQ12: =SUM(DM12,DO12) -> 0 | DV12: =SUM(DR12,DT12) -> 0 | EA12: =SUM(DW12,DY12) -> 0 | EF12: =SUM(EB12,ED12) -> 0 | EK12: =SUM(EG12,EI12) -> 0 | EP12: =SUM(EL12,EN12) -> 0 | EU12: =SUM(EQ12,ES12) -> 0 | EZ12: =SUM(EV12,EX12) -> 0 | FE12: =SUM(FA12,FC12) -> 0
