Workbook

Sheet Urgent
A2: 2W Delivery Plan & Stock monitoring
A3: PROCESS | C3: Stock Finished Goods And Pack Spec | G3: 42185 | H3: Update : 2- July- 15 Time 08:00 pm
A4: Model | B4: Type | G4: Back Oder | H4: Delivery Plan & Balance Finished goods.
H5: =+G3+1 -> 42186 | J5: =+H5+1 -> 42187 | L5: =+J5+1 -> 42188 | N5: =+L5+1 -> 42189 | P5: =+N5+1 -> 42190 | R5: =+P5+1 -> 42191 | T5: =+R5+1 -> 42192 | V5: =+T5+1 -> 42193
A6: Total Process | C6: Model | D6: Part No. | E6: Pack Spec. | F6: Q'TY | H6: D/L | I6: B/L FG. | J6: D/L | K6: B/L FG. | L6: D/L | M6: B/L FG. | N6: D/L | O6: B/L FG. | P6: D/L | Q6: B/L FG. | R6: D/L | S6: B/L FG. | T6: D/L | U6: B/L FG. | V6: D/L | W6: B/L FG. | X6: *
A7: 0090 | B7: R | C7: 0090-R (Black) | D7: 49058-0090 QT | E7: Pack BOX | F7: =+FG!K4 -> 0 | I7: =+F7-H7-G7 -> 0 | K7: =+I7-J7 -> 0 | M7: =+K7-L7 -> 0 | O7: =+M7-N7 -> 0 | Q7: =+O7-P7 -> 0 | S7: =+Q7-R7 -> 0 | U7: =+S7-T7 -> 0 | W7: =+U7-V7 -> 0
C8: 0090-R (Black) | D8: 49058-0090 QT | E8: Carry | F8: =+FG!K5 -> 162 | I8: =+F8-H8-G8 -> 162 | K8: =+I8-J8 -> 162 | M8: =+K8-L8 -> 162 | O8: =+M8-N8 -> 162 | Q8: =+O8-P8 -> 162 | S8: =+Q8-R8 -> 162 | U8: =+S8-T8 -> 162 | W8: =+U8-V8 -> 162
A9: 0558 | B9: R | C9: 0558-R (Black) | D9: 49058-0558 QT | E9: Carry | F9: =+FG!K6 -> 600 | H9: 40 | I9: =+F9-H9-G9 -> 560 | J9: 80 | K9: =+I9-J9 -> 480 | L9: 60 | M9: =+K9-L9 -> 420 | O9: =+M9-N9 -> 420 | Q9: =+O9-P9 -> 420 | R9: 60 | S9: =+Q9-R9 -> 360 | T9: 60 | U9: =+S9-T9 -> 300 | V9: 40 | W9: =+U9-V9 -> 260 | X9: *
C10: 0558-R (Black) | D10: 49058-0558 QT | E10: Pack BOX | F10: =+FG!K7 -> 20 | I10: =+F10-H10-G10 -> 20 | J10: 20 | K10: =+I10-J10 -> 0 | M10: =+K10-L10 -> 0 | O10: =+M10-N10 -> 0 | Q10: =+O10-P10 -> 0 | S10: =+Q10-R10 -> 0 | T10: 20 | U10: =+S10-T10 -> -20 | W10: =+U10-V10 -> -20 | X10: *
C11: 0558-R (Sticker Green) | D11: 49058-5079 QT | E11: Pack BOX | F11: =+FG!K8 -> 0 | I11: =+F11-H11-G11 -> 0 | K11: =+I11-J11 -> 0 | M11: =+K11-L11 -> 0 | O11: =+M11-N11 -> 0 | Q11: =+O11-P11 -> 0 | S11: =+Q11-R11 -> 0 | U11: =+S11-T11 -> 0 | W11: =+U11-V11 -> 0
C12: 0558-R (Sticker Green) | D12: 49058-5079 QT | E12: Carry | F12: =+FG!K9 -> 120 | H12: 40 | I12: =+F12-H12-G12 -> 80 | J12: 20 | K12: =+I12-J12 -> 60 | L12: 20 | M12: =+K12-L12 -> 40 | O12: =+M12-N12 -> 40 | Q12: =+O12-P12 -> 40 | R12: 20 | S12: =+Q12-R12 -> 20 | T12: 20 | U12: =+S12-T12 -> 0 | W12: =+U12-V12 -> 0 | X12: *
C13: 0558-R (Sticker Red) | D13: 49058-5081 QT | E13: Pack BOX | F13: =+FG!K10 -> 0 | I13: =+F13-H13-G13 -> 0 | K13: =+I13-J13 -> 0 | M13: =+K13-L13 -> 0 | O13: =+M13-N13 -> 0 | Q13: =+O13-P13 -> 0 | S13: =+Q13-R13 -> 0 | U13: =+S13-T13 -> 0 | W13: =+U13-V13 -> 0
C14: 0558-R (Sticker Red) | D14: 49058-5081 QT | E14: Carry | F14: =+FG!K11 -> 5 | I14: =+F14-H14-G14 -> 5 | K14: =+I14-J14 -> 5 | M14: =+K14-L14 -> 5 | O14: =+M14-N14 -> 5 | Q14: =+O14-P14 -> 5 | S14: =+Q14-R14 -> 5 | U14: =+S14-T14 -> 5 | W14: =+U14-V14 -> 5
C15: 0558-R (Sticker Green) | D15: 49058-5121 QT | E15: Carry | F15: =+FG!K12 -> 80 | H15: 20 | I15: =+F15-H15-G15 -> 60 | J15: 20 | K15: =+I15-J15 -> 40 | L15: 20 | M15: =+K15-L15 -> 20 | O15: =+M15-N15 -> 20 | Q15: =+O15-P15 -> 20 | R15: 20 | S15: =+Q15-R15 -> 0 | U15: =+S15-T15 -> 0 | V15: 60 | W15: =+U15-V15 -> -60 | X15: *
C16: 0558-R (Sticker Red) | D16: 49058-5125 QT | E16: Carry | F16: =+FG!K13 -> 20 | I16: =+F16-H16-G16 -> 20 | K16: =+I16-J16 -> 20 | M16: =+K16-L16 -> 20 | O16: =+M16-N16 -> 20 | Q16: =+O16-P16 -> 20 | S16: =+Q16-R16 -> 20 | T16: 20 | U16: =+S16-T16 -> 0 | W16: =+U16-V16 -> 0
C17: 0558-R (Sticker Orange) | D17: 49058-5127 QT | E17: Carry | F17: =+FG!K14 -> 60 | H17: 20 | I17: =+F17-H17-G17 -> 40 | J17: 20 | K17: =+I17-J17 -> 20 | L17: 20 | M17: =+K17-L17 -> 0 | O17: =+M17-N17 -> 0 | Q17: =+O17-P17 -> 0 | S17: =+Q17-R17 -> 0 | U17: =+S17-T17 -> 0 | V17: 40 | W17: =+U17-V17 -> -40 | X17: *
C18: 0558-R (Sticker Red) | D18: 49058-5146 QT New | E18: Carry | F18: =+FG!K15 -> 0 | I18: =+F18-H18-G18 -> 0 | K18: =+I18-J18 -> 0 | M18: =+K18-L18 -> 0 | O18: =+M18-N18 -> 0 | Q18: =+O18-P18 -> 0 | S18: =+Q18-R18 -> 0 | U18: =+S18-T18 -> 0 | W18: =+U18-V18 -> 0
C19: 0558-R (Sticker Orange) | D19: 49058-5148 QT New | E19: Carry | F19: =+FG!K16 -> 0 | I19: =+F19-H19-G19 -> 0 | K19: =+I19-J19 -> 0 | M19: =+K19-L19 -> 0 | O19: =+M19-N19 -> 0 | Q19: =+O19-P19 -> 0 | S19: =+Q19-R19 -> 0 | U19: =+S19-T19 -> 0 | W19: =+U19-V19 -> 0
C20: 0558-R (Gold) | D20: 49058-0558 36C | E20: Carry | F20: =+FG!K17 -> 0 | I20: =+F20-H20-G20 -> 0 | K20: =+I20-J20 -> 0 | M20: =+K20-L20 -> 0 | O20: =+M20-N20 -> 0 | Q20: =+O20-P20 -> 0 | S20: =+Q20-R20 -> 0 | U20: =+S20-T20 -> 0 | W20: =+U20-V20 -> 0
C21: 0558P-R (Red) | D21: 49058-0558 35W | E21: Carry | F21: =+FG!K18 -> 0 | I21: =+F21-H21-G21 -> 0 | K21: =+I21-J21 -> 0 | M21: =+K21-L21 -> 0 | O21: =+M21-N21 -> 0 | Q21: =+O21-P21 -> 0 | S21: =+Q21-R21 -> 0 | U21: =+S21-T21 -> 0 | W21: =+U21-V21 -> 0
C22: 0558-R (Yellow) | D22: 49058-0558 35X | E22: Carry | F22: =+FG!K19 -> 6 | I22: =+F22-H22-G22 -> 6 | K22: =+I22-J22 -> 6 | M22: =+K22-L22 -> 6 | O22: =+M22-N22 -> 6 | Q22: =+O22-P22 -> 6 | S22: =+Q22-R22 -> 6 | U22: =+S22-T22 -> 6 | W22: =+U22-V22 -> 6 | X22: *
A23: 0112 | B23: F | C23: 0112-F (Black) | D23: 49058-0112 QT | E23: Carry | F23: =+FG!K20 -> 540 | I23: =+F23-H23-G23 -> 540 | K23: =+I23-J23 -> 540 | M23: =+K23-L23 -> 540 | O23: =+M23-N23 -> 540 | Q23: =+O23-P23 -> 540 | S23: =+Q23-R23 -> 540 | U23: =+S23-T23 -> 540 | W23: =+U23-V23 -> 540 | X23: *
C24: 0112-F (Gold) | D24: 49058-0112 36C | E24: Carry | F24: =+FG!K21 -> 75 | I24: =+F24-H24-G24 -> 75 | K24: =+I24-J24 -> 75 | M24: =+K24-L24 -> 75 | O24: =+M24-N24 -> 75 | Q24: =+O24-P24 -> 75 | S24: =+Q24-R24 -> 75 | U24: =+S24-T24 -> 75 | W24: =+U24-V24 -> 75 | X24: *
A25: 0113 | B25: R | C25: 0571-R (Black) | D25: 49058-0571 QT | E25: Carry | F25: =+FG!K22 -> 514 | I25: =+F25-H25-G25 -> 514 | K25: =+I25-J25 -> 514 | M25: =+K25-L25 -> 514 | O25: =+M25-N25 -> 514 | Q25: =+O25-P25 -> 514 | S25: =+Q25-R25 -> 514 | U25: =+S25-T25 -> 514 | W25: =+U25-V25 -> 514 | X25: *
C26: 0571-R (Gold) | D26: 49058-0571 36C | E26: Carry | F26: =+FG!K23 -> 57 | I26: =+F26-H26-G26 -> 57 | K26: =+I26-J26 -> 57 | M26: =+K26-L26 -> 57 | O26: =+M26-N26 -> 57 | Q26: =+O26-P26 -> 57 | S26: =+Q26-R26 -> 57 | U26: =+S26-T26 -> 57 | W26: =+U26-V26 -> 57 | X26: *
A27: 0587 | B27: R | C27: 0587-R (Black) | D27: 49058-0587 QT | E27: Carry | F27: =+FG!K24 -> 273 | I27: =+F27-H27-G27 -> 273 | K27: =+I27-J27 -> 273 | M27: =+K27-L27 -> 273 | O27: =+M27-N27 -> 273 | Q27: =+O27-P27 -> 273 | S27: =+Q27-R27 -> 273 | U27: =+S27-T27 -> 273 | W27: =+U27-V27 -> 273 | X27: *
C28: 0587-R (Black) | D28: 49058-0587 QT | E28: Pack BOX | F28: =+FG!K25 -> 500 | I28: =+F28-H28-G28 -> 500 | K28: =+I28-J28 -> 500 | M28: =+K28-L28 -> 500 | O28: =+M28-N28 -> 500 | Q28: =+O28-P28 -> 500 | S28: =+Q28-R28 -> 500 | U28: =+S28-T28 -> 500 | W28: =+U28-V28 -> 500
C29: 0587-R (Sticker Green) | D29: 49058-5039 QT | E29: Carry | F29: =+FG!K26 -> 20 | I29: =+F29-H29-G29 -> 20 | K29: =+I29-J29 -> 20 | M29: =+K29-L29 -> 20 | O29: =+M29-N29 -> 20 | Q29: =+O29-P29 -> 20 | S29: =+Q29-R29 -> 20 | U29: =+S29-T29 -> 20 | W29: =+U29-V29 -> 20
C30: 0587-R (Sticker Green) | D30: 49058-5039 QT | E30: Pack BOX | F30: =+FG!K27 -> 30 | I30: =+F30-H30-G30 -> 30 | K30: =+I30-J30 -> 30 | M30: =+K30-L30 -> 30 | O30: =+M30-N30 -> 30 | Q30: =+O30-P30 -> 30 | S30: =+Q30-R30 -> 30 | U30: =+S30-T30 -> 30 | W30: =+U30-V30 -> 30
C31: 0587-R (Sticker-Red) | D31: 49058-5041 QT | E31: Carry | F31: =+FG!K28 -> 40 | I31: =+F31-H31-G31 -> 40 | K31: =+I31-J31 -> 40 | M31: =+K31-L31 -> 40 | O31: =+M31-N31 -> 40 | Q31: =+O31-P31 -> 40 | S31: =+Q31-R31 -> 40 | U31: =+S31-T31 -> 40 | W31: =+U31-V31 -> 40
C32: 0587-R (Sticker-Red) | D32: 49058-5041 QT | E32: Pack BOX | F32: =+FG!K29 -> 20 | I32: =+F32-H32-G32 -> 20 | K32: =+I32-J32 -> 20 | M32: =+K32-L32 -> 20 | O32: =+M32-N32 -> 20 | Q32: =+O32-P32 -> 20 | S32: =+Q32-R32 -> 20 | U32: =+S32-T32 -> 20 | W32: =+U32-V32 -> 20
C33: 0587-R (Sticker Orange) | D33: 49058-5060 QT | E33: Carry | F33: =+FG!K30 -> 30 | I33: =+F33-H33-G33 -> 30 | K33: =+I33-J33 -> 30 | M33: =+K33-L33 -> 30 | O33: =+M33-N33 -> 30 | Q33: =+O33-P33 -> 30 | S33: =+Q33-R33 -> 30 | U33: =+S33-T33 -> 30 | W33: =+U33-V33 -> 30
C34: 0587-R (Sticker Orange) | D34: 49058-5060 QT | E34: Pack BOX | F34: =+FG!K31 -> 30 | I34: =+F34-H34-G34 -> 30 | K34: =+I34-J34 -> 30 | M34: =+K34-L34 -> 30 | O34: =+M34-N34 -> 30 | Q34: =+O34-P34 -> 30 | S34: =+Q34-R34 -> 30 | U34: =+S34-T34 -> 30 | W34: =+U34-V34 -> 30
C35: 0587-R (Sticker Green) | D35: 49058-5128 QT | E35: Carry | F35: =+FG!K32 -> 30 | I35: =+F35-H35-G35 -> 30 | K35: =+I35-J35 -> 30 | M35: =+K35-L35 -> 30 | O35: =+M35-N35 -> 30 | Q35: =+O35-P35 -> 30 | S35: =+Q35-R35 -> 30 | U35: =+S35-T35 -> 30 | W35: =+U35-V35 -> 30
C36: 0587-R (Sticker-Red) | D36: 49058-5130 QT | E36: Carry | F36: =+FG!K33 -> 0 | I36: =+F36-H36-G36 -> 0 | K36: =+I36-J36 -> 0 | M36: =+K36-L36 -> 0 | O36: =+M36-N36 -> 0 | Q36: =+O36-P36 -> 0 | S36: =+Q36-R36 -> 0 | U36: =+S36-T36 -> 0 | W36: =+U36-V36 -> 0
C37: 0587-R (Sticker Blue) | D37: 49058-5132 QT | E37: Carry | F37: =+FG!K34 -> 0 | I37: =+F37-H37-G37 -> 0 | K37: =+I37-J37 -> 0 | M37: =+K37-L37 -> 0 | O37: =+M37-N37 -> 0 | Q37: =+O37-P37 -> 0 | S37: =+Q37-R37 -> 0 | U37: =+S37-T37 -> 0 | W37: =+U37-V37 -> 0 | X37: *
A38: 0593 | B38: F | C38: 0593-F (Black) | D38: 49058-0593 R2 | E38: Carry | F38: =+FG!K35 -> 17 | I38: =+F38-H38-G38 -> 17 | K38: =+I38-J38 -> 17 | M38: =+K38-L38 -> 17 | O38: =+M38-N38 -> 17 | Q38: =+O38-P38 -> 17 | S38: =+Q38-R38 -> 17 | U38: =+S38-T38 -> 17 | W38: =+U38-V38 -> 17
A39: 0594 | B39: R | C39: 0594-R (Black) | D39: 49058-0594 QT | E39: Carry | F39: =+FG!K36 -> 159 | I39: =+F39-H39-G39 -> 159 | K39: =+I39-J39 -> 159 | M39: =+K39-L39 -> 159 | O39: =+M39-N39 -> 159 | Q39: =+O39-P39 -> 159 | S39: =+Q39-R39 -> 159 | U39: =+S39-T39 -> 159 | W39: =+U39-V39 -> 159
F40: =SUM(F7:F39) -> 3408 | G40: =SUM(G7:G39) -> 0 | H40: =SUM(H7:H39) -> 120 | I40: =SUM(I7:I39) -> 3288 | J40: =SUM(J7:J39) -> 160 | K40: =SUM(K7:K39) -> 3128 | L40: =SUM(L7:L39) -> 120 | M40: =SUM(M7:M39) -> 3008 | ... W40: =SUM(W7:W39) -> 2648 | X40: *

Sheet Sale
A3: Model | B3: Type | C3: Model | D3: Part No. | E3: Pack Spec. | F3: Plan | G3: 42186 | H3: 42187 | I3: 42188 | J3: 42189 | K3: 42190 | L3: 42191 | M3: 42192 | N3: 42193 | O3: 42194 | P3: 42195 | Q3: 42196 | R3: 42197 | S3: 42198 | T3: 42199 | U3: 42200 | V3: 42201 | W3: 42202 | X3: 42203 | Y3: 42204 | Z3: 42205 | AA3: 42206 | AB3: 42207 | AC3: 42208 | AD3: 42209 | AE3: 42210 | AF3: 42211 | AG3: 42212 | AH3: 42213 | AI3: 42214 | AJ3: 42215 | AK3: 42216
A4: 0090 | B4: R | C4: 0090-R (Black) | D4: 49058-0090 QT | E4: Pack BOX | F4: =SUM(G4:AK4) -> 0
C5: 0090-R (Black) | D5: 49058-0090 QT | E5: Carry | F5: =SUM(G5:AK5) -> 0
A6: 0558 | B6: R | C6: 0558-R (Black) | D6: 49058-0558 QT | E6: Carry | F6: =SUM(G6:AK6) -> 1060 | G6: 40 | H6: 80 | I6: 60 | L6: 60 | M6: 60 | N6: 40 | O6: 40 | P6: 40 | S6: 40 | T6: 40 | U6: 40 | V6: 60 | W6: 60 | Z6: 40 | AA6: 40 | AB6: 60 | AC6: 80 | AD6: 40 | AG6: 60 | AH6: 80
C7: 0558-R (Black) | D7: 49058-0558 QT | E7: Pack BOX | F7: =SUM(G7:AK7) -> 40 | H7: 20 | M7: 20
C8: 0558-R (Sticker Green) | D8: 49058-5079 QT | E8: Pack BOX | F8: =SUM(G8:AK8) -> 0
C9: 0558-R (Sticker Green) | D9: 49058-5079 QT | E9: Carry | F9: =SUM(G9:AK9) -> 320 | G9: 40 | H9: 20 | I9: 20 | L9: 20 | M9: 20 | O9: 20 | S9: 40 | U9: 20 | V9: 20 | Z9: 20 | AA9: 20 | AB9: 20 | AD9: 20 | AH9: 20
C10: 0558-R (Sticker Red) | D10: 49058-5081 QT | E10: Pack BOX | F10: =SUM(G10:AK10) -> 0
C11: 0558-R (Sticker Red) | D11: 49058-5081 QT | E11: Carry | F11: =SUM(G11:AK11) -> 0
C12: 0558-R (Sticker Green) | D12: 49058-5121 QT | E12: Carry | F12: =SUM(G12:AK12) -> 540 | G12: 20 | H12: 20 | I12: 20 | L12: 20 | N12: 60 | O12: 40 | P12: 40 | S12: 40 | T12: 20 | U12: 20 | V12: 20 | W12: 20 | Z12: 20 | AA12: 40 | AB12: 40 | AC12: 20 | AD12: 20 | AG12: 40 | AH12: 20
C13: 0558-R (Sticker Red) | D13: 49058-5125 QT | E13: Carry | F13: =SUM(G13:AK13) -> 100 | M13: 20 | T13: 20 | U13: 20 | AA13: 20 | AC13: 20
C14: 0558-R (Sticker Orange) | D14: 49058-5127 QT | E14: Carry | F14: =SUM(G14:AK14) -> 280 | G14: 20 | H14: 20 | I14: 20 | N14: 40 | S14: 20 | U14: 40 | W14: 20 | Z14: 40 | AC14: 20 | AD14: 20 | AG14: 20
C15: 0558-R (Sticker Red) | D15: 49058-5146 QT New | E15: Carry | F15: =SUM(G15:AK15) -> 1 | AD15: 1
C16: 0558-R (Sticker Orange) | D16: 49058-5148 QT New | E16: Carry | F16: =SUM(G16:AK16) -> 1 | AD16: 1
C17: 0558-R (Gold) | D17: 49058-0558 36C | E17: Carry | F17: =SUM(G17:AK17) -> 0
C18: 0558P-R (Red) | D18: 49058-0558 35W | E18: Carry | F18: =SUM(G18:AK18) -> 0
C19: 0558-R (Yellow) | D19: 49058-0558 35X | E19: Carry | F19: =SUM(G19:AK19) -> 0
A20: 0112 | B20: F | C20: 0112-F (Black) | D20: 49058-0112 QT | E20: Carry | F20: =SUM(G20:AK20) -> 400 | G20: 50 | H20: 60 | I20: 30 | M20: 20 | N20: 50 | O20: 50 | P20: 50 | S20: 50 | W20: 40
C21: 0112-F (Gold) | D21: 49058-0112 36C | E21: Carry | F21: =SUM(G21:AK21) -> 0
A22: 0113 | B22: R | C22: 0571-R (Black) | D22: 49058-0571 QT | E22: Carry | F22: =SUM(G22:AK22) -> 40 | V22: 40
C23: 0571-R (Gold) | D23: 49058-0571 36C | E23: Carry | F23: =SUM(G23:AK23) -> 0
A24: 0587 | B24: R | C24: 0587-R (Black) | D24: 49058-0587 QT | E24: Carry | F24: =SUM(G24:AK24) -> 1060 | G24: 40 | H24: 80 | I24: 60 | L24: 60 | M24: 60 | N24: 40 | O24: 40 | P24: 40 | S24: 40 | T24: 40 | U24: 40 | V24: 60 | W24: 60 | Z24: 40 | AA24: 40 | AB24: 60 | AC24: 80 | AD24: 40 | AG24: 60 | AH24: 80
C25: 0587-R (Black) | D25: 49058-0587 QT | E25: Pack BOX | F25: =SUM(G25:AK25) -> 40 | H25: 20 | M25: 20
C26: 0587-R (Sticker Green) | D26: 49058-5039 QT | E26: Carry | F26: =SUM(G26:AK26) -> 0
C27: 0587-R (Sticker Green) | D27: 49058-5039 QT | E27: Pack BOX | F27: =SUM(G27:AK27) -> 320 | G27: 40 | H27: 20 | I27: 20 | L27: 20 | M27: 20 | O27: 20 | S27: 40 | U27: 20 | V27: 20 | Z27: 20 | AA27: 20 | AB27: 20 | AD27: 20 | AH27: 20
C28: 0587-R (Sticker-Red) | D28: 49058-5041 QT | E28: Carry | F28: =SUM(G28:AK28) -> 0
C29: 0587-R (Sticker-Red) | D29: 49058-5041 QT | E29: Pack BOX | F29: =SUM(G29:AK29) -> 0
C30: 0587-R (Sticker Orange) | D30: 49058-5060 QT | E30: Carry | F30: =SUM(G30:AK30) -> 540 | G30: 20 | H30: 20 | I30: 20 | L30: 20 | N30: 60 | O30: 40 | P30: 40 | S30: 40 | T30: 20 | U30: 20 | V30: 20 | W30: 20 | Z30: 20 | AA30: 40 | AB30: 40 | AC30: 20 | AD30: 20 | AG30: 40 | AH30: 20
C31: 0587-R (Sticker Orange) | D31: 49058-5060 QT | E31: Pack BOX | F31: =SUM(G31:AK31) -> 100 | M31: 20 | T31: 20 | U31: 20 | AA31: 20 | AC31: 20
C32: 0587-R (Sticker Green) | D32: 49058-5128 QT | E32: Carry | F32: =SUM(G32:AK32) -> 280 | G32: 20 | H32: 20 | I32: 20 | N32: 40 | S32: 20 | U32: 40 | W32: 20 | Z32: 40 | AC32: 20 | AD32: 20 | AG32: 20
C33: 0587-R (Sticker-Red) | D33: 49058-5130 QT | E33: Carry | F33: =SUM(G33:AK33) -> 0
C34: 0587-R (Sticker Blue) | D34: 49058-5132 QT | E34: Carry | F34: =SUM(G34:AK34) -> 1 | S34: 1
A35: 0593 | B35: F | C35: 0593-F (Black) | D35: 49058-0593 R2 | E35: Carry | F35: =SUM(G35:AK35) -> 5 | AB35: 5
A36: 0594 | B36: R | C36: 0594-R (Black) | D36: 49058-0594 QT | E36: Carry | F36: =SUM(G36:AK36) -> 0
F37: =SUM(F4:F36) -> 5128 | G37: =SUM(G4:G36) -> 290 | H37: =SUM(H4:H36) -> 380 | I37: =SUM(I4:I36) -> 270 | J37: =SUM(J4:J36) -> 0 | K37: =SUM(K4:K36) -> 0 | L37: =SUM(L4:L36) -> 200 | M37: =SUM(M4:M36) -> 260 | ... AK37: =SUM(AK4:AK36) -> 0

Sheet FG
G1: =+G37 -> 3328 | H1: =+H37 -> 0 | I1: =+I37 -> 80 | J1: =+J37 -> 0 | K1: =+K37 -> 3408 | L1: =+L37 -> 0 | M1: =+M37 -> 0 | N1: =+N37 -> 0 | ... FE1: =+FE37 -> 0
F2: End of month | G2: 42186 | L2: 42187 | Q2: 42188 | V2: 42189 | AA2: 42190 | AF2: 42191 | AK2: 42192 | AP2: 42193 | AU2: 42194 | AZ2: 42195 | BE2: 42196 | BJ2: 42197 | BO2: 42198 | BT2: 42199 | BY2: 42200 | CD2: 42201 | CI2: 42202 | CN2: 42203 | CS2: 42204 | CX2: 42205 | DC2: 42206 | DH2: 42207 | DM2: 42208 | DR2: 42209 | DW2: 42210 | EB2: 42211 | EG2: 42212 | EL2: 42213 | EQ2: 42214 | EV2: 42215 | FA2: 42216
A3: Model | B3: Type | C3: Model | D3: Part No. | E3: Pack Spec. | F3: FG. | G3: Nigth | H3: Temporary | I3: Day | J3: Temporary | K3: Sum FG | L3: Nigth | M3: Temporary | N3: Day | O3: Temporary | P3: Sum FG | Q3: Nigth | R3: Temporary | S3: Day | T3: Temporary | U3: Sum FG | V3: Nigth | W3: Temporary | X3: Day | Y3: Temporary | Z3: Sum FG | AA3: Nigth | AB3: Temporary | AC3: Day | AD3: Temporary | AE3: Sum FG | AF3: Nigth | AG3: Temporary | AH3: Day | AI3: Temporary | AJ3: Sum FG | AK3: Nigth | AL3: Temporary | AM3: Day | AN3: Temporary | AO3: Sum FG | AP3: Nigth | AQ3: Temporary | AR3: Day | AS3: Temporary | AT3: Sum FG | AU3: Nigth | AV3: Temporary | AW3: Day | AX3: Temporary | AY3: Sum FG | AZ3: Nigth | BA3: Temporary | BB3: Day | BC3: Temporary | BD3: Sum FG | BE3: Nigth | BF3: Temporary | BG3: Day | BH3: Temporary | BI3: Sum FG | BJ3: Nigth | BK3: Temporary | BL3: Day | BM3: Temporary | BN3: Sum FG | BO3: Nigth | BP3: Temporary | BQ3: Day | BR3: Temporary | BS3: Sum FG | BT3: Nigth | BU3: Temporary | BV3: Day | BW3: Temporary | BX3: Sum FG | BY3: Nigth | BZ3: Temporary | CA3: Day | CB3: Temporary | CC3: Sum FG | CD3: Nigth | CE3: Temporary | CF3: Day | CG3: Temporary | CH3: Sum FG | CI3: Nigth | CJ3: Temporary | CK3: Day | CL3: Temporary | CM3: Sum FG | CN3: Nigth | CO3: Temporary | CP3: Day | CQ3: Temporary | CR3: Sum FG | CS3: Nigth | CT3: Temporary | CU3: Day | CV3: Temporary | CW3: Sum FG | CX3: Nigth | CY3: Temporary | CZ3: Day | DA3: Temporary | DB3: Sum FG | DC3: Nigth | DD3: Temporary | DE3: Day | DF3: Temporary | DG3: Sum FG | DH3: Nigth | DI3: Temporary | DJ3: Day | DK3: Temporary | DL3: Sum FG | DM3: Nigth | DN3: Temporary | DO3: Day | DP3: Temporary | DQ3: Sum FG | DR3: Nigth | DS3: Temporary | DT3: Day | DU3: Temporary | DV3: Sum FG | DW3: Nigth | DX3: Temporary | DY3: Day | DZ3: Temporary | EA3: Sum FG | EB3: Nigth | EC3: Temporary | ED3: Day | EE3: Temporary | EF3: Sum FG | EG3: Nigth | EH3: Temporary | EI3: Day | EJ3: Temporary | EK3: Sum FG | EL3: Nigth | EM3: Temporary | EN3: Day | EO3: Temporary | EP3: Sum FG | EQ3: Nigth | ER3: Temporary | ES3: Day | ET3: Temporary | EU3: Sum FG | EV3: Nigth | EW3: Temporary | EX3: Day | EY3: Temporary | EZ3: Sum FG | FA3: Nigth | FB3: Temporary | FC3: Day | FD3: Temporary | FE3: Sum FG
A4: 0090 | B4: R | C4: 0090-R (Black) | D4: 49058-0090 QT | E4: Pack BOX | F4: =+K4 -> 0 | G4: 0 | K4: =SUM(G4,I4) -> 0 | P4: =SUM(L4,N4) -> 0 | U4: =SUM(Q4,S4) -> 0 | Z4: =SUM(V4,X4) -> 0 | AE4: =SUM(AA4,AC4) -> 0 | AJ4: =SUM(AF4,AH4) -> 0 | AO4: =SUM(AK4,AM4) -> 0 | AT4: =SUM(AP4,AR4) -> 0 | AY4: =SUM(AU4,AW4) -> 0 | BD4: =SUM(AZ4,BB4) -> 0 | BI4: =SUM(BE4,BG4) -> 0 | BN4: =SUM(BJ4,BL4) -> 0 | BS4: =SUM(BO4,BQ4) -> 0 | BX4: =SUM(BT4,BV4) -> 0 | CC4: =SUM(BY4,CA4) -> 0 | CH4: =SUM(CD4,CF4) -> 0 | CM4: =SUM(CI4,CK4) -> 0 | CR4: =SUM(CN4,CP4) -> 0 | CW4: =SUM(CS4,CU4) -> 0 | DB4: =SUM(CX4,CZ4) -> 0 | DG4: =SUM(DC4,DE4) -> 0 | DL4: =SUM(DH4,DJ4) -> 0 | DQ4: =SUM(DM4,DO4) -> 0 | DV4: =SUM(DR4,DT4) -> 0 | EA4: =SUM(DW4,DY4) -> 0 | EF4: =SUM(EB4,ED4) -> 0 | EK4: =SUM(EG4,EI4) -> 0 | EP4: =SUM(EL4,EN4) -> 0 | EU4: =SUM(EQ4,ES4) -> 0 | EZ4: =SUM(EV4,EX4) -> 0 | FE4: =SUM(FA4,FC4) -> 0
C5: 0090-R (Black) | D5: 49058-0090 QT | E5: Carry | F5: =+K5 -> 162 | G5: 162 | K5: =SUM(G5,I5) -> 162 | P5: =SUM(L5,N5) -> 0 | U5: =SUM(Q5,S5) -> 0 | Z5: =SUM(V5,X5) -> 0 | AE5: =SUM(AA5,AC5) -> 0 | AJ5: =SUM(AF5,AH5) -> 0 | AO5: =SUM(AK5,AM5) -> 0 | AT5: =SUM(AP5,AR5) -> 0 | AY5: =SUM(AU5,AW5) -> 0 | BD5: =SUM(AZ5,BB5) -> 0 | BI5: =SUM(BE5,BG5) -> 0 | BN5: =SUM(BJ5,BL5) -> 0 | BS5: =SUM(BO5,BQ5) -> 0 | BX5: =SUM(BT5,BV5) -> 0 | CC5: =SUM(BY5,CA5) -> 0 | CH5: =SUM(CD5,CF5) -> 0 | CM5: =SUM(CI5,CK5) -> 0 | CR5: =SUM(CN5,CP5) -> 0 | CW5: =SUM(CS5,CU5) -> 0 | DB5: =SUM(CX5,CZ5) -> 0 | DG5: =SUM(DC5,DE5) -> 0 | DL5: =SUM(DH5,DJ5) -> 0 | DQ5: =SUM(DM5,DO5) -> 0 | DV5: =SUM(DR5,DT5) -> 0 | EA5: =SUM(DW5,DY5) -> 0 | EF5: =SUM(EB5,ED5) -> 0 | EK5: =SUM(EG5,EI5) -> 0 | EP5: =SUM(EL5,EN5) -> 0 | EU5: =SUM(EQ5,ES5) -> 0 | EZ5: =SUM(EV5,EX5) -> 0 | FE5: =SUM(FA5,FC5) -> 0
A6: 0558 | B6: R | C6: 0558-R (Black) | D6: 49058-0558 QT | E6: Carry | F6: =+K6 -> 600 | G6: =640-40-20 -> 580 | I6: 20 | K6: =SUM(G6,I6) -> 600 | P6: =SUM(L6,N6) -> 0 | U6: =SUM(Q6,S6) -> 0 | Z6: =SUM(V6,X6) -> 0 | AE6: =SUM(AA6,AC6) -> 0 | AJ6: =SUM(AF6,AH6) -> 0 | AO6: =SUM(AK6,AM6) -> 0 | AT6: =SUM(AP6,AR6) -> 0 | AY6: =SUM(AU6,AW6) -> 0 | BD6: =SUM(AZ6,BB6) -> 0 | BI6: =SUM(BE6,BG6) -> 0 | BN6: =SUM(BJ6,BL6) -> 0 | BS6: =SUM(BO6,BQ6) -> 0 | BX6: =SUM(BT6,BV6) -> 0 | CC6: =SUM(BY6,CA6) -> 0 | CH6: =SUM(CD6,CF6) -> 0 | CM6: =SUM(CI6,CK6) -> 0 | CR6: =SUM(CN6,CP6) -> 0 | CW6: =SUM(CS6,CU6) -> 0 | DB6: =SUM(CX6,CZ6) -> 0 | DG6: =SUM(DC6,DE6) -> 0 | DL6: =SUM(DH6,DJ6) -> 0 | DQ6: =SUM(DM6,DO6) -> 0 | DV6: =SUM(DR6,DT6) -> 0 | EA6: =SUM(DW6,DY6) -> 0 | EF6: =SUM(EB6,ED6) -> 0 | EK6: =SUM(EG6,EI6) -> 0 | EP6: =SUM(EL6,EN6) -> 0 | EU6: =SUM(EQ6,ES6) -> 0 | EZ6: =SUM(EV6,EX6) -> 0 | FE6: =SUM(FA6,FC6) -> 0
C7: 0558-R (Black) | D7: 49058-0558 QT | E7: Pack BOX | F7: =+K7 -> 20 | G7: 20 | K7: =SUM(G7,I7) -> 20 | P7: =SUM(L7,N7) -> 0 | U7: =SUM(Q7,S7) -> 0 | Z7: =SUM(V7,X7) -> 0 | AE7: =SUM(AA7,AC7) -> 0 | AJ7: =SUM(AF7,AH7) -> 0 | AO7: =SUM(AK7,AM7) -> 0 | AT7: =SUM(AP7,AR7) -> 0 | AY7: =SUM(AU7,AW7) -> 0 | BD7: =SUM(AZ7,BB7) -> 0 | BI7: =SUM(BE7,BG7) -> 0 | BN7: =SUM(BJ7,BL7) -> 0 | BS7: =SUM(BO7,BQ7) -> 0 | BX7: =SUM(BT7,BV7) -> 0 | CC7: =SUM(BY7,CA7) -> 0 | CH7: =SUM(CD7,CF7) -> 0 | CM7: =SUM(CI7,CK7) -> 0 | CR7: =SUM(CN7,CP7) -> 0 | CW7: =SUM(CS7,CU7) -> 0 | DB7: =SUM(CX7,CZ7) -> 0 | DG7: =SUM(DC7,DE7) -> 0 | DL7: =SUM(DH7,DJ7) -> 0 | DQ7: =SUM(DM7,DO7) -> 0 | DV7: =SUM(DR7,DT7) -> 0 | EA7: =SUM(DW7,DY7) -> 0 | EF7: =SUM(EB7,ED7) -> 0 | EK7: =SUM(EG7,EI7) -> 0 | EP7: =SUM(EL7,EN7) -> 0 | EU7: =SUM(EQ7,ES7) -> 0 | EZ7: =SUM(EV7,EX7) -> 0 | FE7: =SUM(FA7,FC7) -> 0
C8: 0558-R (Sticker Green) | D8: 49058-5079 QT | E8: Pack BOX | F8: =+K8 -> 0 | G8: 0 | K8: =SUM(G8,I8) -> 0 | P8: =SUM(L8,N8) -> 0 | U8: =SUM(Q8,S8) -> 0 | Z8: =SUM(V8,X8) -> 0 | AE8: =SUM(AA8,AC8) -> 0 | AJ8: =SUM(AF8,AH8) -> 0 | AO8: =SUM(AK8,AM8) -> 0 | AT8: =SUM(AP8,AR8) -> 0 | AY8: =SUM(AU8,AW8) -> 0 | BD8: =SUM(AZ8,BB8) -> 0 | BI8: =SUM(BE8,BG8) -> 0 | BN8: =SUM(BJ8,BL8) -> 0 | BS8: =SUM(BO8,BQ8) -> 0 | BX8: =SUM(BT8,BV8) -> 0 | CC8: =SUM(BY8,CA8) -> 0 | CH8: =SUM(CD8,CF8) -> 0 | CM8: =SUM(CI8,CK8) -> 0 | CR8: =SUM(CN8,CP8) -> 0 | CW8: =SUM(CS8,CU8) -> 0 | DB8: =SUM(CX8,CZ8) -> 0 | DG8: =SUM(DC8,DE8) -> 0 | DL8: =SUM(DH8,DJ8) -> 0 | DQ8: =SUM(DM8,DO8) -> 0 | DV8: =SUM(DR8,DT8) -> 0 | EA8: =SUM(DW8,DY8) -> 0 | EF8: =SUM(EB8,ED8) -> 0 | EK8: =SUM(EG8,EI8) -> 0 | EP8: =SUM(EL8,EN8) -> 0 | EU8: =SUM(EQ8,ES8) -> 0 | EZ8: =SUM(EV8,EX8) -> 0 | FE8: =SUM(FA8,FC8) -> 0
C9: 0558-R (Sticker Green) | D9: 49058-5079 QT | E9: Carry | F9: =+K9 -> 120 | G9: 100 | I9: 20 | K9: =SUM(G9,I9) -> 120 | P9: =SUM(L9,N9) -> 0 | U9: =SUM(Q9,S9) -> 0 | Z9: =SUM(V9,X9) -> 0 | AE9: =SUM(AA9,AC9) -> 0 | AJ9: =SUM(AF9,AH9) -> 0 | AO9: =SUM(AK9,AM9) -> 0 | AT9: =SUM(AP9,AR9) -> 0 | AY9: =SUM(AU9,AW9) -> 0 | BD9: =SUM(AZ9,BB9) -> 0 | BI9: =SUM(BE9,BG9) -> 0 | BN9: =SUM(BJ9,BL9) -> 0 | BS9: =SUM(BO9,BQ9) -> 0 | BX9: =SUM(BT9,BV9) -> 0 | CC9: =SUM(BY9,CA9) -> 0 | CH9: =SUM(CD9,CF9) -> 0 | CM9: =SUM(CI9,CK9) -> 0 | CR9: =SUM(CN9,CP9) -> 0 | CW9: =SUM(CS9,CU9) -> 0 | DB9: =SUM(CX9,CZ9) -> 0 | DG9: =SUM(DC9,DE9) -> 0 | DL9: =SUM(DH9,DJ9) -> 0 | DQ9: =SUM(DM9,DO9) -> 0 | DV9: =SUM(DR9,DT9) -> 0 | EA9: =SUM(DW9,DY9) -> 0 | EF9: =SUM(EB9,ED9) -> 0 | EK9: =SUM(EG9,EI9) -> 0 | EP9: =SUM(EL9,EN9) -> 0 | EU9: =SUM(EQ9,ES9) -> 0 | EZ9: =SUM(EV9,EX9) -> 0 | FE9: =SUM(FA9,FC9) -> 0
C10: 0558-R (Sticker Red) | D10: 49058-5081 QT | E10: Pack BOX | F10: =+K10 -> 0 | G10: 0 | K10: =SUM(G10,I10) -> 0 | P10: =SUM(L10,N10) -> 0 | U10: =SUM(Q10,S10) -> 0 | Z10: =SUM(V10,X10) -> 0 | AE10: =SUM(AA10,AC10) -> 0 | AJ10: =SUM(AF10,AH10) -> 0 | AO10: =SUM(AK10,AM10) -> 0 | AT10: =SUM(AP10,AR10) -> 0 | AY10: =SUM(AU10,AW10) -> 0 | BD10: =SUM(AZ10,BB10) -> 0 | BI10: =SUM(BE10,BG10) -> 0 | BN10: =SUM(BJ10,BL10) -> 0 | BS10: =SUM(BO10,BQ10) -> 0 | BX10: =SUM(BT10,BV10) -> 0 | CC10: =SUM(BY10,CA10) -> 0 | CH10: =SUM(CD10,CF10) -> 0 | CM10: =SUM(CI10,CK10) -> 0 | CR10: =SUM(CN10,CP10) -> 0 | CW10: =SUM(CS10,CU10) -> 0 | DB10: =SUM(CX10,CZ10) -> 0 | DG10: =SUM(DC10,DE10) -> 0 | DL10: =SUM(DH10,DJ10) -> 0 | DQ10: =SUM(DM10,DO10) -> 0 | DV10: =SUM(DR10,DT10) -> 0 | EA10: =SUM(DW10,DY10) -> 0 | EF10: =SUM(EB10,ED10) -> 0 | EK10: =SUM(EG10,EI10) -> 0 | EP10: =SUM(EL10,EN10) -> 0 | EU10: =SUM(EQ10,ES10) -> 0 | EZ10: =SUM(EV10,EX10) -> 0 | FE10: =SUM(FA10,FC10) -> 0
C11: 0558-R (Sticker Red) | D11: 49058-5081 QT | E11: Carry | F11: =+K11 -> 5 | G11: 5 | K11: =SUM(G11,I11) -> 5 | P11: =SUM(L11,N11) -> 0 | U11: =SUM(Q11,S11) -> 0 | Z11: =SUM(V11,X11) -> 0 | AE11: =SUM(AA11,AC11) -> 0 | AJ11: =SUM(AF11,AH11) -> 0 | AO11: =SUM(AK11,AM11) -> 0 | AT11: =SUM(AP11,AR11) -> 0 | AY11: =SUM(AU11,AW11) -> 0 | BD11: =SUM(AZ11,BB11) -> 0 | BI11: =SUM(BE11,BG11) -> 0 | BN11: =SUM(BJ11,BL11) -> 0 | BS11: =SUM(BO11,BQ11) -> 0 | BX11: =SUM(BT11,BV11) -> 0 | CC11: =SUM(BY11,CA11) -> 0 | CH11: =SUM(CD11,CF11) -> 0 | CM11: =SUM(CI11,CK11) -> 0 | CR11: =SUM(CN11,CP11) -> 0 | CW11: =SUM(CS11,CU11) -> 0 | DB11: =SUM(CX11,CZ11) -> 0 | DG11: =SUM(DC11,DE11) -> 0 | DL11: =SUM(DH11,DJ11) -> 0 | DQ11: =SUM(DM11,DO11) -> 0 | DV11: =SUM(DR11,DT11) -> 0 | EA11: =SUM(DW11,DY11) -> 0 | EF11: =SUM(EB11,ED11) -> 0 | EK11: =SUM(EG11,EI11) -> 0 | EP11: =SUM(EL11,EN11) -> 0 | EU11: =SUM(EQ11,ES11) -> 0 | EZ11: =SUM(EV11,EX11) -> 0 | FE11: =SUM(FA11,FC11) -> 0
C12: 0558-R (Sticker Green) | D12: 49058-5121 QT | E12: Carry | F12: =+K12 -> 80 | G12: 60 | I12: 20 | K12: =SUM(G12,I12) -> 80 | P12: =SUM(L12,N12) -> 0 | U12: =SUM(Q12,S12) -> 0 | Z12: =SUM(V12,X12) -> 0 | AE12: =SUM(AA12,AC12) -> 0 | AJ12: =SUM(AF12,AH12) -> 0 | AO12: =SUM(AK12,AM12) -> 0 | AT12: =SUM(AP12,AR12) -> 0 | AY12: =SUM(AU12,AW12) -> 0 | BD12: =SUM(AZ12,BB12) -> 0 | BI12: =SUM(BE12,BG12) -> 0 | BN12: =SUM(BJ12,BL12) -> 0 | BS12: =SUM(BO12,BQ12) -> 0 | BX12: =SUM(BT12,BV12) -> 0 | CC12: =SUM(BY12,CA12) -> 0 | CH12: =SUM(CD12,CF12) -> 0 | CM12: =SUM(CI12,CK12) -> 0 | CR12: =SUM(CN12,CP12) -> 0 | CW12: =SUM(CS12,CU12) -> 0 | DB12: =SUM(CX12,CZ12) -> 0 | DG12: =SUM(DC12,DE12) -> 0 | DL12: =SUM(DH12,DJ12) -> 0 | DQ12: =SUM(DM12,DO12) -> 0 | DV12: =SUM(DR12,DT12) -> 0 | EA12: =SUM(DW12,DY12) -> 0 | EF12: =SUM(EB12,ED12) -> 0 | EK12: =SUM(EG12,EI12) -> 0 | EP12: =SUM(EL12,EN12) -> 0 | EU12: =SUM(EQ12,ES12) -> 0 | EZ12: =SUM(EV12,EX12) -> 0 | FE12: =SUM(FA12,FC12) -> 0
C13: 0558-R (Sticker Red) | D13: 49058-5125 QT | E13: Carry | F13: =+K13 -> 20 | G13: 0 | I13: 20 | K13: =SUM(G13,I13) -> 20 | P13: =SUM(L13,N13) -> 0 | U13: =SUM(Q13,S13) -> 0 | Z13: =SUM(V13,X13) -> 0 | AE13: =SUM(AA13,AC13) -> 0 | AJ13: =SUM(AF13,AH13) -> 0 | AO13: =SUM(AK13,AM13) -> 0 | AT13: =SUM(AP13,AR13) -> 0 | AY13: =SUM(AU13,AW13) -> 0 | BD13: =SUM(AZ13,BB13) -> 0 | BI13: =SUM(BE13,BG13) -> 0 | BN13: =SUM(BJ13,BL13) -> 0 | BS13: =SUM(BO13,BQ13) -> 0 | BX13: =SUM(BT13,BV13) -> 0 | CC13: =SUM(BY13,CA13) -> 0 | CH13: =SUM(CD13,CF13) -> 0 | CM13: =SUM(CI13,CK13) -> 0 | CR13: =SUM(CN13,CP13) -> 0 | CW13: =SUM(CS13,CU13) -> 0 | DB13: =SUM(CX13,CZ13) -> 0 | DG13: =SUM(DC13,DE13) -> 0 | DL13: =SUM(DH13,DJ13) -> 0 | DQ13: =SUM(DM13,DO13) -> 0 | DV13: =SUM(DR13,DT13) -> 0 | EA13: =SUM(DW13,DY13) -> 0 | EF13: =SUM(EB13,ED13) -> 0 | EK13: =SUM(EG13,EI13) -> 0 | EP13: =SUM(EL13,EN13) -> 0 | EU13: =SUM(EQ13,ES13) -> 0 | EZ13: =SUM(EV13,EX13) -> 0 | FE13: =SUM(FA13,FC13) -> 0
C14: 0558-R (Sticker Orange) | D14: 49058-5127 QT | E14: Carry | F14: =+K14 -> 60 | G14: 60 | K14: =SUM(G14,I14) -> 60 | P14: =SUM(L14,N14) -> 0 | U14: =SUM(Q14,S14) -> 0 | Z14: =SUM(V14,X14) -> 0 | AE14: =SUM(AA14,AC14) -> 0 | AJ14: =SUM(AF14,AH14) -> 0 | AO14: =SUM(AK14,AM14) -> 0 | AT14: =SUM(AP14,AR14) -> 0 | AY14: =SUM(AU14,AW14) -> 0 | BD14: =SUM(AZ14,BB14) -> 0 | BI14: =SUM(BE14,BG14) -> 0 | BN14: =SUM(BJ14,BL14) -> 0 | BS14: =SUM(BO14,BQ14) -> 0 | BX14: =SUM(BT14,BV14) -> 0 | CC14: =SUM(BY14,CA14) -> 0 | CH14: =SUM(CD14,CF14) -> 0 | CM14: =SUM(CI14,CK14) -> 0 | CR14: =SUM(CN14,CP14) -> 0 | CW14: =SUM(CS14,CU14) -> 0 | DB14: =SUM(CX14,CZ14) -> 0 | DG14: =SUM(DC14,DE14) -> 0 | DL14: =SUM(DH14,DJ14) -> 0 | DQ14: =SUM(DM14,DO14) -> 0 | DV14: =SUM(DR14,DT14) -> 0 | EA14: =SUM(DW14,DY14) -> 0 | EF14: =SUM(EB14,ED14) -> 0 | EK14: =SUM(EG14,EI14) -> 0 | EP14: =SUM(EL14,EN14) -> 0 | EU14: =SUM(EQ14,ES14) -> 0 | EZ14: =SUM(EV14,EX14) -> 0 | FE14: =SUM(FA14,FC14) -> 0
C15: 0558-R (Sticker Red) | D15: 49058-5146 QT New | E15: Carry | F15: =+K15 -> 0 | K15: =SUM(G15,I15) -> 0 | P15: =SUM(L15,N15) -> 0 | U15: =SUM(Q15,S15) -> 0 | Z15: =SUM(V15,X15) -> 0 | AE15: =SUM(AA15,AC15) -> 0 | AJ15: =SUM(AF15,AH15) -> 0 | AO15: =SUM(AK15,AM15) -> 0 | AT15: =SUM(AP15,AR15) -> 0 | AY15: =SUM(AU15,AW15) -> 0 | BD15: =SUM(AZ15,BB15) -> 0 | BI15: =SUM(BE15,BG15) -> 0 | BN15: =SUM(BJ15,BL15) -> 0 | BS15: =SUM(BO15,BQ15) -> 0 | BX15: =SUM(BT15,BV15) -> 0 | CC15: =SUM(BY15,CA15) -> 0 | CH15: =SUM(CD15,CF15) -> 0 | CM15: =SUM(CI15,CK15) -> 0 | CR15: =SUM(CN15,CP15) -> 0 | CW15: =SUM(CS15,CU15) -> 0 | DB15: =SUM(CX15,CZ15) -> 0 | DG15: =SUM(DC15,DE15) -> 0 | DL15: =SUM(DH15,DJ15) -> 0 | DQ15: =SUM(DM15,DO15) -> 0 | DV15: =SUM(DR15,DT15) -> 0 | EA15: =SUM(DW15,DY15) -> 0 | EF15: =SUM(EB15,ED15) -> 0 | EK15: =SUM(EG15,EI15) -> 0 | EP15: =SUM(EL15,EN15) -> 0 | EU15: =SUM(EQ15,ES15) -> 0 | EZ15: =SUM(EV15,EX15) -> 0 | FE15: =SUM(FA15,FC15) -> 0
C16: 0558-R (Sticker Orange) | D16: 49058-5148 QT New | E16: Carry | F16: =+K16 -> 0 | K16: =SUM(G16,I16) -> 0 | P16: =SUM(L16,N16) -> 0 | U16: =SUM(Q16,S16) -> 0 | Z16: =SUM(V16,X16) -> 0 | AE16: =SUM(AA16,AC16) -> 0 | AJ16: =SUM(AF16,AH16) -> 0 | AO16: =SUM(AK16,AM16) -> 0 | AT16: =SUM(AP16,AR16) -> 0 | AY16: =SUM(AU16,AW16) -> 0 | BD16: =SUM(AZ16,BB16) -> 0 | BI16: =SUM(BE16,BG16) -> 0 | BN16: =SUM(BJ16,BL16) -> 0 | BS16: =SUM(BO16,BQ16) -> 0 | BX16: =SUM(BT16,BV16) -> 0 | CC16: =SUM(BY16,CA16) -> 0 | CH16: =SUM(CD16,CF16) -> 0 | CM16: =SUM(CI16,CK16) -> 0 | CR16: =SUM(CN16,CP16) -> 0 | CW16: =SUM(CS16,CU16) -> 0 | DB16: =SUM(CX16,CZ16) -> 0 | DG16: =SUM(DC16,DE16) -> 0 | DL16: =SUM(DH16,DJ16) -> 0 | DQ16: =SUM(DM16,DO16) -> 0 | DV16: =SUM(DR16,DT16) -> 0 | EA16: =SUM(DW16,DY16) -> 0 | EF16: =SUM(EB16,ED16) -> 0 | EK16: =SUM(EG16,EI16) -> 0 | EP16: =SUM(EL16,EN16) -> 0 | EU16: =SUM(EQ16,ES16) -> 0 | EZ16: =SUM(EV16,EX16) -> 0 | FE16: =SUM(FA16,FC16) -> 0
C17: 0558-R (Gold) | D17: 49058-0558 36C | E17: Carry | F17: =+K17 -> 0 | G17: 0 | K17: =SUM(G17,I17) -> 0 | P17: =SUM(L17,N17) -> 0 | U17: =SUM(Q17,S17) -> 0 | Z17: =SUM(V17,X17) -> 0 | AE17: =SUM(AA17,AC17) -> 0 | AJ17: =SUM(AF17,AH17) -> 0 | AO17: =SUM(AK17,AM17) -> 0 | AT17: =SUM(AP17,AR17) -> 0 | AY17: =SUM(AU17,AW17) -> 0 | BD17: =SUM(AZ17,BB17) -> 0 | BI17: =SUM(BE17,BG17) -> 0 | BN17: =SUM(BJ17,BL17) -> 0 | BS17: =SUM(BO17,BQ17) -> 0 | BX17: =SUM(BT17,BV17) -> 0 | CC17: =SUM(BY17,CA17) -> 0 | CH17: =SUM(CD17,CF17) -> 0 | CM17: =SUM(CI17,CK17) -> 0 | CR17: =SUM(CN17,CP17) -> 0 | CW17: =SUM(CS17,CU17) -> 0 | DB17: =SUM(CX17,CZ17) -> 0 | DG17: =SUM(DC17,DE17) -> 0 | DL17: =SUM(DH17,DJ17) -> 0 | DQ17: =SUM(DM17,DO17) -> 0 | DV17: =SUM(DR17,DT17) -> 0 | EA17: =SUM(DW17,DY17) -> 0 | EF17: =SUM(EB17,ED17) -> 0 | EK17: =SUM(EG17,EI17) -> 0 | EP17: =SUM(EL17,EN17) -> 0 | EU17: =SUM(EQ17,ES17) -> 0 | EZ17: =SUM(EV17,EX17) -> 0 | FE17: =SUM(FA17,FC17) -> 0
C18: 0558P-R (Red) | D18: 49058-0558 35W | E18: Carry | F18: =+K18 -> 0 | G18: 0 | K18: =SUM(G18,I18) -> 0 | P18: =SUM(L18,N18) -> 0 | U18: =SUM(Q18,S18) -> 0 | Z18: =SUM(V18,X18) -> 0 | AE18: =SUM(AA18,AC18) -> 0 | AJ18: =SUM(AF18,AH18) -> 0 | AO18: =SUM(AK18,AM18) -> 0 | AT18: =SUM(AP18,AR18) -> 0 | AY18: =SUM(AU18,AW18) -> 0 | BD18: =SUM(AZ18,BB18) -> 0 | BI18: =SUM(BE18,BG18) -> 0 | BN18: =SUM(BJ18,BL18) -> 0 | BS18: =SUM(BO18,BQ18) -> 0 | BX18: =SUM(BT18,BV18) -> 0 | CC18: =SUM(BY18,CA18) -> 0 | CH18: =SUM(CD18,CF18) -> 0 | CM18: =SUM(CI18,CK18) -> 0 | CR18: =SUM(CN18,CP18) -> 0 | CW18: =SUM(CS18,CU18) -> 0 | DB18: =SUM(CX18,CZ18) -> 0 | DG18: =SUM(DC18,DE18) -> 0 | DL18: =SUM(DH18,DJ18) -> 0 | DQ18: =SUM(DM18,DO18) -> 0 | DV18: =SUM(DR18,DT18) -> 0 | EA18: =SUM(DW18,DY18) -> 0 | EF18: =SUM(EB18,ED18) -> 0 | EK18: =SUM(EG18,EI18) -> 0 | EP18: =SUM(EL18,EN18) -> 0 | EU18: =SUM(EQ18,ES18) -> 0 | EZ18: =SUM(EV18,EX18) -> 0 | FE18: =SUM(FA18,FC18) -> 0
C19: 0558-R (Yellow) | D19: 49058-0558 35X | E19: Carry | F19: =+K19 -> 6 | G19: 6 | K19: =SUM(G19,I19) -> 6 | P19: =SUM(L19,N19) -> 0 | U19: =SUM(Q19,S19) -> 0 | Z19: =SUM(V19,X19) -> 0 | AE19: =SUM(AA19,AC19) -> 0 | AJ19: =SUM(AF19,AH19) -> 0 | AO19: =SUM(AK19,AM19) -> 0 | AT19: =SUM(AP19,AR19) -> 0 | AY19: =SUM(AU19,AW19) -> 0 | BD19: =SUM(AZ19,BB19) -> 0 | BI19: =SUM(BE19,BG19) -> 0 | BN19: =SUM(BJ19,BL19) -> 0 | BS19: =SUM(BO19,BQ19) -> 0 | BX19: =SUM(BT19,BV19) -> 0 | CC19: =SUM(BY19,CA19) -> 0 | CH19: =SUM(CD19,CF19) -> 0 | CM19: =SUM(CI19,CK19) -> 0 | CR19: =SUM(CN19,CP19) -> 0 | CW19: =SUM(CS19,CU19) -> 0 | DB19: =SUM(CX19,CZ19) -> 0 | DG19: =SUM(DC19,DE19) -> 0 | DL19: =SUM(DH19,DJ19) -> 0 | DQ19: =SUM(DM19,DO19) -> 0 | DV19: =SUM(DR19,DT19) -> 0 | EA19: =SUM(DW19,DY19) -> 0 | EF19: =SUM(EB19,ED19) -> 0 | EK19: =SUM(EG19,EI19) -> 0 | EP19: =SUM(EL19,EN19) -> 0 | EU19: =SUM(EQ19,ES19) -> 0 | EZ19: =SUM(EV19,EX19) -> 0 | FE19: =SUM(FA19,FC19) -> 0
A20: 0112 | B20: F | C20: 0112-F (Black) | D20: 49058-0112 QT | E20: Carry | F20: =+K20 -> 540 | G20: 540 | K20: =SUM(G20,I20) -> 540 | P20: =SUM(L20,N20) -> 0 | U20: =SUM(Q20,S20) -> 0 | Z20: =SUM(V20,X20) -> 0 | AE20: =SUM(AA20,AC20) -> 0 | AJ20: =SUM(AF20,AH20) -> 0 | AO20: =SUM(AK20,AM20) -> 0 | AT20: =SUM(AP20,AR20) -> 0 | AY20: =SUM(AU20,AW20) -> 0 | BD20: =SUM(AZ20,BB20) -> 0 | BI20: =SUM(BE20,BG20) -> 0 | BN20: =SUM(BJ20,BL20) -> 0 | BS20: =SUM(BO20,BQ20) -> 0 | BX20: =SUM(BT20,BV20) -> 0 | CC20: =SUM(BY20,CA20) -> 0 | CH20: =SUM(CD20,CF20) -> 0 | CM20: =SUM(CI20,CK20) -> 0 | CR20: =SUM(CN20,CP20) -> 0 | CW20: =SUM(CS20,CU20) -> 0 | DB20: =SUM(CX20,CZ20) -> 0 | DG20: =SUM(DC20,DE20) -> 0 | DL20: =SUM(DH20,DJ20) -> 0 | DQ20: =SUM(DM20,DO20) -> 0 | DV20: =SUM(DR20,DT20) -> 0 | EA20: =SUM(DW20,DY20) -> 0 | EF20: =SUM(EB20,ED20) -> 0 | EK20: =SUM(EG20,EI20) -> 0 | EP20: =SUM(EL20,EN20) -> 0 | EU20: =SUM(EQ20,ES20) -> 0 | EZ20: =SUM(EV20,EX20) -> 0 | FE20: =SUM(FA20,FC20) -> 0
C21: 0112-F (Gold) | D21: 49058-0112 36C | E21: Carry | F21: =+K21 -> 75 | G21: 75 | K21: =SUM(G21,I21) -> 75 | P21: =SUM(L21,N21) -> 0 | U21: =SUM(Q21,S21) -> 0 | Z21: =SUM(V21,X21) -> 0 | AE21: =SUM(AA21,AC21) -> 0 | AJ21: =SUM(AF21,AH21) -> 0 | AO21: =SUM(AK21,AM21) -> 0 | AT21: =SUM(AP21,AR21) -> 0 | AY21: =SUM(AU21,AW21) -> 0 | BD21: =SUM(AZ21,BB21) -> 0 | BI21: =SUM(BE21,BG21) -> 0 | BN21: =SUM(BJ21,BL21) -> 0 | BS21: =SUM(BO21,BQ21) -> 0 | BX21: =SUM(BT21,BV21) -> 0 | CC21: =SUM(BY21,CA21) -> 0 | CH21: =SUM(CD21,CF21) -> 0 | CM21: =SUM(CI21,CK21) -> 0 | CR21: =SUM(CN21,CP21) -> 0 | CW21: =SUM(CS21,CU21) -> 0 | DB21: =SUM(CX21,CZ21) -> 0 | DG21: =SUM(DC21,DE21) -> 0 | DL21: =SUM(DH21,DJ21) -> 0 | DQ21: =SUM(DM21,DO21) -> 0 | DV21: =SUM(DR21,DT21) -> 0 | EA21: =SUM(DW21,DY21) -> 0 | EF21: =SUM(EB21,ED21) -> 0 | EK21: =SUM(EG21,EI21) -> 0 | EP21: =SUM(EL21,EN21) -> 0 | EU21: =SUM(EQ21,ES21) -> 0 | EZ21: =SUM(EV21,EX21) -> 0 | FE21: =SUM(FA21,FC21) -> 0
A22: 0113 | B22: R | C22: 0571-R (Black) | D22: 49058-0571 QT | E22: Carry | F22: =+K22 -> 514 | G22: 514 | K22: =SUM(G22,I22) -> 514 | P22: =SUM(L22,N22) -> 0 | U22: =SUM(Q22,S22) -> 0 | Z22: =SUM(V22,X22) -> 0 | AE22: =SUM(AA22,AC22) -> 0 | AJ22: =SUM(AF22,AH22) -> 0 | AO22: =SUM(AK22,AM22) -> 0 | AT22: =SUM(AP22,AR22) -> 0 | AY22: =SUM(AU22,AW22) -> 0 | BD22: =SUM(AZ22,BB22) -> 0 | BI22: =SUM(BE22,BG22) -> 0 | BN22: =SUM(BJ22,BL22) -> 0 | BS22: =SUM(BO22,BQ22) -> 0 | BX22: =SUM(BT22,BV22) -> 0 | CC22: =SUM(BY22,CA22) -> 0 | CH22: =SUM(CD22,CF22) -> 0 | CM22: =SUM(CI22,CK22) -> 0 | CR22: =SUM(CN22,CP22) -> 0 | CW22: =SUM(CS22,CU22) -> 0 | DB22: =SUM(CX22,CZ22) -> 0 | DG22: =SUM(DC22,DE22) -> 0 | DL22: =SUM(DH22,DJ22) -> 0 | DQ22: =SUM(DM22,DO22) -> 0 | DV22: =SUM(DR22,DT22) -> 0 | EA22: =SUM(DW22,DY22) -> 0 | EF22: =SUM(EB22,ED22) -> 0 | EK22: =SUM(EG22,EI22) -> 0 | EP22: =SUM(EL22,EN22) -> 0 | EU22: =SUM(EQ22,ES22) -> 0 | EZ22: =SUM(EV22,EX22) -> 0 | FE22: =SUM(FA22,FC22) -> 0
C23: 0571-R (Gold) | D23: 49058-0571 36C | E23: Carry | F23: =+K23 -> 57 | G23: 57 | K23: =SUM(G23,I23) -> 57 | P23: =SUM(L23,N23) -> 0 | U23: =SUM(Q23,S23) -> 0 | Z23: =SUM(V23,X23) -> 0 | AE23: =SUM(AA23,AC23) -> 0 | AJ23: =SUM(AF23,AH23) -> 0 | AO23: =SUM(AK23,AM23) -> 0 | AT23: =SUM(AP23,AR23) -> 0 | AY23: =SUM(AU23,AW23) -> 0 | BD23: =SUM(AZ23,BB23) -> 0 | BI23: =SUM(BE23,BG23) -> 0 | BN23: =SUM(BJ23,BL23) -> 0 | BS23: =SUM(BO23,BQ23) -> 0 | BX23: =SUM(BT23,BV23) -> 0 | CC23: =SUM(BY23,CA23) -> 0 | CH23: =SUM(CD23,CF23) -> 0 | CM23: =SUM(CI23,CK23) -> 0 | CR23: =SUM(CN23,CP23) -> 0 | CW23: =SUM(CS23,CU23) -> 0 | DB23: =SUM(CX23,CZ23) -> 0 | DG23: =SUM(DC23,DE23) -> 0 | DL23: =SUM(DH23,DJ23) -> 0 | DQ23: =SUM(DM23,DO23) -> 0 | DV23: =SUM(DR23,DT23) -> 0 | EA23: =SUM(DW23,DY23) -> 0 | EF23: =SUM(EB23,ED23) -> 0 | EK23: =SUM(EG23,EI23) -> 0 | EP23: =SUM(EL23,EN23) -> 0 | EU23: =SUM(EQ23,ES23) -> 0 | EZ23: =SUM(EV23,EX23) -> 0 | FE23: =SUM(FA23,FC23) -> 0
A24: 0587 | B24: R | C24: 0587-R (Black) | D24: 49058-0587 QT | E24: Carry | F24: =+K24 -> 273 | G24: 273 | K24: =SUM(G24,I24) -> 273 | P24: =SUM(L24,N24) -> 0 | U24: =SUM(Q24,S24) -> 0 | Z24: =SUM(V24,X24) -> 0 | AE24: =SUM(AA24,AC24) -> 0 | AJ24: =SUM(AF24,AH24) -> 0 | AO24: =SUM(AK24,AM24) -> 0 | AT24: =SUM(AP24,AR24) -> 0 | AY24: =SUM(AU24,AW24) -> 0 | BD24: =SUM(AZ24,BB24) -> 0 | BI24: =SUM(BE24,BG24) -> 0 | BN24: =SUM(BJ24,BL24) -> 0 | BS24: =SUM(BO24,BQ24) -> 0 | BX24: =SUM(BT24,BV24) -> 0 | CC24: =SUM(BY24,CA24) -> 0 | CH24: =SUM(CD24,CF24) -> 0 | CM24: =SUM(CI24,CK24) -> 0 | CR24: =SUM(CN24,CP24) -> 0 | CW24: =SUM(CS24,CU24) -> 0 | DB24: =SUM(CX24,CZ24) -> 0 | DG24: =SUM(DC24,DE24) -> 0 | DL24: =SUM(DH24,DJ24) -> 0 | DQ24: =SUM(DM24,DO24) -> 0 | DV24: =SUM(DR24,DT24) -> 0 | EA24: =SUM(DW24,DY24) -> 0 | EF24: =SUM(EB24,ED24) -> 0 | EK24: =SUM(EG24,EI24) -> 0 | EP24: =SUM(EL24,EN24) -> 0 | EU24: =SUM(EQ24,ES24) -> 0 | EZ24: =SUM(EV24,EX24) -> 0 | FE24: =SUM(FA24,FC24) -> 0
C25: 0587-R (Black) | D25: 49058-0587 QT | E25: Pack BOX | F25: =+K25 -> 500 | G25: 500 | K25: =SUM(G25,I25) -> 500 | P25: =SUM(L25,N25) -> 0 | U25: =SUM(Q25,S25) -> 0 | Z25: =SUM(V25,X25) -> 0 | AE25: =SUM(AA25,AC25) -> 0 | AJ25: =SUM(AF25,AH25) -> 0 | AO25: =SUM(AK25,AM25) -> 0 | AT25: =SUM(AP25,AR25) -> 0 | AY25: =SUM(AU25,AW25) -> 0 | BD25: =SUM(AZ25,BB25) -> 0 | BI25: =SUM(BE25,BG25) -> 0 | BN25: =SUM(BJ25,BL25) -> 0 | BS25: =SUM(BO25,BQ25) -> 0 | BX25: =SUM(BT25,BV25) -> 0 | CC25: =SUM(BY25,CA25) -> 0 | CH25: =SUM(CD25,CF25) -> 0 | CM25: =SUM(CI25,CK25) -> 0 | CR25: =SUM(CN25,CP25) -> 0 | CW25: =SUM(CS25,CU25) -> 0 | DB25: =SUM(CX25,CZ25) -> 0 | DG25: =SUM(DC25,DE25) -> 0 | DL25: =SUM(DH25,DJ25) -> 0 | DQ25: =SUM(DM25,DO25) -> 0 | DV25: =SUM(DR25,DT25) -> 0 | EA25: =SUM(DW25,DY25) -> 0 | EF25: =SUM(EB25,ED25) -> 0 | EK25: =SUM(EG25,EI25) -> 0 | EP25: =SUM(EL25,EN25) -> 0 | EU25: =SUM(EQ25,ES25) -> 0 | EZ25: =SUM(EV25,EX25) -> 0 | FE25: =SUM(FA25,FC25) -> 0
C26: 0587-R (Sticker Green) | D26: 49058-5039 QT | E26: Carry | F26: =+K26 -> 20 | G26: 20 | K26: =SUM(G26,I26) -> 20 | P26: =SUM(L26,N26) -> 0 | U26: =SUM(Q26,S26) -> 0 | Z26: =SUM(V26,X26) -> 0 | AE26: =SUM(AA26,AC26) -> 0 | AJ26: =SUM(AF26,AH26) -> 0 | AO26: =SUM(AK26,AM26) -> 0 | AT26: =SUM(AP26,AR26) -> 0 | AY26: =SUM(AU26,AW26) -> 0 | BD26: =SUM(AZ26,BB26) -> 0 | BI26: =SUM(BE26,BG26) -> 0 | BN26: =SUM(BJ26,BL26) -> 0 | BS26: =SUM(BO26,BQ26) -> 0 | BX26: =SUM(BT26,BV26) -> 0 | CC26: =SUM(BY26,CA26) -> 0 | CH26: =SUM(CD26,CF26) -> 0 | CM26: =SUM(CI26,CK26) -> 0 | CR26: =SUM(CN26,CP26) -> 0 | CW26: =SUM(CS26,CU26) -> 0 | DB26: =SUM(CX26,CZ26) -> 0 | DG26: =SUM(DC26,DE26) -> 0 | DL26: =SUM(DH26,DJ26) -> 0 | DQ26: =SUM(DM26,DO26) -> 0 | DV26: =SUM(DR26,DT26) -> 0 | EA26: =SUM(DW26,DY26) -> 0 | EF26: =SUM(EB26,ED26) -> 0 | EK26: =SUM(EG26,EI26) -> 0 | EP26: =SUM(EL26,EN26) -> 0 | EU26: =SUM(EQ26,ES26) -> 0 | EZ26: =SUM(EV26,EX26) -> 0 | FE26: =SUM(FA26,FC26) -> 0
C27: 0587-R (Sticker Green) | D27: 49058-5039 QT | E27: Pack BOX | F27: =+K27 -> 30 | G27: 30 | K27: =SUM(G27,I27) -> 30 | P27: =SUM(L27,N27) -> 0 | U27: =SUM(Q27,S27) -> 0 | Z27: =SUM(V27,X27) -> 0 | AE27: =SUM(AA27,AC27) -> 0 | AJ27: =SUM(AF27,AH27) -> 0 | AO27: =SUM(AK27,AM27) -> 0 | AT27: =SUM(AP27,AR27) -> 0 | AY27: =SUM(AU27,AW27) -> 0 | BD27: =SUM(AZ27,BB27) -> 0 | BI27: =SUM(BE27,BG27) -> 0 | BN27: =SUM(BJ27,BL27) -> 0 | BS27: =SUM(BO27,BQ27) -> 0 | BX27: =SUM(BT27,BV27) -> 0 | CC27: =SUM(BY27,CA27) -> 0 | CH27: =SUM(CD27,CF27) -> 0 | CM27: =SUM(CI27,CK27) -> 0 | CR27: =SUM(CN27,CP27) -> 0 | CW27: =SUM(CS27,CU27) -> 0 | DB27: =SUM(CX27,CZ27) -> 0 | DG27: =SUM(DC27,DE27) -> 0 | DL27: =SUM(DH27,DJ27) -> 0 | DQ27: =SUM(DM27,DO27) -> 0 | DV27: =SUM(DR27,DT27) -> 0 | EA27: =SUM(DW27,DY27) -> 0 | EF27: =SUM(EB27,ED27) -> 0 | EK27: =SUM(EG27,EI27) -> 0 | EP27: =SUM(EL27,EN27) -> 0 | EU27: =SUM(EQ27,ES27) -> 0 | EZ27: =SUM(EV27,EX27) -> 0 | FE27: =SUM(FA27,FC27) -> 0
C28: 0587-R (Sticker-Red) | D28: 49058-5041 QT | E28: Carry | F28: =+K28 -> 40 | G28: 40 | K28: =SUM(G28,I28) -> 40 | P28: =SUM(L28,N28) -> 0 | U28: =SUM(Q28,S28) -> 0 | Z28: =SUM(V28,X28) -> 0 | AE28: =SUM(AA28,AC28) -> 0 | AJ28: =SUM(AF28,AH28) -> 0 | AO28: =SUM(AK28,AM28) -> 0 | AT28: =SUM(AP28,AR28) -> 0 | AY28: =SUM(AU28,AW28) -> 0 | BD28: =SUM(AZ28,BB28) -> 0 | BI28: =SUM(BE28,BG28) -> 0 | BN28: =SUM(BJ28,BL28) -> 0 | BS28: =SUM(BO28,BQ28) -> 0 | BX28: =SUM(BT28,BV28) -> 0 | CC28: =SUM(BY28,CA28) -> 0 | CH28: =SUM(CD28,CF28) -> 0 | CM28: =SUM(CI28,CK28) -> 0 | CR28: =SUM(CN28,CP28) -> 0 | CW28: =SUM(CS28,CU28) -> 0 | DB28: =SUM(CX28,CZ28) -> 0 | DG28: =SUM(DC28,DE28) -> 0 | DL28: =SUM(DH28,DJ28) -> 0 | DQ28: =SUM(DM28,DO28) -> 0 | DV28: =SUM(DR28,DT28) -> 0 | EA28: =SUM(DW28,DY28) -> 0 | EF28: =SUM(EB28,ED28) -> 0 | EK28: =SUM(EG28,EI28) -> 0 | EP28: =SUM(EL28,EN28) -> 0 | EU28: =SUM(EQ28,ES28) -> 0 | EZ28: =SUM(EV28,EX28) -> 0 | FE28: =SUM(FA28,FC28) -> 0
C29: 0587-R (Sticker-Red) | D29: 49058-5041 QT | E29: Pack BOX | F29: =+K29 -> 20 | G29: 20 | K29: =SUM(G29,I29) -> 20 | P29: =SUM(L29,N29) -> 0 | U29: =SUM(Q29,S29) -> 0 | Z29: =SUM(V29,X29) -> 0 | AE29: =SUM(AA29,AC29) -> 0 | AJ29: =SUM(AF29,AH29) -> 0 | AO29: =SUM(AK29,AM29) -> 0 | AT29: =SUM(AP29,AR29) -> 0 | AY29: =SUM(AU29,AW29) -> 0 | BD29: =SUM(AZ29,BB29) -> 0 | BI29: =SUM(BE29,BG29) -> 0 | BN29: =SUM(BJ29,BL29) -> 0 | BS29: =SUM(BO29,BQ29) -> 0 | BX29: =SUM(BT29,BV29) -> 0 | CC29: =SUM(BY29,CA29) -> 0 | CH29: =SUM(CD29,CF29) -> 0 | CM29: =SUM(CI29,CK29) -> 0 | CR29: =SUM(CN29,CP29) -> 0 | CW29: =SUM(CS29,CU29) -> 0 | DB29: =SUM(CX29,CZ29) -> 0 | DG29: =SUM(DC29,DE29) -> 0 | DL29: =SUM(DH29,DJ29) -> 0 | DQ29: =SUM(DM29,DO29) -> 0 | DV29: =SUM(DR29,DT29) -> 0 | EA29: =SUM(DW29,DY29) -> 0 | EF29: =SUM(EB29,ED29) -> 0 | EK29: =SUM(EG29,EI29) -> 0 | EP29: =SUM(EL29,EN29) -> 0 | EU29: =SUM(EQ29,ES29) -> 0 | EZ29: =SUM(EV29,EX29) -> 0 | FE29: =SUM(FA29,FC29) -> 0
C30: 0587-R (Sticker Orange) | D30: 49058-5060 QT | E30: Carry | F30: =+K30 -> 30 | G30: 30 | K30: =SUM(G30,I30) -> 30 | P30: =SUM(L30,N30) -> 0 | U30: =SUM(Q30,S30) -> 0 | Z30: =SUM(V30,X30) -> 0 | AE30: =SUM(AA30,AC30) -> 0 | AJ30: =SUM(AF30,AH30) -> 0 | AO30: =SUM(AK30,AM30) -> 0 | AT30: =SUM(AP30,AR30) -> 0 | AY30: =SUM(AU30,AW30) -> 0 | BD30: =SUM(AZ30,BB30) -> 0 | BI30: =SUM(BE30,BG30) -> 0 | BN30: =SUM(BJ30,BL30) -> 0 | BS30: =SUM(BO30,BQ30) -> 0 | BX30: =SUM(BT30,BV30) -> 0 | CC30: =SUM(BY30,CA30) -> 0 | CH30: =SUM(CD30,CF30) -> 0 | CM30: =SUM(CI30,CK30) -> 0 | CR30: =SUM(CN30,CP30) -> 0 | CW30: =SUM(CS30,CU30) -> 0 | DB30: =SUM(CX30,CZ30) -> 0 | DG30: =SUM(DC30,DE30) -> 0 | DL30: =SUM(DH30,DJ30) -> 0 | DQ30: =SUM(DM30,DO30) -> 0 | DV30: =SUM(DR30,DT30) -> 0 | EA30: =SUM(DW30,DY30) -> 0 | EF30: =SUM(EB30,ED30) -> 0 | EK30: =SUM(EG30,EI30) -> 0 | EP30: =SUM(EL30,EN30) -> 0 | EU30: =SUM(EQ30,ES30) -> 0 | EZ30: =SUM(EV30,EX30) -> 0 | FE30: =SUM(FA30,FC30) -> 0
C31: 0587-R (Sticker Orange) | D31: 49058-5060 QT | E31: Pack BOX | F31: =+K31 -> 30 | G31: 30 | K31: =SUM(G31,I31) -> 30 | P31: =SUM(L31,N31) -> 0 | U31: =SUM(Q31,S31) -> 0 | Z31: =SUM(V31,X31) -> 0 | AE31: =SUM(AA31,AC31) -> 0 | AJ31: =SUM(AF31,AH31) -> 0 | AO31: =SUM(AK31,AM31) -> 0 | AT31: =SUM(AP31,AR31) -> 0 | AY31: =SUM(AU31,AW31) -> 0 | BD31: =SUM(AZ31,BB31) -> 0 | BI31: =SUM(BE31,BG31) -> 0 | BN31: =SUM(BJ31,BL31) -> 0 | BS31: =SUM(BO31,BQ31) -> 0 | BX31: =SUM(BT31,BV31) -> 0 | CC31: =SUM(BY31,CA31) -> 0 | CH31: =SUM(CD31,CF31) -> 0 | CM31: =SUM(CI31,CK31) -> 0 | CR31: =SUM(CN31,CP31) -> 0 | CW31: =SUM(CS31,CU31) -> 0 | DB31: =SUM(CX31,CZ31) -> 0 | DG31: =SUM(DC31,DE31) -> 0 | DL31: =SUM(DH31,DJ31) -> 0 | DQ31: =SUM(DM31,DO31) -> 0 | DV31: =SUM(DR31,DT31) -> 0 | EA31: =SUM(DW31,DY31) -> 0 | EF31: =SUM(EB31,ED31) -> 0 | EK31: =SUM(EG31,EI31) -> 0 | EP31: =SUM(EL31,EN31) -> 0 | EU31: =SUM(EQ31,ES31) -> 0 | EZ31: =SUM(EV31,EX31) -> 0 | FE31: =SUM(FA31,FC31) -> 0
C32: 0587-R (Sticker Green) | D32: 49058-5128 QT | E32: Carry | F32: =+K32 -> 30 | G32: 30 | K32: =SUM(G32,I32) -> 30 | P32: =SUM(L32,N32) -> 0 | U32: =SUM(Q32,S32) -> 0 | Z32: =SUM(V32,X32) -> 0 | AE32: =SUM(AA32,AC32) -> 0 | AJ32: =SUM(AF32,AH32) -> 0 | AO32: =SUM(AK32,AM32) -> 0 | AT32: =SUM(AP32,AR32) -> 0 | AY32: =SUM(AU32,AW32) -> 0 | BD32: =SUM(AZ32,BB32) -> 0 | BI32: =SUM(BE32,BG32) -> 0 | BN32: =SUM(BJ32,BL32) -> 0 | BS32: =SUM(BO32,BQ32) -> 0 | BX32: =SUM(BT32,BV32) -> 0 | CC32: =SUM(BY32,CA32) -> 0 | CH32: =SUM(CD32,CF32) -> 0 | CM32: =SUM(CI32,CK32) -> 0 | CR32: =SUM(CN32,CP32) -> 0 | CW32: =SUM(CS32,CU32) -> 0 | DB32: =SUM(CX32,CZ32) -> 0 | DG32: =SUM(DC32,DE32) -> 0 | DL32: =SUM(DH32,DJ32) -> 0 | DQ32: =SUM(DM32,DO32) -> 0 | DV32: =SUM(DR32,DT32) -> 0 | EA32: =SUM(DW32,DY32) -> 0 | EF32: =SUM(EB32,ED32) -> 0 | EK32: =SUM(EG32,EI32) -> 0 | EP32: =SUM(EL32,EN32) -> 0 | EU32: =SUM(EQ32,ES32) -> 0 | EZ32: =SUM(EV32,EX32) -> 0 | FE32: =SUM(FA32,FC32) -> 0
C33: 0587-R (Sticker-Red) | D33: 49058-5130 QT | E33: Carry | F33: =+K33 -> 0 | G33: 0 | K33: =SUM(G33,I33) -> 0 | P33: =SUM(L33,N33) -> 0 | U33: =SUM(Q33,S33) -> 0 | Z33: =SUM(V33,X33) -> 0 | AE33: =SUM(AA33,AC33) -> 0 | AJ33: =SUM(AF33,AH33) -> 0 | AO33: =SUM(AK33,AM33) -> 0 | AT33: =SUM(AP33,AR33) -> 0 | AY33: =SUM(AU33,AW33) -> 0 | BD33: =SUM(AZ33,BB33) -> 0 | BI33: =SUM(BE33,BG33) -> 0 | BN33: =SUM(BJ33,BL33) -> 0 | BS33: =SUM(BO33,BQ33) -> 0 | BX33: =SUM(BT33,BV33) -> 0 | CC33: =SUM(BY33,CA33) -> 0 | CH33: =SUM(CD33,CF33) -> 0 | CM33: =SUM(CI33,CK33) -> 0 | CR33: =SUM(CN33,CP33) -> 0 | CW33: =SUM(CS33,CU33) -> 0 | DB33: =SUM(CX33,CZ33) -> 0 | DG33: =SUM(DC33,DE33) -> 0 | DL33: =SUM(DH33,DJ33) -> 0 | DQ33: =SUM(DM33,DO33) -> 0 | DV33: =SUM(DR33,DT33) -> 0 | EA33: =SUM(DW33,DY33) -> 0 | EF33: =SUM(EB33,ED33) -> 0 | EK33: =SUM(EG33,EI33) -> 0 | EP33: =SUM(EL33,EN33) -> 0 | EU33: =SUM(EQ33,ES33) -> 0 | EZ33: =SUM(EV33,EX33) -> 0 | FE33: =SUM(FA33,FC33) -> 0
C34: 0587-R (Sticker Blue) | D34: 49058-5132 QT | E34: Carry | F34: =+K34 -> 0 | G34: 0 | K34: =SUM(G34,I34) -> 0 | P34: =SUM(L34,N34) -> 0 | U34: =SUM(Q34,S34) -> 0 | Z34: =SUM(V34,X34) -> 0 | AE34: =SUM(AA34,AC34) -> 0 | AJ34: =SUM(AF34,AH34) -> 0 | AO34: =SUM(AK34,AM34) -> 0 | AT34: =SUM(AP34,AR34) -> 0 | AY34: =SUM(AU34,AW34) -> 0 | BD34: =SUM(AZ34,BB34) -> 0 | BI34: =SUM(BE34,BG34) -> 0 | BN34: =SUM(BJ34,BL34) -> 0 | BS34: =SUM(BO34,BQ34) -> 0 | BX34: =SUM(BT34,BV34) -> 0 | CC34: =SUM(BY34,CA34) -> 0 | CH34: =SUM(CD34,CF34) -> 0 | CM34: =SUM(CI34,CK34) -> 0 | CR34: =SUM(CN34,CP34) -> 0 | CW34: =SUM(CS34,CU34) -> 0 | DB34: =SUM(CX34,CZ34) -> 0 | DG34: =SUM(DC34,DE34) -> 0 | DL34: =SUM(DH34,DJ34) -> 0 | DQ34: =SUM(DM34,DO34) -> 0 | DV34: =SUM(DR34,DT34) -> 0 | EA34: =SUM(DW34,DY34) -> 0 | EF34: =SUM(EB34,ED34) -> 0 | EK34: =SUM(EG34,EI34) -> 0 | EP34: =SUM(EL34,EN34) -> 0 | EU34: =SUM(EQ34,ES34) -> 0 | EZ34: =SUM(EV34,EX34) -> 0 | FE34: =SUM(FA34,FC34) -> 0
A35: 0593 | B35: F | C35: 0593-F (Black) | D35: 49058-0593 R2 | E35: Carry | F35: =+K35 -> 17 | G35: 17 | K35: =SUM(G35,I35) -> 17 | P35: =SUM(L35,N35) -> 0 | U35: =SUM(Q35,S35) -> 0 | Z35: =SUM(V35,X35) -> 0 | AE35: =SUM(AA35,AC35) -> 0 | AJ35: =SUM(AF35,AH35) -> 0 | AO35: =SUM(AK35,AM35) -> 0 | AT35: =SUM(AP35,AR35) -> 0 | AY35: =SUM(AU35,AW35) -> 0 | BD35: =SUM(AZ35,BB35) -> 0 | BI35: =SUM(BE35,BG35) -> 0 | BN35: =SUM(BJ35,BL35) -> 0 | BS35: =SUM(BO35,BQ35) -> 0 | BX35: =SUM(BT35,BV35) -> 0 | CC35: =SUM(BY35,CA35) -> 0 | CH35: =SUM(CD35,CF35) -> 0 | CM35: =SUM(CI35,CK35) -> 0 | CR35: =SUM(CN35,CP35) -> 0 | CW35: =SUM(CS35,CU35) -> 0 | DB35: =SUM(CX35,CZ35) -> 0 | DG35: =SUM(DC35,DE35) -> 0 | DL35: =SUM(DH35,DJ35) -> 0 | DQ35: =SUM(DM35,DO35) -> 0 | DV35: =SUM(DR35,DT35) -> 0 | EA35: =SUM(DW35,DY35) -> 0 | EF35: =SUM(EB35,ED35) -> 0 | EK35: =SUM(EG35,EI35) -> 0 | EP35: =SUM(EL35,EN35) -> 0 | EU35: =SUM(EQ35,ES35) -> 0 | EZ35: =SUM(EV35,EX35) -> 0 | FE35: =SUM(FA35,FC35) -> 0
A36: 0594 | B36: R | C36: 0594-R (Black) | D36: 49058-0594 QT | E36: Carry | F36: =+K36 -> 159 | G36: 159 | K36: =SUM(G36,I36) -> 159 | P36: =SUM(L36,N36) -> 0 | U36: =SUM(Q36,S36) -> 0 | Z36: =SUM(V36,X36) -> 0 | AE36: =SUM(AA36,AC36) -> 0 | AJ36: =SUM(AF36,AH36) -> 0 | AO36: =SUM(AK36,AM36) -> 0 | AT36: =SUM(AP36,AR36) -> 0 | AY36: =SUM(AU36,AW36) -> 0 | BD36: =SUM(AZ36,BB36) -> 0 | BI36: =SUM(BE36,BG36) -> 0 | BN36: =SUM(BJ36,BL36) -> 0 | BS36: =SUM(BO36,BQ36) -> 0 | BX36: =SUM(BT36,BV36) -> 0 | CC36: =SUM(BY36,CA36) -> 0 | CH36: =SUM(CD36,CF36) -> 0 | CM36: =SUM(CI36,CK36) -> 0 | CR36: =SUM(CN36,CP36) -> 0 | CW36: =SUM(CS36,CU36) -> 0 | DB36: =SUM(CX36,CZ36) -> 0 | DG36: =SUM(DC36,DE36) -> 0 | DL36: =SUM(DH36,DJ36) -> 0 | DQ36: =SUM(DM36,DO36) -> 0 | DV36: =SUM(DR36,DT36) -> 0 | EA36: =SUM(DW36,DY36) -> 0 | EF36: =SUM(EB36,ED36) -> 0 | EK36: =SUM(EG36,EI36) -> 0 | EP36: =SUM(EL36,EN36) -> 0 | EU36: =SUM(EQ36,ES36) -> 0 | EZ36: =SUM(EV36,EX36) -> 0 | FE36: =SUM(FA36,FC36) -> 0
F37: =SUM(F4:F36) -> 3408 | G37: =SUM(G4:G36) -> 3328 | H37: =SUM(H4:H36) -> 0 | I37: =SUM(I4:I36) -> 80 | J37: =SUM(J4:J36) -> 0 | K37: =SUM(K4:K36) -> 3408 | L37: =SUM(L4:L36) -> 0 | M37: =SUM(M4:M36) -> 0 | ... FE37: =SUM(FE4:FE36) -> 0

Sheet Balance
A3: Model | B3: Type | C3: Model | D3: Part No. | E3: Pack Spec. | F3: FG | G3: 42186 | H3: 42187 | I3: 42188 | J3: 42189 | K3: 42190 | L3: 42191 | M3: 42192 | N3: 42193 | O3: 42194 | P3: 42195 | Q3: 42196 | R3: 42197 | S3: 42198 | T3: 42199 | U3: 42200 | V3: 42201 | W3: 42202 | X3: 42203 | Y3: 42204 | Z3: 42205 | AA3: 42206 | AB3: 42207 | AC3: 42208 | AD3: 42209 | AE3: 42210 | AF3: 42211 | AG3: 42212 | AH3: 42213 | AI3: 42214 | AJ3: 42215 | AK3: 42216
A4: 0090 | B4: R | C4: 0090-R (Black) | D4: 49058-0090 QT | E4: Pack BOX | F4: =+FG!F4 -> 0 | G4: =+FG!K4-Sale!G4 -> 0 | H4: =G4+FG!$P4-Sale!H4 -> 0 | I4: =H4+FG!$U4-Sale!I4 -> 0 | J4: =I4+FG!$Z4-Sale!J4 -> 0 | K4: =J4+FG!$AE4-Sale!K4 -> 0 | L4: =K4+FG!$AJ4-Sale!L4 -> 0 | M4: =L4+FG!$AO4-Sale!M4 -> 0 | N4: =M4+FG!$AT4-Sale!N4 -> 0 | O4: =N4+FG!$AY4-Sale!O4 -> 0 | P4: =O4+FG!$BD4-Sale!P4 -> 0 | Q4: =P4+FG!$BI4-Sale!Q4 -> 0 | R4: =Q4+FG!$BN4-Sale!R4 -> 0 | S4: =R4+FG!$BS4-Sale!S4 -> 0 | T4: =S4+FG!$BX4-Sale!T4 -> 0 | U4: =T4+FG!$CC4-Sale!U4 -> 0 | V4: =U4+FG!$CH4-Sale!V4 -> 0 | W4: =V4+FG!$CM4-Sale!W4 -> 0 | X4: =W4+FG!$CR4-Sale!X4 -> 0 | Y4: =X4+FG!$CW4-Sale!Y4 -> 0 | Z4: =Y4+FG!$CD4-Sale!Z4 -> 0 | AA4: =Z4+FG!$DG4-Sale!AA4 -> 0 | AB4: =AA4+FG!$DK4-Sale!AB4 -> 0 | AC4: =AB4+FG!$DQ4-Sale!AC4 -> 0 | AD4: =AC4+FG!$DV4-Sale!AD4 -> 0 | AE4: =AD4+FG!$EA4-Sale!AE4 -> 0 | AF4: =AE4+FG!$EF4-Sale!AF4 -> 0 | AG4: =AF4+FG!$EK4-Sale!AG4 -> 0 | AH4: =AG4+FG!$EP4-Sale!AH4 -> 0 | AI4: =AH4+FG!$EU4-Sale!AI4 -> 0 | AJ4: =AI4+FG!$EZ4-Sale!AJ4 -> 0 | AK4: =AJ4+FG!$FE4-Sale!AK4 -> 0
C5: 0090-R (Black) | D5: 49058-0090 QT | E5: Carry | F5: =+FG!F5 -> 162 | G5: =+FG!K5-Sale!G5 -> 162 | H5: =G5+FG!$P5-Sale!H5 -> 162 | I5: =H5+FG!$U5-Sale!I5 -> 162 | J5: =I5+FG!$Z5-Sale!J5 -> 162 | K5: =J5+FG!$AE5-Sale!K5 -> 162 | L5: =K5+FG!$AJ5-Sale!L5 -> 162 | M5: =L5+FG!$AO5-Sale!M5 -> 162 | N5: =M5+FG!$AT5-Sale!N5 -> 162 | O5: =N5+FG!$AY5-Sale!O5 -> 162 | P5: =O5+FG!$BD5-Sale!P5 -> 162 | Q5: =P5+FG!$BI5-Sale!Q5 -> 162 | R5: =Q5+FG!$BN5-Sale!R5 -> 162 | S5: =R5+FG!$BS5-Sale!S5 -> 162 | T5: =S5+FG!$BX5-Sale!T5 -> 162 | U5: =T5+FG!$CC5-Sale!U5 -> 162 | V5: =U5+FG!$CH5-Sale!V5 -> 162 | W5: =V5+FG!$CM5-Sale!W5 -> 162 | X5: =W5+FG!$CR5-Sale!X5 -> 162 | Y5: =X5+FG!$CW5-Sale!Y5 -> 162 | Z5: =Y5+FG!$CD5-Sale!Z5 -> 162 | AA5: =Z5+FG!$DG5-Sale!AA5 -> 162 | AB5: =AA5+FG!$DK5-Sale!AB5 -> 162 | AC5: =AB5+FG!$DQ5-Sale!AC5 -> 162 | AD5: =AC5+FG!$DV5-Sale!AD5 -> 162 | AE5: =AD5+FG!$EA5-Sale!AE5 -> 162 | AF5: =AE5+FG!$EF5-Sale!AF5 -> 162 | AG5: =AF5+FG!$EK5-Sale!AG5 -> 162 | AH5: =AG5+FG!$EP5-Sale!AH5 -> 162 | AI5: =AH5+FG!$EU5-Sale!AI5 -> 162 | AJ5: =AI5+FG!$EZ5-Sale!AJ5 -> 162 | AK5: =AJ5+FG!$FE5-Sale!AK5 -> 162
A6: 0558 | B6: R | C6: 0558-R (Black) | D6: 49058-0558 QT | E6: Carry | F6: =+FG!F6 -> 600 | G6: =+FG!K6-Sale!G6 -> 560 | H6: =G6+FG!$P6-Sale!H6 -> 480 | I6: =H6+FG!$U6-Sale!I6 -> 420 | J6: =I6+FG!$Z6-Sale!J6 -> 420 | K6: =J6+FG!$AE6-Sale!K6 -> 420 | L6: =K6+FG!$AJ6-Sale!L6 -> 360 | M6: =L6+FG!$AO6-Sale!M6 -> 300 | N6: =M6+FG!$AT6-Sale!N6 -> 260 | O6: =N6+FG!$AY6-Sale!O6 -> 220 | P6: =O6+FG!$BD6-Sale!P6 -> 180 | Q6: =P6+FG!$BI6-Sale!Q6 -> 180 | R6: =Q6+FG!$BN6-Sale!R6 -> 180 | S6: =R6+FG!$BS6-Sale!S6 -> 140 | T6: =S6+FG!$BX6-Sale!T6 -> 100 | U6: =T6+FG!$CC6-Sale!U6 -> 60 | V6: =U6+FG!$CH6-Sale!V6 -> 0 | W6: =V6+FG!$CM6-Sale!W6 -> -60 | X6: =W6+FG!$CR6-Sale!X6 -> -60 | Y6: =X6+FG!$CW6-Sale!Y6 -> -60 | Z6: =Y6+FG!$CD6-Sale!Z6 -> -100 | AA6: =Z6+FG!$DG6-Sale!AA6 -> -140 | AB6: =AA6+FG!$DK6-Sale!AB6 -> -200 | AC6: =AB6+FG!$DQ6-Sale!AC6 -> -280 | AD6: =AC6+FG!$DV6-Sale!AD6 -> -320 | AE6: =AD6+FG!$EA6-Sale!AE6 -> -320 | AF6: =AE6+FG!$EF6-Sale!AF6 -> -320 | AG6: =AF6+FG!$EK6-Sale!AG6 -> -380 | AH6: =AG6+FG!$EP6-Sale!AH6 -> -460 | AI6: =AH6+FG!$EU6-Sale!AI6 -> -460 | AJ6: =AI6+FG!$EZ6-Sale!AJ6 -> -460 | AK6: =AJ6+FG!$FE6-Sale!AK6 -> -460
C7: 0558-R (Black) | D7: 49058-0558 QT | E7: Pack BOX | F7: =+FG!F7 -> 20 | G7: =+FG!K7-Sale!G7 -> 20 | H7: =G7+FG!$P7-Sale!H7 -> 0 | I7: =H7+FG!$U7-Sale!I7 -> 0 | J7: =I7+FG!$Z7-Sale!J7 -> 0 | K7: =J7+FG!$AE7-Sale!K7 -> 0 | L7: =K7+FG!$AJ7-Sale!L7 -> 0 | M7: =L7+FG!$AO7-Sale!M7 -> -20 | N7: =M7+FG!$AT7-Sale!N7 -> -20 | O7: =N7+FG!$AY7-Sale!O7 -> -20 | P7: =O7+FG!$BD7-Sale!P7 -> -20 | Q7: =P7+FG!$BI7-Sale!Q7 -> -20 | R7: =Q7+FG!$BN7-Sale!R7 -> -20 | S7: =R7+FG!$BS7-Sale!S7 -> -20 | T7: =S7+FG!$BX7-Sale!T7 -> -20 | U7: =T7+FG!$CC7-Sale!U7 -> -20 | V7: =U7+FG!$CH7-Sale!V7 -> -20 | W7: =V7+FG!$CM7-Sale!W7 -> -20 | X7: =W7+FG!$CR7-Sale!X7 -> -20 | Y7: =X7+FG!$CW7-Sale!Y7 -> -20 | Z7: =Y7+FG!$CD7-Sale!Z7 -> -20 | AA7: =Z7+FG!$DG7-Sale!AA7 -> -20 | AB7: =AA7+FG!$DK7-Sale!AB7 -> -20 | AC7: =AB7+FG!$DQ7-Sale!AC7 -> -20 | AD7: =AC7+FG!$DV7-Sale!AD7 -> -20 | AE7: =AD7+FG!$EA7-Sale!AE7 -> -20 | AF7: =AE7+FG!$EF7-Sale!AF7 -> -20 | AG7: =AF7+FG!$EK7-Sale!AG7 -> -20 | AH7: =AG7+FG!$EP7-Sale!AH7 -> -20 | AI7: =AH7+FG!$EU7-Sale!AI7 -> -20 | AJ7: =AI7+FG!$EZ7-Sale!AJ7 -> -20 | AK7: =AJ7+FG!$FE7-Sale!AK7 -> -20
C8: 0558-R (Sticker Green) | D8: 49058-5079 QT | E8: Pack BOX | F8: =+FG!F8 -> 0 | G8: =+FG!K8-Sale!G8 -> 0 | H8: =G8+FG!$P8-Sale!H8 -> 0 | I8: =H8+FG!$U8-Sale!I8 -> 0 | J8: =I8+FG!$Z8-Sale!J8 -> 0 | K8: =J8+FG!$AE8-Sale!K8 -> 0 | L8: =K8+FG!$AJ8-Sale!L8 -> 0 | M8: =L8+FG!$AO8-Sale!M8 -> 0 | N8: =M8+FG!$AT8-Sale!N8 -> 0 | O8: =N8+FG!$AY8-Sale!O8 -> 0 | P8: =O8+FG!$BD8-Sale!P8 -> 0 | Q8: =P8+FG!$BI8-Sale!Q8 -> 0 | R8: =Q8+FG!$BN8-Sale!R8 -> 0 | S8: =R8+FG!$BS8-Sale!S8 -> 0 | T8: =S8+FG!$BX8-Sale!T8 -> 0 | U8: =T8+FG!$CC8-Sale!U8 -> 0 | V8: =U8+FG!$CH8-Sale!V8 -> 0 | W8: =V8+FG!$CM8-Sale!W8 -> 0 | X8: =W8+FG!$CR8-Sale!X8 -> 0 | Y8: =X8+FG!$CW8-Sale!Y8 -> 0 | Z8: =Y8+FG!$CD8-Sale!Z8 -> 0 | AA8: =Z8+FG!$DG8-Sale!AA8 -> 0 | AB8: =AA8+FG!$DK8-Sale!AB8 -> 0 | AC8: =AB8+FG!$DQ8-Sale!AC8 -> 0 | AD8: =AC8+FG!$DV8-Sale!AD8 -> 0 | AE8: =AD8+FG!$EA8-Sale!AE8 -> 0 | AF8: =AE8+FG!$EF8-Sale!AF8 -> 0 | AG8: =AF8+FG!$EK8-Sale!AG8 -> 0 | AH8: =AG8+FG!$EP8-Sale!AH8 -> 0 | AI8: =AH8+FG!$EU8-Sale!AI8 -> 0 | AJ8: =AI8+FG!$EZ8-Sale!AJ8 -> 0 | AK8: =AJ8+FG!$FE8-Sale!AK8 -> 0
C9: 0558-R (Sticker Green) | D9: 49058-5079 QT | E9: Carry | F9: =+FG!F9 -> 120 | G9: =+FG!K9-Sale!G9 -> 80 | H9: =G9+FG!$P9-Sale!H9 -> 60 | I9: =H9+FG!$U9-Sale!I9 -> 40 | J9: =I9+FG!$Z9-Sale!J9 -> 40 | K9: =J9+FG!$AE9-Sale!K9 -> 40 | L9: =K9+FG!$AJ9-Sale!L9 -> 20 | M9: =L9+FG!$AO9-Sale!M9 -> 0 | N9: =M9+FG!$AT9-Sale!N9 -> 0 | O9: =N9+FG!$AY9-Sale!O9 -> -20 | P9: =O9+FG!$BD9-Sale!P9 -> -20 | Q9: =P9+FG!$BI9-Sale!Q9 -> -20 | R9: =Q9+FG!$BN9-Sale!R9 -> -20 | S9: =R9+FG!$BS9-Sale!S9 -> -60 | T9: =S9+FG!$BX9-Sale!T9 -> -60 | U9: =T9+FG!$CC9-Sale!U9 -> -80 | V9: =U9+FG!$CH9-Sale!V9 -> -100 | W9: =V9+FG!$CM9-Sale!W9 -> -100 | X9: =W9+FG!$CR9-Sale!X9 -> -100 | Y9: =X9+FG!$CW9-Sale!Y9 -> -100 | Z9: =Y9+FG!$CD9-Sale!Z9 -> -120 | AA9: =Z9+FG!$DG9-Sale!AA9 -> -140 | AB9: =AA9+FG!$DK9-Sale!AB9 -> -160 | AC9: =AB9+FG!$DQ9-Sale!AC9 -> -160 | AD9: =AC9+FG!$DV9-Sale!AD9 -> -180 | AE9: =AD9+FG!$EA9-Sale!AE9 -> -180 | AF9: =AE9+FG!$EF9-Sale!AF9 -> -180 | AG9: =AF9+FG!$EK9-Sale!AG9 -> -180 | AH9: =AG9+FG!$EP9-Sale!AH9 -> -200 | AI9: =AH9+FG!$EU9-Sale!AI9 -> -200 | AJ9: =AI9+FG!$EZ9-Sale!AJ9 -> -200 | AK9: =AJ9+FG!$FE9-Sale!AK9 -> -200
C10: 0558-R (Sticker Red) | D10: 49058-5081 QT | E10: Pack BOX | F10: =+FG!F10 -> 0 | G10: =+FG!K10-Sale!G10 -> 0 | H10: =G10+FG!$P10-Sale!H10 -> 0 | I10: =H10+FG!$U10-Sale!I10 -> 0 | J10: =I10+FG!$Z10-Sale!J10 -> 0 | K10: =J10+FG!$AE10-Sale!K10 -> 0 | L10: =K10+FG!$AJ10-Sale!L10 -> 0 | M10: =L10+FG!$AO10-Sale!M10 -> 0 | N10: =M10+FG!$AT10-Sale!N10 -> 0 | O10: =N10+FG!$AY10-Sale!O10 -> 0 | P10: =O10+FG!$BD10-Sale!P10 -> 0 | Q10: =P10+FG!$BI10-Sale!Q10 -> 0 | R10: =Q10+FG!$BN10-Sale!R10 -> 0 | S10: =R10+FG!$BS10-Sale!S10 -> 0 | T10: =S10+FG!$BX10-Sale!T10 -> 0 | U10: =T10+FG!$CC10-Sale!U10 -> 0 | V10: =U10+FG!$CH10-Sale!V10 -> 0 | W10: =V10+FG!$CM10-Sale!W10 -> 0 | X10: =W10+FG!$CR10-Sale!X10 -> 0 | Y10: =X10+FG!$CW10-Sale!Y10 -> 0 | Z10: =Y10+FG!$CD10-Sale!Z10 -> 0 | AA10: =Z10+FG!$DG10-Sale!AA10 -> 0 | AB10: =AA10+FG!$DK10-Sale!AB10 -> 0 | AC10: =AB10+FG!$DQ10-Sale!AC10 -> 0 | AD10: =AC10+FG!$DV10-Sale!AD10 -> 0 | AE10: =AD10+FG!$EA10-Sale!AE10 -> 0 | AF10: =AE10+FG!$EF10-Sale!AF10 -> 0 | AG10: =AF10+FG!$EK10-Sale!AG10 -> 0 | AH10: =AG10+FG!$EP10-Sale!AH10 -> 0 | AI10: =AH10+FG!$EU10-Sale!AI10 -> 0 | AJ10: =AI10+FG!$EZ10-Sale!AJ10 -> 0 | AK10: =AJ10+FG!$FE10-Sale!AK10 -> 0
C11: 0558-R (Sticker Red) | D11: 49058-5081 QT | E11: Carry | F11: =+FG!F11 -> 5 | G11: =+FG!K11-Sale!G11 -> 5 | H11: =G11+FG!$P11-Sale!H11 -> 5 | I11: =H11+FG!$U11-Sale!I11 -> 5 | J11: =I11+FG!$Z11-Sale!J11 -> 5 | K11: =J11+FG!$AE11-Sale!K11 -> 5 | L11: =K11+FG!$AJ11-Sale!L11 -> 5 | M11: =L11+FG!$AO11-Sale!M11 -> 5 | N11: =M11+FG!$AT11-Sale!N11 -> 5 | O11: =N11+FG!$AY11-Sale!O11 -> 5 | P11: =O11+FG!$BD11-Sale!P11 -> 5 | Q11: =P11+FG!$BI11-Sale!Q11 -> 5 | R11: =Q11+FG!$BN11-Sale!R11 -> 5 | S11: =R11+FG!$BS11-Sale!S11 -> 5 | T11: =S11+FG!$BX11-Sale!T11 -> 5 | U11: =T11+FG!$CC11-Sale!U11 -> 5 | V11: =U11+FG!$CH11-Sale!V11 -> 5 | W11: =V11+FG!$CM11-Sale!W11 -> 5 | X11: =W11+FG!$CR11-Sale!X11 -> 5 | Y11: =X11+FG!$CW11-Sale!Y11 -> 5 | Z11: =Y11+FG!$CD11-Sale!Z11 -> 5 | AA11: =Z11+FG!$DG11-Sale!AA11 -> 5 | AB11: =AA11+FG!$DK11-Sale!AB11 -> 5 | AC11: =AB11+FG!$DQ11-Sale!AC11 -> 5 | AD11: =AC11+FG!$DV11-Sale!AD11 -> 5 | AE11: =AD11+FG!$EA11-Sale!AE11 -> 5 | AF11: =AE11+FG!$EF11-Sale!AF11 -> 5 | AG11: =AF11+FG!$EK11-Sale!AG11 -> 5 | AH11: =AG11+FG!$EP11-Sale!AH11 -> 5 | AI11: =AH11+FG!$EU11-Sale!AI11 -> 5 | AJ11: =AI11+FG!$EZ11-Sale!AJ11 -> 5 | AK11: =AJ11+FG!$FE11-Sale!AK11 -> 5
C12: 0558-R (Sticker Green) | D12: 49058-5121 QT | E12: Carry | F12: =+FG!F12 -> 80 | G12: =+FG!K12-Sale!G12 -> 60 | H12: =G12+FG!$P12-Sale!H12 -> 40 | I12: =H12+FG!$U12-Sale!I12 -> 20 | J12: =I12+FG!$Z12-Sale!J12 -> 20 | K12: =J12+FG!$AE12-Sale!K12 -> 20 | L12: =K12+FG!$AJ12-Sale!L12 -> 0 | M12: =L12+FG!$AO12-Sale!M12 -> 0 | N12: =M12+FG!$AT12-Sale!N12 -> -60 | O12: =N12+FG!$AY12-Sale!O12 -> -100 | P12: =O12+FG!$BD12-Sale!P12 -> -140 | Q12: =P12+FG!$BI12-Sale!Q12 -> -140 | R12: =Q12+FG!$BN12-Sale!R12 -> -140 | S12: =R12+FG!$BS12-Sale!S12 -> -180 | T12: =S12+FG!$BX12-Sale!T12 -> -200 | U12: =T12+FG!$CC12-Sale!U12 -> -220 | V12: =U12+FG!$CH12-Sale!V12 -> -240 | W12: =V12+FG!$CM12-Sale!W12 -> -260 | X12: =W12+FG!$CR12-Sale!X12 -> -260 | Y12: =X12+FG!$CW12-Sale!Y12 -> -260 | Z12: =Y12+FG!$CD12-Sale!Z12 -> -280 | AA12: =Z12+FG!$DG12-Sale!AA12 -> -320 | AB12: =AA12+FG!$DK12-Sale!AB12 -> -360 | AC12: =AB12+FG!$DQ12-Sale!AC12 -> -380 | AD12: =AC12+FG!$DV12-Sale!AD12 -> -400 | AE12: =AD12+FG!$EA12-Sale!AE12 -> -400 | AF12: =AE12+FG!$EF12-Sale!AF12 -> -400 | AG12: =AF12+FG!$EK12-Sale!AG12 -> -440 | AH12: =AG12+FG!$EP12-Sale!AH12 -> -460 | AI12: =AH12+FG!$EU12-Sale!AI12 -> -460 | AJ12: =AI12+FG!$EZ12-Sale!AJ12 -> -460 | AK12: =AJ12+FG!$FE12-Sale!AK12 -> -460
C13: 0558-R (Sticker Red) | D13: 49058-5125 QT | E13: Carry | F13: =+FG!F13 -> 20 | G13: =+FG!K13-Sale!G13 -> 20 | H13: =G13+FG!$P13-Sale!H13 -> 20 | I13: =H13+FG!$U13-Sale!I13 -> 20 | J13: =I13+FG!$Z13-Sale!J13 -> 20 | K13: =J13+FG!$AE13-Sale!K13 -> 20 | L13: =K13+FG!$AJ13-Sale!L13 -> 20 | M13: =L13+FG!$AO13-Sale!M13 -> 0 | N13: =M13+FG!$AT13-Sale!N13 -> 0 | O13: =N13+FG!$AY13-Sale!O13 -> 0 | P13: =O13+FG!$BD13-Sale!P13 -> 0 | Q13: =P13+FG!$BI13-Sale!Q13 -> 0 | R13: =Q13+FG!$BN13-Sale!R13 -> 0 | S13: =R13+FG!$BS13-Sale!S13 -> 0 | T13: =S13+FG!$BX13-Sale!T13 -> -20 | U13: =T13+FG!$CC13-Sale!U13 -> -40 | V13: =U13+FG!$CH13-Sale!V13 -> -40 | W13: =V13+FG!$CM13-Sale!W13 -> -40 | X13: =W13+FG!$CR13-Sale!X13 -> -40 | Y13: =X13+FG!$CW13-Sale!Y13 -> -40 | Z13: =Y13+FG!$CD13-Sale!Z13 -> -40 | AA13: =Z13+FG!$DG13-Sale!AA13 -> -60 | AB13: =AA13+FG!$DK13-Sale!AB13 -> -60 | AC13: =AB13+FG!$DQ13-Sale!AC13 -> -80 | AD13: =AC13+FG!$DV13-Sale!AD13 -> -80 | AE13: =AD13+FG!$EA13-Sale!AE13 -> -80 | AF13: =AE13+FG!$EF13-Sale!AF13 -> -80 | AG13: =AF13+FG!$EK13-Sale!AG13 -> -80 | AH13: =AG13+FG!$EP13-Sale!AH13 -> -80 | AI13: =AH13+FG!$EU13-Sale!AI13 -> -80 | AJ13: =AI13+FG!$EZ13-Sale!AJ13 -> -80 | AK13: =AJ13+FG!$FE13-Sale!AK13 -> -80
C14: 0558-R (Sticker Orange) | D14: 49058-5127 QT | E14: Carry | F14: =+FG!F14 -> 60 | G14: =+FG!K14-Sale!G14 -> 40 | H14: =G14+FG!$P14-Sale!H14 -> 20 | I14: =H14+FG!$U14-Sale!I14 -> 0 | J14: =I14+FG!$Z14-Sale!J14 -> 0 | K14: =J14+FG!$AE14-Sale!K14 -> 0 | L14: =K14+FG!$AJ14-Sale!L14 -> 0 | M14: =L14+FG!$AO14-Sale!M14 -> 0 | N14: =M14+FG!$AT14-Sale!N14 -> -40 | O14: =N14+FG!$AY14-Sale!O14 -> -40 | P14: =O14+FG!$BD14-Sale!P14 -> -40 | Q14: =P14+FG!$BI14-Sale!Q14 -> -40 | R14: =Q14+FG!$BN14-Sale!R14 -> -40 | S14: =R14+FG!$BS14-Sale!S14 -> -60 | T14: =S14+FG!$BX14-Sale!T14 -> -60 | U14: =T14+FG!$CC14-Sale!U14 -> -100 | V14: =U14+FG!$CH14-Sale!V14 -> -100 | W14: =V14+FG!$CM14-Sale!W14 -> -120 | X14: =W14+FG!$CR14-Sale!X14 -> -120 | Y14: =X14+FG!$CW14-Sale!Y14 -> -120 | Z14: =Y14+FG!$CD14-Sale!Z14 -> -160 | AA14: =Z14+FG!$DG14-Sale!AA14 -> -160 | AB14: =AA14+FG!$DK14-Sale!AB14 -> -160 | AC14: =AB14+FG!$DQ14-Sale!AC14 -> -180 | AD14: =AC14+FG!$DV14-Sale!AD14 -> -200 | AE14: =AD14+FG!$EA14-Sale!AE14 -> -200 | AF14: =AE14+FG!$EF14-Sale!AF14 -> -200 | AG14: =AF14+FG!$EK14-Sale!AG14 -> -220 | AH14: =AG14+FG!$EP14-Sale!AH14 -> -220 | AI14: =AH14+FG!$EU14-Sale!AI14 -> -220 | AJ14: =AI14+FG!$EZ14-Sale!AJ14 -> -220 | AK14: =AJ14+FG!$FE14-Sale!AK14 -> -220
C15: 0558-R (Sticker Red) | D15: 49058-5146 QT New | E15: Carry | F15: =+FG!F15 -> 0 | G15: =+FG!K15-Sale!G15 -> 0 | H15: =G15+FG!$P15-Sale!H15 -> 0 | I15: =H15+FG!$U15-Sale!I15 -> 0 | J15: =I15+FG!$Z15-Sale!J15 -> 0 | K15: =J15+FG!$AE15-Sale!K15 -> 0 | L15: =K15+FG!$AJ15-Sale!L15 -> 0 | M15: =L15+FG!$AO15-Sale!M15 -> 0 | N15: =M15+FG!$AT15-Sale!N15 -> 0 | O15: =N15+FG!$AY15-Sale!O15 -> 0 | P15: =O15+FG!$BD15-Sale!P15 -> 0 | Q15: =P15+FG!$BI15-Sale!Q15 -> 0 | R15: =Q15+FG!$BN15-Sale!R15 -> 0 | S15: =R15+FG!$BS15-Sale!S15 -> 0 | T15: =S15+FG!$BX15-Sale!T15 -> 0 | U15: =T15+FG!$CC15-Sale!U15 -> 0 | V15: =U15+FG!$CH15-Sale!V15 -> 0 | W15: =V15+FG!$CM15-Sale!W15 -> 0 | X15: =W15+FG!$CR15-Sale!X15 -> 0 | Y15: =X15+FG!$CW15-Sale!Y15 -> 0 | Z15: =Y15+FG!$CD15-Sale!Z15 -> 0 | AA15: =Z15+FG!$DG15-Sale!AA15 -> 0 | AB15: =AA15+FG!$DK15-Sale!AB15 -> 0 | AC15: =AB15+FG!$DQ15-Sale!AC15 -> 0 | AD15: =AC15+FG!$DV15-Sale!AD15 -> -1 | AE15: =AD15+FG!$EA15-Sale!AE15 -> -1 | AF15: =AE15+FG!$EF15-Sale!AF15 -> -1 | AG15: =AF15+FG!$EK15-Sale!AG15 -> -1 | AH15: =AG15+FG!$EP15-Sale!AH15 -> -1 | AI15: =AH15+FG!$EU15-Sale!AI15 -> -1 | AJ15: =AI15+FG!$EZ15-Sale!AJ15 -> -1 | AK15: =AJ15+FG!$FE15-Sale!AK15 -> -1
C16: 0558-R (Sticker Orange) | D16: 49058-5148 QT New | E16: Carry | F16: =+FG!F16 -> 0 | G16: =+FG!K16-Sale!G16 -> 0 | H16: =G16+FG!$P16-Sale!H16 -> 0 | I16: =H16+FG!$U16-Sale!I16 -> 0 | J16: =I16+FG!$Z16-Sale!J16 -> 0 | K16: =J16+FG!$AE16-Sale!K16 -> 0 | L16: =K16+FG!$AJ16-Sale!L16 -> 0 | M16: =L16+FG!$AO16-Sale!M16 -> 0 | N16: =M16+FG!$AT16-Sale!N16 -> 0 | O16: =N16+FG!$AY16-Sale!O16 -> 0 | P16: =O16+FG!$BD16-Sale!P16 -> 0 | Q16: =P16+FG!$BI16-Sale!Q16 -> 0 | R16: =Q16+FG!$BN16-Sale!R16 -> 0 | S16: =R16+FG!$BS16-Sale!S16 -> 0 | T16: =S16+FG!$BX16-Sale!T16 -> 0 | U16: =T16+FG!$CC16-Sale!U16 -> 0 | V16: =U16+FG!$CH16-Sale!V16 -> 0 | W16: =V16+FG!$CM16-Sale!W16 -> 0 | X16: =W16+FG!$CR16-Sale!X16 -> 0 | Y16: =X16+FG!$CW16-Sale!Y16 -> 0 | Z16: =Y16+FG!$CD16-Sale!Z16 -> 0 | AA16: =Z16+FG!$DG16-Sale!AA16 -> 0 | AB16: =AA16+FG!$DK16-Sale!AB16 -> 0 | AC16: =AB16+FG!$DQ16-Sale!AC16 -> 0 | AD16: =AC16+FG!$DV16-Sale!AD16 -> -1 | AE16: =AD16+FG!$EA16-Sale!AE16 -> -1 | AF16: =AE16+FG!$EF16-Sale!AF16 -> -1 | AG16: =AF16+FG!$EK16-Sale!AG16 -> -1 | AH16: =AG16+FG!$EP16-Sale!AH16 -> -1 | AI16: =AH16+FG!$EU16-Sale!AI16 -> -1 | AJ16: =AI16+FG!$EZ16-Sale!AJ16 -> -1 | AK16: =AJ16+FG!$FE16-Sale!AK16 -> -1
C17: 0558-R (Gold) | D17: 49058-0558 36C | E17: Carry | F17: =+FG!F17 -> 0 | G17: =+FG!K17-Sale!G17 -> 0 | H17: =G17+FG!$P17-Sale!H17 -> 0 | I17: =H17+FG!$U17-Sale!I17 -> 0 | J17: =I17+FG!$Z17-Sale!J17 -> 0 | K17: =J17+FG!$AE17-Sale!K17 -> 0 | L17: =K17+FG!$AJ17-Sale!L17 -> 0 | M17: =L17+FG!$AO17-Sale!M17 -> 0 | N17: =M17+FG!$AT17-Sale!N17 -> 0 | O17: =N17+FG!$AY17-Sale!O17 -> 0 | P17: =O17+FG!$BD17-Sale!P17 -> 0 | Q17: =P17+FG!$BI17-Sale!Q17 -> 0 | R17: =Q17+FG!$BN17-Sale!R17 -> 0 | S17: =R17+FG!$BS17-Sale!S17 -> 0 | T17: =S17+FG!$BX17-Sale!T17 -> 0 | U17: =T17+FG!$CC17-Sale!U17 -> 0 | V17: =U17+FG!$CH17-Sale!V17 -> 0 | W17: =V17+FG!$CM17-Sale!W17 -> 0 | X17: =W17+FG!$CR17-Sale!X17 -> 0 | Y17: =X17+FG!$CW17-Sale!Y17 -> 0 | Z17: =Y17+FG!$CD17-Sale!Z17 -> 0 | AA17: =Z17+FG!$DG17-Sale!AA17 -> 0 | AB17: =AA17+FG!$DK17-Sale!AB17 -> 0 | AC17: =AB17+FG!$DQ17-Sale!AC17 -> 0 | AD17: =AC17+FG!$DV17-Sale!AD17 -> 0 | AE17: =AD17+FG!$EA17-Sale!AE17 -> 0 | AF17: =AE17+FG!$EF17-Sale!AF17 -> 0 | AG17: =AF17+FG!$EK17-Sale!AG17 -> 0 | AH17: =AG17+FG!$EP17-Sale!AH17 -> 0 | AI17: =AH17+FG!$EU17-Sale!AI17 -> 0 | AJ17: =AI17+FG!$EZ17-Sale!AJ17 -> 0 | AK17: =AJ17+FG!$FE17-Sale!AK17 -> 0
C18: 0558P-R (Red) | D18: 49058-0558 35W | E18: Carry | F18: =+FG!F18 -> 0 | G18: =+FG!K18-Sale!G18 -> 0 | H18: =G18+FG!$P18-Sale!H18 -> 0 | I18: =H18+FG!$U18-Sale!I18 -> 0 | J18: =I18+FG!$Z18-Sale!J18 -> 0 | K18: =J18+FG!$AE18-Sale!K18 -> 0 | L18: =K18+FG!$AJ18-Sale!L18 -> 0 | M18: =L18+FG!$AO18-Sale!M18 -> 0 | N18: =M18+FG!$AT18-Sale!N18 -> 0 | O18: =N18+FG!$AY18-Sale!O18 -> 0 | P18: =O18+FG!$BD18-Sale!P18 -> 0 | Q18: =P18+FG!$BI18-Sale!Q18 -> 0 | R18: =Q18+FG!$BN18-Sale!R18 -> 0 | S18: =R18+FG!$BS18-Sale!S18 -> 0 | T18: =S18+FG!$BX18-Sale!T18 -> 0 | U18: =T18+FG!$CC18-Sale!U18 -> 0 | V18: =U18+FG!$CH18-Sale!V18 -> 0 | W18: =V18+FG!$CM18-Sale!W18 -> 0 | X18: =W18+FG!$CR18-Sale!X18 -> 0 | Y18: =X18+FG!$CW18-Sale!Y18 -> 0 | Z18: =Y18+FG!$CD18-Sale!Z18 -> 0 | AA18: =Z18+FG!$DG18-Sale!AA18 -> 0 | AB18: =AA18+FG!$DK18-Sale!AB18 -> 0 | AC18: =AB18+FG!$DQ18-Sale!AC18 -> 0 | AD18: =AC18+FG!$DV18-Sale!AD18 -> 0 | AE18: =AD18+FG!$EA18-Sale!AE18 -> 0 | AF18: =AE18+FG!$EF18-Sale!AF18 -> 0 | AG18: =AF18+FG!$EK18-Sale!AG18 -> 0 | AH18: =AG18+FG!$EP18-Sale!AH18 -> 0 | AI18: =AH18+FG!$EU18-Sale!AI18 -> 0 | AJ18: =AI18+FG!$EZ18-Sale!AJ18 -> 0 | AK18: =AJ18+FG!$FE18-Sale!AK18 -> 0
C19: 0558-R (Yellow) | D19: 49058-0558 35X | E19: Carry | F19: =+FG!F19 -> 6 | G19: =+FG!K19-Sale!G19 -> 6 | H19: =G19+FG!$P19-Sale!H19 -> 6 | I19: =H19+FG!$U19-Sale!I19 -> 6 | J19: =I19+FG!$Z19-Sale!J19 -> 6 | K19: =J19+FG!$AE19-Sale!K19 -> 6 | L19: =K19+FG!$AJ19-Sale!L19 -> 6 | M19: =L19+FG!$AO19-Sale!M19 -> 6 | N19: =M19+FG!$AT19-Sale!N19 -> 6 | O19: =N19+FG!$AY19-Sale!O19 -> 6 | P19: =O19+FG!$BD19-Sale!P19 -> 6 | Q19: =P19+FG!$BI19-Sale!Q19 -> 6 | R19: =Q19+FG!$BN19-Sale!R19 -> 6 | S19: =R19+FG!$BS19-Sale!S19 -> 6 | T19: =S19+FG!$BX19-Sale!T19 -> 6 | U19: =T19+FG!$CC19-Sale!U19 -> 6 | V19: =U19+FG!$CH19-Sale!V19 -> 6 | W19: =V19+FG!$CM19-Sale!W19 -> 6 | X19: =W19+FG!$CR19-Sale!X19 -> 6 | Y19: =X19+FG!$CW19-Sale!Y19 -> 6 | Z19: =Y19+FG!$CD19-Sale!Z19 -> 6 | AA19: =Z19+FG!$DG19-Sale!AA19 -> 6 | AB19: =AA19+FG!$DK19-Sale!AB19 -> 6 | AC19: =AB19+FG!$DQ19-Sale!AC19 -> 6 | AD19: =AC19+FG!$DV19-Sale!AD19 -> 6 | AE19: =AD19+FG!$EA19-Sale!AE19 -> 6 | AF19: =AE19+FG!$EF19-Sale!AF19 -> 6 | AG19: =AF19+FG!$EK19-Sale!AG19 -> 6 | AH19: =AG19+FG!$EP19-Sale!AH19 -> 6 | AI19: =AH19+FG!$EU19-Sale!AI19 -> 6 | AJ19: =AI19+FG!$EZ19-Sale!AJ19 -> 6 | AK19: =AJ19+FG!$FE19-Sale!AK19 -> 6
A20: 0112 | B20: F | C20: 0112-F (Black) | D20: 49058-0112 QT | E20: Carry | F20: =+FG!F20 -> 540 | G20: =+FG!K20-Sale!G20 -> 490 | H20: =G20+FG!$P20-Sale!H20 -> 430 | I20: =H20+FG!$U20-Sale!I20 -> 400 | J20: =I20+FG!$Z20-Sale!J20 -> 400 | K20: =J20+FG!$AE20-Sale!K20 -> 400 | L20: =K20+FG!$AJ20-Sale!L20 -> 400 | M20: =L20+FG!$AO20-Sale!M20 -> 380 | N20: =M20+FG!$AT20-Sale!N20 -> 330 | O20: =N20+FG!$AY20-Sale!O20 -> 280 | P20: =O20+FG!$BD20-Sale!P20 -> 230 | Q20: =P20+FG!$BI20-Sale!Q20 -> 230 | R20: =Q20+FG!$BN20-Sale!R20 -> 230 | S20: =R20+FG!$BS20-Sale!S20 -> 180 | T20: =S20+FG!$BX20-Sale!T20 -> 180 | U20: =T20+FG!$CC20-Sale!U20 -> 180 | V20: =U20+FG!$CH20-Sale!V20 -> 180 | W20: =V20+FG!$CM20-Sale!W20 -> 140 | X20: =W20+FG!$CR20-Sale!X20 -> 140 | Y20: =X20+FG!$CW20-Sale!Y20 -> 140 | Z20: =Y20+FG!$CD20-Sale!Z20 -> 140 | AA20: =Z20+FG!$DG20-Sale!AA20 -> 140 | AB20: =AA20+FG!$DK20-Sale!AB20 -> 140 | AC20: =AB20+FG!$DQ20-Sale!AC20 -> 140 | AD20: =AC20+FG!$DV20-Sale!AD20 -> 140 | AE20: =AD20+FG!$EA20-Sale!AE20 -> 140 | AF20: =AE20+FG!$EF20-Sale!AF20 -> 140 | AG20: =AF20+FG!$EK20-Sale!AG20 -> 140 | AH20: =AG20+FG!$EP20-Sale!AH20 -> 140 | AI20: =AH20+FG!$EU20-Sale!AI20 -> 140 | AJ20: =AI20+FG!$EZ20-Sale!AJ20 -> 140 | AK20: =AJ20+FG!$FE20-Sale!AK20 -> 140
C21: 0112-F (Gold) | D21: 49058-0112 36C | E21: Carry | F21: =+FG!F21 -> 75 | G21: =+FG!K21-Sale!G21 -> 75 | H21: =G21+FG!$P21-Sale!H21 -> 75 | I21: =H21+FG!$U21-Sale!I21 -> 75 | J21: =I21+FG!$Z21-Sale!J21 -> 75 | K21: =J21+FG!$AE21-Sale!K21 -> 75 | L21: =K21+FG!$AJ21-Sale!L21 -> 75 | M21: =L21+FG!$AO21-Sale!M21 -> 75 | N21: =M21+FG!$AT21-Sale!N21 -> 75 | O21: =N21+FG!$AY21-Sale!O21 -> 75 | P21: =O21+FG!$BD21-Sale!P21 -> 75 | Q21: =P21+FG!$BI21-Sale!Q21 -> 75 | R21: =Q21+FG!$BN21-Sale!R21 -> 75 | S21: =R21+FG!$BS21-Sale!S21 -> 75 | T21: =S21+FG!$BX21-Sale!T21 -> 75 | U21: =T21+FG!$CC21-Sale!U21 -> 75 | V21: =U21+FG!$CH21-Sale!V21 -> 75 | W21: =V21+FG!$CM21-Sale!W21 -> 75 | X21: =W21+FG!$CR21-Sale!X21 -> 75 | Y21: =X21+FG!$CW21-Sale!Y21 -> 75 | Z21: =Y21+FG!$CD21-Sale!Z21 -> 75 | AA21: =Z21+FG!$DG21-Sale!AA21 -> 75 | AB21: =AA21+FG!$DK21-Sale!AB21 -> 75 | AC21: =AB21+FG!$DQ21-Sale!AC21 -> 75 | AD21: =AC21+FG!$DV21-Sale!AD21 -> 75 | AE21: =AD21+FG!$EA21-Sale!AE21 -> 75 | AF21: =AE21+FG!$EF21-Sale!AF21 -> 75 | AG21: =AF21+FG!$EK21-Sale!AG21 -> 75 | AH21: =AG21+FG!$EP21-Sale!AH21 -> 75 | AI21: =AH21+FG!$EU21-Sale!AI21 -> 75 | AJ21: =AI21+FG!$EZ21-Sale!AJ21 -> 75 | AK21: =AJ21+FG!$FE21-Sale!AK21 -> 75
A22: 0113 | B22: R | C22: 0571-R (Black) | D22: 49058-0571 QT | E22: Carry | F22: =+FG!F22 -> 514 | G22: =+FG!K22-Sale!G22 -> 514 | H22: =G22+FG!$P22-Sale!H22 -> 514 | I22: =H22+FG!$U22-Sale!I22 -> 514 | J22: =I22+FG!$Z22-Sale!J22 -> 514 | K22: =J22+FG!$AE22-Sale!K22 -> 514 | L22: =K22+FG!$AJ22-Sale!L22 -> 514 | M22: =L22+FG!$AO22-Sale!M22 -> 514 | N22: =M22+FG!$AT22-Sale!N22 -> 514 | O22: =N22+FG!$AY22-Sale!O22 -> 514 | P22: =O22+FG!$BD22-Sale!P22 -> 514 | Q22: =P22+FG!$BI22-Sale!Q22 -> 514 | R22: =Q22+FG!$BN22-Sale!R22 -> 514 | S22: =R22+FG!$BS22-Sale!S22 -> 514 | T22: =S22+FG!$BX22-Sale!T22 -> 514 | U22: =T22+FG!$CC22-Sale!U22 -> 514 | V22: =U22+FG!$CH22-Sale!V22 -> 474 | W22: =V22+FG!$CM22-Sale!W22 -> 474 | X22: =W22+FG!$CR22-Sale!X22 -> 474 | Y22: =X22+FG!$CW22-Sale!Y22 -> 474 | Z22: =Y22+FG!$CD22-Sale!Z22 -> 474 | AA22: =Z22+FG!$DG22-Sale!AA22 -> 474 | AB22: =AA22+FG!$DK22-Sale!AB22 -> 474 | AC22: =AB22+FG!$DQ22-Sale!AC22 -> 474 | AD22: =AC22+FG!$DV22-Sale!AD22 -> 474 | AE22: =AD22+FG!$EA22-Sale!AE22 -> 474 | AF22: =AE22+FG!$EF22-Sale!AF22 -> 474 | AG22: =AF22+FG!$EK22-Sale!AG22 -> 474 | AH22: =AG22+FG!$EP22-Sale!AH22 -> 474 | AI22: =AH22+FG!$EU22-Sale!AI22 -> 474 | AJ22: =AI22+FG!$EZ22-Sale!AJ22 -> 474 | AK22: =AJ22+FG!$FE22-Sale!AK22 -> 474
C23: 0571-R (Gold) | D23: 49058-0571 36C | E23: Carry | F23: =+FG!F23 -> 57 | G23: =+FG!K23-Sale!G23 -> 57 | H23: =G23+FG!$P23-Sale!H23 -> 57 | I23: =H23+FG!$U23-Sale!I23 -> 57 | J23: =I23+FG!$Z23-Sale!J23 -> 57 | K23: =J23+FG!$AE23-Sale!K23 -> 57 | L23: =K23+FG!$AJ23-Sale!L23 -> 57 | M23: =L23+FG!$AO23-Sale!M23 -> 57 | N23: =M23+FG!$AT23-Sale!N23 -> 57 | O23: =N23+FG!$AY23-Sale!O23 -> 57 | P23: =O23+FG!$BD23-Sale!P23 -> 57 | Q23: =P23+FG!$BI23-Sale!Q23 -> 57 | R23: =Q23+FG!$BN23-Sale!R23 -> 57 | S23: =R23+FG!$BS23-Sale!S23 -> 57 | T23: =S23+FG!$BX23-Sale!T23 -> 57 | U23: =T23+FG!$CC23-Sale!U23 -> 57 | V23: =U23+FG!$CH23-Sale!V23 -> 57 | W23: =V23+FG!$CM23-Sale!W23 -> 57 | X23: =W23+FG!$CR23-Sale!X23 -> 57 | Y23: =X23+FG!$CW23-Sale!Y23 -> 57 | Z23: =Y23+FG!$CD23-Sale!Z23 -> 57 | AA23: =Z23+FG!$DG23-Sale!AA23 -> 57 | AB23: =AA23+FG!$DK23-Sale!AB23 -> 57 | AC23: =AB23+FG!$DQ23-Sale!AC23 -> 57 | AD23: =AC23+FG!$DV23-Sale!AD23 -> 57 | AE23: =AD23+FG!$EA23-Sale!AE23 -> 57 | AF23: =AE23+FG!$EF23-Sale!AF23 -> 57 | AG23: =AF23+FG!$EK23-Sale!AG23 -> 57 | AH23: =AG23+FG!$EP23-Sale!AH23 -> 57 | AI23: =AH23+FG!$EU23-Sale!AI23 -> 57 | AJ23: =AI23+FG!$EZ23-Sale!AJ23 -> 57 | AK23: =AJ23+FG!$FE23-Sale!AK23 -> 57
A24: 0587 | B24: R | C24: 0587-R (Black) | D24: 49058-0587 QT | E24: Carry | F24: =+FG!F24 -> 273 | G24: =+FG!K24-Sale!G24 -> 233 | H24: =G24+FG!$P24-Sale!H24 -> 153 | I24: =H24+FG!$U24-Sale!I24 -> 93 | J24: =I24+FG!$Z24-Sale!J24 -> 93 | K24: =J24+FG!$AE24-Sale!K24 -> 93 | L24: =K24+FG!$AJ24-Sale!L24 -> 33 | M24: =L24+FG!$AO24-Sale!M24 -> -27 | N24: =M24+FG!$AT24-Sale!N24 -> -67 | O24: =N24+FG!$AY24-Sale!O24 -> -107 | P24: =O24+FG!$BD24-Sale!P24 -> -147 | Q24: =P24+FG!$BI24-Sale!Q24 -> -147 | R24: =Q24+FG!$BN24-Sale!R24 -> -147 | S24: =R24+FG!$BS24-Sale!S24 -> -187 | T24: =S24+FG!$BX24-Sale!T24 -> -227 | U24: =T24+FG!$CC24-Sale!U24 -> -267 | V24: =U24+FG!$CH24-Sale!V24 -> -327 | W24: =V24+FG!$CM24-Sale!W24 -> -387 | X24: =W24+FG!$CR24-Sale!X24 -> -387 | Y24: =X24+FG!$CW24-Sale!Y24 -> -387 | Z24: =Y24+FG!$CD24-Sale!Z24 -> -427 | AA24: =Z24+FG!$DG24-Sale!AA24 -> -467 | AB24: =AA24+FG!$DK24-Sale!AB24 -> -527 | AC24: =AB24+FG!$DQ24-Sale!AC24 -> -607 | AD24: =AC24+FG!$DV24-Sale!AD24 -> -647 | AE24: =AD24+FG!$EA24-Sale!AE24 -> -647 | AF24: =AE24+FG!$EF24-Sale!AF24 -> -647 | AG24: =AF24+FG!$EK24-Sale!AG24 -> -707 | AH24: =AG24+FG!$EP24-Sale!AH24 -> -787 | AI24: =AH24+FG!$EU24-Sale!AI24 -> -787 | AJ24: =AI24+FG!$EZ24-Sale!AJ24 -> -787 | AK24: =AJ24+FG!$FE24-Sale!AK24 -> -787
C25: 0587-R (Black) | D25: 49058-0587 QT | E25: Pack BOX | F25: =+FG!F25 -> 500 | G25: =+FG!K25-Sale!G25 -> 500 | H25: =G25+FG!$P25-Sale!H25 -> 480 | I25: =H25+FG!$U25-Sale!I25 -> 480 | J25: =I25+FG!$Z25-Sale!J25 -> 480 | K25: =J25+FG!$AE25-Sale!K25 -> 480 | L25: =K25+FG!$AJ25-Sale!L25 -> 480 | M25: =L25+FG!$AO25-Sale!M25 -> 460 | N25: =M25+FG!$AT25-Sale!N25 -> 460 | O25: =N25+FG!$AY25-Sale!O25 -> 460 | P25: =O25+FG!$BD25-Sale!P25 -> 460 | Q25: =P25+FG!$BI25-Sale!Q25 -> 460 | R25: =Q25+FG!$BN25-Sale!R25 -> 460 | S25: =R25+FG!$BS25-Sale!S25 -> 460 | T25: =S25+FG!$BX25-Sale!T25 -> 460 | U25: =T25+FG!$CC25-Sale!U25 -> 460 | V25: =U25+FG!$CH25-Sale!V25 -> 460 | W25: =V25+FG!$CM25-Sale!W25 -> 460 | X25: =W25+FG!$CR25-Sale!X25 -> 460 | Y25: =X25+FG!$CW25-Sale!Y25 -> 460 | Z25: =Y25+FG!$CD25-Sale!Z25 -> 460 | AA25: =Z25+FG!$DG25-Sale!AA25 -> 460 | AB25: =AA25+FG!$DK25-Sale!AB25 -> 460 | AC25: =AB25+FG!$DQ25-Sale!AC25 -> 460 | AD25: =AC25+FG!$DV25-Sale!AD25 -> 460 | AE25: =AD25+FG!$EA25-Sale!AE25 -> 460 | AF25: =AE25+FG!$EF25-Sale!AF25 -> 460 | AG25: =AF25+FG!$EK25-Sale!AG25 -> 460 | AH25: =AG25+FG!$EP25-Sale!AH25 -> 460 | AI25: =AH25+FG!$EU25-Sale!AI25 -> 460 | AJ25: =AI25+FG!$EZ25-Sale!AJ25 -> 460 | AK25: =AJ25+FG!$FE25-Sale!AK25 -> 460
C26: 0587-R (Sticker Green) | D26: 49058-5039 QT | E26: Carry | F26: =+FG!F26 -> 20 | G26: =+FG!K26-Sale!G26 -> 20 | H26: =G26+FG!$P26-Sale!H26 -> 20 | I26: =H26+FG!$U26-Sale!I26 -> 20 | J26: =I26+FG!$Z26-Sale!J26 -> 20 | K26: =J26+FG!$AE26-Sale!K26 -> 20 | L26: =K26+FG!$AJ26-Sale!L26 -> 20 | M26: =L26+FG!$AO26-Sale!M26 -> 20 | N26: =M26+FG!$AT26-Sale!N26 -> 20 | O26: =N26+FG!$AY26-Sale!O26 -> 20 | P26: =O26+FG!$BD26-Sale!P26 -> 20 | Q26: =P26+FG!$BI26-Sale!Q26 -> 20 | R26: =Q26+FG!$BN26-Sale!R26 -> 20 | S26: =R26+FG!$BS26-Sale!S26 -> 20 | T26: =S26+FG!$BX26-Sale!T26 -> 20 | U26: =T26+FG!$CC26-Sale!U26 -> 20 | V26: =U26+FG!$CH26-Sale!V26 -> 20 | W26: =V26+FG!$CM26-Sale!W26 -> 20 | X26: =W26+FG!$CR26-Sale!X26 -> 20 | Y26: =X26+FG!$CW26-Sale!Y26 -> 20 | Z26: =Y26+FG!$CD26-Sale!Z26 -> 20 | AA26: =Z26+FG!$DG26-Sale!AA26 -> 20 | AB26: =AA26+FG!$DK26-Sale!AB26 -> 20 | AC26: =AB26+FG!$DQ26-Sale!AC26 -> 20 | AD26: =AC26+FG!$DV26-Sale!AD26 -> 20 | AE26: =AD26+FG!$EA26-Sale!AE26 -> 20 | AF26: =AE26+FG!$EF26-Sale!AF26 -> 20 | AG26: =AF26+FG!$EK26-Sale!AG26 -> 20 | AH26: =AG26+FG!$EP26-Sale!AH26 -> 20 | AI26: =AH26+FG!$EU26-Sale!AI26 -> 20 | AJ26: =AI26+FG!$EZ26-Sale!AJ26 -> 20 | AK26: =AJ26+FG!$FE26-Sale!AK26 -> 20
C27: 0587-R (Sticker Green) | D27: 49058-5039 QT | E27: Pack BOX | F27: =+FG!F27 -> 30 | G27: =+FG!K27-Sale!G27 -> -10 | H27: =G27+FG!$P27-Sale!H27 -> -30 | I27: =H27+FG!$U27-Sale!I27 -> -50 | J27: =I27+FG!$Z27-Sale!J27 -> -50 | K27: =J27+FG!$AE27-Sale!K27 -> -50 | L27: =K27+FG!$AJ27-Sale!L27 -> -70 | M27: =L27+FG!$AO27-Sale!M27 -> -90 | N27: =M27+FG!$AT27-Sale!N27 -> -90 | O27: =N27+FG!$AY27-Sale!O27 -> -110 | P27: =O27+FG!$BD27-Sale!P27 -> -110 | Q27: =P27+FG!$BI27-Sale!Q27 -> -110 | R27: =Q27+FG!$BN27-Sale!R27 -> -110 | S27: =R27+FG!$BS27-Sale!S27 -> -150 | T27: =S27+FG!$BX27-Sale!T27 -> -150 | U27: =T27+FG!$CC27-Sale!U27 -> -170 | V27: =U27+FG!$CH27-Sale!V27 -> -190 | W27: =V27+FG!$CM27-Sale!W27 -> -190 | X27: =W27+FG!$CR27-Sale!X27 -> -190 | Y27: =X27+FG!$CW27-Sale!Y27 -> -190 | Z27: =Y27+FG!$CD27-Sale!Z27 -> -210 | AA27: =Z27+FG!$DG27-Sale!AA27 -> -230 | AB27: =AA27+FG!$DK27-Sale!AB27 -> -250 | AC27: =AB27+FG!$DQ27-Sale!AC27 -> -250 | AD27: =AC27+FG!$DV27-Sale!AD27 -> -270 | AE27: =AD27+FG!$EA27-Sale!AE27 -> -270 | AF27: =AE27+FG!$EF27-Sale!AF27 -> -270 | AG27: =AF27+FG!$EK27-Sale!AG27 -> -270 | AH27: =AG27+FG!$EP27-Sale!AH27 -> -290 | AI27: =AH27+FG!$EU27-Sale!AI27 -> -290 | AJ27: =AI27+FG!$EZ27-Sale!AJ27 -> -290 | AK27: =AJ27+FG!$FE27-Sale!AK27 -> -290
C28: 0587-R (Sticker-Red) | D28: 49058-5041 QT | E28: Carry | F28: =+FG!F28 -> 40 | G28: =+FG!K28-Sale!G28 -> 40 | H28: =G28+FG!$P28-Sale!H28 -> 40 | I28: =H28+FG!$U28-Sale!I28 -> 40 | J28: =I28+FG!$Z28-Sale!J28 -> 40 | K28: =J28+FG!$AE28-Sale!K28 -> 40 | L28: =K28+FG!$AJ28-Sale!L28 -> 40 | M28: =L28+FG!$AO28-Sale!M28 -> 40 | N28: =M28+FG!$AT28-Sale!N28 -> 40 | O28: =N28+FG!$AY28-Sale!O28 -> 40 | P28: =O28+FG!$BD28-Sale!P28 -> 40 | Q28: =P28+FG!$BI28-Sale!Q28 -> 40 | R28: =Q28+FG!$BN28-Sale!R28 -> 40 | S28: =R28+FG!$BS28-Sale!S28 -> 40 | T28: =S28+FG!$BX28-Sale!T28 -> 40 | U28: =T28+FG!$CC28-Sale!U28 -> 40 | V28: =U28+FG!$CH28-Sale!V28 -> 40 | W28: =V28+FG!$CM28-Sale!W28 -> 40 | X28: =W28+FG!$CR28-Sale!X28 -> 40 | Y28: =X28+FG!$CW28-Sale!Y28 -> 40 | Z28: =Y28+FG!$CD28-Sale!Z28 -> 40 | AA28: =Z28+FG!$DG28-Sale!AA28 -> 40 | AB28: =AA28+FG!$DK28-Sale!AB28 -> 40 | AC28: =AB28+FG!$DQ28-Sale!AC28 -> 40 | AD28: =AC28+FG!$DV28-Sale!AD28 -> 40 | AE28: =AD28+FG!$EA28-Sale!AE28 -> 40 | AF28: =AE28+FG!$EF28-Sale!AF28 -> 40 | AG28: =AF28+FG!$EK28-Sale!AG28 -> 40 | AH28: =AG28+FG!$EP28-Sale!AH28 -> 40 | AI28: =AH28+FG!$EU28-Sale!AI28 -> 40 | AJ28: =AI28+FG!$EZ28-Sale!AJ28 -> 40 | AK28: =AJ28+FG!$FE28-Sale!AK28 -> 40
C29: 0587-R (Sticker-Red) | D29: 49058-5041 QT | E29: Pack BOX | F29: =+FG!F29 -> 20 | G29: =+FG!K29-Sale!G29 -> 20 | H29: =G29+FG!$P29-Sale!H29 -> 20 | I29: =H29+FG!$U29-Sale!I29 -> 20 | J29: =I29+FG!$Z29-Sale!J29 -> 20 | K29: =J29+FG!$AE29-Sale!K29 -> 20 | L29: =K29+FG!$AJ29-Sale!L29 -> 20 | M29: =L29+FG!$AO29-Sale!M29 -> 20 | N29: =M29+FG!$AT29-Sale!N29 -> 20 | O29: =N29+FG!$AY29-Sale!O29 -> 20 | P29: =O29+FG!$BD29-Sale!P29 -> 20 | Q29: =P29+FG!$BI29-Sale!Q29 -> 20 | R29: =Q29+FG!$BN29-Sale!R29 -> 20 | S29: =R29+FG!$BS29-Sale!S29 -> 20 | T29: =S29+FG!$BX29-Sale!T29 -> 20 | U29: =T29+FG!$CC29-Sale!U29 -> 20 | V29: =U29+FG!$CH29-Sale!V29 -> 20 | W29: =V29+FG!$CM29-Sale!W29 -> 20 | X29: =W29+FG!$CR29-Sale!X29 -> 20 | Y29: =X29+FG!$CW29-Sale!Y29 -> 20 | Z29: =Y29+FG!$CD29-Sale!Z29 -> 20 | AA29: =Z29+FG!$DG29-Sale!AA29 -> 20 | AB29: =AA29+FG!$DK29-Sale!AB29 -> 20 | AC29: =AB29+FG!$DQ29-Sale!AC29 -> 20 | AD29: =AC29+FG!$DV29-Sale!AD29 -> 20 | AE29: =AD29+FG!$EA29-Sale!AE29 -> 20 | AF29: =AE29+FG!$EF29-Sale!AF29 -> 20 | AG29: =AF29+FG!$EK29-Sale!AG29 -> 20 | AH29: =AG29+FG!$EP29-Sale!AH29 -> 20 | AI29: =AH29+FG!$EU29-Sale!AI29 -> 20 | AJ29: =AI29+FG!$EZ29-Sale!AJ29 -> 20 | AK29: =AJ29+FG!$FE29-Sale!AK29 -> 20
C30: 0587-R (Sticker Orange) | D30: 49058-5060 QT | E30: Carry | F30: =+FG!F30 -> 30 | G30: =+FG!K30-Sale!G30 -> 10 | H30: =G30+FG!$P30-Sale!H30 -> -10 | I30: =H30+FG!$U30-Sale!I30 -> -30 | J30: =I30+FG!$Z30-Sale!J30 -> -30 | K30: =J30+FG!$AE30-Sale!K30 -> -30 | L30: =K30+FG!$AJ30-Sale!L30 -> -50 | M30: =L30+FG!$AO30-Sale!M30 -> -50 | N30: =M30+FG!$AT30-Sale!N30 -> -110 | O30: =N30+FG!$AY30-Sale!O30 -> -150 | P30: =O30+FG!$BD30-Sale!P30 -> -190 | Q30: =P30+FG!$BI30-Sale!Q30 -> -190 | R30: =Q30+FG!$BN30-Sale!R30 -> -190 | S30: =R30+FG!$BS30-Sale!S30 -> -230 | T30: =S30+FG!$BX30-Sale!T30 -> -250 | U30: =T30+FG!$CC30-Sale!U30 -> -270 | V30: =U30+FG!$CH30-Sale!V30 -> -290 | W30: =V30+FG!$CM30-Sale!W30 -> -310 | X30: =W30+FG!$CR30-Sale!X30 -> -310 | Y30: =X30+FG!$CW30-Sale!Y30 -> -310 | Z30: =Y30+FG!$CD30-Sale!Z30 -> -330 | AA30: =Z30+FG!$DG30-Sale!AA30 -> -370 | AB30: =AA30+FG!$DK30-Sale!AB30 -> -410 | AC30: =AB30+FG!$DQ30-Sale!AC30 -> -430 | AD30: =AC30+FG!$DV30-Sale!AD30 -> -450 | AE30: =AD30+FG!$EA30-Sale!AE30 -> -450 | AF30: =AE30+FG!$EF30-Sale!AF30 -> -450 | AG30: =AF30+FG!$EK30-Sale!AG30 -> -490 | AH30: =AG30+FG!$EP30-Sale!AH30 -> -510 | AI30: =AH30+FG!$EU30-Sale!AI30 -> -510 | AJ30: =AI30+FG!$EZ30-Sale!AJ30 -> -510 | AK30: =AJ30+FG!$FE30-Sale!AK30 -> -510
C31: 0587-R (Sticker Orange) | D31: 49058-5060 QT | E31: Pack BOX | F31: =+FG!F31 -> 30 | G31: =+FG!K31-Sale!G31 -> 30 | H31: =G31+FG!$P31-Sale!H31 -> 30 | I31: =H31+FG!$U31-Sale!I31 -> 30 | J31: =I31+FG!$Z31-Sale!J31 -> 30 | K31: =J31+FG!$AE31-Sale!K31 -> 30 | L31: =K31+FG!$AJ31-Sale!L31 -> 30 | M31: =L31+FG!$AO31-Sale!M31 -> 10 | N31: =M31+FG!$AT31-Sale!N31 -> 10 | O31: =N31+FG!$AY31-Sale!O31 -> 10 | P31: =O31+FG!$BD31-Sale!P31 -> 10 | Q31: =P31+FG!$BI31-Sale!Q31 -> 10 | R31: =Q31+FG!$BN31-Sale!R31 -> 10 | S31: =R31+FG!$BS31-Sale!S31 -> 10 | T31: =S31+FG!$BX31-Sale!T31 -> -10 | U31: =T31+FG!$CC31-Sale!U31 -> -30 | V31: =U31+FG!$CH31-Sale!V31 -> -30 | W31: =V31+FG!$CM31-Sale!W31 -> -30 | X31: =W31+FG!$CR31-Sale!X31 -> -30 | Y31: =X31+FG!$CW31-Sale!Y31 -> -30 | Z31: =Y31+FG!$CD31-Sale!Z31 -> -30 | AA31: =Z31+FG!$DG31-Sale!AA31 -> -50 | AB31: =AA31+FG!$DK31-Sale!AB31 -> -50 | AC31: =AB31+FG!$DQ31-Sale!AC31 -> -70 | AD31: =AC31+FG!$DV31-Sale!AD31 -> -70 | AE31: =AD31+FG!$EA31-Sale!AE31 -> -70 | AF31: =AE31+FG!$EF31-Sale!AF31 -> -70 | AG31: =AF31+FG!$EK31-Sale!AG31 -> -70 | AH31: =AG31+FG!$EP31-Sale!AH31 -> -70 | AI31: =AH31+FG!$EU31-Sale!AI31 -> -70 | AJ31: =AI31+FG!$EZ31-Sale!AJ31 -> -70 | AK31: =AJ31+FG!$FE31-Sale!AK31 -> -70
C32: 0587-R (Sticker Green) | D32: 49058-5128 QT | E32: Carry | F32: =+FG!F32 -> 30 | G32: =+FG!K32-Sale!G32 -> 10 | H32: =G32+FG!$P32-Sale!H32 -> -10 | I32: =H32+FG!$U32-Sale!I32 -> -30 | J32: =I32+FG!$Z32-Sale!J32 -> -30 | K32: =J32+FG!$AE32-Sale!K32 -> -30 | L32: =K32+FG!$AJ32-Sale!L32 -> -30 | M32: =L32+FG!$AO32-Sale!M32 -> -30 | N32: =M32+FG!$AT32-Sale!N32 -> -70 | O32: =N32+FG!$AY32-Sale!O32 -> -70 | P32: =O32+FG!$BD32-Sale!P32 -> -70 | Q32: =P32+FG!$BI32-Sale!Q32 -> -70 | R32: =Q32+FG!$BN32-Sale!R32 -> -70 | S32: =R32+FG!$BS32-Sale!S32 -> -90 | T32: =S32+FG!$BX32-Sale!T32 -> -90 | U32: =T32+FG!$CC32-Sale!U32 -> -130 | V32: =U32+FG!$CH32-Sale!V32 -> -130 | W32: =V32+FG!$CM32-Sale!W32 -> -150 | X32: =W32+FG!$CR32-Sale!X32 -> -150 | Y32: =X32+FG!$CW32-Sale!Y32 -> -150 | Z32: =Y32+FG!$CD32-Sale!Z32 -> -190 | AA32: =Z32+FG!$DG32-Sale!AA32 -> -190 | AB32: =AA32+FG!$DK32-Sale!AB32 -> -190 | AC32: =AB32+FG!$DQ32-Sale!AC32 -> -210 | AD32: =AC32+FG!$DV32-Sale!AD32 -> -230 | AE32: =AD32+FG!$EA32-Sale!AE32 -> -230 | AF32: =AE32+FG!$EF32-Sale!AF32 -> -230 | AG32: =AF32+FG!$EK32-Sale!AG32 -> -250 | AH32: =AG32+FG!$EP32-Sale!AH32 -> -250 | AI32: =AH32+FG!$EU32-Sale!AI32 -> -250 | AJ32: =AI32+FG!$EZ32-Sale!AJ32 -> -250 | AK32: =AJ32+FG!$FE32-Sale!AK32 -> -250
C33: 0587-R (Sticker-Red) | D33: 49058-5130 QT | E33: Carry | F33: =+FG!F33 -> 0 | G33: =+FG!K33-Sale!G33 -> 0 | H33: =G33+FG!$P33-Sale!H33 -> 0 | I33: =H33+FG!$U33-Sale!I33 -> 0 | J33: =I33+FG!$Z33-Sale!J33 -> 0 | K33: =J33+FG!$AE33-Sale!K33 -> 0 | L33: =K33+FG!$AJ33-Sale!L33 -> 0 | M33: =L33+FG!$AO33-Sale!M33 -> 0 | N33: =M33+FG!$AT33-Sale!N33 -> 0 | O33: =N33+FG!$AY33-Sale!O33 -> 0 | P33: =O33+FG!$BD33-Sale!P33 -> 0 | Q33: =P33+FG!$BI33-Sale!Q33 -> 0 | R33: =Q33+FG!$BN33-Sale!R33 -> 0 | S33: =R33+FG!$BS33-Sale!S33 -> 0 | T33: =S33+FG!$BX33-Sale!T33 -> 0 | U33: =T33+FG!$CC33-Sale!U33 -> 0 | V33: =U33+FG!$CH33-Sale!V33 -> 0 | W33: =V33+FG!$CM33-Sale!W33 -> 0 | X33: =W33+FG!$CR33-Sale!X33 -> 0 | Y33: =X33+FG!$CW33-Sale!Y33 -> 0 | Z33: =Y33+FG!$CD33-Sale!Z33 -> 0 | AA33: =Z33+FG!$DG33-Sale!AA33 -> 0 | AB33: =AA33+FG!$DK33-Sale!AB33 -> 0 | AC33: =AB33+FG!$DQ33-Sale!AC33 -> 0 | AD33: =AC33+FG!$DV33-Sale!AD33 -> 0 | AE33: =AD33+FG!$EA33-Sale!AE33 -> 0 | AF33: =AE33+FG!$EF33-Sale!AF33 -> 0 | AG33: =AF33+FG!$EK33-Sale!AG33 -> 0 | AH33: =AG33+FG!$EP33-Sale!AH33 -> 0 | AI33: =AH33+FG!$EU33-Sale!AI33 -> 0 | AJ33: =AI33+FG!$EZ33-Sale!AJ33 -> 0 | AK33: =AJ33+FG!$FE33-Sale!AK33 -> 0
C34: 0587-R (Sticker Blue) | D34: 49058-5132 QT | E34: Carry | F34: =+FG!F34 -> 0 | G34: =+FG!K34-Sale!G34 -> 0 | H34: =G34+FG!$P34-Sale!H34 -> 0 | I34: =H34+FG!$U34-Sale!I34 -> 0 | J34: =I34+FG!$Z34-Sale!J34 -> 0 | K34: =J34+FG!$AE34-Sale!K34 -> 0 | L34: =K34+FG!$AJ34-Sale!L34 -> 0 | M34: =L34+FG!$AO34-Sale!M34 -> 0 | N34: =M34+FG!$AT34-Sale!N34 -> 0 | O34: =N34+FG!$AY34-Sale!O34 -> 0 | P34: =O34+FG!$BD34-Sale!P34 -> 0 | Q34: =P34+FG!$BI34-Sale!Q34 -> 0 | R34: =Q34+FG!$BN34-Sale!R34 -> 0 | S34: =R34+FG!$BS34-Sale!S34 -> -1 | T34: =S34+FG!$BX34-Sale!T34 -> -1 | U34: =T34+FG!$CC34-Sale!U34 -> -1 | V34: =U34+FG!$CH34-Sale!V34 -> -1 | W34: =V34+FG!$CM34-Sale!W34 -> -1 | X34: =W34+FG!$CR34-Sale!X34 -> -1 | Y34: =X34+FG!$CW34-Sale!Y34 -> -1 | Z34: =Y34+FG!$CD34-Sale!Z34 -> -1 | AA34: =Z34+FG!$DG34-Sale!AA34 -> -1 | AB34: =AA34+FG!$DK34-Sale!AB34 -> -1 | AC34: =AB34+FG!$DQ34-Sale!AC34 -> -1 | AD34: =AC34+FG!$DV34-Sale!AD34 -> -1 | AE34: =AD34+FG!$EA34-Sale!AE34 -> -1 | AF34: =AE34+FG!$EF34-Sale!AF34 -> -1 | AG34: =AF34+FG!$EK34-Sale!AG34 -> -1 | AH34: =AG34+FG!$EP34-Sale!AH34 -> -1 | AI34: =AH34+FG!$EU34-Sale!AI34 -> -1 | AJ34: =AI34+FG!$EZ34-Sale!AJ34 -> -1 | AK34: =AJ34+FG!$FE34-Sale!AK34 -> -1
A35: 0593 | B35: F | C35: 0593-F (Black) | D35: 49058-0593 R2 | E35: Carry | F35: =+FG!F35 -> 17 | G35: =+FG!K35-Sale!G35 -> 17 | H35: =G35+FG!$P35-Sale!H35 -> 17 | I35: =H35+FG!$U35-Sale!I35 -> 17 | J35: =I35+FG!$Z35-Sale!J35 -> 17 | K35: =J35+FG!$AE35-Sale!K35 -> 17 | L35: =K35+FG!$AJ35-Sale!L35 -> 17 | M35: =L35+FG!$AO35-Sale!M35 -> 17 | N35: =M35+FG!$AT35-Sale!N35 -> 17 | O35: =N35+FG!$AY35-Sale!O35 -> 17 | P35: =O35+FG!$BD35-Sale!P35 -> 17 | Q35: =P35+FG!$BI35-Sale!Q35 -> 17 | R35: =Q35+FG!$BN35-Sale!R35 -> 17 | S35: =R35+FG!$BS35-Sale!S35 -> 17 | T35: =S35+FG!$BX35-Sale!T35 -> 17 | U35: =T35+FG!$CC35-Sale!U35 -> 17 | V35: =U35+FG!$CH35-Sale!V35 -> 17 | W35: =V35+FG!$CM35-Sale!W35 -> 17 | X35: =W35+FG!$CR35-Sale!X35 -> 17 | Y35: =X35+FG!$CW35-Sale!Y35 -> 17 | Z35: =Y35+FG!$CD35-Sale!Z35 -> 17 | AA35: =Z35+FG!$DG35-Sale!AA35 -> 17 | AB35: =AA35+FG!$DK35-Sale!AB35 -> 12 | AC35: =AB35+FG!$DQ35-Sale!AC35 -> 12 | AD35: =AC35+FG!$DV35-Sale!AD35 -> 12 | AE35: =AD35+FG!$EA35-Sale!AE35 -> 12 | AF35: =AE35+FG!$EF35-Sale!AF35 -> 12 | AG35: =AF35+FG!$EK35-Sale!AG35 -> 12 | AH35: =AG35+FG!$EP35-Sale!AH35 -> 12 | AI35: =AH35+FG!$EU35-Sale!AI35 -> 12 | AJ35: =AI35+FG!$EZ35-Sale!AJ35 -> 12 | AK35: =AJ35+FG!$FE35-Sale!AK35 -> 12
A36: 0594 | B36: R | C36: 0594-R (Black) | D36: 49058-0594 QT | E36: Carry | F36: =+FG!F36 -> 159 | G36: =+FG!K36-Sale!G36 -> 159 | H36: =G36+FG!$P36-Sale!H36 -> 159 | I36: =H36+FG!$U36-Sale!I36 -> 159 | J36: =I36+FG!$Z36-Sale!J36 -> 159 | K36: =J36+FG!$AE36-Sale!K36 -> 159 | L36: =K36+FG!$AJ36-Sale!L36 -> 159 | M36: =L36+FG!$AO36-Sale!M36 -> 159 | N36: =M36+FG!$AT36-Sale!N36 -> 159 | O36: =N36+FG!$AY36-Sale!O36 -> 159 | P36: =O36+FG!$BD36-Sale!P36 -> 159 | Q36: =P36+FG!$BI36-Sale!Q36 -> 159 | R36: =Q36+FG!$BN36-Sale!R36 -> 159 | S36: =R36+FG!$BS36-Sale!S36 -> 159 | T36: =S36+FG!$BX36-Sale!T36 -> 159 | U36: =T36+FG!$CC36-Sale!U36 -> 159 | V36: =U36+FG!$CH36-Sale!V36 -> 159 | W36: =V36+FG!$CM36-Sale!W36 -> 159 | X36: =W36+FG!$CR36-Sale!X36 -> 159 | Y36: =X36+FG!$CW36-Sale!Y36 -> 159 | Z36: =Y36+FG!$CD36-Sale!Z36 -> 159 | AA36: =Z36+FG!$DG36-Sale!AA36 -> 159 | AB36: =AA36+FG!$DK36-Sale!AB36 -> 159 | AC36: =AB36+FG!$DQ36-Sale!AC36 -> 159 | AD36: =AC36+FG!$DV36-Sale!AD36 -> 159 | AE36: =AD36+FG!$EA36-Sale!AE36 -> 159 | AF36: =AE36+FG!$EF36-Sale!AF36 -> 159 | AG36: =AF36+FG!$EK36-Sale!AG36 -> 159 | AH36: =AG36+FG!$EP36-Sale!AH36 -> 159 | AI36: =AH36+FG!$EU36-Sale!AI36 -> 159 | AJ36: =AI36+FG!$EZ36-Sale!AJ36 -> 159 | AK36: =AJ36+FG!$FE36-Sale!AK36 -> 159
F37: =SUM(F4:F36) -> 3408 | G37: =SUM(G4:G36) -> 3118 | H37: =SUM(H4:H36) -> 2738 | I37: =SUM(I4:I36) -> 2468 | J37: =SUM(J4:J36) -> 2468 | K37: =SUM(K4:K36) -> 2468 | L37: =SUM(L4:L36) -> 2268 | M37: =SUM(M4:M36) -> 2008 | ... AK37: =SUM(AK4:AK36) -> -1720

Sheet 1 jul
A2: 2W Delivery Plan & Stock monitoring
A3: PROCESS | C3: Stock Finished Goods And Pack Spec | G3: 42185 | H3: Update : 2- July- 15 Time 08:00 pm
A4: Model | B4: Type | G4: Back Oder | H4: Delivery Plan & Balance Finished goods.
H5: =+G3+1 -> 42186 | J5: =+H5+1 -> 42187 | L5: =+J5+1 -> 42188 | N5: =+L5+1 -> 42189 | P5: =+N5+1 -> 42190 | R5: =+P5+1 -> 42191 | T5: =+R5+1 -> 42192 | V5: =+T5+1 -> 42193
A6: Total Process | C6: Model | D6: Part No. | E6: Pack Spec. | F6: Q'TY | H6: D/L | I6: B/L FG. | J6: D/L | K6: B/L FG. | L6: D/L | M6: B/L FG. | N6: D/L | O6: B/L FG. | P6: D/L | Q6: B/L FG. | R6: D/L | S6: B/L FG. | T6: D/L | U6: B/L FG. | V6: D/L | W6: B/L FG. | X6: *
A7: 0090 | B7: R | C7: 0090-R (Black) | D7: 49058-0090 QT | E7: Pack BOX | F7: =+FG!K4 -> 0 | I7: =+F7-H7-G7 -> 0 | K7: =+I7-J7 -> 0 | M7: =+K7-L7 -> 0 | O7: =+M7-N7 -> 0 | Q7: =+O7-P7 -> 0 | S7: =+Q7-R7 -> 0 | U7: =+S7-T7 -> 0 | W7: =+U7-V7 -> 0
C8: 0090-R (Black) | D8: 49058-0090 QT | E8: Carry | F8: =+FG!K5 -> 162 | I8: =+F8-H8-G8 -> 162 | K8: =+I8-J8 -> 162 | M8: =+K8-L8 -> 162 | O8: =+M8-N8 -> 162 | Q8: =+O8-P8 -> 162 | S8: =+Q8-R8 -> 162 | U8: =+S8-T8 -> 162 | W8: =+U8-V8 -> 162
A9: 0558 | B9: R | C9: 0558-R (Black) | D9: 49058-0558 QT | E9: Carry | F9: =+FG!K6 -> 600 | H9: 40 | I9: =+F9-H9-G9 -> 560 | J9: 80 | K9: =+I9-J9 -> 480 | L9: 60 | M9: =+K9-L9 -> 420 | O9: =+M9-N9 -> 420 | Q9: =+O9-P9 -> 420 | R9: 60 | S9: =+Q9-R9 -> 360 | T9: 60 | U9: =+S9-T9 -> 300 | V9: 40 | W9: =+U9-V9 -> 260 | X9: *
C10: 0558-R (Black) | D10: 49058-0558 QT | E10: Pack BOX | F10: =+FG!K7 -> 20 | I10: =+F10-H10-G10 -> 20 | J10: 20 | K10: =+I10-J10 -> 0 | M10: =+K10-L10 -> 0 | O10: =+M10-N10 -> 0 | Q10: =+O10-P10 -> 0 | S10: =+Q10-R10 -> 0 | T10: 20 | U10: =+S10-T10 -> -20 | W10: =+U10-V10 -> -20 | X10: *
C11: 0558-R (Sticker Green) | D11: 49058-5079 QT | E11: Pack BOX | F11: =+FG!K8 -> 0 | I11: =+F11-H11-G11 -> 0 | K11: =+I11-J11 -> 0 | M11: =+K11-L11 -> 0 | O11: =+M11-N11 -> 0 | Q11: =+O11-P11 -> 0 | S11: =+Q11-R11 -> 0 | U11: =+S11-T11 -> 0 | W11: =+U11-V11 -> 0
C12: 0558-R (Sticker Green) | D12: 49058-5079 QT | E12: Carry | F12: =+FG!K9 -> 120 | H12: 40 | I12: =+F12-H12-G12 -> 80 | J12: 20 | K12: =+I12-J12 -> 60 | L12: 20 | M12: =+K12-L12 -> 40 | O12: =+M12-N12 -> 40 | Q12: =+O12-P12 -> 40 | R12: 20 | S12: =+Q12-R12 -> 20 | T12: 20 | U12: =+S12-T12 -> 0 | W12: =+U12-V12 -> 0 | X12: *
C13: 0558-R (Sticker Red) | D13: 49058-5081 QT | E13: Pack BOX | F13: =+FG!K10 -> 0 | I13: =+F13-H13-G13 -> 0 | K13: =+I13-J13 -> 0 | M13: =+K13-L13 -> 0 | O13: =+M13-N13 -> 0 | Q13: =+O13-P13 -> 0 | S13: =+Q13-R13 -> 0 | U13: =+S13-T13 -> 0 | W13: =+U13-V13 -> 0
C14: 0558-R (Sticker Red) | D14: 49058-5081 QT | E14: Carry | F14: =+FG!K11 -> 5 | I14: =+F14-H14-G14 -> 5 | K14: =+I14-J14 -> 5 | M14: =+K14-L14 -> 5 | O14: =+M14-N14 -> 5 | Q14: =+O14-P14 -> 5 | S14: =+Q14-R14 -> 5 | U14: =+S14-T14 -> 5 | W14: =+U14-V14 -> 5
C15: 0558-R (Sticker Green) | D15: 49058-5121 QT | E15: Carry | F15: =+FG!K12 -> 80 | H15: 20 | I15: =+F15-H15-G15 -> 60 | J15: 20 | K15: =+I15-J15 -> 40 | L15: 20 | M15: =+K15-L15 -> 20 | O15: =+M15-N15 -> 20 | Q15: =+O15-P15 -> 20 | R15: 20 | S15: =+Q15-R15 -> 0 | U15: =+S15-T15 -> 0 | V15: 60 | W15: =+U15-V15 -> -60 | X15: *
C16: 0558-R (Sticker Red) | D16: 49058-5125 QT | E16: Carry | F16: =+FG!K13 -> 20 | I16: =+F16-H16-G16 -> 20 | K16: =+I16-J16 -> 20 | M16: =+K16-L16 -> 20 | O16: =+M16-N16 -> 20 | Q16: =+O16-P16 -> 20 | S16: =+Q16-R16 -> 20 | T16: 20 | U16: =+S16-T16 -> 0 | W16: =+U16-V16 -> 0
C17: 0558-R (Sticker Orange) | D17: 49058-5127 QT | E17: Carry | F17: =+FG!K14 -> 60 | H17: 20 | I17: =+F17-H17-G17 -> 40 | J17: 20 | K17: =+I17-J17 -> 20 | L17: 20 | M17: =+K17-L17 -> 0 | O17: =+M17-N17 -> 0 | Q17: =+O17-P17 -> 0 | S17: =+Q17-R17 -> 0 | U17: =+S17-T17 -> 0 | V17: 40 | W17: =+U17-V17 -> -40 | X17: *
C18: 0558-R (Sticker Red) | D18: 49058-5146 QT New | E18: Carry | F18: =+FG!K15 -> 0 | I18: =+F18-H18-G18 -> 0 | K18: =+I18-J18 -> 0 | M18: =+K18-L18 -> 0 | O18: =+M18-N18 -> 0 | Q18: =+O18-P18 -> 0 | S18: =+Q18-R18 -> 0 | U18: =+S18-T18 -> 0 | W18: =+U18-V18 -> 0
C19: 0558-R (Sticker Orange) | D19: 49058-5148 QT New | E19: Carry | F19: =+FG!K16 -> 0 | I19: =+F19-H19-G19 -> 0 | K19: =+I19-J19 -> 0 | M19: =+K19-L19 -> 0 | O19: =+M19-N19 -> 0 | Q19: =+O19-P19 -> 0 | S19: =+Q19-R19 -> 0 | U19: =+S19-T19 -> 0 | W19: =+U19-V19 -> 0
C20: 0558-R (Gold) | D20: 49058-0558 36C | E20: Carry | F20: =+FG!K17 -> 0 | I20: =+F20-H20-G20 -> 0 | K20: =+I20-J20 -> 0 | M20: =+K20-L20 -> 0 | O20: =+M20-N20 -> 0 | Q20: =+O20-P20 -> 0 | S20: =+Q20-R20 -> 0 | U20: =+S20-T20 -> 0 | W20: =+U20-V20 -> 0
C21: 0558P-R (Red) | D21: 49058-0558 35W | E21: Carry | F21: =+FG!K18 -> 0 | I21: =+F21-H21-G21 -> 0 | K21: =+I21-J21 -> 0 | M21: =+K21-L21 -> 0 | O21: =+M21-N21 -> 0 | Q21: =+O21-P21 -> 0 | S21: =+Q21-R21 -> 0 | U21: =+S21-T21 -> 0 | W21: =+U21-V21 -> 0
C22: 0558-R (Yellow) | D22: 49058-0558 35X | E22: Carry | F22: =+FG!K19 -> 6 | I22: =+F22-H22-G22 -> 6 | K22: =+I22-J22 -> 6 | M22: =+K22-L22 -> 6 | O22: =+M22-N22 -> 6 | Q22: =+O22-P22 -> 6 | S22: =+Q22-R22 -> 6 | U22: =+S22-T22 -> 6 | W22: =+U22-V22 -> 6 | X22: *
A23: 0112 | B23: F | C23: 0112-F (Black) | D23: 49058-0112 QT | E23: Carry | F23: =+FG!K20 -> 540 | I23: =+F23-H23-G23 -> 540 | K23: =+I23-J23 -> 540 | M23: =+K23-L23 -> 540 | O23: =+M23-N23 -> 540 | Q23: =+O23-P23 -> 540 | S23: =+Q23-R23 -> 540 | U23: =+S23-T23 -> 540 | W23: =+U23-V23 -> 540 | X23: *
C24: 0112-F (Gold) | D24: 49058-0112 36C | E24: Carry | F24: =+FG!K21 -> 75 | I24: =+F24-H24-G24 -> 75 | K24: =+I24-J24 -> 75 | M24: =+K24-L24 -> 75 | O24: =+M24-N24 -> 75 | Q24: =+O24-P24 -> 75 | S24: =+Q24-R24 -> 75 | U24: =+S24-T24 -> 75 | W24: =+U24-V24 -> 75 | X24: *
A25: 0113 | B25: R | C25: 0571-R (Black) | D25: 49058-0571 QT | E25: Carry | F25: =+FG!K22 -> 514 | I25: =+F25-H25-G25 -> 514 | K25: =+I25-J25 -> 514 | M25: =+K25-L25 -> 514 | O25: =+M25-N25 -> 514 | Q25: =+O25-P25 -> 514 | S25: =+Q25-R25 -> 514 | U25: =+S25-T25 -> 514 | W25: =+U25-V25 -> 514 | X25: *
C26: 0571-R (Gold) | D26: 49058-0571 36C | E26: Carry | F26: =+FG!K23 -> 57 | I26: =+F26-H26-G26 -> 57 | K26: =+I26-J26 -> 57 | M26: =+K26-L26 -> 57 | O26: =+M26-N26 -> 57 | Q26: =+O26-P26 -> 57 | S26: =+Q26-R26 -> 57 | U26: =+S26-T26 -> 57 | W26: =+U26-V26 -> 57 | X26: *
A27: 0587 | B27: R | C27: 0587-R (Black) | D27: 49058-0587 QT | E27: Carry | F27: =+FG!K24 -> 273 | I27: =+F27-H27-G27 -> 273 | K27: =+I27-J27 -> 273 | M27: =+K27-L27 -> 273 | O27: =+M27-N27 -> 273 | Q27: =+O27-P27 -> 273 | S27: =+Q27-R27 -> 273 | U27: =+S27-T27 -> 273 | W27: =+U27-V27 -> 273 | X27: *
C28: 0587-R (Black) | D28: 49058-0587 QT | E28: Pack BOX | F28: =+FG!K25 -> 500 | I28: =+F28-H28-G28 -> 500 | K28: =+I28-J28 -> 500 | M28: =+K28-L28 -> 500 | O28: =+M28-N28 -> 500 | Q28: =+O28-P28 -> 500 | S28: =+Q28-R28 -> 500 | U28: =+S28-T28 -> 500 | W28: =+U28-V28 -> 500
C29: 0587-R (Sticker Green) | D29: 49058-5039 QT | E29: Carry | F29: =+FG!K26 -> 20 | I29: =+F29-H29-G29 -> 20 | K29: =+I29-J29 -> 20 | M29: =+K29-L29 -> 20 | O29: =+M29-N29 -> 20 | Q29: =+O29-P29 -> 20 | S29: =+Q29-R29 -> 20 | U29: =+S29-T29 -> 20 | W29: =+U29-V29 -> 20
C30: 0587-R (Sticker Green) | D30: 49058-5039 QT | E30: Pack BOX | F30: =+FG!K27 -> 30 | I30: =+F30-H30-G30 -> 30 | K30: =+I30-J30 -> 30 | M30: =+K30-L30 -> 30 | O30: =+M30-N30 -> 30 | Q30: =+O30-P30 -> 30 | S30: =+Q30-R30 -> 30 | U30: =+S30-T30 -> 30 | W30: =+U30-V30 -> 30
C31: 0587-R (Sticker-Red) | D31: 49058-5041 QT | E31: Carry | F31: =+FG!K28 -> 40 | I31: =+F31-H31-G31 -> 40 | K31: =+I31-J31 -> 40 | M31: =+K31-L31 -> 40 | O31: =+M31-N31 -> 40 | Q31: =+O31-P31 -> 40 | S31: =+Q31-R31 -> 40 | U31: =+S31-T31 -> 40 | W31: =+U31-V31 -> 40
C32: 0587-R (Sticker-Red) | D32: 49058-5041 QT | E32: Pack BOX | F32: =+FG!K29 -> 20 | I32: =+F32-H32-G32 -> 20 | K32: =+I32-J32 -> 20 | M32: =+K32-L32 -> 20 | O32: =+M32-N32 -> 20 | Q32: =+O32-P32 -> 20 | S32: =+Q32-R32 -> 20 | U32: =+S32-T32 -> 20 | W32: =+U32-V32 -> 20
C33: 0587-R (Sticker Orange) | D33: 49058-5060 QT | E33: Carry | F33: =+FG!K30 -> 30 | I33: =+F33-H33-G33 -> 30 | K33: =+I33-J33 -> 30 | M33: =+K33-L33 -> 30 | O33: =+M33-N33 -> 30 | Q33: =+O33-P33 -> 30 | S33: =+Q33-R33 -> 30 | U33: =+S33-T33 -> 30 | W33: =+U33-V33 -> 30
C34: 0587-R (Sticker Orange) | D34: 49058-5060 QT | E34: Pack BOX | F34: =+FG!K31 -> 30 | I34: =+F34-H34-G34 -> 30 | K34: =+I34-J34 -> 30 | M34: =+K34-L34 -> 30 | O34: =+M34-N34 -> 30 | Q34: =+O34-P34 -> 30 | S34: =+Q34-R34 -> 30 | U34: =+S34-T34 -> 30 | W34: =+U34-V34 -> 30
C35: 0587-R (Sticker Green) | D35: 49058-5128 QT | E35: Carry | F35: =+FG!K32 -> 30 | I35: =+F35-H35-G35 -> 30 | K35: =+I35-J35 -> 30 | M35: =+K35-L35 -> 30 | O35: =+M35-N35 -> 30 | Q35: =+O35-P35 -> 30 | S35: =+Q35-R35 -> 30 | U35: =+S35-T35 -> 30 | W35: =+U35-V35 -> 30
C36: 0587-R (Sticker-Red) | D36: 49058-5130 QT | E36: Carry | F36: =+FG!K33 -> 0 | I36: =+F36-H36-G36 -> 0 | K36: =+I36-J36 -> 0 | M36: =+K36-L36 -> 0 | O36: =+M36-N36 -> 0 | Q36: =+O36-P36 -> 0 | S36: =+Q36-R36 -> 0 | U36: =+S36-T36 -> 0 | W36: =+U36-V36 -> 0
C37: 0587-R (Sticker Blue) | D37: 49058-5132 QT | E37: Carry | F37: =+FG!K34 -> 0 | I37: =+F37-H37-G37 -> 0 | K37: =+I37-J37 -> 0 | M37: =+K37-L37 -> 0 | O37: =+M37-N37 -> 0 | Q37: =+O37-P37 -> 0 | S37: =+Q37-R37 -> 0 | U37: =+S37-T37 -> 0 | W37: =+U37-V37 -> 0 | X37: *
A38: 0593 | B38: F | C38: 0593-F (Black) | D38: 49058-0593 R2 | E38: Carry | F38: =+FG!K35 -> 17 | I38: =+F38-H38-G38 -> 17 | K38: =+I38-J38 -> 17 | M38: =+K38-L38 -> 17 | O38: =+M38-N38 -> 17 | Q38: =+O38-P38 -> 17 | S38: =+Q38-R38 -> 17 | U38: =+S38-T38 -> 17 | W38: =+U38-V38 -> 17
A39: 0594 | B39: R | C39: 0594-R (Black) | D39: 49058-0594 QT | E39: Carry | F39: =+FG!K36 -> 159 | I39: =+F39-H39-G39 -> 159 | K39: =+I39-J39 -> 159 | M39: =+K39-L39 -> 159 | O39: =+M39-N39 -> 159 | Q39: =+O39-P39 -> 159 | S39: =+Q39-R39 -> 159 | U39: =+S39-T39 -> 159 | W39: =+U39-V39 -> 159
F40: =SUM(F7:F39) -> 3408 | G40: =SUM(G7:G39) -> 0 | H40: =SUM(H7:H39) -> 120 | I40: =SUM(I7:I39) -> 3288 | J40: =SUM(J7:J39) -> 160 | K40: =SUM(K7:K39) -> 3128 | L40: =SUM(L7:L39) -> 120 | M40: =SUM(M7:M39) -> 3008 | ... W40: =SUM(W7:W39) -> 2648 | X40: *

Sheet 2 jul 
A2: 2W Delivery Plan & Stock monitoring
A3: PROCESS | C3: Stock Finished Goods And Pack Spec | G3: 42186 | H3: Update : 2- July- 15 Time 08:00 pm
A4: Model | B4: Type | G4: Back Oder | H4: Delivery Plan & Balance Finished goods.
H5: =+G3+1 -> 42187 | J5: =+H5+1 -> 42188 | L5: =+J5+1 -> 42189 | N5: =+L5+1 -> 42190 | P5: =+N5+1 -> 42191 | R5: =+P5+1 -> 42192 | T5: =+R5+1 -> 42193 | V5: =+T5+1 -> 42194
A6: Total Process | C6: Model | D6: Part No. | E6: Pack Spec. | F6: Q'TY | H6: D/L | I6: B/L FG. | J6: D/L | K6: B/L FG. | L6: D/L | M6: B/L FG. | N6: D/L | O6: B/L FG. | P6: D/L | Q6: B/L FG. | R6: D/L | S6: B/L FG. | T6: D/L | U6: B/L FG. | V6: D/L | W6: B/L FG.
A7: 0090 | B7: R | C7: 0090-R (Black) | D7: 49058-0090 QT | E7: Pack BOX | F7: 0 | I7: =+F7-H7-G7 -> 0 | K7: =+I7-J7 -> 0 | M7: =+K7-L7 -> 0 | O7: =+M7-N7 -> 0 | Q7: =+O7-P7 -> 0 | S7: =+Q7-R7 -> 0 | U7: =+S7-T7 -> 0 | W7: =+U7-V7 -> 0
C8: 0090-R (Black) | D8: 49058-0090 QT | E8: Carry | F8: 162 | I8: =+F8-H8-G8 -> 162 | K8: =+I8-J8 -> 162 | M8: =+K8-L8 -> 162 | O8: =+M8-N8 -> 162 | Q8: =+O8-P8 -> 162 | S8: =+Q8-R8 -> 162 | U8: =+S8-T8 -> 162 | W8: =+U8-V8 -> 162
A9: 0558 | B9: R | C9: 0558-R (Black) | D9: 49058-0558 QT | E9: Carry | F9: 560 | H9: 80 | I9: =+F9-H9-G9 -> 480 | J9: 60 | K9: =+I9-J9 -> 420 | M9: =+K9-L9 -> 420 | O9: =+M9-N9 -> 420 | P9: 60 | Q9: =+O9-P9 -> 360 | R9: 60 | S9: =+Q9-R9 -> 300 | T9: 40 | U9: =+S9-T9 -> 260 | V9: 40 | W9: =+U9-V9 -> 220
C10: 0558-R (Black) | D10: 49058-0558 QT | E10: Pack BOX | F10: 20 | H10: 20 | I10: =+F10-H10-G10 -> 0 | K10: =+I10-J10 -> 0 | M10: =+K10-L10 -> 0 | O10: =+M10-N10 -> 0 | Q10: =+O10-P10 -> 0 | R10: 20 | S10: =+Q10-R10 -> -20 | U10: =+S10-T10 -> -20 | W10: =+U10-V10 -> -20
C11: 0558-R (Sticker Green) | D11: 49058-5079 QT | E11: Pack BOX | F11: 0 | I11: =+F11-H11-G11 -> 0 | K11: =+I11-J11 -> 0 | M11: =+K11-L11 -> 0 | O11: =+M11-N11 -> 0 | Q11: =+O11-P11 -> 0 | S11: =+Q11-R11 -> 0 | U11: =+S11-T11 -> 0 | W11: =+U11-V11 -> 0
C12: 0558-R (Sticker Green) | D12: 49058-5079 QT | E12: Carry | F12: 80 | H12: 20 | I12: =+F12-H12-G12 -> 60 | J12: 20 | K12: =+I12-J12 -> 40 | M12: =+K12-L12 -> 40 | O12: =+M12-N12 -> 40 | P12: 20 | Q12: =+O12-P12 -> 20 | R12: 20 | S12: =+Q12-R12 -> 0 | U12: =+S12-T12 -> 0 | V12: 20 | W12: =+U12-V12 -> -20
C13: 0558-R (Sticker Red) | D13: 49058-5081 QT | E13: Pack BOX | F13: 0 | I13: =+F13-H13-G13 -> 0 | K13: =+I13-J13 -> 0 | M13: =+K13-L13 -> 0 | O13: =+M13-N13 -> 0 | Q13: =+O13-P13 -> 0 | S13: =+Q13-R13 -> 0 | U13: =+S13-T13 -> 0 | W13: =+U13-V13 -> 0
C14: 0558-R (Sticker Red) | D14: 49058-5081 QT | E14: Carry | F14: 5 | I14: =+F14-H14-G14 -> 5 | K14: =+I14-J14 -> 5 | M14: =+K14-L14 -> 5 | O14: =+M14-N14 -> 5 | Q14: =+O14-P14 -> 5 | S14: =+Q14-R14 -> 5 | U14: =+S14-T14 -> 5 | W14: =+U14-V14 -> 5
C15: 0558-R (Sticker Green) | D15: 49058-5121 QT | E15: Carry | F15: 60 | H15: 20 | I15: =+F15-H15-G15 -> 40 | J15: 20 | K15: =+I15-J15 -> 20 | M15: =+K15-L15 -> 20 | O15: =+M15-N15 -> 20 | P15: 20 | Q15: =+O15-P15 -> 0 | S15: =+Q15-R15 -> 0 | T15: 60 | U15: =+S15-T15 -> -60 | V15: 40 | W15: =+U15-V15 -> -100
C16: 0558-R (Sticker Red) | D16: 49058-5125 QT | E16: Carry | F16: 20 | I16: =+F16-H16-G16 -> 20 | K16: =+I16-J16 -> 20 | M16: =+K16-L16 -> 20 | O16: =+M16-N16 -> 20 | Q16: =+O16-P16 -> 20 | R16: 20 | S16: =+Q16-R16 -> 0 | U16: =+S16-T16 -> 0 | W16: =+U16-V16 -> 0
C17: 0558-R (Sticker Orange) | D17: 49058-5127 QT | E17: Carry | F17: 40 | H17: 20 | I17: =+F17-H17-G17 -> 20 | J17: 20 | K17: =+I17-J17 -> 0 | M17: =+K17-L17 -> 0 | O17: =+M17-N17 -> 0 | Q17: =+O17-P17 -> 0 | S17: =+Q17-R17 -> 0 | T17: 40 | U17: =+S17-T17 -> -40 | W17: =+U17-V17 -> -40
C18: 0558-R (Sticker Red) | D18: 49058-5146 QT New | E18: Carry | F18: 0 | I18: =+F18-H18-G18 -> 0 | K18: =+I18-J18 -> 0 | M18: =+K18-L18 -> 0 | O18: =+M18-N18 -> 0 | Q18: =+O18-P18 -> 0 | S18: =+Q18-R18 -> 0 | U18: =+S18-T18 -> 0 | W18: =+U18-V18 -> 0
C19: 0558-R (Sticker Orange) | D19: 49058-5148 QT New | E19: Carry | F19: 0 | I19: =+F19-H19-G19 -> 0 | K19: =+I19-J19 -> 0 | M19: =+K19-L19 -> 0 | O19: =+M19-N19 -> 0 | Q19: =+O19-P19 -> 0 | S19: =+Q19-R19 -> 0 | U19: =+S19-T19 -> 0 | W19: =+U19-V19 -> 0
C20: 0558-R (Gold) | D20: 49058-0558 36C | E20: Carry | F20: 0 | I20: =+F20-H20-G20 -> 0 | K20: =+I20-J20 -> 0 | M20: =+K20-L20 -> 0 | O20: =+M20-N20 -> 0 | Q20: =+O20-P20 -> 0 | S20: =+Q20-R20 -> 0 | U20: =+S20-T20 -> 0 | W20: =+U20-V20 -> 0
C21: 0558P-R (Red) | D21: 49058-0558 35W | E21: Carry | F21: 0 | I21: =+F21-H21-G21 -> 0 | K21: =+I21-J21 -> 0 | M21: =+K21-L21 -> 0 | O21: =+M21-N21 -> 0 | Q21: =+O21-P21 -> 0 | S21: =+Q21-R21 -> 0 | U21: =+S21-T21 -> 0 | W21: =+U21-V21 -> 0
C22: 0558-R (Yellow) | D22: 49058-0558 35X | E22: Carry | F22: 6 | I22: =+F22-H22-G22 -> 6 | K22: =+I22-J22 -> 6 | M22: =+K22-L22 -> 6 | O22: =+M22-N22 -> 6 | Q22: =+O22-P22 -> 6 | S22: =+Q22-R22 -> 6 | U22: =+S22-T22 -> 6 | W22: =+U22-V22 -> 6
A23: 0112 | B23: F | C23: 0112-F (Black) | D23: 49058-0112 QT | E23: Carry | F23: 540 | I23: =+F23-H23-G23 -> 540 | K23: =+I23-J23 -> 540 | M23: =+K23-L23 -> 540 | O23: =+M23-N23 -> 540 | Q23: =+O23-P23 -> 540 | S23: =+Q23-R23 -> 540 | U23: =+S23-T23 -> 540 | W23: =+U23-V23 -> 540
C24: 0112-F (Gold) | D24: 49058-0112 36C | E24: Carry | F24: 75 | I24: =+F24-H24-G24 -> 75 | K24: =+I24-J24 -> 75 | M24: =+K24-L24 -> 75 | O24: =+M24-N24 -> 75 | Q24: =+O24-P24 -> 75 | S24: =+Q24-R24 -> 75 | U24: =+S24-T24 -> 75 | W24: =+U24-V24 -> 75
A25: 0113 | B25: R | C25: 0571-R (Black) | D25: 49058-0571 QT | E25: Carry | F25: 514 | I25: =+F25-H25-G25 -> 514 | K25: =+I25-J25 -> 514 | M25: =+K25-L25 -> 514 | O25: =+M25-N25 -> 514 | Q25: =+O25-P25 -> 514 | S25: =+Q25-R25 -> 514 | U25: =+S25-T25 -> 514 | W25: =+U25-V25 -> 514
C26: 0571-R (Gold) | D26: 49058-0571 36C | E26: Carry | F26: 57 | I26: =+F26-H26-G26 -> 57 | K26: =+I26-J26 -> 57 | M26: =+K26-L26 -> 57 | O26: =+M26-N26 -> 57 | Q26: =+O26-P26 -> 57 | S26: =+Q26-R26 -> 57 | U26: =+S26-T26 -> 57 | W26: =+U26-V26 -> 57
A27: 0587 | B27: R | C27: 0587-R (Black) | D27: 49058-0587 QT | E27: Carry | F27: 273 | I27: =+F27-H27-G27 -> 273 | K27: =+I27-J27 -> 273 | M27: =+K27-L27 -> 273 | O27: =+M27-N27 -> 273 | Q27: =+O27-P27 -> 273 | S27: =+Q27-R27 -> 273 | U27: =+S27-T27 -> 273 | W27: =+U27-V27 -> 273
C28: 0587-R (Black) | D28: 49058-0587 QT | E28: Pack BOX | F28: 500 | I28: =+F28-H28-G28 -> 500 | K28: =+I28-J28 -> 500 | M28: =+K28-L28 -> 500 | O28: =+M28-N28 -> 500 | Q28: =+O28-P28 -> 500 | S28: =+Q28-R28 -> 500 | U28: =+S28-T28 -> 500 | W28: =+U28-V28 -> 500
C29: 0587-R (Sticker Green) | D29: 49058-5039 QT | E29: Carry | F29: 20 | I29: =+F29-H29-G29 -> 20 | K29: =+I29-J29 -> 20 | M29: =+K29-L29 -> 20 | O29: =+M29-N29 -> 20 | Q29: =+O29-P29 -> 20 | S29: =+Q29-R29 -> 20 | U29: =+S29-T29 -> 20 | W29: =+U29-V29 -> 20
C30: 0587-R (Sticker Green) | D30: 49058-5039 QT | E30: Pack BOX | F30: 30 | I30: =+F30-H30-G30 -> 30 | K30: =+I30-J30 -> 30 | M30: =+K30-L30 -> 30 | O30: =+M30-N30 -> 30 | Q30: =+O30-P30 -> 30 | S30: =+Q30-R30 -> 30 | U30: =+S30-T30 -> 30 | W30: =+U30-V30 -> 30
C31: 0587-R (Sticker-Red) | D31: 49058-5041 QT | E31: Carry | F31: 40 | I31: =+F31-H31-G31 -> 40 | K31: =+I31-J31 -> 40 | M31: =+K31-L31 -> 40 | O31: =+M31-N31 -> 40 | Q31: =+O31-P31 -> 40 | S31: =+Q31-R31 -> 40 | U31: =+S31-T31 -> 40 | W31: =+U31-V31 -> 40
C32: 0587-R (Sticker-Red) | D32: 49058-5041 QT | E32: Pack BOX | F32: 20 | I32: =+F32-H32-G32 -> 20 | K32: =+I32-J32 -> 20 | M32: =+K32-L32 -> 20 | O32: =+M32-N32 -> 20 | Q32: =+O32-P32 -> 20 | S32: =+Q32-R32 -> 20 | U32: =+S32-T32 -> 20 | W32: =+U32-V32 -> 20
C33: 0587-R (Sticker Orange) | D33: 49058-5060 QT | E33: Carry | F33: 30 | I33: =+F33-H33-G33 -> 30 | K33: =+I33-J33 -> 30 | M33: =+K33-L33 -> 30 | O33: =+M33-N33 -> 30 | Q33: =+O33-P33 -> 30 | S33: =+Q33-R33 -> 30 | U33: =+S33-T33 -> 30 | W33: =+U33-V33 -> 30
C34: 0587-R (Sticker Orange) | D34: 49058-5060 QT | E34: Pack BOX | F34: 30 | I34: =+F34-H34-G34 -> 30 | K34: =+I34-J34 -> 30 | M34: =+K34-L34 -> 30 | O34: =+M34-N34 -> 30 | Q34: =+O34-P34 -> 30 | S34: =+Q34-R34 -> 30 | U34: =+S34-T34 -> 30 | W34: =+U34-V34 -> 30
C35: 0587-R (Sticker Green) | D35: 49058-5128 QT | E35: Carry | F35: 30 | I35: =+F35-H35-G35 -> 30 | K35: =+I35-J35 -> 30 | M35: =+K35-L35 -> 30 | O35: =+M35-N35 -> 30 | Q35: =+O35-P35 -> 30 | S35: =+Q35-R35 -> 30 | U35: =+S35-T35 -> 30 | W35: =+U35-V35 -> 30
C36: 0587-R (Sticker-Red) | D36: 49058-5130 QT | E36: Carry | F36: 0 | I36: =+F36-H36-G36 -> 0 | K36: =+I36-J36 -> 0 | M36: =+K36-L36 -> 0 | O36: =+M36-N36 -> 0 | Q36: =+O36-P36 -> 0 | S36: =+Q36-R36 -> 0 | U36: =+S36-T36 -> 0 | W36: =+U36-V36 -> 0
C37: 0587-R (Sticker Blue) | D37: 49058-5132 QT | E37: Carry | F37: 0 | I37: =+F37-H37-G37 -> 0 | K37: =+I37-J37 -> 0 | M37: =+K37-L37 -> 0 | O37: =+M37-N37 -> 0 | Q37: =+O37-P37 -> 0 | S37: =+Q37-R37 -> 0 | U37: =+S37-T37 -> 0 | W37: =+U37-V37 -> 0
A38: 0593 | B38: F | C38: 0593-F (Black) | D38: 49058-0593 R2 | E38: Carry | F38: 17 | I38: =+F38-H38-G38 -> 17 | K38: =+I38-J38 -> 17 | M38: =+K38-L38 -> 17 | O38: =+M38-N38 -> 17 | Q38: =+O38-P38 -> 17 | S38: =+Q38-R38 -> 17 | U38: =+S38-T38 -> 17 | W38: =+U38-V38 -> 17
A39: 0594 | B39: R | C39: 0594-R (Black) | D39: 49058-0594 QT | E39: Carry | F39: 159 | I39: =+F39-H39-G39 -> 159 | K39: =+I39-J39 -> 159 | M39: =+K39-L39 -> 159 | O39: =+M39-N39 -> 159 | Q39: =+O39-P39 -> 159 | S39: =+Q39-R39 -> 159 | U39: =+S39-T39 -> 159 | W39: =+U39-V39 -> 159
F40: =SUM(F7:F39) -> 3288 | G40: =SUM(G7:G39) -> 0 | H40: =SUM(H7:H39) -> 160 | I40: =SUM(I7:I39) -> 3128 | J40: =SUM(J7:J39) -> 120 | K40: =SUM(K7:K39) -> 3008 | L40: =SUM(L7:L39) -> 0 | M40: =SUM(M7:M39) -> 3008 | ... W40: =SUM(W7:W39) -> 2548
