Workbook

Sheet Sheet1
D2: Receive | J2: Sale | N2: Stock
B3: Model | C3: 1 | D3: 2 | E3: 3 | F3: 4 | H3: Model | I3: 1 | J3: 2 | K3: 3 | L3: 4 | N3: Model | O3: BG.Stock
B4: A | C4: 3 | D4: 3 | E4: 5 | F4: 10 | H4: A | I4: 20 | J4: 5 | K4: 4 | L4: 1 | N4: A | O4: 20
B5: B | C5: 6 | D5: 6 | E5: 5 | F5: 5 | H5: B | I5: 10 | J5: 5 | K5: 8 | L5: 5 | N5: B | O5: 10
B6: C | C6: 9 | D6: 9 | E6: 5 | F6: 2 | H6: C | I6: 5 | J6: 10 | K6: 3 | L6: 8 | N6: C | O6: 5
B7: D | C7: 8 | D7: 8 | E7: 5 | F7: 5 | H7: D | I7: 10 | J7: 10 | K7: 2 | L7: 9 | N7: D | O7: 10
B8: E | C8: 7 | D8: 7 | E8: 5 | F8: 30 | H8: E | I8: 5 | J8: 20 | K8: 5 | L8: 1 | N8: E | O8: 15
B9: F | C9: 4 | D9: 4 | E9: 5 | F9: 1 | H9: F | I9: 25 | J9: 25 | K9: 6 | L9: 2 | N9: F | O9: 45
B10: Total | C10: =SUM(C4:C9) -> 37 | D10: =SUM(D4:D9) -> 37 | E10: =SUM(E4:E9) -> 30 | F10: =SUM(F4:F9) -> 53 | H10: Total | I10: =SUM(I4:I9) -> 75 | J10: =SUM(J4:J9) -> 75 | K10: =SUM(K4:K9) -> 28 | L10: =SUM(L4:L9) -> 26 | N10: Total | O10: =SUM(O4:O9) -> 105
D12: 42186 | G12: 42187 | J12: 42188 | M12: 42189
B13: Model | C13: BG.Stock | D13: Rec. | E13: Sale | F13: Stock | G13: Rec. | H13: Sale | I13: Stock | J13: Rec. | K13: Sale | L13: Stock | M13: Rec. | N13: Sale | O13: Stock
B14: A | C14: =+O4 -> 20 | D14: =+C4 -> 3 | E14: =+I4 -> 20 | F14: =C14+D14-E14 -> 3 | G14: =+D4 -> 3 | H14: =+J4 -> 5 | I14: =F14+G14-H14 -> 1 | J14: =+E4 -> 5 | K14: =+K4 -> 4 | L14: =I14+J14-K14 -> 2 | M14: =+F4 -> 10 | N14: =+L4 -> 1 | O14: =L14+M14-N14 -> 11
B15: B | C15: =+O5 -> 10 | D15: =+C5 -> 6 | E15: =+I5 -> 10 | F15: =C15+D15-E15 -> 6 | G15: =+D5 -> 6 | H15: =+J5 -> 5 | I15: =F15+G15-H15 -> 7 | J15: =+E5 -> 5 | K15: =+K5 -> 8 | L15: =I15+J15-K15 -> 4 | M15: =+F5 -> 5 | N15: =+L5 -> 5 | O15: =L15+M15-N15 -> 4
B16: C | C16: =+O6 -> 5 | D16: =+C6 -> 9 | E16: =+I6 -> 5 | F16: =C16+D16-E16 -> 9 | G16: =+D6 -> 9 | H16: =+J6 -> 10 | I16: =F16+G16-H16 -> 8 | J16: =+E6 -> 5 | K16: =+K6 -> 3 | L16: =I16+J16-K16 -> 10 | M16: =+F6 -> 2 | N16: =+L6 -> 8 | O16: =L16+M16-N16 -> 4
B17: D | C17: =+O7 -> 10 | D17: =+C7 -> 8 | E17: =+I7 -> 10 | F17: =C17+D17-E17 -> 8 | G17: =+D7 -> 8 | H17: =+J7 -> 10 | I17: =F17+G17-H17 -> 6 | J17: =+E7 -> 5 | K17: =+K7 -> 2 | L17: =I17+J17-K17 -> 9 | M17: =+F7 -> 5 | N17: =+L7 -> 9 | O17: =L17+M17-N17 -> 5
B18: E | C18: =+O8 -> 15 | D18: =+C8 -> 7 | E18: =+I8 -> 5 | F18: =C18+D18-E18 -> 17 | G18: =+D8 -> 7 | H18: =+J8 -> 20 | I18: =F18+G18-H18 -> 4 | J18: =+E8 -> 5 | K18: =+K8 -> 5 | L18: =I18+J18-K18 -> 4 | M18: =+F8 -> 30 | N18: =+L8 -> 1 | O18: =L18+M18-N18 -> 33
B19: F | C19: =+O9 -> 45 | D19: =+C9 -> 4 | E19: =+I9 -> 25 | F19: =C19+D19-E19 -> 24 | G19: =+D9 -> 4 | H19: =+J9 -> 25 | I19: =F19+G19-H19 -> 3 | J19: =+E9 -> 5 | K19: =+K9 -> 6 | L19: =I19+J19-K19 -> 2 | M19: =+F9 -> 1 | N19: =+L9 -> 2 | O19: =L19+M19-N19 -> 1
B20: Total | C20: =SUM(C14:C19) -> 105 | D20: =SUM(D14:D19) -> 37 | E20: =SUM(E14:E19) -> 75 | F20: =SUM(F14:F19) -> 67 | G20: =SUM(G14:G19) -> 37 | H20: =SUM(H14:H19) -> 75 | I20: =SUM(I14:I19) -> 29 | J20: =SUM(J14:J19) -> 30 | ... O20: =SUM(O14:O19) -> 58

Sheet Sheet2
D2: 42186 | F2: 42187 | H2: 42188 | J2: 42189
B3: Model | C3: BG.Stock | D3: Sale | E3: Stock | F3: Sale | G3: Stock | H3: Sale | I3: Stock | J3: Sale | K3: Stock
B4: A | C4: =+Sheet1!C14 -> 20 | D4: =+Sheet1!I4 -> 20 | E4: =+Sheet1!F14 -> 3 | F4: =+Sheet1!J4 -> 5 | G4: =+Sheet1!I14 -> 1 | H4: =+Sheet1!K4 -> 4 | I4: =+Sheet1!L14 -> 2 | J4: =+Sheet1!L4 -> 1 | K4: =+Sheet1!O14 -> 11
B5: B | C5: =+Sheet1!C15 -> 10 | D5: =+Sheet1!I5 -> 10 | E5: =+Sheet1!F15 -> 6 | F5: =+Sheet1!J5 -> 5 | G5: =+Sheet1!I15 -> 7 | H5: =+Sheet1!K5 -> 8 | I5: =+Sheet1!L15 -> 4 | J5: =+Sheet1!L5 -> 5 | K5: =+Sheet1!O15 -> 4
B6: C | C6: =+Sheet1!C16 -> 5 | D6: =+Sheet1!I6 -> 5 | E6: =+Sheet1!F16 -> 9 | F6: =+Sheet1!J6 -> 10 | G6: =+Sheet1!I16 -> 8 | H6: =+Sheet1!K6 -> 3 | I6: =+Sheet1!L16 -> 10 | J6: =+Sheet1!L6 -> 8 | K6: =+Sheet1!O16 -> 4
B7: D | C7: =+Sheet1!C17 -> 10 | D7: =+Sheet1!I7 -> 10 | E7: =+Sheet1!F17 -> 8 | F7: =+Sheet1!J7 -> 10 | G7: =+Sheet1!I17 -> 6 | H7: =+Sheet1!K7 -> 2 | I7: =+Sheet1!L17 -> 9 | J7: =+Sheet1!L7 -> 9 | K7: =+Sheet1!O17 -> 5
B8: E | C8: =+Sheet1!C18 -> 15 | D8: =+Sheet1!I8 -> 5 | E8: =+Sheet1!F18 -> 17 | F8: =+Sheet1!J8 -> 20 | G8: =+Sheet1!I18 -> 4 | H8: =+Sheet1!K8 -> 5 | I8: =+Sheet1!L18 -> 4 | J8: =+Sheet1!L8 -> 1 | K8: =+Sheet1!O18 -> 33
B9: F | C9: =+Sheet1!C19 -> 45 | D9: =+Sheet1!I9 -> 25 | E9: =+Sheet1!F19 -> 24 | F9: =+Sheet1!J9 -> 25 | G9: =+Sheet1!I19 -> 3 | H9: =+Sheet1!K9 -> 6 | I9: =+Sheet1!L19 -> 2 | J9: =+Sheet1!L9 -> 2 | K9: =+Sheet1!O19 -> 1
B10: Total | C10: =SUM(C4:C9) -> 105 | D10: =SUM(D4:D9) -> 75 | E10: =SUM(E4:E9) -> 67 | F10: =SUM(F4:F9) -> 75 | G10: =SUM(G4:G9) -> 29 | H10: =SUM(H4:H9) -> 28 | I10: =SUM(I4:I9) -> 31 | J10: =SUM(J4:J9) -> 26 | K10: =SUM(K4:K9) -> 58
G14: 42187 | I14: 42188
E15: Model | F15: BG.Stock | G15: Sale | H15: Stock | I15: Sale | J15: Stock
E16: A | F16: =+E4 -> 3 | G16: 5 | H16: 1 | I16: 4 | J16: 2
E17: B | F17: =+E5 -> 6 | G17: 5 | H17: 7 | I17: 8 | J17: 4
E18: C | F18: =+E6 -> 9 | G18: 10 | H18: 8 | I18: 3 | J18: 10
E19: D | F19: =+E7 -> 8 | G19: 10 | H19: 6 | I19: 2 | J19: 9
E20: E | F20: =+E8 -> 17 | G20: 20 | H20: 4 | I20: 5 | J20: 4
E21: F | F21: =+E9 -> 24 | G21: 25 | H21: 3 | I21: 6 | J21: 2
E22: Total | F22: =SUM(F16:F21) -> 67 | G22: 75 | H22: 29 | I22: 28 | J22: 31

Sheet Sheet3
A1: Date | B1: Model | C1: Transaction | D1: Qty
A2: 42186 | B2: A | C2: Openning Bal | D2: 20
A3: 42186 | B3: B | C3: Openning Bal | D3: 10 | F3: Sum of Qty | G3: Column Labels
A4: 42186 | B4: C | C4: Openning Bal | D4: 5 | G4: 42186 | J4: 1/7/2015 Total | K4: 42187 | N4: 2/7/2015 Total
A5: 42186 | B5: D | C5: Openning Bal | D5: 10 | F5: Row Labels | G5: Openning Bal | H5: Received | I5: Sale | K5: Openning Bal | L5: Received | M5: Sale
A6: 42186 | B6: E | C6: Openning Bal | D6: 15 | F6: A | G6: 20 | H6: 3 | I6: -20 | J6: 3 | K6: 3 | L6: 3 | M6: -5 | N6: 1
A7: 42186 | B7: F | C7: Openning Bal | D7: 45 | F7: B | G7: 10 | H7: 6 | I7: -10 | J7: 6 | K7: 6 | L7: 6 | M7: -5 | N7: 7
A8: 42186 | B8: A | C8: Received | D8: 3 | F8: C | G8: 5 | H8: 9 | I8: -5 | J8: 9 | K8: 9 | L8: 9 | M8: -10 | N8: 8
A9: 42186 | B9: B | C9: Received | D9: 6 | F9: D | G9: 10 | H9: 8 | I9: -10 | J9: 8 | K9: 8 | L9: 8 | M9: -10 | N9: 6
A10: 42186 | B10: C | C10: Received | D10: 9 | F10: E | G10: 15 | H10: 7 | I10: -5 | J10: 17 | K10: 17 | L10: 7 | M10: -20 | N10: 4
A11: 42186 | B11: D | C11: Received | D11: 8 | F11: F | G11: 45 | H11: 4 | I11: -25 | J11: 24 | K11: 24 | L11: 4 | M11: -25 | N11: 3
A12: 42186 | B12: E | C12: Received | D12: 7
A13: 42186 | B13: F | C13: Received | D13: 4
A14: 42186 | B14: A | C14: Sale | D14: -20
A15: 42186 | B15: B | C15: Sale | D15: -10
A16: 42186 | B16: C | C16: Sale | D16: -5
A17: 42186 | B17: D | C17: Sale | D17: -10
A18: 42186 | B18: E | C18: Sale | D18: -5
A19: 42186 | B19: F | C19: Sale | D19: -25
A20: 42187 | B20: A | C20: Openning Bal | D20: 3
A21: 42187 | B21: B | C21: Openning Bal | D21: 6
A22: 42187 | B22: C | C22: Openning Bal | D22: 9
A23: 42187 | B23: D | C23: Openning Bal | D23: 8
... A37: 42187 | B37: F | C37: Sale | D37: -25
