Workbook

Sheet DATA EXPRESS
A1: _x0012__x001B_g
A5: บจก. ซีอาร์ซี ไทวัสดุ (สาขาคลังสินค้า วังน้อย) สาขาที่00052 VW0000493
A6: เลขที่ 345 หมู่่ที่ 5 ต.บ่อตาโล่ อ.วังน้อย 25/02/59
A7: จ.พระนครศรีอยุธยา 13170 (ลูกค้า) เลขผู้เสียภาษีNo,0105555021215
A11: 1 8856894704300. ประตูGOLD KG10 80*200ขาว ลูกฟัก4เต็ม 99 9.00 บาน 2340.00 3% 20428.20
A13: 2 8858594001529 บานซิงค์ใต้เตา 50cm. NEOคู่ขาว 99 5.00 ชุด 1474.00 4% 7075.20
A15: 3 8858594001420. ประตูGOLD KG07 80*200ขาวPS BOARD 99 1.00 บาน 2340.00 3% 2269.80
A17: 4 8858594002663 บานซิงค์ใต้เตา 50cmเซ็นคู่ขาว 99 2.00 ชุด 1474.00 4% 2830.08
A19: 5 8858594010026 Bบานซิงค์Q.เดียวเกล็ดมณีขาว มือจับซิงค์99 29.00 ชุด 603.00 5% 16612.65
A21: 6 8858594004001 ชั้นจบมุม สีขาว 99 3.00 ชุด 648.00 3% 1885.68
A23: 7 8858594004285 บานซิงค์ถังแก็สเซ็น ขาว 99 1.00 ชุด 1139.00 4% 1093.44
A25: 8 8858594004698 วงกบประตู KING 70*200ขาวPolyvinyl Foam 99 15.00 วง 720.00 5% 10260.00
... A102: ผู้อนุมัติ A-ICE 25/02/59

Sheet ผลลัพธ์
A1: VW0000493 | B1: 8856894704300 | C1: ประตูGOLD KG10 80*200ขาว ลูกฟัก4เต็ม | D1: 9
A2: VW0000493 | B2: 8858594001420 | C2: ประตูGOLD KG07 80*200ขาวPS BOARD | D2: 1
A3: VW0000493 | B3: 8858594001420 | C3: ประตูGOLD KG07 80*200ขาวPS BOARD | D3: 5
A4: VW0000493 | B4: 8858594001468 | C4: บานซิงค์ 60cm NEOคู่ขาว | D4: 2
A5: VW0000493 | B5: 8858594001529 | C5: บานซิงค์ใต้เตา 50cm NEOคู่ขาว | D5: 5
A6: VW0000493 | B6: 8858594002649 | C6: บานซิงค์ใต้เตา 50cmการ์เซียคู่ขาว | D6: 1
A7: VW0000493 | B7: 8858594002663 | C7: บานซิงค์ใต้เตา 50cmเซ็นคู่ขาว | D7: 2
A8: VW0000493 | B8: 8858594004001 | C8: ชั้นจบมุม สีขาว | D8: 3
A9: VW0000493 | B9: 8858594004261 | C9: บานซิงค์ถังแก็สนีโอขาว | D9: 11
A10: VW0000493 | B10: 8858594004285 | C10: บานซิงค์ถังแก็สเซ็น ขาว | D10: 1
A11: VW0000493 | B11: 8858594004698 | C11: วงกบประตู KING 70*200ขาวPolyvinyl Foa | D11: 15
A12: VW0000493 | B12: 8858594009976 | C12: Bบานซิงค์Qคู่เกล็ดมณีขาว มือจับซิงค์ | D12: 41
A13: VW0000493 | B13: 8858594010026 | C13: Bบานซิงค์Qเดียวเกล็ดมณีขาว มือจับซิง | D13: 29

Sheet Formula
A1: Col Start | B1: 7 | C1: 21 | D1: 66 | F1: =INDEX('DATA EXPRESS'!$A$1:$A$1000,LOOKUP(1,1/ISNUMBER(SEARCH($G$2,'DATA EXPRESS'!$A$1:$A$1000)),ROW('DATA EXPRESS'!$A$1:$A$1000))) -> บจก. ซีอาร์ซี ไทวัสดุ (สาขาคลังสินค้า วังน้อย) สาขาที่00052 VW0000493 | H1: =IF(ISNUMBER(--MID('DATA EXPRESS'!$A1,1,5)),IF(ISNUMBER(--MID('DATA EXPRESS'!$A1,B$1,B$2)),--MID('DATA EXPRESS'!$A1,B$1,B$2),TRIM(MID('DATA EXPRESS'!$A1,B$1,B$2))),"") | I1: =IF(ISNUMBER(--MID('DATA EXPRESS'!$A1,1,5)),IF(ISNUMBER(--MID('DATA EXPRESS'!$A1,C$1,C$2)),--MID('DATA EXPRESS'!$A1,C$1,C$2),TRIM(MID('DATA EXPRESS'!$A1,C$1,C$2))),"") | J1: =IF(ISNUMBER(--MID('DATA EXPRESS'!$A1,1,5)),IF(ISNUMBER(--MID('DATA EXPRESS'!$A1,D$1,D$2)),--MID('DATA EXPRESS'!$A1,D$1,D$2),TRIM(MID('DATA EXPRESS'!$A1,D$1,D$2))),"") | K1: =IF(OR(H1="",COUNTIFS(H$1:H1,H1,I$1:I1,I1,J$1:J1,J1)>1),"",ROWS(J$1:J1))
A2: Chars | B2: 13 | C2: =59-21 -> 38 | D2: 8 | F2: Invoice no. | G2: VW | H2: =IF(ISNUMBER(--MID('DATA EXPRESS'!$A2,1,5)),IF(ISNUMBER(--MID('DATA EXPRESS'!$A2,B$1,B$2)),--MID('DATA EXPRESS'!$A2,B$1,B$2),TRIM(MID('DATA EXPRESS'!$A2,B$1,B$2))),"") | I2: =IF(ISNUMBER(--MID('DATA EXPRESS'!$A2,1,5)),IF(ISNUMBER(--MID('DATA EXPRESS'!$A2,C$1,C$2)),--MID('DATA EXPRESS'!$A2,C$1,C$2),TRIM(MID('DATA EXPRESS'!$A2,C$1,C$2))),"") | J2: =IF(ISNUMBER(--MID('DATA EXPRESS'!$A2,1,5)),IF(ISNUMBER(--MID('DATA EXPRESS'!$A2,D$1,D$2)),--MID('DATA EXPRESS'!$A2,D$1,D$2),TRIM(MID('DATA EXPRESS'!$A2,D$1,D$2))),"") | K2: =IF(OR(H2="",COUNTIFS(H$1:H2,H2,I$1:I2,I2,J$1:J2,J2)>1),"",ROWS(J$1:J2))
F3: =MID(F1,SEARCH(G2,F1),9) -> VW0000493 | H3: =IF(ISNUMBER(--MID('DATA EXPRESS'!$A3,1,5)),IF(ISNUMBER(--MID('DATA EXPRESS'!$A3,B$1,B$2)),--MID('DATA EXPRESS'!$A3,B$1,B$2),TRIM(MID('DATA EXPRESS'!$A3,B$1,B$2))),"") | I3: =IF(ISNUMBER(--MID('DATA EXPRESS'!$A3,1,5)),IF(ISNUMBER(--MID('DATA EXPRESS'!$A3,C$1,C$2)),--MID('DATA EXPRESS'!$A3,C$1,C$2),TRIM(MID('DATA EXPRESS'!$A3,C$1,C$2))),"") | J3: =IF(ISNUMBER(--MID('DATA EXPRESS'!$A3,1,5)),IF(ISNUMBER(--MID('DATA EXPRESS'!$A3,D$1,D$2)),--MID('DATA EXPRESS'!$A3,D$1,D$2),TRIM(MID('DATA EXPRESS'!$A3,D$1,D$2))),"") | K3: =IF(OR(H3="",COUNTIFS(H$1:H3,H3,I$1:I3,I3,J$1:J3,J3)>1),"",ROWS(J$1:J3))
A4: =IF(B4<>"",$F$3,"") -> VW0000493 | B4: =IFERROR(INDEX(H$1:H$250,SMALL($K$1:$K$250,ROWS(B$4:B4))),"") -> 8856894704300 | C4: =IFERROR(INDEX(I$1:I$250,SMALL($K$1:$K$250,ROWS(C$4:C4))),"") -> ประตูGOLD KG10 80*200ขาว ลูกฟัก4เต็ม | D4: =IFERROR(INDEX(J$1:J$250,SMALL($K$1:$K$250,ROWS(D$4:D4))),"") -> 9 | H4: =IF(ISNUMBER(--MID('DATA EXPRESS'!$A4,1,5)),IF(ISNUMBER(--MID('DATA EXPRESS'!$A4,B$1,B$2)),--MID('DATA EXPRESS'!$A4,B$1,B$2),TRIM(MID('DATA EXPRESS'!$A4,B$1,B$2))),"") | I4: =IF(ISNUMBER(--MID('DATA EXPRESS'!$A4,1,5)),IF(ISNUMBER(--MID('DATA EXPRESS'!$A4,C$1,C$2)),--MID('DATA EXPRESS'!$A4,C$1,C$2),TRIM(MID('DATA EXPRESS'!$A4,C$1,C$2))),"") | J4: =IF(ISNUMBER(--MID('DATA EXPRESS'!$A4,1,5)),IF(ISNUMBER(--MID('DATA EXPRESS'!$A4,D$1,D$2)),--MID('DATA EXPRESS'!$A4,D$1,D$2),TRIM(MID('DATA EXPRESS'!$A4,D$1,D$2))),"") | K4: =IF(OR(H4="",COUNTIFS(H$1:H4,H4,I$1:I4,I4,J$1:J4,J4)>1),"",ROWS(J$1:J4))
A5: =IF(B5<>"",$F$3,"") -> VW0000493 | B5: =IFERROR(INDEX(H$1:H$250,SMALL($K$1:$K$250,ROWS(B$4:B5))),"") -> 8858594001529 | C5: =IFERROR(INDEX(I$1:I$250,SMALL($K$1:$K$250,ROWS(C$4:C5))),"") -> บานซิงค์ใต้เตา 50cm. NEOคู่ขาว | D5: =IFERROR(INDEX(J$1:J$250,SMALL($K$1:$K$250,ROWS(D$4:D5))),"") -> 5 | H5: =IF(ISNUMBER(--MID('DATA EXPRESS'!$A5,1,5)),IF(ISNUMBER(--MID('DATA EXPRESS'!$A5,B$1,B$2)),--MID('DATA EXPRESS'!$A5,B$1,B$2),TRIM(MID('DATA EXPRESS'!$A5,B$1,B$2))),"") | I5: =IF(ISNUMBER(--MID('DATA EXPRESS'!$A5,1,5)),IF(ISNUMBER(--MID('DATA EXPRESS'!$A5,C$1,C$2)),--MID('DATA EXPRESS'!$A5,C$1,C$2),TRIM(MID('DATA EXPRESS'!$A5,C$1,C$2))),"") | J5: =IF(ISNUMBER(--MID('DATA EXPRESS'!$A5,1,5)),IF(ISNUMBER(--MID('DATA EXPRESS'!$A5,D$1,D$2)),--MID('DATA EXPRESS'!$A5,D$1,D$2),TRIM(MID('DATA EXPRESS'!$A5,D$1,D$2))),"") | K5: =IF(OR(H5="",COUNTIFS(H$1:H5,H5,I$1:I5,I5,J$1:J5,J5)>1),"",ROWS(J$1:J5))
A6: =IF(B6<>"",$F$3,"") -> VW0000493 | B6: =IFERROR(INDEX(H$1:H$250,SMALL($K$1:$K$250,ROWS(B$4:B6))),"") -> 8858594001420 | C6: =IFERROR(INDEX(I$1:I$250,SMALL($K$1:$K$250,ROWS(C$4:C6))),"") -> ประตูGOLD KG07 80*200ขาวPS BOARD | D6: =IFERROR(INDEX(J$1:J$250,SMALL($K$1:$K$250,ROWS(D$4:D6))),"") -> 1 | H6: =IF(ISNUMBER(--MID('DATA EXPRESS'!$A6,1,5)),IF(ISNUMBER(--MID('DATA EXPRESS'!$A6,B$1,B$2)),--MID('DATA EXPRESS'!$A6,B$1,B$2),TRIM(MID('DATA EXPRESS'!$A6,B$1,B$2))),"") | I6: =IF(ISNUMBER(--MID('DATA EXPRESS'!$A6,1,5)),IF(ISNUMBER(--MID('DATA EXPRESS'!$A6,C$1,C$2)),--MID('DATA EXPRESS'!$A6,C$1,C$2),TRIM(MID('DATA EXPRESS'!$A6,C$1,C$2))),"") | J6: =IF(ISNUMBER(--MID('DATA EXPRESS'!$A6,1,5)),IF(ISNUMBER(--MID('DATA EXPRESS'!$A6,D$1,D$2)),--MID('DATA EXPRESS'!$A6,D$1,D$2),TRIM(MID('DATA EXPRESS'!$A6,D$1,D$2))),"") | K6: =IF(OR(H6="",COUNTIFS(H$1:H6,H6,I$1:I6,I6,J$1:J6,J6)>1),"",ROWS(J$1:J6))
A7: =IF(B7<>"",$F$3,"") -> VW0000493 | B7: =IFERROR(INDEX(H$1:H$250,SMALL($K$1:$K$250,ROWS(B$4:B7))),"") -> 8858594002663 | C7: =IFERROR(INDEX(I$1:I$250,SMALL($K$1:$K$250,ROWS(C$4:C7))),"") -> บานซิงค์ใต้เตา 50cmเซ็นคู่ขาว | D7: =IFERROR(INDEX(J$1:J$250,SMALL($K$1:$K$250,ROWS(D$4:D7))),"") -> 2 | H7: =IF(ISNUMBER(--MID('DATA EXPRESS'!$A7,1,5)),IF(ISNUMBER(--MID('DATA EXPRESS'!$A7,B$1,B$2)),--MID('DATA EXPRESS'!$A7,B$1,B$2),TRIM(MID('DATA EXPRESS'!$A7,B$1,B$2))),"") | I7: =IF(ISNUMBER(--MID('DATA EXPRESS'!$A7,1,5)),IF(ISNUMBER(--MID('DATA EXPRESS'!$A7,C$1,C$2)),--MID('DATA EXPRESS'!$A7,C$1,C$2),TRIM(MID('DATA EXPRESS'!$A7,C$1,C$2))),"") | J7: =IF(ISNUMBER(--MID('DATA EXPRESS'!$A7,1,5)),IF(ISNUMBER(--MID('DATA EXPRESS'!$A7,D$1,D$2)),--MID('DATA EXPRESS'!$A7,D$1,D$2),TRIM(MID('DATA EXPRESS'!$A7,D$1,D$2))),"") | K7: =IF(OR(H7="",COUNTIFS(H$1:H7,H7,I$1:I7,I7,J$1:J7,J7)>1),"",ROWS(J$1:J7))
A8: =IF(B8<>"",$F$3,"") -> VW0000493 | B8: =IFERROR(INDEX(H$1:H$250,SMALL($K$1:$K$250,ROWS(B$4:B8))),"") -> 8858594010026 | C8: =IFERROR(INDEX(I$1:I$250,SMALL($K$1:$K$250,ROWS(C$4:C8))),"") -> Bบานซิงค์Q.เดียวเกล็ดมณีขาว มือจับซิงค | D8: =IFERROR(INDEX(J$1:J$250,SMALL($K$1:$K$250,ROWS(D$4:D8))),"") -> 29 | H8: =IF(ISNUMBER(--MID('DATA EXPRESS'!$A8,1,5)),IF(ISNUMBER(--MID('DATA EXPRESS'!$A8,B$1,B$2)),--MID('DATA EXPRESS'!$A8,B$1,B$2),TRIM(MID('DATA EXPRESS'!$A8,B$1,B$2))),"") | I8: =IF(ISNUMBER(--MID('DATA EXPRESS'!$A8,1,5)),IF(ISNUMBER(--MID('DATA EXPRESS'!$A8,C$1,C$2)),--MID('DATA EXPRESS'!$A8,C$1,C$2),TRIM(MID('DATA EXPRESS'!$A8,C$1,C$2))),"") | J8: =IF(ISNUMBER(--MID('DATA EXPRESS'!$A8,1,5)),IF(ISNUMBER(--MID('DATA EXPRESS'!$A8,D$1,D$2)),--MID('DATA EXPRESS'!$A8,D$1,D$2),TRIM(MID('DATA EXPRESS'!$A8,D$1,D$2))),"") | K8: =IF(OR(H8="",COUNTIFS(H$1:H8,H8,I$1:I8,I8,J$1:J8,J8)>1),"",ROWS(J$1:J8))
A9: =IF(B9<>"",$F$3,"") -> VW0000493 | B9: =IFERROR(INDEX(H$1:H$250,SMALL($K$1:$K$250,ROWS(B$4:B9))),"") -> 8858594004001 | C9: =IFERROR(INDEX(I$1:I$250,SMALL($K$1:$K$250,ROWS(C$4:C9))),"") -> ชั้นจบมุม สีขาว | D9: =IFERROR(INDEX(J$1:J$250,SMALL($K$1:$K$250,ROWS(D$4:D9))),"") -> 3 | H9: =IF(ISNUMBER(--MID('DATA EXPRESS'!$A9,1,5)),IF(ISNUMBER(--MID('DATA EXPRESS'!$A9,B$1,B$2)),--MID('DATA EXPRESS'!$A9,B$1,B$2),TRIM(MID('DATA EXPRESS'!$A9,B$1,B$2))),"") | I9: =IF(ISNUMBER(--MID('DATA EXPRESS'!$A9,1,5)),IF(ISNUMBER(--MID('DATA EXPRESS'!$A9,C$1,C$2)),--MID('DATA EXPRESS'!$A9,C$1,C$2),TRIM(MID('DATA EXPRESS'!$A9,C$1,C$2))),"") | J9: =IF(ISNUMBER(--MID('DATA EXPRESS'!$A9,1,5)),IF(ISNUMBER(--MID('DATA EXPRESS'!$A9,D$1,D$2)),--MID('DATA EXPRESS'!$A9,D$1,D$2),TRIM(MID('DATA EXPRESS'!$A9,D$1,D$2))),"") | K9: =IF(OR(H9="",COUNTIFS(H$1:H9,H9,I$1:I9,I9,J$1:J9,J9)>1),"",ROWS(J$1:J9))
A10: =IF(B10<>"",$F$3,"") -> VW0000493 | B10: =IFERROR(INDEX(H$1:H$250,SMALL($K$1:$K$250,ROWS(B$4:B10))),"") -> 8858594004285 | C10: =IFERROR(INDEX(I$1:I$250,SMALL($K$1:$K$250,ROWS(C$4:C10))),"") -> บานซิงค์ถังแก็สเซ็น ขาว | D10: =IFERROR(INDEX(J$1:J$250,SMALL($K$1:$K$250,ROWS(D$4:D10))),"") -> 1 | H10: =IF(ISNUMBER(--MID('DATA EXPRESS'!$A10,1,5)),IF(ISNUMBER(--MID('DATA EXPRESS'!$A10,B$1,B$2)),--MID('DATA EXPRESS'!$A10,B$1,B$2),TRIM(MID('DATA EXPRESS'!$A10,B$1,B$2))),"") | I10: =IF(ISNUMBER(--MID('DATA EXPRESS'!$A10,1,5)),IF(ISNUMBER(--MID('DATA EXPRESS'!$A10,C$1,C$2)),--MID('DATA EXPRESS'!$A10,C$1,C$2),TRIM(MID('DATA EXPRESS'!$A10,C$1,C$2))),"") | J10: =IF(ISNUMBER(--MID('DATA EXPRESS'!$A10,1,5)),IF(ISNUMBER(--MID('DATA EXPRESS'!$A10,D$1,D$2)),--MID('DATA EXPRESS'!$A10,D$1,D$2),TRIM(MID('DATA EXPRESS'!$A10,D$1,D$2))),"") | K10: =IF(OR(H10="",COUNTIFS(H$1:H10,H10,I$1:I10,I10,J$1:J10,J10)>1),"",ROWS(J$1:J10))
A11: =IF(B11<>"",$F$3,"") -> VW0000493 | B11: =IFERROR(INDEX(H$1:H$250,SMALL($K$1:$K$250,ROWS(B$4:B11))),"") -> 8858594004698 | C11: =IFERROR(INDEX(I$1:I$250,SMALL($K$1:$K$250,ROWS(C$4:C11))),"") -> วงกบประตู KING 70*200ขาวPolyvinyl Foam | D11: =IFERROR(INDEX(J$1:J$250,SMALL($K$1:$K$250,ROWS(D$4:D11))),"") -> 15 | H11: =IF(ISNUMBER(--MID('DATA EXPRESS'!$A11,1,5)),IF(ISNUMBER(--MID('DATA EXPRESS'!$A11,B$1,B$2)),--MID('DATA EXPRESS'!$A11,B$1,B$2),TRIM(MID('DATA EXPRESS'!$A11,B$1,B$2))),"") -> 8856894704300 | I11: =IF(ISNUMBER(--MID('DATA EXPRESS'!$A11,1,5)),IF(ISNUMBER(--MID('DATA EXPRESS'!$A11,C$1,C$2)),--MID('DATA EXPRESS'!$A11,C$1,C$2),TRIM(MID('DATA EXPRESS'!$A11,C$1,C$2))),"") -> ประตูGOLD KG10 80*200ขาว ลูกฟัก4เต็ม | J11: =IF(ISNUMBER(--MID('DATA EXPRESS'!$A11,1,5)),IF(ISNUMBER(--MID('DATA EXPRESS'!$A11,D$1,D$2)),--MID('DATA EXPRESS'!$A11,D$1,D$2),TRIM(MID('DATA EXPRESS'!$A11,D$1,D$2))),"") -> 9 | K11: =IF(OR(H11="",COUNTIFS(H$1:H11,H11,I$1:I11,I11,J$1:J11,J11)>1),"",ROWS(J$1:J11)) -> 11
A12: =IF(B12<>"",$F$3,"") -> VW0000493 | B12: =IFERROR(INDEX(H$1:H$250,SMALL($K$1:$K$250,ROWS(B$4:B12))),"") -> 8858594002649 | C12: =IFERROR(INDEX(I$1:I$250,SMALL($K$1:$K$250,ROWS(C$4:C12))),"") -> บานซิงค์ใต้เตา 50cmการ์เซียคู่ขาว | D12: =IFERROR(INDEX(J$1:J$250,SMALL($K$1:$K$250,ROWS(D$4:D12))),"") -> 1 | H12: =IF(ISNUMBER(--MID('DATA EXPRESS'!$A12,1,5)),IF(ISNUMBER(--MID('DATA EXPRESS'!$A12,B$1,B$2)),--MID('DATA EXPRESS'!$A12,B$1,B$2),TRIM(MID('DATA EXPRESS'!$A12,B$1,B$2))),"") | I12: =IF(ISNUMBER(--MID('DATA EXPRESS'!$A12,1,5)),IF(ISNUMBER(--MID('DATA EXPRESS'!$A12,C$1,C$2)),--MID('DATA EXPRESS'!$A12,C$1,C$2),TRIM(MID('DATA EXPRESS'!$A12,C$1,C$2))),"") | J12: =IF(ISNUMBER(--MID('DATA EXPRESS'!$A12,1,5)),IF(ISNUMBER(--MID('DATA EXPRESS'!$A12,D$1,D$2)),--MID('DATA EXPRESS'!$A12,D$1,D$2),TRIM(MID('DATA EXPRESS'!$A12,D$1,D$2))),"") | K12: =IF(OR(H12="",COUNTIFS(H$1:H12,H12,I$1:I12,I12,J$1:J12,J12)>1),"",ROWS(J$1:J12))
A13: =IF(B13<>"",$F$3,"") -> VW0000493 | B13: =IFERROR(INDEX(H$1:H$250,SMALL($K$1:$K$250,ROWS(B$4:B13))),"") -> 8858594001420 | C13: =IFERROR(INDEX(I$1:I$250,SMALL($K$1:$K$250,ROWS(C$4:C13))),"") -> ประตูGOLD KG07 80*200ขาวPS BOARD | D13: =IFERROR(INDEX(J$1:J$250,SMALL($K$1:$K$250,ROWS(D$4:D13))),"") -> 5 | H13: =IF(ISNUMBER(--MID('DATA EXPRESS'!$A13,1,5)),IF(ISNUMBER(--MID('DATA EXPRESS'!$A13,B$1,B$2)),--MID('DATA EXPRESS'!$A13,B$1,B$2),TRIM(MID('DATA EXPRESS'!$A13,B$1,B$2))),"") -> 8858594001529 | I13: =IF(ISNUMBER(--MID('DATA EXPRESS'!$A13,1,5)),IF(ISNUMBER(--MID('DATA EXPRESS'!$A13,C$1,C$2)),--MID('DATA EXPRESS'!$A13,C$1,C$2),TRIM(MID('DATA EXPRESS'!$A13,C$1,C$2))),"") -> บานซิงค์ใต้เตา 50cm. NEOคู่ขาว | J13: =IF(ISNUMBER(--MID('DATA EXPRESS'!$A13,1,5)),IF(ISNUMBER(--MID('DATA EXPRESS'!$A13,D$1,D$2)),--MID('DATA EXPRESS'!$A13,D$1,D$2),TRIM(MID('DATA EXPRESS'!$A13,D$1,D$2))),"") -> 5 | K13: =IF(OR(H13="",COUNTIFS(H$1:H13,H13,I$1:I13,I13,J$1:J13,J13)>1),"",ROWS(J$1:J13)) -> 13
A14: =IF(B14<>"",$F$3,"") -> VW0000493 | B14: =IFERROR(INDEX(H$1:H$250,SMALL($K$1:$K$250,ROWS(B$4:B14))),"") -> 8858594004261 | C14: =IFERROR(INDEX(I$1:I$250,SMALL($K$1:$K$250,ROWS(C$4:C14))),"") -> บานซิงค์ถังแก็สนีโอขาว | D14: =IFERROR(INDEX(J$1:J$250,SMALL($K$1:$K$250,ROWS(D$4:D14))),"") -> 11 | H14: =IF(ISNUMBER(--MID('DATA EXPRESS'!$A14,1,5)),IF(ISNUMBER(--MID('DATA EXPRESS'!$A14,B$1,B$2)),--MID('DATA EXPRESS'!$A14,B$1,B$2),TRIM(MID('DATA EXPRESS'!$A14,B$1,B$2))),"") | I14: =IF(ISNUMBER(--MID('DATA EXPRESS'!$A14,1,5)),IF(ISNUMBER(--MID('DATA EXPRESS'!$A14,C$1,C$2)),--MID('DATA EXPRESS'!$A14,C$1,C$2),TRIM(MID('DATA EXPRESS'!$A14,C$1,C$2))),"") | J14: =IF(ISNUMBER(--MID('DATA EXPRESS'!$A14,1,5)),IF(ISNUMBER(--MID('DATA EXPRESS'!$A14,D$1,D$2)),--MID('DATA EXPRESS'!$A14,D$1,D$2),TRIM(MID('DATA EXPRESS'!$A14,D$1,D$2))),"") | K14: =IF(OR(H14="",COUNTIFS(H$1:H14,H14,I$1:I14,I14,J$1:J14,J14)>1),"",ROWS(J$1:J14))
A15: =IF(B15<>"",$F$3,"") -> VW0000493 | B15: =IFERROR(INDEX(H$1:H$250,SMALL($K$1:$K$250,ROWS(B$4:B15))),"") -> 8858594009976 | C15: =IFERROR(INDEX(I$1:I$250,SMALL($K$1:$K$250,ROWS(C$4:C15))),"") -> Bบานซิงค์Q.คู่เกล็ดมณีขาว มือจับซิงค์อ | D15: =IFERROR(INDEX(J$1:J$250,SMALL($K$1:$K$250,ROWS(D$4:D15))),"") -> 41 | H15: =IF(ISNUMBER(--MID('DATA EXPRESS'!$A15,1,5)),IF(ISNUMBER(--MID('DATA EXPRESS'!$A15,B$1,B$2)),--MID('DATA EXPRESS'!$A15,B$1,B$2),TRIM(MID('DATA EXPRESS'!$A15,B$1,B$2))),"") -> 8858594001420 | I15: =IF(ISNUMBER(--MID('DATA EXPRESS'!$A15,1,5)),IF(ISNUMBER(--MID('DATA EXPRESS'!$A15,C$1,C$2)),--MID('DATA EXPRESS'!$A15,C$1,C$2),TRIM(MID('DATA EXPRESS'!$A15,C$1,C$2))),"") -> ประตูGOLD KG07 80*200ขาวPS BOARD | J15: =IF(ISNUMBER(--MID('DATA EXPRESS'!$A15,1,5)),IF(ISNUMBER(--MID('DATA EXPRESS'!$A15,D$1,D$2)),--MID('DATA EXPRESS'!$A15,D$1,D$2),TRIM(MID('DATA EXPRESS'!$A15,D$1,D$2))),"") -> 1 | K15: =IF(OR(H15="",COUNTIFS(H$1:H15,H15,I$1:I15,I15,J$1:J15,J15)>1),"",ROWS(J$1:J15)) -> 15
... A29: =IF(B29<>"",$F$3,"") | B29: =IFERROR(INDEX(H$1:H$250,SMALL($K$1:$K$250,ROWS(B$4:B29))),"") | C29: =IFERROR(INDEX(I$1:I$250,SMALL($K$1:$K$250,ROWS(C$4:C29))),"") | D29: =IFERROR(INDEX(J$1:J$250,SMALL($K$1:$K$250,ROWS(D$4:D29))),"") | H29: =IF(ISNUMBER(--MID('DATA EXPRESS'!$A29,1,5)),IF(ISNUMBER(--MID('DATA EXPRESS'!$A29,B$1,B$2)),--MID('DATA EXPRESS'!$A29,B$1,B$2),TRIM(MID('DATA EXPRESS'!$A29,B$1,B$2))),"") -> 8858594001420 | I29: =IF(ISNUMBER(--MID('DATA EXPRESS'!$A29,1,5)),IF(ISNUMBER(--MID('DATA EXPRESS'!$A29,C$1,C$2)),--MID('DATA EXPRESS'!$A29,C$1,C$2),TRIM(MID('DATA EXPRESS'!$A29,C$1,C$2))),"") -> ประตูGOLD KG07 80*200ขาวPS BOARD | J29: =IF(ISNUMBER(--MID('DATA EXPRESS'!$A29,1,5)),IF(ISNUMBER(--MID('DATA EXPRESS'!$A29,D$1,D$2)),--MID('DATA EXPRESS'!$A29,D$1,D$2),TRIM(MID('DATA EXPRESS'!$A29,D$1,D$2))),"") -> 5 | K29: =IF(OR(H29="",COUNTIFS(H$1:H29,H29,I$1:I29,I29,J$1:J29,J29)>1),"",ROWS(J$1:J29)) -> 29
H30: =IF(ISNUMBER(--MID('DATA EXPRESS'!$A30,1,5)),IF(ISNUMBER(--MID('DATA EXPRESS'!$A30,B$1,B$2)),--MID('DATA EXPRESS'!$A30,B$1,B$2),TRIM(MID('DATA EXPRESS'!$A30,B$1,B$2))),"") | I30: =IF(ISNUMBER(--MID('DATA EXPRESS'!$A30,1,5)),IF(ISNUMBER(--MID('DATA EXPRESS'!$A30,C$1,C$2)),--MID('DATA EXPRESS'!$A30,C$1,C$2),TRIM(MID('DATA EXPRESS'!$A30,C$1,C$2))),"") | J30: =IF(ISNUMBER(--MID('DATA EXPRESS'!$A30,1,5)),IF(ISNUMBER(--MID('DATA EXPRESS'!$A30,D$1,D$2)),--MID('DATA EXPRESS'!$A30,D$1,D$2),TRIM(MID('DATA EXPRESS'!$A30,D$1,D$2))),"") | K30: =IF(OR(H30="",COUNTIFS(H$1:H30,H30,I$1:I30,I30,J$1:J30,J30)>1),"",ROWS(J$1:J30))
H31: =IF(ISNUMBER(--MID('DATA EXPRESS'!$A31,1,5)),IF(ISNUMBER(--MID('DATA EXPRESS'!$A31,B$1,B$2)),--MID('DATA EXPRESS'!$A31,B$1,B$2),TRIM(MID('DATA EXPRESS'!$A31,B$1,B$2))),"") -> 8858594004261 | I31: =IF(ISNUMBER(--MID('DATA EXPRESS'!$A31,1,5)),IF(ISNUMBER(--MID('DATA EXPRESS'!$A31,C$1,C$2)),--MID('DATA EXPRESS'!$A31,C$1,C$2),TRIM(MID('DATA EXPRESS'!$A31,C$1,C$2))),"") -> บานซิงค์ถังแก็สนีโอขาว | J31: =IF(ISNUMBER(--MID('DATA EXPRESS'!$A31,1,5)),IF(ISNUMBER(--MID('DATA EXPRESS'!$A31,D$1,D$2)),--MID('DATA EXPRESS'!$A31,D$1,D$2),TRIM(MID('DATA EXPRESS'!$A31,D$1,D$2))),"") -> 11 | K31: =IF(OR(H31="",COUNTIFS(H$1:H31,H31,I$1:I31,I31,J$1:J31,J31)>1),"",ROWS(J$1:J31)) -> 31
H32: =IF(ISNUMBER(--MID('DATA EXPRESS'!$A32,1,5)),IF(ISNUMBER(--MID('DATA EXPRESS'!$A32,B$1,B$2)),--MID('DATA EXPRESS'!$A32,B$1,B$2),TRIM(MID('DATA EXPRESS'!$A32,B$1,B$2))),"") | I32: =IF(ISNUMBER(--MID('DATA EXPRESS'!$A32,1,5)),IF(ISNUMBER(--MID('DATA EXPRESS'!$A32,C$1,C$2)),--MID('DATA EXPRESS'!$A32,C$1,C$2),TRIM(MID('DATA EXPRESS'!$A32,C$1,C$2))),"") | J32: =IF(ISNUMBER(--MID('DATA EXPRESS'!$A32,1,5)),IF(ISNUMBER(--MID('DATA EXPRESS'!$A32,D$1,D$2)),--MID('DATA EXPRESS'!$A32,D$1,D$2),TRIM(MID('DATA EXPRESS'!$A32,D$1,D$2))),"") | K32: =IF(OR(H32="",COUNTIFS(H$1:H32,H32,I$1:I32,I32,J$1:J32,J32)>1),"",ROWS(J$1:J32))
H33: =IF(ISNUMBER(--MID('DATA EXPRESS'!$A33,1,5)),IF(ISNUMBER(--MID('DATA EXPRESS'!$A33,B$1,B$2)),--MID('DATA EXPRESS'!$A33,B$1,B$2),TRIM(MID('DATA EXPRESS'!$A33,B$1,B$2))),"") -> 8858594009976 | I33: =IF(ISNUMBER(--MID('DATA EXPRESS'!$A33,1,5)),IF(ISNUMBER(--MID('DATA EXPRESS'!$A33,C$1,C$2)),--MID('DATA EXPRESS'!$A33,C$1,C$2),TRIM(MID('DATA EXPRESS'!$A33,C$1,C$2))),"") -> Bบานซิงค์Q.คู่เกล็ดมณีขาว มือจับซิงค์อ | J33: =IF(ISNUMBER(--MID('DATA EXPRESS'!$A33,1,5)),IF(ISNUMBER(--MID('DATA EXPRESS'!$A33,D$1,D$2)),--MID('DATA EXPRESS'!$A33,D$1,D$2),TRIM(MID('DATA EXPRESS'!$A33,D$1,D$2))),"") -> 41 | K33: =IF(OR(H33="",COUNTIFS(H$1:H33,H33,I$1:I33,I33,J$1:J33,J33)>1),"",ROWS(J$1:J33)) -> 33
H34: =IF(ISNUMBER(--MID('DATA EXPRESS'!$A34,1,5)),IF(ISNUMBER(--MID('DATA EXPRESS'!$A34,B$1,B$2)),--MID('DATA EXPRESS'!$A34,B$1,B$2),TRIM(MID('DATA EXPRESS'!$A34,B$1,B$2))),"") | I34: =IF(ISNUMBER(--MID('DATA EXPRESS'!$A34,1,5)),IF(ISNUMBER(--MID('DATA EXPRESS'!$A34,C$1,C$2)),--MID('DATA EXPRESS'!$A34,C$1,C$2),TRIM(MID('DATA EXPRESS'!$A34,C$1,C$2))),"") | J34: =IF(ISNUMBER(--MID('DATA EXPRESS'!$A34,1,5)),IF(ISNUMBER(--MID('DATA EXPRESS'!$A34,D$1,D$2)),--MID('DATA EXPRESS'!$A34,D$1,D$2),TRIM(MID('DATA EXPRESS'!$A34,D$1,D$2))),"") | K34: =IF(OR(H34="",COUNTIFS(H$1:H34,H34,I$1:I34,I34,J$1:J34,J34)>1),"",ROWS(J$1:J34))
H35: =IF(ISNUMBER(--MID('DATA EXPRESS'!$A35,1,5)),IF(ISNUMBER(--MID('DATA EXPRESS'!$A35,B$1,B$2)),--MID('DATA EXPRESS'!$A35,B$1,B$2),TRIM(MID('DATA EXPRESS'!$A35,B$1,B$2))),"") -> 8858594001468 | I35: =IF(ISNUMBER(--MID('DATA EXPRESS'!$A35,1,5)),IF(ISNUMBER(--MID('DATA EXPRESS'!$A35,C$1,C$2)),--MID('DATA EXPRESS'!$A35,C$1,C$2),TRIM(MID('DATA EXPRESS'!$A35,C$1,C$2))),"") -> บานซิงค์ 60cm. NEOคู่ขาว | J35: =IF(ISNUMBER(--MID('DATA EXPRESS'!$A35,1,5)),IF(ISNUMBER(--MID('DATA EXPRESS'!$A35,D$1,D$2)),--MID('DATA EXPRESS'!$A35,D$1,D$2),TRIM(MID('DATA EXPRESS'!$A35,D$1,D$2))),"") -> 2 | K35: =IF(OR(H35="",COUNTIFS(H$1:H35,H35,I$1:I35,I35,J$1:J35,J35)>1),"",ROWS(J$1:J35)) -> 35
H36: =IF(ISNUMBER(--MID('DATA EXPRESS'!$A36,1,5)),IF(ISNUMBER(--MID('DATA EXPRESS'!$A36,B$1,B$2)),--MID('DATA EXPRESS'!$A36,B$1,B$2),TRIM(MID('DATA EXPRESS'!$A36,B$1,B$2))),"") | I36: =IF(ISNUMBER(--MID('DATA EXPRESS'!$A36,1,5)),IF(ISNUMBER(--MID('DATA EXPRESS'!$A36,C$1,C$2)),--MID('DATA EXPRESS'!$A36,C$1,C$2),TRIM(MID('DATA EXPRESS'!$A36,C$1,C$2))),"") | J36: =IF(ISNUMBER(--MID('DATA EXPRESS'!$A36,1,5)),IF(ISNUMBER(--MID('DATA EXPRESS'!$A36,D$1,D$2)),--MID('DATA EXPRESS'!$A36,D$1,D$2),TRIM(MID('DATA EXPRESS'!$A36,D$1,D$2))),"") | K36: =IF(OR(H36="",COUNTIFS(H$1:H36,H36,I$1:I36,I36,J$1:J36,J36)>1),"",ROWS(J$1:J36))
H37: =IF(ISNUMBER(--MID('DATA EXPRESS'!$A37,1,5)),IF(ISNUMBER(--MID('DATA EXPRESS'!$A37,B$1,B$2)),--MID('DATA EXPRESS'!$A37,B$1,B$2),TRIM(MID('DATA EXPRESS'!$A37,B$1,B$2))),"") | I37: =IF(ISNUMBER(--MID('DATA EXPRESS'!$A37,1,5)),IF(ISNUMBER(--MID('DATA EXPRESS'!$A37,C$1,C$2)),--MID('DATA EXPRESS'!$A37,C$1,C$2),TRIM(MID('DATA EXPRESS'!$A37,C$1,C$2))),"") | J37: =IF(ISNUMBER(--MID('DATA EXPRESS'!$A37,1,5)),IF(ISNUMBER(--MID('DATA EXPRESS'!$A37,D$1,D$2)),--MID('DATA EXPRESS'!$A37,D$1,D$2),TRIM(MID('DATA EXPRESS'!$A37,D$1,D$2))),"") | K37: =IF(OR(H37="",COUNTIFS(H$1:H37,H37,I$1:I37,I37,J$1:J37,J37)>1),"",ROWS(J$1:J37))
H38: =IF(ISNUMBER(--MID('DATA EXPRESS'!$A38,1,5)),IF(ISNUMBER(--MID('DATA EXPRESS'!$A38,B$1,B$2)),--MID('DATA EXPRESS'!$A38,B$1,B$2),TRIM(MID('DATA EXPRESS'!$A38,B$1,B$2))),"") | I38: =IF(ISNUMBER(--MID('DATA EXPRESS'!$A38,1,5)),IF(ISNUMBER(--MID('DATA EXPRESS'!$A38,C$1,C$2)),--MID('DATA EXPRESS'!$A38,C$1,C$2),TRIM(MID('DATA EXPRESS'!$A38,C$1,C$2))),"") | J38: =IF(ISNUMBER(--MID('DATA EXPRESS'!$A38,1,5)),IF(ISNUMBER(--MID('DATA EXPRESS'!$A38,D$1,D$2)),--MID('DATA EXPRESS'!$A38,D$1,D$2),TRIM(MID('DATA EXPRESS'!$A38,D$1,D$2))),"") | K38: =IF(OR(H38="",COUNTIFS(H$1:H38,H38,I$1:I38,I38,J$1:J38,J38)>1),"",ROWS(J$1:J38))
H39: =IF(ISNUMBER(--MID('DATA EXPRESS'!$A39,1,5)),IF(ISNUMBER(--MID('DATA EXPRESS'!$A39,B$1,B$2)),--MID('DATA EXPRESS'!$A39,B$1,B$2),TRIM(MID('DATA EXPRESS'!$A39,B$1,B$2))),"") | I39: =IF(ISNUMBER(--MID('DATA EXPRESS'!$A39,1,5)),IF(ISNUMBER(--MID('DATA EXPRESS'!$A39,C$1,C$2)),--MID('DATA EXPRESS'!$A39,C$1,C$2),TRIM(MID('DATA EXPRESS'!$A39,C$1,C$2))),"") | J39: =IF(ISNUMBER(--MID('DATA EXPRESS'!$A39,1,5)),IF(ISNUMBER(--MID('DATA EXPRESS'!$A39,D$1,D$2)),--MID('DATA EXPRESS'!$A39,D$1,D$2),TRIM(MID('DATA EXPRESS'!$A39,D$1,D$2))),"") | K39: =IF(OR(H39="",COUNTIFS(H$1:H39,H39,I$1:I39,I39,J$1:J39,J39)>1),"",ROWS(J$1:J39))
H40: =IF(ISNUMBER(--MID('DATA EXPRESS'!$A40,1,5)),IF(ISNUMBER(--MID('DATA EXPRESS'!$A40,B$1,B$2)),--MID('DATA EXPRESS'!$A40,B$1,B$2),TRIM(MID('DATA EXPRESS'!$A40,B$1,B$2))),"") | I40: =IF(ISNUMBER(--MID('DATA EXPRESS'!$A40,1,5)),IF(ISNUMBER(--MID('DATA EXPRESS'!$A40,C$1,C$2)),--MID('DATA EXPRESS'!$A40,C$1,C$2),TRIM(MID('DATA EXPRESS'!$A40,C$1,C$2))),"") | J40: =IF(ISNUMBER(--MID('DATA EXPRESS'!$A40,1,5)),IF(ISNUMBER(--MID('DATA EXPRESS'!$A40,D$1,D$2)),--MID('DATA EXPRESS'!$A40,D$1,D$2),TRIM(MID('DATA EXPRESS'!$A40,D$1,D$2))),"") | K40: =IF(OR(H40="",COUNTIFS(H$1:H40,H40,I$1:I40,I40,J$1:J40,J40)>1),"",ROWS(J$1:J40))
H41: =IF(ISNUMBER(--MID('DATA EXPRESS'!$A41,1,5)),IF(ISNUMBER(--MID('DATA EXPRESS'!$A41,B$1,B$2)),--MID('DATA EXPRESS'!$A41,B$1,B$2),TRIM(MID('DATA EXPRESS'!$A41,B$1,B$2))),"") | I41: =IF(ISNUMBER(--MID('DATA EXPRESS'!$A41,1,5)),IF(ISNUMBER(--MID('DATA EXPRESS'!$A41,C$1,C$2)),--MID('DATA EXPRESS'!$A41,C$1,C$2),TRIM(MID('DATA EXPRESS'!$A41,C$1,C$2))),"") | J41: =IF(ISNUMBER(--MID('DATA EXPRESS'!$A41,1,5)),IF(ISNUMBER(--MID('DATA EXPRESS'!$A41,D$1,D$2)),--MID('DATA EXPRESS'!$A41,D$1,D$2),TRIM(MID('DATA EXPRESS'!$A41,D$1,D$2))),"") | K41: =IF(OR(H41="",COUNTIFS(H$1:H41,H41,I$1:I41,I41,J$1:J41,J41)>1),"",ROWS(J$1:J41))
... H250: =IF(ISNUMBER(--MID('DATA EXPRESS'!$A250,1,5)),IF(ISNUMBER(--MID('DATA EXPRESS'!$A250,B$1,B$2)),--MID('DATA EXPRESS'!$A250,B$1,B$2),TRIM(MID('DATA EXPRESS'!$A250,B$1,B$2))),"") | I250: =IF(ISNUMBER(--MID('DATA EXPRESS'!$A250,1,5)),IF(ISNUMBER(--MID('DATA EXPRESS'!$A250,C$1,C$2)),--MID('DATA EXPRESS'!$A250,C$1,C$2),TRIM(MID('DATA EXPRESS'!$A250,C$1,C$2))),"") | J250: =IF(ISNUMBER(--MID('DATA EXPRESS'!$A250,1,5)),IF(ISNUMBER(--MID('DATA EXPRESS'!$A250,D$1,D$2)),--MID('DATA EXPRESS'!$A250,D$1,D$2),TRIM(MID('DATA EXPRESS'!$A250,D$1,D$2))),"") | K250: =IF(OR(H250="",COUNTIFS(H$1:H250,H250,I$1:I250,I250,J$1:J250,J250)>1),"",ROWS(J$1:J250))
