Workbook

Sheet ร้าน
B1: รหัส | C1: ร้านค้า | J1: รหัส | K1: รายการสินค้า
B2: 0001 | C2: คุณพิธาน f 02-2113379 | E2: ขนส่ง | F2: ภาค | J2: a110 | K2: ปี๊บ ABC 4 กก.
B3: 0002 | C3: A&Pซุปเปอร์มาเก็ต แม่สาย | E3: เกรียงฟ้า | F3: เหนือ | I3: =A3&""&B3 -> 0002 | J3: a112 | K3: ปี๊บ มินิ ABC ทูโทน 4 กก.
B4: 0003 | C4: T.P.K. นครสวรรค์ | E4: อุดรรุ่งเจริญ | F4: อีสาน | I4: =A4&""&B4 -> 0003 | J4: a120 | K4: ปี๊บ ปลากรอบ 4 กก.
B5: 0004 | C5: ก.สุวัฒน์ น่าน | E5: ตั้งอี้ฮัว | F5: กลาง | I5: =A5&""&B5 -> 0004 | J5: a140 | K5: ปี๊บ ซีฟูด 4 กก.
B6: 0007 | C6: กวงฮะ ร้อยเอ็ด | F6: กรุงเทพฯ | I6: =A6&""&B6 -> 0007 | J6: a141 | K6: ปี๊บ ปัง เค็ม มัน 3 กก.
B7: 1968 | C7: พรสมบัติ บ้านหมี่ | J7: a150 | K7: ปี๊บ ฝักถั่วงา 4 กก.
B8: 0008 | C8: รจนา พุ่มเกษม(รง.ใหม่) | E8: วัฒนะกิจ อุตรดิตถ์ | I8: =A8&""&B8 -> 0008 | J8: a160 | K8: ปี๊บ บุหรี่ยาว 4 กก.
B9: 0010 | C9: กำไร ท่าพล | E9: ส.แก่นนคร | F9: อีสาน | I9: =A9&""&B9 -> 0010 | J9: a170 | K9: ปี๊บ บุหรี่ทูโทน 4 กก.
B10: 0011 | C10: กิจเกษม บ้านดุง | E10: จงเจริญ | I10: =A10&""&B10 -> 0011 | J10: a180 | K10: ปี๊บ ปูกรอบ รสบาร์บีคิว 4 กก.*ใหม่*
B11: 0012 | C11: กิจเจริญ ลูกแก จ.กาญจนบุรี | F11: อีสาน | I11: =A11&""&B11 -> 0012 | J11: a210 | K11: ABC (กล่อง1x6)
B12: 0013 | C12: กิจชัย พิมาย | E12: สหรุ่งเรือง | F12: อีสาน | I12: =A12&""&B12 -> 0013 | J12: a250 | K12: ฝักถั่วงา (กล่อง1x6)
B13: 1967 | C13: หจก.บ้านข้าว ธัญญะ โอสถ จ.สุรินทร์ | J13: b110 | K13: ปี๊บ บัตเตอร์งา 5 กก.
B14: 0014 | C14: กิจชัยนานาภัณฑ์ ฝาง | E14: ทองอินทร์ | I14: =A14&""&B14 -> 0014 | J14: b120 | K14: ปี๊บ บิสกิต มันฝรั่ง รสดั้งเดิม 4 กก.
B15: 1039 | C15: กิมเซ่งไถ่ ยะลา | J15: b121 | K15: ปี๊บ บิสกิต มันฝรั่ง รสสาหร่าย 4 กก.
B16: 1966 | C16: หจก.นานาภัณฑ์ ซุปเปอร์ฯ | J16: b122 | K16: ปี๊บ บิสกิต มันฝรั่ง รสบาร์บีคิว 4 กก.
B17: 0015 | C17: กิจไทย อ.เสลภูมิ จ.ร้อยเอ็ด | F17: อีสาน | I17: =A17&""&B17 -> 0015 | J17: b140 | K17: ปี๊บ แครกเกอร์อร่อยดี 5 กก.(Promotion)
B18: 0016 | C18: กิจไพศาล ขอนแก่น | E18: พะเยารุ่งเรือง | F18: เหนือ | I18: =A18&""&B18 -> 0016 | J18: b170 | K18: ปี๊บ เปลือกชีสแผ่นยาว 5.5 กก.
B19: 0017 | C19: กิจรุ่งเรือง อุดรฯ | E19: โกล้วนขนส่ง2 | I19: =A19&""&B19 -> 0017 | J19: b171 | K19: ปี๊บ แครกเกอร์เค็มแผ่นใหญ่ 4 กก.
B20: 0018 | C20: กิจรุ่งโรจน์ แม่สอด | F20: เหนือ | I20: =A20&""&B20 -> 0018 | J20: b172 | K20: ปี๊บ แครกเกอร์หวาน 4 กก.
B21: 0019 | C21: กิจรุ่งโรจน์ อุดรฯ | E21: เจริญสินโลจิสติกส์ | F21: เหนือ | I21: =A21&""&B21 -> 0019 | J21: b210 | K21: บัตเตอร์งา (กล่อง1x6)
B22: 0020 | C22: กิจวัฒนา อ.เชียงของ จ.เชียงราย | E22: ปิติพร | F22: ใต้ | I22: =A22&""&B22 -> 0020 | J22: b310 | K22: จิ๋ว บัตเตอร์งา (กล่อง1x12)
B23: 0021 | C23: กิจวิวัฒน์ อ.สวรรคโลก จ.สุโขทัย | E23: อาทิตย์เจริญ | F23: อีสาน | I23: =A23&""&B23 -> 0021 | J23: c111 | K23: ปี๊บ รูปไข่ขาวครีม 5 กก.
B24: 0022 | C24: เจริญศักดิ์ เฉียงเหนือ | E24: หน้าร้าน | F24: กลาง | I24: =A24&""&B24 -> 0022 | J24: c115 | K24: ปี๊บ รูปไข่ขาวช็อก 5 กก.
B25: 0023 | C25: กิตติพานิช อุดรฯ | E25: หน้าร้าน | F25: กลาง | I25: =A25&""&B25 -> 0023 | J25: c121 | K25: ปี๊บ รูปไข่ช็อกครีม 5 กก.
B26: 0025 | C26: กิมหลี อ.แม่สอด จ.ตาก | E26: กุงศรี ประเสริฐ | F26: ใต้ | I26: =A26&""&B26 -> 0025 | J26: c125 | K26: ปี๊บ รูปไข่ช็อกช็อก 5 กก.
B27: 0026 | C27: กิมฮวง คลองใหญ่ | E27: เดชา | F27: ใต้ | I27: =A27&""&B27 -> 0026 | J27: c129 | K27: ปี๊บ รูปไข่ MIX ไส้ครีม 5 กก.*ใหม่*
B28: 0027 | C28: กิมฮวด อุบลฯ | I28: =A28&""&B28 -> 0027 | J28: c131 | K28: ปี๊บ คุ้กกี้ กิสตี้ ใส้ครีม 5 กก.*ใหม่*
B29: 1124 | C29: อาหก มาเลเซีย | J29: c132 | K29: ปี๊บ คุ้กกี้ กิสตี้ ไส้ทุเรียน 5 กก.*ใหม่*
B30: 0028 | C30: มินตรา | E30: เดชา | F30: ใต้ | I30: =A30&""&B30 -> 0028 | J30: c133 | K30: ปี๊บ คุ้กกี้ กิสตี้ ไส้เตย 5 กก.*ใหม่*
B31: 0029 | C31: เกรียงไกร เชียงราย | E31: ชวาลกิต | F31: กลาง | I31: =A31&""&B31 -> 0029 | J31: c151 | K31: ปี๊บ หงส์ครีม 5 กก.
B32: 1327 | C32: เจ๊วรรณ อ.ฝาง | J32: c152 | K32: ปี๊บ หงส์ทุเรียน 5 กก.
B33: 0030 | C33: ร้านชโนทัย (มงคล) สี่มุมเมือง | F33: กรุงเทพฯ | I33: =A33&""&B33 -> 0030 | J33: c153 | K33: ปี๊บ หงส์เตย 5 กก.
B34: 0031 | C34: เกศรา(เจ๊โบว์) วัฒนานคร | E34: พะเยารุ่งเรือง | F34: เหนือ | I34: =A34&""&B34 -> 0031 | J34: c154 | K34: ปี๊บ หงส์สตรอฯ 5 กก.
B35: 0032 | C35: เกษม มุกดาหาร | I35: =A35&""&B35 -> 0032 | J35: c161 | K35: ปี๊บ หัวใจครีม 5 กก.
B36: 0033 | C36: เกษม ร้อยเอ็ด | E36: หน้าร้านสด ลด 2% | F36: กลาง | I36: =A36&""&B36 -> 0033 | J36: c162 | K36: ปี๊บ หัวใจทุเรียน 5 กก.
B37: 1968 | C37: พรสมบัติ บ้านหมี่ | J37: c163 | K37: ปี๊บ หัวใจเตย 5 กก.
B38: 0034 | C38: เกิดสว่าง มีนบุรี | E38: สหตะกั่วป่า อีสาน | F38: อีสาน | I38: =A38&""&B38 -> 0034 | J38: c164 | K38: ปี๊บ หัวใจสตรอฯ 5 กก.
B39: 0035 | C39: รสสุคนธ์ ฤทธิ์ช่วย หาดใหญ่087-9955253 | E39: โคราช-บัวใหญ่ | I39: =A39&""&B39 -> 0035 | J39: c181 | K39: ปี๊บ คุ้กกี้ ถูกใจ ไส้ครีม 5 กก.*ใหม่*
B40: 0036 | C40: เกียรติอำนาจ อำนาจเจริญ | E40: โคราช-บัวใหญ่ | I40: =A40&""&B40 -> 0036 | J40: c182 | K40: ปี๊บ คุ้กกี้ ถูกใจ ไส้ทุเรียน 5 กก.*ใหม่*
B41: 0037 | C41: ห้างหุ้นส่วนจำกัด เกียรติไทยซุปเปอร์สโตร์(V) | E41: ศิรินันท์คูณทรัพย์ | F41: อีสาน | I41: =A41&""&B41 -> 0037 | J41: c183 | K41: ปี๊บ คุ้กกี้ ถูกใจ ไส้ใบเตย 5 กก.*ใหม่*
B42: 0038 | C42: เกียเฮง รามอินทรา081-8331491 | E42: ร่วมใจพัฒนา | I42: =A42&""&B42 -> 0038 | J42: c186 | K42: ปี๊บ คุ้กกี้ ถูกใจ ไส้กาแฟ 5 กก.*ใหม่*
B43: 0039 | C43: แก้ว โคราช | E43: โชคประเสริฐ | F43: ใต้ | I43: =A43&""&B43 -> 0039 | J43: c211 | K43: รูปไข่ขาวครีม (กล่อง1x6)
B44: 0040 | C44: จงกล พิมาย | F44: เหนือ | I44: =A44&""&B44 -> 0040 | J44: c215 | K44: รูปไข่ขาวช็อก (กล่อง1x6)
B45: 0041 | C45: จงกล2 พิมาย | E45: ส.ทวีทรัพย์ | F45: เหนือ | I45: =A45&""&B45 -> 0041 | J45: c221 | K45: รูปไข่ช็อกครีม (กล่อง1x6)
B46: 0042 | C46: แก้วนพคุณ หนองจอก | E46: ม่งเส็งบุรีรัมย์ | F46: อีสาน | I46: =A46&""&B46 -> 0042 | J46: c225 | K46: รูปไข่ช็อกช็อก (กล่อง1x6)
B47: 0043 | C47: แก้วฟ้า ท่าบ่อ | E47: หน้าร้าน | F47: กลาง | I47: =A47&""&B47 -> 0043 | J47: c231 | K47: คุ้กกี้ กิสตี้ ไส้ครีม (กล่อง1x6)
B48: 0044 | C48: แก้วฟ้า อำนาจเจริญ | E48: สุราษฎร์ทวีทรัพย์ | F48: ใต้ | I48: =A48&""&B48 -> 0044 | J48: c232 | K48: คุ้กกี้ กิสตี้ ไส้ทุเรียน (กล่อง1x6)
B49: 0045 | C49: แก้วสุวรรณ พิษณุโลก | F49: ใต้ | I49: =A49&""&B49 -> 0045 | J49: c233 | K49: คุ้กกี้ กิสตี้ ไส้เตย (กล่อง1x6)
B50: 0046 | C50: ซูไรยา อ.เมือง ยะลา | E50: บ้านดอน | F50: ใต้ | I50: =A50&""&B50 -> 0046 | J50: c241 | K50: หน้าต่างครีม (กล่อง1x6)
B51: 0047 | C51: โกวิท อุบลฯ | E51: สยามสรรพสินค้า | F51: ใต้ | I51: =A51&""&B51 -> 0047 | J51: c242 | K51: หน้าต่างทุเรียน (กล่อง1x6)
B52: 0048 | C52: ขนมไก่ ปะตง | E52: โชคประทานพร | F52: เหนือ | I52: =A52&""&B52 -> 0048 | J52: c243 | K52: หน้าต่างเตย (กล่อง1x6)
B53: 0049 | C53: จันเพ็ญ จันทบุรี(081-7939653) | E53: ช.ชาญชัย | F53: ใต้ | I53: =A53&""&B53 -> 0049 | J53: c244 | K53: หน้าต่างสตรอฯ (กล่อง1x6)
B54: 0050 | C54: อาจู้ เชอมือ | E54: ผาเมฆ | F54: ใต้ | I54: =A54&""&B54 -> 0050 | J54: c251 | K54: หงส์ครีม (กล่อง1x6)
B55: 0051 | C55: ขอบคุณ หนองบัวลำภู | E55: สรณ์ศิริโชค | I55: =A55&""&B55 -> 0051 | J55: c252 | K55: หงส์ทุเรียน (กล่อง1x6)
B56: 0052 | C56: เจ้หวาน วังสะพุง | F56: เหนือ | I56: =A56&""&B56 -> 0052 | J56: c253 | K56: หงส์เตย (กล่อง1x6)
B57: 0053 | C57: ขุมทอง สมเด็จ | E57: หะรินสุต | F57: ใต้ | I57: =A57&""&B57 -> 0053 | J57: c254 | K57: หงส์สตรอฯ (กล่อง1x6)
B58: 0054 | C58: เข็มทอง เก้าแสน | E58: หน้าร้าน | I58: =A58&""&B58 -> 0054 | J58: c261 | K58: หัวใจครีม (กล่อง1x6)
B59: 0055 | C59: คงการค้า (พี่วรา) เชียงราย 085-7113434 | E59: นิวตะกั่วป่า | F59: ใต้ | I59: =A59&""&B59 -> 0055 | J59: c262 | K59: หัวใจทุเรียน (กล่อง1x6)
B60: 0056 | C60: จุรี มิ่งพฤกษ์ | I60: =A60&""&B60 -> 0056 | J60: c263 | K60: หัวใจเตย (กล่อง1x6)
B61: 0057 | C61: คลังขนม จ.เชียงใหม่ | E61: เดชา | F61: ใต้ | I61: =A61&""&B61 -> 0057 | J61: c264 | K61: หัวใจสตรอฯ (กล่อง1x6)
B62: 0058 | C62: คลังเพชร พิจิตร | E62: มุกดาหาร | F62: ยุทธนา | H62: 204/4 หมู่ 8 ถ.พังโคนพัฒนา อ.พังโคน จ.สกลนคร | I62: =A62&""&B62 -> 0058 | J62: c276 | K62: ฟิงเกอร์กาแฟ (กล่อง1x6)
B63: 0059 | C63: คำพานิช จ.มุกดาหาร | E63: พนมรุ้ง | F63: อีสาน | I63: =A63&""&B63 -> 0059 | J63: c281 | K63: คุ้กกี้ ถูกใจ ไส้ครีม (กล่อง1x6)
B64: 0060 | C64: ขันทอง สีหราช | I64: =A64&""&B64 -> 0060 | J64: c282 | K64: คุ้กกี้ ถูกใจ ไส้ทุเรียน (กล่อง1x6)
B65: 0061 | C65: คิมวัน หนองคาย | E65: ชลบุรีภาคินทร์ | F65: กลาง | H65: 02-8881658 ,087-2041747 ,086-3225479 | I65: =A65&""&B65 -> 0061 | J65: c283 | K65: คุ้กกี้ ถูกใจ ไส้เตย (กล่อง1x6)
B66: 0063 | C66: คุณเตี้ย ทุ่งเสลี่ยม | E66: หน้าร้าน | F66: กลาง | I66: =A66&""&B66 -> 0063 | J66: c236 | K66: คุ้กกี้ ถูกใจ ไส้กาแฟ (กล่อง1x6)
B67: 0064 | C67: คุณน้อย อ.ลำปลายมาศ จ.บุรีรัมย์ | F67: เหนือ | I67: =A67&""&B67 -> 0064 | J67: e120 | K67: ปี๊บ บูมบูมขาวไส้ช็อก 3 กก.
B68: 0065 | C68: คุณปู (ตลาดรถไฟ) ขอนแก่น | E68: อุดรรุ่งเจริญ | F68: อีสาน | I68: =A68&""&B68 -> 0065 | J68: e121 | K68: ปี๊บ บูมบูมขาวไส้สตรอฯ 3 กก.
B69: 0067 | C69: คุณสุทธิชัย นครสวรรค์ | E69: ท่าบ่อ-ศรีเชียงใหม่ | F69: อีสาน | I69: =A69&""&B69 -> 0067 | J69: e122 | K69: ปี๊บ บูมเบ้อมิกซ์ 3 กก.
B70: 0068 | C70: เพ็ญเจริญทรัพย์ ขอนแก่น | F70: ใต้ | I70: =A70&""&B70 -> 0068 | J70: e210 | K70: บูมบูมขาวไส้ช็อก (กล่อง 1*6)
B71: 0069 | C71: คูณทรัพย์ ประโคนชัย | E71: เอ แอนด์ ดี | I71: =A71&""&B71 -> 0069 | J71: e220 | K71: บูมเบ้อมิกซ์ (กล่อง 1*6)
B72: 0071 | C72: คูณสิน บัวใหญ่ | E72: สระแก้ววังน้ำเย็น | I72: =A72&""&B72 -> 0071 | J72: e310 | K72: จิ๋ว บูม บูม ไส้ช้อกฯ (กล่อง1x12)
B73: 0072 | C73: คู่บุญ(ขายส่ง) เลย | E73: หน้าร้าน | F73: กลาง | I73: =A73&""&B73 -> 0072 | J73: f110 | K73: ปี๊บ แฟนซีช็อก 5 กก.
B74: 0073 | C74: เค่งเชียงล้ง สวรรคโลก | E74: ชุมพรเอกลักษณ์ | I74: =A74&""&B74 -> 0073 | J74: f120 | K74: ปี๊บ แฟนซีสตรอฯ-เตย 5 กก.
B75: 0075 | C75: โค้วจิบหยู ครบุรี | F75: อีสาน | I75: =A75&""&B75 -> 0075 | J75: f130 | K75: ปี๊บ แฟนซีเตย-ช็อก 5 กก.
B76: 0076 | C76: โค้วตังเชียง อ.พังโคน จ.สกลนคร | E76: ส.แก่นนคร | I76: =A76&""&B76 -> 0076 | J76: f140 | K76: ปี๊บ แฟนซีส้ม-ช็อก 5 กก.(ใหม่)
B77: 0077 | C77: งามพิพัฒน์ มีนบุรี | E77: ประชากิจ | I77: =A77&""&B77 -> 0077 | J77: f150 | K77: ปี๊บ แฟนซีสตรอฯ-ส้ม 5 กก.
B78: 0078 | C78: งี่เตียง ขอนแก่น | E78: ทรัพย์สมบูรณ์ถาวร | I78: =A78&""&B78 -> 0078 | J78: f160 | K78: ปี๊บ แฟนซีส้ม-เนย 5 กก.
B79: 0079 | C79: งี่เฮง ขอนแก่น | F79: กลาง | I79: =A79&""&B79 -> 0079 | J79: f170 | K79: ปี๊บ แฟนซีสตรอฯ-ช็อก 5 กก.
B80: 0080 | C80: โง้วมุ้ยฮวด คง | F80: กลาง | I80: =A80&""&B80 -> 0080 | J80: f190 | K80: ปี๊บ แฟนซีเตย-ส้ม 5 กก.
B81: 0081 | C81: จงเจริญ ลำปาง | F81: ใต้ | I81: =A81&""&B81 -> 0081 | J81: f210 | K81: แฟนซีช็อก (กล่อง1x6)
B82: 0082 | C82: จรรยา จ.เชียงใหม่ | E82: กุงศรี ประเสริฐ | F82: ใต้ | I82: =A82&""&B82 -> 0082 | J82: f310 | K82: จิ๋ว แฟนซีรวมรส (กล่อง1x12)
B83: 0083 | C83: จ.พานิช โพนพิสัย | E83: โชคประชัน | F83: กลาง | I83: =A83&""&B83 -> 0083 | J83: g110 | K83: ปี๊บ ขาไก่ต้นตำรับ 5 กก.
B84: 0084 | C84: จเร เชียงคำ พะเยา | E84: บลูแอนด์ไวท์ | F84: กลาง | I84: =A84&""&B84 -> 0084 | J84: g120 | K84: ปี๊บ ขาไก่จูเนียร์ 5 กก.
B85: 0085 | C85: จเร ตาก | E85: นิวปากช่อง | F85: อีสาน | I85: =A85&""&B85 -> 0085 | J85: g130 | K85: ปี๊บ ขาไก่ทรงเครื่อง 5 กก.
B86: 0086 | C86: จักรินทร์ โคราช | E86: หน้าร้าน | F86: กลาง | I86: =A86&""&B86 -> 0086 | J86: g158 | K86: ปี๊บ สะโพกไก่ทรงเครื่อง 5 กก.
B87: 0087 | C87: จังตงหลี ทับคล้อ จ.เพชรบูรณ์ | E87: หน้าร้าน | I87: =A87&""&B87 -> 0087 | J87: g163 | K87: ปี๊บ ปูแซ่บ 5 กก.
B88: 0088 | C88: จันจิรา แม่อาย จ.เชียงใหม่ | F88: ใต้ | I88: =A88&""&B88 -> 0088 | J88: g164 | K88: ปี๊บ แน๊คส์ไก่ปรุงรส 4 กก.
B89: 0089 | C89: จันทร์ เชียงคาน จ.เลย | E89: โชคนิมิต | F89: กลาง | I89: =A89&""&B89 -> 0089 | J89: g165 | K89: ปี๊บ แซบเวอร์ รสสาหร่าย 3 กก.(สินค้าใหม่)
B90: 0090 | C90: จันทร์เพ็ญ สี่คิ้ว | E90: ประกายเพชรบูรณ์ | F90: อีสาน | I90: =A90&""&B90 -> 0090 | J90: g167 | K90: ปี๊บ แซบเวอร์ รสบาร์บีคิว 3 กก.(สินค้าใหม่)
B91: 0091 | C91: ต้นข้าว มุกดาหาร. | E91: กุงศริ | F91: ใต้ | I91: =A91&""&B91 -> 0091 | J91: g170 | K91: ขาไก่ต้นตำรับ (กล่อง 5 กก.)
B92: 0092 | C92: จินดาเบเกอรี่ หนองคาย | F92: กรุงเทพฯ | I92: =A92&""&B92 -> 0092 | J92: g171 | K92: ขาไก่ทรงเครื่อง (กล่อง4 กก.)
B93: 0093 | C93: จินตนา อุตรดิตถ์ | E93: หน้าร้าน | I93: =A93&""&B93 -> 0093 | J93: g210 | K93: ขาไก่ต้นตำรับ (กล่อง1x6)
B94: 0094 | C94: จิระการค้า(ย่งเฮง) เลย | F94: เหนือ | I94: =A94&""&B94 -> 0094 | J94: g220 | K94: ขาไก่จูเนียร์ (กล่อง1x6)
B95: 0096 | C95: จิราพร อ.แม่สอด จ.ตาก | E95: เจริญไพศาล | F95: เหนือ | I95: =A95&""&B95 -> 0096 | J95: g230 | K95: ขาไก่ทรงเครื่อง (กล่อง1x6)
B96: 0097 | C96: จี้อันโอสถ ศรีสะเกษ | E96: เจริญสินโลจิสติกส์ | F96: เหนือ | I96: =A96&""&B96 -> 0097 | J96: k121 | K96: ปี๊บ โมเดิร์นครีม 5 กก.
B97: 0098 | C97: จึงเต็กโหมง บางกะปิ | E97: พรศิริชัย | F97: ใต้ | I97: =A97&""&B97 -> 0098 | J97: k122 | K97: ปี๊บ โมเดิร์นทุเรียน 5 กก.
B98: 0099 | C98: จึงมุ้ยฮง โคราช | E98: รวมเหนือ | F98: เหนือ | I98: =A98&""&B98 -> 0099 | J98: k123 | K98: ปี๊บ โมเดิร์นเตย 5 กก.
B99: 0100 | C99: จือฮะ ยโสธร | E99: รังสรรค์ | F99: กลาง | I99: =A99&""&B99 -> 0100 | J99: k131 | K99: ปี๊บ เสี้ยวพระจันทร์ครีม 5 กก.
B100: 0101 | C100: จุฑาทิพย์ สารถี เชียงใหม่ | E100: แสงเจริญ | F100: กลาง | I100: =A100&""&B100 -> 0101 | J100: k132 | K100: ปี๊บ เสี้ยวพระจันทร์ทุเรียน 5 กก.
...

Sheet รายงาน
A1: รายงานสินค้าคืน
A2: ลำดับ | B2: วันที่ | C2: บิลเลขที่ | D2: รหัส | E2: ร้าน | F2: ตัวแทนขาย | G2: รหัสขนม | H2: รายการคืน | I2: จำนวน | J2: ราคา | K2: จำนวนเงิน
B3: 42619 | C3: 5908-0765 | D3: 0303 | E3: =IF(D3<>"",VLOOKUP(D3,ร้าน!$B$2:$C$3011,2,FALSE),"") -> น้ำเพชร เพชรบุรี | F3: =IF(E3<>"",VLOOKUP(E3,ร้าน!$C$2:$D$3011,2,FALSE),"") -> อดุลย์ | G3: s168 | H3: =IF(G3<>"",VLOOKUP(G3,ร้าน!$J$2:$K$3011,2,FALSE),"") -> ปี๊บ มินิสติ๊กสตรอ 4 กก. | I3: 1 | J3: 219.51 | K3: =I3*J3 -> 219.51
E4: =IF(D4<>"",VLOOKUP(D4,ร้าน!$B$2:$C$3011,2,FALSE),"") | F4: =IF(E4<>"",VLOOKUP(E4,ร้าน!$C$2:$D$3011,2,FALSE),"") | G4: ต025 | H4: =IF(G4<>"",VLOOKUP(G4,ร้าน!$J$2:$K$3011,2,FALSE),"") -> ใบ ปี๊บเปล่า | I4: 56 | J4: 15 | K4: =I4*J4 -> 840
E5: =IF(D5<>"",VLOOKUP(D5,ร้าน!$B$2:$C$3011,2,FALSE),"") | F5: =IF(E5<>"",VLOOKUP(E5,ร้าน!$C$2:$D$3011,2,FALSE),"") | G5: p170 | H5: =IF(G5<>"",VLOOKUP(G5,ร้าน!$J$2:$K$3011,2,FALSE),"") -> ปี๊บ มินิชีสสับปะรด 6 กก. | I5: 1 | J5: 359.02 | K5: =I5*J5 -> 359.02
C6: 5908-0768 | D6: 0632 | E6: =IF(D6<>"",VLOOKUP(D6,ร้าน!$B$2:$C$3011,2,FALSE),"") -> หนึ่งสโตร์ ตลาดไท | F6: =IF(E6<>"",VLOOKUP(E6,ร้าน!$C$2:$D$3011,2,FALSE),"") -> วรรากิจ | G6: a180 | H6: =IF(G6<>"",VLOOKUP(G6,ร้าน!$J$2:$K$3011,2,FALSE),"") -> ปี๊บ ปูกรอบ รสบาร์บีคิว 4 กก.*ใหม่* | I6: 10 | J6: 266 | K6: =I6*J6 -> 2660
C7: 5908-0767 | D7: 0447 | E7: =IF(D7<>"",VLOOKUP(D7,ร้าน!$B$2:$C$3011,2,FALSE),"") -> แม่ตะเพียนค้าเจริญ (รษา แสงสมัย) | F7: =IF(E7<>"",VLOOKUP(E7,ร้าน!$C$2:$D$3011,2,FALSE),"") -> วรากิจ | G7: s110 | H7: =IF(G7<>"",VLOOKUP(G7,ร้าน!$J$2:$K$3011,2,FALSE),"") -> ปี๊บ สติ๊กช็อก 5 กก. | I7: 1 | J7: 254.9 | K7: =I7*J7 -> 254.9
E8: =IF(D8<>"",VLOOKUP(D8,ร้าน!$B$2:$C$3011,2,FALSE),"") | F8: =IF(E8<>"",VLOOKUP(E8,ร้าน!$C$2:$D$3011,2,FALSE),"") | G8: s167 | H8: =IF(G8<>"",VLOOKUP(G8,ร้าน!$J$2:$K$3011,2,FALSE),"") -> ปี๊บ มินิสติ๊กเตย 4 กก. | I8: 2 | J8: 217.65 | K8: =I8*J8 -> 435.3
E9: =IF(D9<>"",VLOOKUP(D9,ร้าน!$B$2:$C$3011,2,FALSE),"") | F9: =IF(E9<>"",VLOOKUP(E9,ร้าน!$C$2:$D$3011,2,FALSE),"") | G9: ต025 | H9: =IF(G9<>"",VLOOKUP(G9,ร้าน!$J$2:$K$3011,2,FALSE),"") -> ใบ ปี๊บเปล่า | I9: 95 | J9: 15 | K9: =I9*J9 -> 1425
C10: 5908-0759 | D10: 0229 | E10: =IF(D10<>"",VLOOKUP(D10,ร้าน!$B$2:$C$3011,2,FALSE),"") -> ทรัพย์อนันต์ พิษณุโลก | F10: =IF(E10<>"",VLOOKUP(E10,ร้าน!$C$2:$D$3011,2,FALSE),"") -> สุวัฒน์ | G10: p160 | H10: =IF(G10<>"",VLOOKUP(G10,ร้าน!$J$2:$K$3011,2,FALSE),"") -> ปี๊บ นีสแนคสับปะรด 6 กก. | I10: 2 | J10: 373.35 | K10: =I10*J10 -> 746.7
E11: =IF(D11<>"",VLOOKUP(D11,ร้าน!$B$2:$C$3011,2,FALSE),"") | F11: =IF(E11<>"",VLOOKUP(E11,ร้าน!$C$2:$D$3011,2,FALSE),"") | G11: z110578 | H11: =IF(G11<>"",VLOOKUP(G11,ร้าน!$J$2:$K$3011,2,FALSE),"") -> (แพ็ค) SK แครกเกอร์ไส้สับปะรด 68 ก. | I11: 9 | J11: 45.37 | K11: =I11*J11 -> 408.33
E12: =IF(D12<>"",VLOOKUP(D12,ร้าน!$B$2:$C$3011,2,FALSE),"") | F12: =IF(E12<>"",VLOOKUP(E12,ร้าน!$C$2:$D$3011,2,FALSE),"") | G12: ก019 | H12: =IF(G12<>"",VLOOKUP(G12,ร้าน!$J$2:$K$3011,2,FALSE),"") -> ห่อ ขนมห่อซอง | I12: 4 | J12: 7.56 | K12: =I12*J12 -> 30.24
E13: =IF(D13<>"",VLOOKUP(D13,ร้าน!$B$2:$C$3011,2,FALSE),"") | F13: =IF(E13<>"",VLOOKUP(E13,ร้าน!$C$2:$D$3011,2,FALSE),"") | G13: z207257 | H13: =IF(G13<>"",VLOOKUP(G13,ร้าน!$J$2:$K$3011,2,FALSE),"") -> (แพ็ค) SK แครกเกอร์โคโคนัท 60 ก. | I13: 2 | J13: 45.37 | K13: =I13*J13 -> 90.74
E14: =IF(D14<>"",VLOOKUP(D14,ร้าน!$B$2:$C$3011,2,FALSE),"") | F14: =IF(E14<>"",VLOOKUP(E14,ร้าน!$C$2:$D$3011,2,FALSE),"") | G14: ก023 | H14: =IF(G14<>"",VLOOKUP(G14,ร้าน!$J$2:$K$3011,2,FALSE),"") -> ห่อ ขนมห่อซอง | I14: 3 | J14: 7.39 | K14: =I14*J14 -> 22.17
E15: =IF(D15<>"",VLOOKUP(D15,ร้าน!$B$2:$C$3011,2,FALSE),"") | F15: =IF(E15<>"",VLOOKUP(E15,ร้าน!$C$2:$D$3011,2,FALSE),"") | G15: c151 | H15: =IF(G15<>"",VLOOKUP(G15,ร้าน!$J$2:$K$3011,2,FALSE),"") -> ปี๊บ หงส์ครีม 5 กก. | I15: 3 | J15: 248.03 | K15: =I15*J15 -> 744.09
E16: =IF(D16<>"",VLOOKUP(D16,ร้าน!$B$2:$C$3011,2,FALSE),"") | F16: =IF(E16<>"",VLOOKUP(E16,ร้าน!$C$2:$D$3011,2,FALSE),"") | G16: z202463 | H16: =IF(G16<>"",VLOOKUP(G16,ร้าน!$J$2:$K$3011,2,FALSE),"") -> (แพ็ค) SK แครกเกอร์ดั้งเดิม 60 ก. | I16: 12 | J16: 45.37 | K16: =I16*J16 -> 544.44
E17: =IF(D17<>"",VLOOKUP(D17,ร้าน!$B$2:$C$3011,2,FALSE),"") | F17: =IF(E17<>"",VLOOKUP(E17,ร้าน!$C$2:$D$3011,2,FALSE),"") | G17: z312 | H17: =IF(G17<>"",VLOOKUP(G17,ร้าน!$J$2:$K$3011,2,FALSE),"") -> ซอง 12 sk ไฮสติ๊กช็อก ไส้ช็อก 45 กรัม(กล่อง1x48) | I17: 9 | J17: 44.37 | K17: =I17*J17 -> 399.33
E18: =IF(D18<>"",VLOOKUP(D18,ร้าน!$B$2:$C$3011,2,FALSE),"") | F18: =IF(E18<>"",VLOOKUP(E18,ร้าน!$C$2:$D$3011,2,FALSE),"") | G18: s120 | H18: =IF(G18<>"",VLOOKUP(G18,ร้าน!$J$2:$K$3011,2,FALSE),"") -> ปี๊บ สติ๊กสตรอฯ 5 กก. | I18: 3 | J18: 257.84 | K18: =I18*J18 -> 773.52
E19: =IF(D19<>"",VLOOKUP(D19,ร้าน!$B$2:$C$3011,2,FALSE),"") | F19: =IF(E19<>"",VLOOKUP(E19,ร้าน!$C$2:$D$3011,2,FALSE),"") | G19: ต007 | H19: =IF(G19<>"",VLOOKUP(G19,ร้าน!$J$2:$K$3011,2,FALSE),"") -> เต้า ขนมขาไก่ปรุงรส | I19: 1 | J19: 87.78 | K19: =I19*J19 -> 87.78
C20: 5908-1012 | D20: 0954 | E20: =IF(D20<>"",VLOOKUP(D20,ร้าน!$B$2:$C$3011,2,FALSE),"") -> เจ้สายใจ สองพี่น้อง จ.สุพรรณบุรี | F20: =IF(E20<>"",VLOOKUP(E20,ร้าน!$C$2:$D$3011,2,FALSE),"") -> อดุลย์ | G20: ก013 | H20: =IF(G20<>"",VLOOKUP(G20,ร้าน!$J$2:$K$3011,2,FALSE),"") -> ขีด ขนมสติ๊ก/แฟนซี | I20: 3 | J20: 5.34 | K20: =I20*J20 -> 16.02
C21: 5908-0936 | D21: 0451 | E21: =IF(D21<>"",VLOOKUP(D21,ร้าน!$B$2:$C$3011,2,FALSE),"") -> ย่งเชียงหลี มหาชัย จ.สมุทรสาคร | F21: =IF(E21<>"",VLOOKUP(E21,ร้าน!$C$2:$D$3011,2,FALSE),"") -> อดุลย์ | G21: ต001 | H21: =IF(G21<>"",VLOOKUP(G21,ร้าน!$J$2:$K$3011,2,FALSE),"") -> เต้า ขนมปังครีม | I21: 1 | J21: 86.19 | K21: =I21*J21 -> 86.19
E22: =IF(D22<>"",VLOOKUP(D22,ร้าน!$B$2:$C$3011,2,FALSE),"") | F22: =IF(E22<>"",VLOOKUP(E22,ร้าน!$C$2:$D$3011,2,FALSE),"") | G22: c111 | H22: =IF(G22<>"",VLOOKUP(G22,ร้าน!$J$2:$K$3011,2,FALSE),"") -> ปี๊บ รูปไข่ขาวครีม 5 กก. | I22: 1 | J22: 259.35 | K22: =I22*J22 -> 259.35
E23: =IF(D23<>"",VLOOKUP(D23,ร้าน!$B$2:$C$3011,2,FALSE),"") | F23: =IF(E23<>"",VLOOKUP(E23,ร้าน!$C$2:$D$3011,2,FALSE),"") | G23: a110 | H23: =IF(G23<>"",VLOOKUP(G23,ร้าน!$J$2:$K$3011,2,FALSE),"") -> ปี๊บ ABC 4 กก. | I23: 1 | J23: 202.35 | K23: =I23*J23 -> 202.35
C24: 5908-0922 | D24: 0913 | E24: =IF(D24<>"",VLOOKUP(D24,ร้าน!$B$2:$C$3011,2,FALSE),"") -> รุ่งเจริญ บุรีรัมย์ 081-7250441 | F24: =IF(E24<>"",VLOOKUP(E24,ร้าน!$C$2:$D$3011,2,FALSE),"") -> พิเชษฐ์ | G24: s169 | H24: =IF(G24<>"",VLOOKUP(G24,ร้าน!$J$2:$K$3011,2,FALSE),"") -> ปี๊บ มินิสติ๊กลายจุดบลูเบอรี่ 4 กก. | I24: 47 | J24: 221.46 | K24: =I24*J24 -> 10408.62
C25: 5909-0408 | D25: 2709 | E25: =IF(D25<>"",VLOOKUP(D25,ร้าน!$B$2:$C$3011,2,FALSE),"") -> บ้านเฮียอภิวัฒน์ | F25: =IF(E25<>"",VLOOKUP(E25,ร้าน!$C$2:$D$3011,2,FALSE),"") -> อภิวัฒน์ | G25: ต021 | H25: =IF(G25<>"",VLOOKUP(G25,ร้าน!$J$2:$K$3011,2,FALSE),"") -> ส่วนต่างราคาสินค้า | I25: 74 | J25: 4 | K25: =I25*J25 -> 296
C26: 5908-0822 | D26: 0120 | E26: =IF(D26<>"",VLOOKUP(D26,ร้าน!$B$2:$C$3011,2,FALSE),"") -> เจ๊พร ศรีมหาโพธิ์ จ.ปราจีนบุรี | F26: =IF(E26<>"",VLOOKUP(E26,ร้าน!$C$2:$D$3011,2,FALSE),"") -> อดุลย์ | G26: ก001 | H26: =IF(G26<>"",VLOOKUP(G26,ร้าน!$J$2:$K$3011,2,FALSE),"") -> กก. ขนมปังครีม/บัตเตอร์งา | I26: 3 | J26: 51.56 | K26: =I26*J26 -> 154.68
E27: =IF(D27<>"",VLOOKUP(D27,ร้าน!$B$2:$C$3011,2,FALSE),"") | F27: =IF(E27<>"",VLOOKUP(E27,ร้าน!$C$2:$D$3011,2,FALSE),"") | G27: ก002 | H27: =IF(G27<>"",VLOOKUP(G27,ร้าน!$J$2:$K$3011,2,FALSE),"") -> กก. ขนมสติ๊ก/แฟนซี | I27: 1 | J27: 53.45 | K27: =I27*J27 -> 53.45
E28: =IF(D28<>"",VLOOKUP(D28,ร้าน!$B$2:$C$3011,2,FALSE),"") | F28: =IF(E28<>"",VLOOKUP(E28,ร้าน!$C$2:$D$3011,2,FALSE),"") | G28: a170 | H28: =IF(G28<>"",VLOOKUP(G28,ร้าน!$J$2:$K$3011,2,FALSE),"") -> ปี๊บ บุหรี่ทูโทน 4 กก. | I28: 2 | J28: 201.17 | K28: =I28*J28 -> 402.34
C29: 5908-0803 | D29: 0610 | E29: =IF(D29<>"",VLOOKUP(D29,ร้าน!$B$2:$C$3011,2,FALSE),"") -> สุวัฒน์ มหานาค | F29: =IF(E29<>"",VLOOKUP(E29,ร้าน!$C$2:$D$3011,2,FALSE),"") -> วรรากิจ | G29: s1001 | H29: =IF(G29<>"",VLOOKUP(G29,ร้าน!$J$2:$K$3011,2,FALSE),"") -> ปี๊บ มินิสติ๊กลายจุดสตรอฯ 4 กก. | I29: 1 | J29: 231.39 | K29: =I29*J29 -> 231.39
C30: 5908-0814 | D30: 0117 | E30: =IF(D30<>"",VLOOKUP(D30,ร้าน!$B$2:$C$3011,2,FALSE),"") -> เจ๊ป้อม กบินทร์บุรี จ.ปราจีนบุรี | F30: =IF(E30<>"",VLOOKUP(E30,ร้าน!$C$2:$D$3011,2,FALSE),"") -> อดุลย์ | G30: g130 | H30: =IF(G30<>"",VLOOKUP(G30,ร้าน!$J$2:$K$3011,2,FALSE),"") -> ปี๊บ ขาไก่ทรงเครื่อง 5 กก. | I30: 5 | J30: 264.66 | K30: =I30*J30 -> 1323.3
C31: 5908-0734 | D31: 0610 | E31: =IF(D31<>"",VLOOKUP(D31,ร้าน!$B$2:$C$3011,2,FALSE),"") -> สุวัฒน์ มหานาค | F31: =IF(E31<>"",VLOOKUP(E31,ร้าน!$C$2:$D$3011,2,FALSE),"") -> วรรากิจ | G31: s210 | H31: =IF(G31<>"",VLOOKUP(G31,ร้าน!$J$2:$K$3011,2,FALSE),"") -> สติ๊กช็อก (กล่อง1x6) | I31: 5 | J31: 542.86 | K31: =I31*J31 -> 2714.3
E32: =IF(D32<>"",VLOOKUP(D32,ร้าน!$B$2:$C$3011,2,FALSE),"") | F32: =IF(E32<>"",VLOOKUP(E32,ร้าน!$C$2:$D$3011,2,FALSE),"") | G32: ต002 | H32: =IF(G32<>"",VLOOKUP(G32,ร้าน!$J$2:$K$3011,2,FALSE),"") -> เต้า ขนมสติ๊ก/แฟนซี | I32: 4 | J32: 90.78 | K32: =I32*J32 -> 363.12
C33: 5908-0732 | D33: 0610 | E33: =IF(D33<>"",VLOOKUP(D33,ร้าน!$B$2:$C$3011,2,FALSE),"") -> สุวัฒน์ มหานาค | F33: =IF(E33<>"",VLOOKUP(E33,ร้าน!$C$2:$D$3011,2,FALSE),"") -> วรรากิจ | G33: s110 | H33: =IF(G33<>"",VLOOKUP(G33,ร้าน!$J$2:$K$3011,2,FALSE),"") -> ปี๊บ สติ๊กช็อก 5 กก. | I33: 1 | J33: 264.44 | K33: =I33*J33 -> 264.44
E34: =IF(D34<>"",VLOOKUP(D34,ร้าน!$B$2:$C$3011,2,FALSE),"") | F34: =IF(E34<>"",VLOOKUP(E34,ร้าน!$C$2:$D$3011,2,FALSE),"") | G34: g130 | H34: =IF(G34<>"",VLOOKUP(G34,ร้าน!$J$2:$K$3011,2,FALSE),"") -> ปี๊บ ขาไก่ทรงเครื่อง 5 กก. | I34: 1 | J34: 266 | K34: =I34*J34 -> 266
E35: =IF(D35<>"",VLOOKUP(D35,ร้าน!$B$2:$C$3011,2,FALSE),"") | F35: =IF(E35<>"",VLOOKUP(E35,ร้าน!$C$2:$D$3011,2,FALSE),"") | G35: ต007 | H35: =IF(G35<>"",VLOOKUP(G35,ร้าน!$J$2:$K$3011,2,FALSE),"") -> เต้า ขนมขาไก่ปรุงรส | I35: 1 | J35: 87.3 | K35: =I35*J35 -> 87.3
C36: 5908-0820 | D36: 0351 | E36: =IF(D36<>"",VLOOKUP(D36,ร้าน!$B$2:$C$3011,2,FALSE),"") -> ป้าสำรวย ศรีมหาโพธิ์ จ.ปราจีนบุรี | F36: =IF(E36<>"",VLOOKUP(E36,ร้าน!$C$2:$D$3011,2,FALSE),"") -> อดุลย์ | G36: a110 | H36: =IF(G36<>"",VLOOKUP(G36,ร้าน!$J$2:$K$3011,2,FALSE),"") -> ปี๊บ ABC 4 กก. | I36: 1 | J36: 213 | K36: =I36*J36 -> 213
E37: =IF(D37<>"",VLOOKUP(D37,ร้าน!$B$2:$C$3011,2,FALSE),"") | F37: =IF(E37<>"",VLOOKUP(E37,ร้าน!$C$2:$D$3011,2,FALSE),"") | G37: ก006 | H37: =IF(G37<>"",VLOOKUP(G37,ร้าน!$J$2:$K$3011,2,FALSE),"") -> กก. ขนมกรอบเค็ม/แครเกอร์ | I37: 15 | J37: 67.21 | K37: =I37*J37 -> 1008.15
E38: =IF(D38<>"",VLOOKUP(D38,ร้าน!$B$2:$C$3011,2,FALSE),"") | F38: =IF(E38<>"",VLOOKUP(E38,ร้าน!$C$2:$D$3011,2,FALSE),"") | G38: ก013 | H38: =IF(G38<>"",VLOOKUP(G38,ร้าน!$J$2:$K$3011,2,FALSE),"") -> ขีด ขนมสติ๊ก/แฟนซี | I38: 8 | J38: 5.29 | K38: =I38*J38 -> 42.32
E39: =IF(D39<>"",VLOOKUP(D39,ร้าน!$B$2:$C$3011,2,FALSE),"") | F39: =IF(E39<>"",VLOOKUP(E39,ร้าน!$C$2:$D$3011,2,FALSE),"") | G39: ก004 | H39: =IF(G39<>"",VLOOKUP(G39,ร้าน!$J$2:$K$3011,2,FALSE),"") -> กก. ขนมสับปะรด | I39: 1 | J39: 52.82 | K39: =I39*J39 -> 52.82
E40: =IF(D40<>"",VLOOKUP(D40,ร้าน!$B$2:$C$3011,2,FALSE),"") | F40: =IF(E40<>"",VLOOKUP(E40,ร้าน!$C$2:$D$3011,2,FALSE),"") | G40: ก008 | H40: =IF(G40<>"",VLOOKUP(G40,ร้าน!$J$2:$K$3011,2,FALSE),"") -> ขีด ขนมมินิชีส | I40: 5 | J40: 6.22 | K40: =I40*J40 -> 31.1
E41: =IF(D41<>"",VLOOKUP(D41,ร้าน!$B$2:$C$3011,2,FALSE),"") | F41: =IF(E41<>"",VLOOKUP(E41,ร้าน!$C$2:$D$3011,2,FALSE),"") | G41: ก012 | H41: =IF(G41<>"",VLOOKUP(G41,ร้าน!$J$2:$K$3011,2,FALSE),"") -> ขีด ขนมปังครีม/บัตเตอร์งา | I41: 1 | J41: 51.06 | K41: =I41*J41 -> 51.06
C42: 5908-0935 | D42: 0110 | E42: =IF(D42<>"",VLOOKUP(D42,ร้าน!$B$2:$C$3011,2,FALSE),"") -> เจ๊แดง ชลบุรี (งส 2%) ชลบุรี ขนมหวาน | F42: =IF(E42<>"",VLOOKUP(E42,ร้าน!$C$2:$D$3011,2,FALSE),"") -> อดุลย์ | G42: b171 | H42: =IF(G42<>"",VLOOKUP(G42,ร้าน!$J$2:$K$3011,2,FALSE),"") -> ปี๊บ แครกเกอร์เค็มแผ่นใหญ่ 4 กก. | I42: 3 | J42: 268.85 | K42: =I42*J42 -> 806.55
E43: =IF(D43<>"",VLOOKUP(D43,ร้าน!$B$2:$C$3011,2,FALSE),"") | F43: =IF(E43<>"",VLOOKUP(E43,ร้าน!$C$2:$D$3011,2,FALSE),"") | G43: p170 | H43: =IF(G43<>"",VLOOKUP(G43,ร้าน!$J$2:$K$3011,2,FALSE),"") -> ปี๊บ มินิชีสสับปะรด 6 กก. | I43: 1 | J43: 359.02 | K43: =I43*J43 -> 359.02
E44: =IF(D44<>"",VLOOKUP(D44,ร้าน!$B$2:$C$3011,2,FALSE),"") | F44: =IF(E44<>"",VLOOKUP(E44,ร้าน!$C$2:$D$3011,2,FALSE),"") | G44: a160 | H44: =IF(G44<>"",VLOOKUP(G44,ร้าน!$J$2:$K$3011,2,FALSE),"") -> ปี๊บ บุหรี่ยาว 4 กก. | I44: 1 | J44: 200 | K44: =I44*J44 -> 200
E45: =IF(D45<>"",VLOOKUP(D45,ร้าน!$B$2:$C$3011,2,FALSE),"") | F45: =IF(E45<>"",VLOOKUP(E45,ร้าน!$C$2:$D$3011,2,FALSE),"") | G45: m110 | H45: =IF(G45<>"",VLOOKUP(G45,ร้าน!$J$2:$K$3011,2,FALSE),"") -> ปี๊บ เม็ดพลอยคละสี 4 กก. | I45: 1 | J45: 232.19 | K45: =I45*J45 -> 232.19
E46: =IF(D46<>"",VLOOKUP(D46,ร้าน!$B$2:$C$3011,2,FALSE),"") | F46: =IF(E46<>"",VLOOKUP(E46,ร้าน!$C$2:$D$3011,2,FALSE),"") | G46: s110 | H46: =IF(G46<>"",VLOOKUP(G46,ร้าน!$J$2:$K$3011,2,FALSE),"") -> ปี๊บ สติ๊กช็อก 5 กก. | I46: 5 | J46: 256.58 | K46: =I46*J46 -> 1282.9
E47: =IF(D47<>"",VLOOKUP(D47,ร้าน!$B$2:$C$2003,2,FALSE),"") | F47: =IF(E47<>"",VLOOKUP(E47,ร้าน!$C$2:$D$3011,2,FALSE),"") | G47: s161 | H47: =IF(G47<>"",VLOOKUP(G47,ร้าน!$J$2:$K$3011,2,FALSE),"") -> ปี๊บ มินิสติ๊กโคฟี่ มอคค่า 4 กก. | I47: 20 | J47: 219.51 | K47: =I47*J47 -> 4390.2
C48: 5909-0119 | D48: 0542 | E48: =IF(D48<>"",VLOOKUP(D48,ร้าน!$B$2:$C$2003,2,FALSE),"") -> ศุทธินีเบเกอรี่ บางบอน | F48: =IF(E48<>"",VLOOKUP(E48,ร้าน!$C$2:$D$3011,2,FALSE),"") -> วรากิจ | G48: ก001 | H48: =IF(G48<>"",VLOOKUP(G48,ร้าน!$J$2:$K$3011,2,FALSE),"") -> กก. ขนมปังครีม/บัตเตอร์งา | I48: 4 | J48: 51 | K48: =I48*J48 -> 204
E49: =IF(D49<>"",VLOOKUP(D49,ร้าน!$B$2:$C$2003,2,FALSE),"") | F49: =IF(E49<>"",VLOOKUP(E49,ร้าน!$C$2:$D$3011,2,FALSE),"") | G49: ก004 | H49: =IF(G49<>"",VLOOKUP(G49,ร้าน!$J$2:$K$3011,2,FALSE),"") -> กก. ขนมสับปะรด | I49: 5 | J49: 51.94 | K49: =I49*J49 -> 259.7
E50: =IF(D50<>"",VLOOKUP(D50,ร้าน!$B$2:$C$2003,2,FALSE),"") | F50: =IF(E50<>"",VLOOKUP(E50,ร้าน!$C$2:$D$3011,2,FALSE),"") | G50: ก003 | H50: =IF(G50<>"",VLOOKUP(G50,ร้าน!$J$2:$K$3011,2,FALSE),"") -> กก. ขนมขาไก่ | I50: 5 | J50: 51 | K50: =I50*J50 -> 255
E51: =IF(D51<>"",VLOOKUP(D51,ร้าน!$B$2:$C$2003,2,FALSE),"") | F51: =IF(E51<>"",VLOOKUP(E51,ร้าน!$C$2:$D$3011,2,FALSE),"") | G51: ก002 | H51: =IF(G51<>"",VLOOKUP(G51,ร้าน!$J$2:$K$3011,2,FALSE),"") -> กก. ขนมสติ๊ก/แฟนซี | I51: 3 | J51: 52.37 | K51: =I51*J51 -> 157.11
E52: =IF(D52<>"",VLOOKUP(D52,ร้าน!$B$2:$C$2003,2,FALSE),"") | F52: =IF(E52<>"",VLOOKUP(E52,ร้าน!$C$2:$D$3011,2,FALSE),"") | G52: ก009 | H52: =IF(G52<>"",VLOOKUP(G52,ร้าน!$J$2:$K$3011,2,FALSE),"") -> กก. ขนมเม็ดพลอย | I52: 5 | J52: 55.81 | K52: =I52*J52 -> 279.05
C53: 5909-0069 | D53: 0654 | E53: =IF(D53<>"",VLOOKUP(D53,ร้าน!$B$2:$C$2003,2,FALSE),"") -> อรุณี นครปฐม | F53: =IF(E53<>"",VLOOKUP(E53,ร้าน!$C$2:$D$3011,2,FALSE),"") -> อดุลย์ | G53: s166 | H53: =IF(G53<>"",VLOOKUP(G53,ร้าน!$J$2:$K$3011,2,FALSE),"") -> ปี๊บ มินิสติ๊กช็อก(ไส้ช็อก) 4กก. | I53: 1 | J53: 225 | K53: =I53*J53 -> 225
E54: =IF(D54<>"",VLOOKUP(D54,ร้าน!$B$2:$C$2003,2,FALSE),"") | F54: =IF(E54<>"",VLOOKUP(E54,ร้าน!$C$2:$D$3011,2,FALSE),"") | G54: g158 | H54: =IF(G54<>"",VLOOKUP(G54,ร้าน!$J$2:$K$3011,2,FALSE),"") -> ปี๊บ สะโพกไก่ทรงเครื่อง 5 กก. | I54: 2 | J54: 258.14 | K54: =I54*J54 -> 516.28
E55: =IF(D55<>"",VLOOKUP(D55,ร้าน!$B$2:$C$2003,2,FALSE),"") | F55: =IF(E55<>"",VLOOKUP(E55,ร้าน!$C$2:$D$3011,2,FALSE),"") | G55: p170 | H55: =IF(G55<>"",VLOOKUP(G55,ร้าน!$J$2:$K$3011,2,FALSE),"") -> ปี๊บ มินิชีสสับปะรด 6 กก. | I55: 1 | J55: 368 | K55: =I55*J55 -> 368
E56: =IF(D56<>"",VLOOKUP(D56,ร้าน!$B$2:$C$2003,2,FALSE),"") | F56: =IF(E56<>"",VLOOKUP(E56,ร้าน!$C$2:$D$3011,2,FALSE),"") | G56: k152 | H56: =IF(G56<>"",VLOOKUP(G56,ร้าน!$J$2:$K$3011,2,FALSE),"") -> ปี๊บ คุกกี้ทุเรียน 5 กก. | I56: 1 | J56: 238.68 | K56: =I56*J56 -> 238.68
C57: 5909-0107 | D57: 0345 | E57: =IF(D57<>"",VLOOKUP(D57,ร้าน!$B$2:$C$2003,2,FALSE),"") -> ป้าเตียง | F57: =IF(E57<>"",VLOOKUP(E57,ร้าน!$C$2:$D$3011,2,FALSE),"") -> อดุลย์ | G57: s120 | H57: =IF(G57<>"",VLOOKUP(G57,ร้าน!$J$2:$K$3011,2,FALSE),"") -> ปี๊บ สติ๊กสตรอฯ 5 กก. | I57: 1 | J57: 261.85 | K57: =I57*J57 -> 261.85
C58: 5908-0876 | D58: 0337 | E58: =IF(D58<>"",VLOOKUP(D58,ร้าน!$B$2:$C$2003,2,FALSE),"") -> ประสิทธิ์การค้า รังสิต | F58: =IF(E58<>"",VLOOKUP(E58,ร้าน!$C$2:$D$3011,2,FALSE),"") -> วรากิจ | G58: ก012 | H58: =IF(G58<>"",VLOOKUP(G58,ร้าน!$J$2:$K$3011,2,FALSE),"") -> ขีด ขนมปังครีม/บัตเตอร์งา | I58: 5 | J58: 5.1 | K58: =I58*J58 -> 25.5
E59: =IF(D59<>"",VLOOKUP(D59,ร้าน!$B$2:$C$2003,2,FALSE),"") | F59: =IF(E59<>"",VLOOKUP(E59,ร้าน!$C$2:$D$3011,2,FALSE),"") | G59: ต010 | H59: =IF(G59<>"",VLOOKUP(G59,ร้าน!$J$2:$K$3011,2,FALSE),"") -> ค่าลิฟท์ | I59: 1 | J59: 50 | K59: =I59*J59 -> 50
C60: 5908-1092 | D60: 0447 | E60: =IF(D60<>"",VLOOKUP(D60,ร้าน!$B$2:$C$2003,2,FALSE),"") -> แม่ตะเพียนค้าเจริญ (รษา แสงสมัย) | F60: =IF(E60<>"",VLOOKUP(E60,ร้าน!$C$2:$D$3011,2,FALSE),"") -> วรากิจ | G60: s110 | H60: =IF(G60<>"",VLOOKUP(G60,ร้าน!$J$2:$K$3011,2,FALSE),"") -> ปี๊บ สติ๊กช็อก 5 กก. | I60: 1 | J60: 250 | K60: =I60*J60 -> 250
E61: =IF(D61<>"",VLOOKUP(D61,ร้าน!$B$2:$C$2003,2,FALSE),"") | F61: =IF(E61<>"",VLOOKUP(E61,ร้าน!$C$2:$D$3011,2,FALSE),"") | G61: ต025 | H61: =IF(G61<>"",VLOOKUP(G61,ร้าน!$J$2:$K$3011,2,FALSE),"") -> ใบ ปี๊บเปล่า | I61: 14 | J61: 15
C62: 5909-0014 | D62: 1835 | E62: =IF(D62<>"",VLOOKUP(D62,ร้าน!$B$2:$C$2003,2,FALSE),"") -> คุณสุภาวรรณ (คุณกบ) หมู่บ้านการเคหะสวนหลวง | F62: =IF(E62<>"",VLOOKUP(E62,ร้าน!$C$2:$D$3011,2,FALSE),"") -> อดุลย์ | G62: g130 | H62: =IF(G62<>"",VLOOKUP(G62,ร้าน!$J$2:$K$3011,2,FALSE),"") -> ปี๊บ ขาไก่ทรงเครื่อง 5 กก. | I62: 2 | J62: 255.96
E63: =IF(D63<>"",VLOOKUP(D63,ร้าน!$B$2:$C$2003,2,FALSE),"") | F63: =IF(E63<>"",VLOOKUP(E63,ร้าน!$C$2:$D$3011,2,FALSE),"") | G63: g110 | H63: =IF(G63<>"",VLOOKUP(G63,ร้าน!$J$2:$K$3011,2,FALSE),"") -> ปี๊บ ขาไก่ต้นตำรับ 5 กก. | I63: 2 | J63: 246.23
E64: =IF(D64<>"",VLOOKUP(D64,ร้าน!$B$2:$C$2003,2,FALSE),"") | F64: =IF(E64<>"",VLOOKUP(E64,ร้าน!$C$2:$D$3011,2,FALSE),"") | G64: g163 | H64: =IF(G64<>"",VLOOKUP(G64,ร้าน!$J$2:$K$3011,2,FALSE),"") -> ปี๊บ ปูแซ่บ 5 กก. | I64: 1 | J64: 276.71
E65: =IF(D65<>"",VLOOKUP(D65,ร้าน!$B$2:$C$2003,2,FALSE),"") | F65: =IF(E65<>"",VLOOKUP(E65,ร้าน!$C$2:$D$3011,2,FALSE),"") | G65: c111 | H65: =IF(G65<>"",VLOOKUP(G65,ร้าน!$J$2:$K$3011,2,FALSE),"") -> ปี๊บ รูปไข่ขาวครีม 5 กก. | I65: 5 | J65: 246.23
E66: =IF(D66<>"",VLOOKUP(D66,ร้าน!$B$2:$C$2003,2,FALSE),"") | F66: =IF(E66<>"",VLOOKUP(E66,ร้าน!$C$2:$D$3011,2,FALSE),"") | G66: s120 | H66: =IF(G66<>"",VLOOKUP(G66,ร้าน!$J$2:$K$3011,2,FALSE),"") -> ปี๊บ สติ๊กสตรอฯ 5 กก. | I66: 2 | J66: 252.88
E67: =IF(D67<>"",VLOOKUP(D67,ร้าน!$B$2:$C$2003,2,FALSE),"") | F67: =IF(E67<>"",VLOOKUP(E67,ร้าน!$C$2:$D$3011,2,FALSE),"") | G67: v130 | H67: =IF(G67<>"",VLOOKUP(G67,ร้าน!$J$2:$K$3011,2,FALSE),"") -> ปี๊บ เวเฟอร์แผ่นใบเตย 4 กก. | I67: 4 | J67: 243
E68: =IF(D68<>"",VLOOKUP(D68,ร้าน!$B$2:$C$2003,2,FALSE),"") | F68: =IF(E68<>"",VLOOKUP(E68,ร้าน!$C$2:$D$3011,2,FALSE),"") | G68: e120 | H68: =IF(G68<>"",VLOOKUP(G68,ร้าน!$J$2:$K$3011,2,FALSE),"") -> ปี๊บ บูมบูมขาวไส้ช็อก 3 กก. | I68: 1 | J68: 210.73
E69: =IF(D69<>"",VLOOKUP(D69,ร้าน!$B$2:$C$2003,2,FALSE),"") | F69: =IF(E69<>"",VLOOKUP(E69,ร้าน!$C$2:$D$3011,2,FALSE),"") | G69: a110 | H69: =IF(G69<>"",VLOOKUP(G69,ร้าน!$J$2:$K$3011,2,FALSE),"") -> ปี๊บ ABC 4 กก. | I69: 3 | J69: 207.3
E70: =IF(D70<>"",VLOOKUP(D70,ร้าน!$B$2:$C$2003,2,FALSE),"") | F70: =IF(E70<>"",VLOOKUP(E70,ร้าน!$C$2:$D$3011,2,FALSE),"") | G70: m110 | H70: =IF(G70<>"",VLOOKUP(G70,ร้าน!$J$2:$K$3011,2,FALSE),"") -> ปี๊บ เม็ดพลอยคละสี 4 กก. | I70: 1 | J70: 226.1
E71: =IF(D71<>"",VLOOKUP(D71,ร้าน!$B$2:$C$2003,2,FALSE),"") | F71: =IF(E71<>"",VLOOKUP(E71,ร้าน!$C$2:$D$3011,2,FALSE),"") | G71: p110 | H71: =IF(G71<>"",VLOOKUP(G71,ร้าน!$J$2:$K$3011,2,FALSE),"") -> ปี๊บ กะทิสับปะรด 5 กก. | I71: 1 | J71: 255.96
E72: =IF(D72<>"",VLOOKUP(D72,ร้าน!$B$2:$C$2003,2,FALSE),"") | F72: =IF(E72<>"",VLOOKUP(E72,ร้าน!$C$2:$D$3011,2,FALSE),"") | G72: p170 | H72: =IF(G72<>"",VLOOKUP(G72,ร้าน!$J$2:$K$3011,2,FALSE),"") -> ปี๊บ มินิชีสสับปะรด 6 กก. | I72: 1 | J72: 368
E73: =IF(D73<>"",VLOOKUP(D73,ร้าน!$B$2:$C$2003,2,FALSE),"") | F73: =IF(E73<>"",VLOOKUP(E73,ร้าน!$C$2:$D$3011,2,FALSE),"") | G73: s191 | H73: =IF(G73<>"",VLOOKUP(G73,ร้าน!$J$2:$K$3011,2,FALSE),"") -> ปี๊บ ไฮสติ๊ก (ไส้ช็อก) | I73: 1 | J73: 237.07
E74: =IF(D74<>"",VLOOKUP(D74,ร้าน!$B$2:$C$2003,2,FALSE),"") | F74: =IF(E74<>"",VLOOKUP(E74,ร้าน!$C$2:$D$3011,2,FALSE),"") | G74: ต003 | H74: =IF(G74<>"",VLOOKUP(G74,ร้าน!$J$2:$K$3011,2,FALSE),"") -> เต้า ขนมขาไก่ | I74: 6 | J74: 86.19
C75: 5908-0892 | D75: 0471 | E75: =IF(D75<>"",VLOOKUP(D75,ร้าน!$B$2:$C$2003,2,FALSE),"") -> อมรเศรษฐ์ปิติ สาย4(รินทร์พิพัฒน์) | F75: =IF(E75<>"",VLOOKUP(E75,ร้าน!$C$2:$D$3011,2,FALSE),"") -> วรากิจ | G75: p170 | H75: =IF(G75<>"",VLOOKUP(G75,ร้าน!$J$2:$K$3011,2,FALSE),"") -> ปี๊บ มินิชีสสับปะรด 6 กก. | I75: 2 | J75: 365
E76: =IF(D76<>"",VLOOKUP(D76,ร้าน!$B$2:$C$2003,2,FALSE),"") | F76: =IF(E76<>"",VLOOKUP(E76,ร้าน!$C$2:$D$3011,2,FALSE),"") | G76: s166 | H76: =IF(G76<>"",VLOOKUP(G76,ร้าน!$J$2:$K$3011,2,FALSE),"") -> ปี๊บ มินิสติ๊กช็อก(ไส้ช็อก) 4กก. | I76: 1 | J76: 217.65
C77: 5908-0978 | D77: 0275 | E77: =IF(D77<>"",VLOOKUP(D77,ร้าน!$B$2:$C$2003,2,FALSE),"") -> นรินทร์ โพธาราม จ.ราชบุรี (2%) V | F77: =IF(E77<>"",VLOOKUP(E77,ร้าน!$C$2:$D$3011,2,FALSE),"") -> อดุลย์ | G77: s167 | H77: =IF(G77<>"",VLOOKUP(G77,ร้าน!$J$2:$K$3011,2,FALSE),"") -> ปี๊บ มินิสติ๊กเตย 4 กก. | I77: 2 | J77: 225
C78: 5908-1042 | D78: b015 | E78: =IF(D78<>"",VLOOKUP(D78,ร้าน!$B$2:$C$2003,2,FALSE),"") -> บริษัท สามัคคี รุ่งโรจน์ จำกัด สองพี่น้อง จ.สุพรรณบุรี | F78: =IF(E78<>"",VLOOKUP(E78,ร้าน!$C$2:$D$3011,2,FALSE),"") -> อดุลย์ | G78: k131 | H78: =IF(G78<>"",VLOOKUP(G78,ร้าน!$J$2:$K$3011,2,FALSE),"") -> ปี๊บ เสี้ยวพระจันทร์ครีม 5 กก. | I78: 3 | J78: 259.35
C79: 5909-0016 | D79: 1034 | E79: =IF(D79<>"",VLOOKUP(D79,ร้าน!$B$2:$C$2003,2,FALSE),"") -> ซ่งฮวด จ.อ่างทอง | F79: =IF(E79<>"",VLOOKUP(E79,ร้าน!$C$2:$D$3011,2,FALSE),"") -> อดุลย์ | G79: ต025 | H79: =IF(G79<>"",VLOOKUP(G79,ร้าน!$J$2:$K$3011,2,FALSE),"") -> ใบ ปี๊บเปล่า | I79: 14 | J79: 15
C80: 5909-0102 | D80: 0815 | E80: =IF(D80<>"",VLOOKUP(D80,ร้าน!$B$2:$C$2003,2,FALSE),"") -> สกลรัตน์ สิงห์บุรี เก็บเช็คกลับมาด้วย cr.40 วัน | F80: =IF(E80<>"",VLOOKUP(E80,ร้าน!$C$2:$D$3011,2,FALSE),"") -> อดุลย์ | G80: c121 | H80: =IF(G80<>"",VLOOKUP(G80,ร้าน!$J$2:$K$3011,2,FALSE),"") -> ปี๊บ รูปไข่ช็อกครีม 5 กก. | I80: 1 | J80: 257.83
C81: 5909-0135 | D81: 0730 | E81: =IF(D81<>"",VLOOKUP(D81,ร้าน!$B$2:$C$2003,2,FALSE),"") -> ทรัพย์ทวีคูณ บางบอน | F81: =IF(E81<>"",VLOOKUP(E81,ร้าน!$C$2:$D$3011,2,FALSE),"") -> อดุลย์ | G81: p190 | H81: =IF(G81<>"",VLOOKUP(G81,ร้าน!$J$2:$K$3011,2,FALSE),"") -> ปี๊บ มินิแครกเกอร์สับปะรด 5 กก.**ใหม่ | I81: 3 | J81: 280
C82: 5909-0129 | D82: s018 | E82: =IF(D82<>"",VLOOKUP(D82,ร้าน!$B$2:$C$2003,2,FALSE),"") -> #N/A | F82: =IF(E82<>"",VLOOKUP(E82,ร้าน!$C$2:$D$3011,2,FALSE),"") -> #N/A | H82: =IF(G82<>"",VLOOKUP(G82,ร้าน!$J$2:$K$3011,2,FALSE),"")
E83: =IF(D83<>"",VLOOKUP(D83,ร้าน!$B$2:$C$2003,2,FALSE),"") | F83: =IF(E83<>"",VLOOKUP(E83,ร้าน!$C$2:$D$3011,2,FALSE),"") | H83: =IF(G83<>"",VLOOKUP(G83,ร้าน!$J$2:$K$3011,2,FALSE),"")
E84: =IF(D84<>"",VLOOKUP(D84,ร้าน!$B$2:$C$2003,2,FALSE),"") | F84: =IF(E84<>"",VLOOKUP(E84,ร้าน!$C$2:$D$3011,2,FALSE),"") | H84: =IF(G84<>"",VLOOKUP(G84,ร้าน!$J$2:$K$3011,2,FALSE),"")
E85: =IF(D85<>"",VLOOKUP(D85,ร้าน!$B$2:$C$2003,2,FALSE),"") | F85: =IF(E85<>"",VLOOKUP(E85,ร้าน!$C$2:$D$3011,2,FALSE),"") | H85: =IF(G85<>"",VLOOKUP(G85,ร้าน!$J$2:$K$3011,2,FALSE),"")
E86: =IF(D86<>"",VLOOKUP(D86,ร้าน!$B$2:$C$2003,2,FALSE),"") | F86: =IF(E86<>"",VLOOKUP(E86,ร้าน!$C$2:$D$3011,2,FALSE),"") | H86: =IF(G86<>"",VLOOKUP(G86,ร้าน!$J$2:$K$3011,2,FALSE),"")
E87: =IF(D87<>"",VLOOKUP(D87,ร้าน!$B$2:$C$2003,2,FALSE),"") | F87: =IF(E87<>"",VLOOKUP(E87,ร้าน!$C$2:$D$3011,2,FALSE),"") | H87: =IF(G87<>"",VLOOKUP(G87,ร้าน!$J$2:$K$3011,2,FALSE),"")
E88: =IF(D88<>"",VLOOKUP(D88,ร้าน!$B$2:$C$2003,2,FALSE),"") | F88: =IF(E88<>"",VLOOKUP(E88,ร้าน!$C$2:$D$3011,2,FALSE),"") | H88: =IF(G88<>"",VLOOKUP(G88,ร้าน!$J$2:$K$3011,2,FALSE),"")
E89: =IF(D89<>"",VLOOKUP(D89,ร้าน!$B$2:$C$2003,2,FALSE),"") | F89: =IF(E89<>"",VLOOKUP(E89,ร้าน!$C$2:$D$3011,2,FALSE),"") | H89: =IF(G89<>"",VLOOKUP(G89,ร้าน!$J$2:$K$3011,2,FALSE),"")
E90: =IF(D90<>"",VLOOKUP(D90,ร้าน!$B$2:$C$2003,2,FALSE),"") | F90: =IF(E90<>"",VLOOKUP(E90,ร้าน!$C$2:$D$3011,2,FALSE),"") | H90: =IF(G90<>"",VLOOKUP(G90,ร้าน!$J$2:$K$3011,2,FALSE),"")
E91: =IF(D91<>"",VLOOKUP(D91,ร้าน!$B$2:$C$2003,2,FALSE),"") | F91: =IF(E91<>"",VLOOKUP(E91,ร้าน!$C$2:$D$3011,2,FALSE),"") | H91: =IF(G91<>"",VLOOKUP(G91,ร้าน!$J$2:$K$3011,2,FALSE),"")
E92: =IF(D92<>"",VLOOKUP(D92,ร้าน!$B$2:$C$2003,2,FALSE),"") | F92: =IF(E92<>"",VLOOKUP(E92,ร้าน!$C$2:$D$3011,2,FALSE),"") | H92: =IF(G92<>"",VLOOKUP(G92,ร้าน!$J$2:$K$3011,2,FALSE),"")
E93: =IF(D93<>"",VLOOKUP(D93,ร้าน!$B$2:$C$2003,2,FALSE),"") | F93: =IF(E93<>"",VLOOKUP(E93,ร้าน!$C$2:$D$3011,2,FALSE),"") | H93: =IF(G93<>"",VLOOKUP(G93,ร้าน!$J$2:$K$3011,2,FALSE),"")
E94: =IF(D94<>"",VLOOKUP(D94,ร้าน!$B$2:$C$2003,2,FALSE),"") | F94: =IF(E94<>"",VLOOKUP(E94,ร้าน!$C$2:$D$3011,2,FALSE),"") | H94: =IF(G94<>"",VLOOKUP(G94,ร้าน!$J$2:$K$3011,2,FALSE),"")
... E303: =IF(D303<>"",VLOOKUP(D303,ร้าน!$B$2:$C$2003,2,FALSE),"") | F303: =IF(E303<>"",VLOOKUP(E303,ร้าน!$C$2:$D$3011,2,FALSE),"") | H303: =IF(G303<>"",VLOOKUP(G303,ร้าน!$J$2:$K$3011,2,FALSE),"")
E304: =IF(D304<>"",VLOOKUP(D304,ร้าน!$B$2:$C$2003,2,FALSE),"") | H304: =IF(G304<>"",VLOOKUP(G304,ร้าน!$J$2:$K$3011,2,FALSE),"")
E305: =IF(D305<>"",VLOOKUP(D305,ร้าน!$B$2:$C$2003,2,FALSE),"") | H305: =IF(G305<>"",VLOOKUP(G305,ร้าน!$J$2:$K$3011,2,FALSE),"")
E306: =IF(D306<>"",VLOOKUP(D306,ร้าน!$B$2:$C$2003,2,FALSE),"") | H306: =IF(G306<>"",VLOOKUP(G306,ร้าน!$J$2:$K$3011,2,FALSE),"")
E307: =IF(D307<>"",VLOOKUP(D307,ร้าน!$B$2:$C$2003,2,FALSE),"") | H307: =IF(G307<>"",VLOOKUP(G307,ร้าน!$J$2:$K$3011,2,FALSE),"")
E308: =IF(D308<>"",VLOOKUP(D308,ร้าน!$B$2:$C$2003,2,FALSE),"") | H308: =IF(G308<>"",VLOOKUP(G308,ร้าน!$J$2:$K$3011,2,FALSE),"")
...
