Workbook

Sheet ร้าน
B1: รหัส | C1: ร้านค้า | J1: รหัส | K1: รายการสินค้า
B2: 0001 | C2: คุณพิธาน f 02-2113379 | E2: ขนส่ง | F2: ภาค | J2: a110 | K2: ปี๊บ ABC 4 กก.
B3: 0002 | C3: A&Pซุปเปอร์มาเก็ต แม่สาย | E3: เกรียงฟ้า | F3: เหนือ | I3: =A3&""&B3 -> 0002 | J3: a112 | K3: ปี๊บ มินิ ABC ทูโทน 4 กก.
B4: 0003 | C4: T.P.K. นครสวรรค์ | E4: อุดรรุ่งเจริญ | F4: อีสาน | I4: =A4&""&B4 -> 0003 | J4: a120 | K4: ปี๊บ ปลากรอบ 4 กก.
B5: 0004 | C5: ก.สุวัฒน์ น่าน | E5: ตั้งอี้ฮัว | F5: กลาง | I5: =A5&""&B5 -> 0004 | J5: a140 | K5: ปี๊บ ซีฟูด 4 กก.
B6: 0007 | C6: กวงฮะ ร้อยเอ็ด | F6: กรุงเทพฯ | I6: =A6&""&B6 -> 0007 | J6: a141 | K6: ปี๊บ ปัง เค็ม มัน 3 กก.
B7: 1968 | C7: พรสมบัติ บ้านหมี่ | J7: a150 | K7: ปี๊บ ฝักถั่วงา 4 กก.
B8: 0008 | C8: รจนา พุ่มเกษม(รง.ใหม่) | E8: วัฒนะกิจ อุตรดิตถ์ | I8: =A8&""&B8 -> 0008 | J8: a160 | K8: ปี๊บ บุหรี่ยาว 4 กก.
B9: 0010 | C9: กำไร ท่าพล | E9: ส.แก่นนคร | F9: อีสาน | I9: =A9&""&B9 -> 0010 | J9: a170 | K9: ปี๊บ บุหรี่ทูโทน 4 กก.
B10: 0011 | C10: กิจเกษม บ้านดุง | E10: จงเจริญ | I10: =A10&""&B10 -> 0011 | J10: a180 | K10: ปี๊บ ปูกรอบ รสบาร์บีคิว 4 กก.*ใหม่*
B11: 0012 | C11: กิจเจริญ ลูกแก จ.กาญจนบุรี | F11: อีสาน | I11: =A11&""&B11 -> 0012 | J11: a210 | K11: ABC (กล่อง1x6)
B12: 0013 | C12: กิจชัย พิมาย | E12: สหรุ่งเรือง | F12: อีสาน | I12: =A12&""&B12 -> 0013 | J12: a250 | K12: ฝักถั่วงา (กล่อง1x6)
B13: 1967 | C13: หจก.บ้านข้าว ธัญญะ โอสถ จ.สุรินทร์ | J13: b110 | K13: ปี๊บ บัตเตอร์งา 5 กก.
B14: 0014 | C14: กิจชัยนานาภัณฑ์ ฝาง | E14: ทองอินทร์ | I14: =A14&""&B14 -> 0014 | J14: b120 | K14: ปี๊บ บิสกิต มันฝรั่ง รสดั้งเดิม 4 กก.
B15: 1039 | C15: กิมเซ่งไถ่ ยะลา | J15: b121 | K15: ปี๊บ บิสกิต มันฝรั่ง รสสาหร่าย 4 กก.
B16: 1966 | C16: หจก.นานาภัณฑ์ ซุปเปอร์ฯ | J16: b122 | K16: ปี๊บ บิสกิต มันฝรั่ง รสบาร์บีคิว 4 กก.
B17: 0015 | C17: กิจไทย อ.เสลภูมิ จ.ร้อยเอ็ด | F17: อีสาน | I17: =A17&""&B17 -> 0015 | J17: b140 | K17: ปี๊บ แครกเกอร์อร่อยดี 5 กก.(Promotion)
B18: 0016 | C18: กิจไพศาล ขอนแก่น | E18: พะเยารุ่งเรือง | F18: เหนือ | I18: =A18&""&B18 -> 0016 | J18: b170 | K18: ปี๊บ เปลือกชีสแผ่นยาว 5.5 กก.
B19: 0017 | C19: กิจรุ่งเรือง อุดรฯ | E19: โกล้วนขนส่ง2 | I19: =A19&""&B19 -> 0017 | J19: b171 | K19: ปี๊บ แครกเกอร์เค็มแผ่นใหญ่ 4 กก.
B20: 0018 | C20: กิจรุ่งโรจน์ แม่สอด | F20: เหนือ | I20: =A20&""&B20 -> 0018 | J20: b172 | K20: ปี๊บ แครกเกอร์หวาน 4 กก.
B21: 0019 | C21: กิจรุ่งโรจน์ อุดรฯ | E21: เจริญสินโลจิสติกส์ | F21: เหนือ | I21: =A21&""&B21 -> 0019 | J21: b210 | K21: บัตเตอร์งา (กล่อง1x6)
B22: 0020 | C22: กิจวัฒนา อ.เชียงของ จ.เชียงราย | E22: ปิติพร | F22: ใต้ | I22: =A22&""&B22 -> 0020 | J22: b310 | K22: จิ๋ว บัตเตอร์งา (กล่อง1x12)
B23: 0021 | C23: กิจวิวัฒน์ อ.สวรรคโลก จ.สุโขทัย | E23: อาทิตย์เจริญ | F23: อีสาน | I23: =A23&""&B23 -> 0021 | J23: c111 | K23: ปี๊บ รูปไข่ขาวครีม 5 กก.
B24: 0022 | C24: เจริญศักดิ์ เฉียงเหนือ | E24: หน้าร้าน | F24: กลาง | I24: =A24&""&B24 -> 0022 | J24: c115 | K24: ปี๊บ รูปไข่ขาวช็อก 5 กก.
B25: 0023 | C25: กิตติพานิช อุดรฯ | E25: หน้าร้าน | F25: กลาง | I25: =A25&""&B25 -> 0023 | J25: c121 | K25: ปี๊บ รูปไข่ช็อกครีม 5 กก.
B26: 0025 | C26: กิมหลี อ.แม่สอด จ.ตาก | E26: กุงศรี ประเสริฐ | F26: ใต้ | I26: =A26&""&B26 -> 0025 | J26: c125 | K26: ปี๊บ รูปไข่ช็อกช็อก 5 กก.
B27: 0026 | C27: กิมฮวง คลองใหญ่ | E27: เดชา | F27: ใต้ | I27: =A27&""&B27 -> 0026 | J27: c129 | K27: ปี๊บ รูปไข่ MIX ไส้ครีม 5 กก.*ใหม่*
B28: 0027 | C28: กิมฮวด อุบลฯ | I28: =A28&""&B28 -> 0027 | J28: c131 | K28: ปี๊บ คุ้กกี้ กิสตี้ ใส้ครีม 5 กก.*ใหม่*
B29: 1124 | C29: อาหก มาเลเซีย | J29: c132 | K29: ปี๊บ คุ้กกี้ กิสตี้ ไส้ทุเรียน 5 กก.*ใหม่*
B30: 0028 | C30: มินตรา | E30: เดชา | F30: ใต้ | I30: =A30&""&B30 -> 0028 | J30: c133 | K30: ปี๊บ คุ้กกี้ กิสตี้ ไส้เตย 5 กก.*ใหม่*
B31: 0029 | C31: เกรียงไกร เชียงราย | E31: ชวาลกิต | F31: กลาง | I31: =A31&""&B31 -> 0029 | J31: c151 | K31: ปี๊บ หงส์ครีม 5 กก.
B32: 1327 | C32: เจ๊วรรณ อ.ฝาง | J32: c152 | K32: ปี๊บ หงส์ทุเรียน 5 กก.
B33: 0030 | C33: ร้านชโนทัย (มงคล) สี่มุมเมือง | F33: กรุงเทพฯ | I33: =A33&""&B33 -> 0030 | J33: c153 | K33: ปี๊บ หงส์เตย 5 กก.
B34: 0031 | C34: เกศรา(เจ๊โบว์) วัฒนานคร | E34: พะเยารุ่งเรือง | F34: เหนือ | I34: =A34&""&B34 -> 0031 | J34: c154 | K34: ปี๊บ หงส์สตรอฯ 5 กก.
B35: 0032 | C35: เกษม มุกดาหาร | I35: =A35&""&B35 -> 0032 | J35: c161 | K35: ปี๊บ หัวใจครีม 5 กก.
B36: 0033 | C36: เกษม ร้อยเอ็ด | E36: หน้าร้านสด ลด 2% | F36: กลาง | I36: =A36&""&B36 -> 0033 | J36: c162 | K36: ปี๊บ หัวใจทุเรียน 5 กก.
B37: 1968 | C37: พรสมบัติ บ้านหมี่ | J37: c163 | K37: ปี๊บ หัวใจเตย 5 กก.
B38: 0034 | C38: เกิดสว่าง มีนบุรี | E38: สหตะกั่วป่า อีสาน | F38: อีสาน | I38: =A38&""&B38 -> 0034 | J38: c164 | K38: ปี๊บ หัวใจสตรอฯ 5 กก.
B39: 0035 | C39: รสสุคนธ์ ฤทธิ์ช่วย หาดใหญ่087-9955253 | E39: โคราช-บัวใหญ่ | I39: =A39&""&B39 -> 0035 | J39: c181 | K39: ปี๊บ คุ้กกี้ ถูกใจ ไส้ครีม 5 กก.*ใหม่*
B40: 0036 | C40: เกียรติอำนาจ อำนาจเจริญ | E40: โคราช-บัวใหญ่ | I40: =A40&""&B40 -> 0036 | J40: c182 | K40: ปี๊บ คุ้กกี้ ถูกใจ ไส้ทุเรียน 5 กก.*ใหม่*
...

Sheet รายงาน
A1: รายงานสินค้าคืน
A2: ลำดับ | B2: วันที่ | C2: บิลเลขที่ | D2: รหัส | E2: ร้าน | F2: ตัวแทนขาย | G2: รหัสขนม | H2: รายการคืน | I2: จำนวน | J2: ราคา | K2: จำนวนเงิน
B3: 42619 | C3: 5908-0765 | D3: 0303 | E3: =IF(D3<>"",VLOOKUP(D3,ร้าน!$B$2:$C$3011,2,FALSE),"") -> น้ำเพชร เพชรบุรี | F3: =IF(E3<>"",VLOOKUP(E3,ร้าน!$C$2:$D$3011,2,FALSE),"") -> อดุลย์ | G3: s168 | H3: =IF(G3<>"",VLOOKUP(G3,ร้าน!$J$2:$K$3011,2,FALSE),"") -> ปี๊บ มินิสติ๊กสตรอ 4 กก. | I3: 1 | J3: 219.51 | K3: =I3*J3 -> 219.51
E4: =IF(D4<>"",VLOOKUP(D4,ร้าน!$B$2:$C$3011,2,FALSE),"") | F4: =IF(E4<>"",VLOOKUP(E4,ร้าน!$C$2:$D$3011,2,FALSE),"") | G4: ต025 | H4: =IF(G4<>"",VLOOKUP(G4,ร้าน!$J$2:$K$3011,2,FALSE),"") -> ใบ ปี๊บเปล่า | I4: 56 | J4: 15 | K4: =I4*J4 -> 840
E5: =IF(D5<>"",VLOOKUP(D5,ร้าน!$B$2:$C$3011,2,FALSE),"") | F5: =IF(E5<>"",VLOOKUP(E5,ร้าน!$C$2:$D$3011,2,FALSE),"") | G5: p170 | H5: =IF(G5<>"",VLOOKUP(G5,ร้าน!$J$2:$K$3011,2,FALSE),"") -> ปี๊บ มินิชีสสับปะรด 6 กก. | I5: 1 | J5: 359.02 | K5: =I5*J5 -> 359.02
C6: 5908-0768 | D6: 0632 | E6: =IF(D6<>"",VLOOKUP(D6,ร้าน!$B$2:$C$3011,2,FALSE),"") -> หนึ่งสโตร์ ตลาดไท | F6: =IF(E6<>"",VLOOKUP(E6,ร้าน!$C$2:$D$3011,2,FALSE),"") -> วรรากิจ | G6: a180 | H6: =IF(G6<>"",VLOOKUP(G6,ร้าน!$J$2:$K$3011,2,FALSE),"") -> ปี๊บ ปูกรอบ รสบาร์บีคิว 4 กก.*ใหม่* | I6: 10 | J6: 266 | K6: =I6*J6 -> 2660
C7: 5908-0767 | D7: 0447 | E7: =IF(D7<>"",VLOOKUP(D7,ร้าน!$B$2:$C$3011,2,FALSE),"") -> แม่ตะเพียนค้าเจริญ (รษา แสงสมัย) | F7: =IF(E7<>"",VLOOKUP(E7,ร้าน!$C$2:$D$3011,2,FALSE),"") -> วรากิจ | G7: s110 | H7: =IF(G7<>"",VLOOKUP(G7,ร้าน!$J$2:$K$3011,2,FALSE),"") -> ปี๊บ สติ๊กช็อก 5 กก. | I7: 1 | J7: 254.9 | K7: =I7*J7 -> 254.9
E8: =IF(D8<>"",VLOOKUP(D8,ร้าน!$B$2:$C$3011,2,FALSE),"") | F8: =IF(E8<>"",VLOOKUP(E8,ร้าน!$C$2:$D$3011,2,FALSE),"") | G8: s167 | H8: =IF(G8<>"",VLOOKUP(G8,ร้าน!$J$2:$K$3011,2,FALSE),"") -> ปี๊บ มินิสติ๊กเตย 4 กก. | I8: 2 | J8: 217.65 | K8: =I8*J8 -> 435.3
E9: =IF(D9<>"",VLOOKUP(D9,ร้าน!$B$2:$C$3011,2,FALSE),"") | F9: =IF(E9<>"",VLOOKUP(E9,ร้าน!$C$2:$D$3011,2,FALSE),"") | G9: ต025 | H9: =IF(G9<>"",VLOOKUP(G9,ร้าน!$J$2:$K$3011,2,FALSE),"") -> ใบ ปี๊บเปล่า | I9: 95 | J9: 15 | K9: =I9*J9 -> 1425
C10: 5908-0759 | D10: 0229 | E10: =IF(D10<>"",VLOOKUP(D10,ร้าน!$B$2:$C$3011,2,FALSE),"") -> ทรัพย์อนันต์ พิษณุโลก | F10: =IF(E10<>"",VLOOKUP(E10,ร้าน!$C$2:$D$3011,2,FALSE),"") -> สุวัฒน์ | G10: p160 | H10: =IF(G10<>"",VLOOKUP(G10,ร้าน!$J$2:$K$3011,2,FALSE),"") -> ปี๊บ นีสแนคสับปะรด 6 กก. | I10: 2 | J10: 373.35 | K10: =I10*J10 -> 746.7
E11: =IF(D11<>"",VLOOKUP(D11,ร้าน!$B$2:$C$3011,2,FALSE),"") | F11: =IF(E11<>"",VLOOKUP(E11,ร้าน!$C$2:$D$3011,2,FALSE),"") | G11: z110578 | H11: =IF(G11<>"",VLOOKUP(G11,ร้าน!$J$2:$K$3011,2,FALSE),"") -> (แพ็ค) SK แครกเกอร์ไส้สับปะรด 68 ก. | I11: 9 | J11: 45.37 | K11: =I11*J11 -> 408.33
E12: =IF(D12<>"",VLOOKUP(D12,ร้าน!$B$2:$C$3011,2,FALSE),"") | F12: =IF(E12<>"",VLOOKUP(E12,ร้าน!$C$2:$D$3011,2,FALSE),"") | G12: ก019 | H12: =IF(G12<>"",VLOOKUP(G12,ร้าน!$J$2:$K$3011,2,FALSE),"") -> ห่อ ขนมห่อซอง | I12: 4 | J12: 7.56 | K12: =I12*J12 -> 30.24
E13: =IF(D13<>"",VLOOKUP(D13,ร้าน!$B$2:$C$3011,2,FALSE),"") | F13: =IF(E13<>"",VLOOKUP(E13,ร้าน!$C$2:$D$3011,2,FALSE),"") | G13: z207257 | H13: =IF(G13<>"",VLOOKUP(G13,ร้าน!$J$2:$K$3011,2,FALSE),"") -> (แพ็ค) SK แครกเกอร์โคโคนัท 60 ก. | I13: 2 | J13: 45.37 | K13: =I13*J13 -> 90.74
E14: =IF(D14<>"",VLOOKUP(D14,ร้าน!$B$2:$C$3011,2,FALSE),"") | F14: =IF(E14<>"",VLOOKUP(E14,ร้าน!$C$2:$D$3011,2,FALSE),"") | G14: ก023 | H14: =IF(G14<>"",VLOOKUP(G14,ร้าน!$J$2:$K$3011,2,FALSE),"") -> ห่อ ขนมห่อซอง | I14: 3 | J14: 7.39 | K14: =I14*J14 -> 22.17
E15: =IF(D15<>"",VLOOKUP(D15,ร้าน!$B$2:$C$3011,2,FALSE),"") | F15: =IF(E15<>"",VLOOKUP(E15,ร้าน!$C$2:$D$3011,2,FALSE),"") | G15: c151 | H15: =IF(G15<>"",VLOOKUP(G15,ร้าน!$J$2:$K$3011,2,FALSE),"") -> ปี๊บ หงส์ครีม 5 กก. | I15: 3 | J15: 248.03 | K15: =I15*J15 -> 744.09
E16: =IF(D16<>"",VLOOKUP(D16,ร้าน!$B$2:$C$3011,2,FALSE),"") | F16: =IF(E16<>"",VLOOKUP(E16,ร้าน!$C$2:$D$3011,2,FALSE),"") | G16: z202463 | H16: =IF(G16<>"",VLOOKUP(G16,ร้าน!$J$2:$K$3011,2,FALSE),"") -> (แพ็ค) SK แครกเกอร์ดั้งเดิม 60 ก. | I16: 12 | J16: 45.37 | K16: =I16*J16 -> 544.44
E17: =IF(D17<>"",VLOOKUP(D17,ร้าน!$B$2:$C$3011,2,FALSE),"") | F17: =IF(E17<>"",VLOOKUP(E17,ร้าน!$C$2:$D$3011,2,FALSE),"") | G17: z312 | H17: =IF(G17<>"",VLOOKUP(G17,ร้าน!$J$2:$K$3011,2,FALSE),"") -> ซอง 12 sk ไฮสติ๊กช็อก ไส้ช็อก 45 กรัม(กล่อง1x48) | I17: 9 | J17: 44.37 | K17: =I17*J17 -> 399.33
E18: =IF(D18<>"",VLOOKUP(D18,ร้าน!$B$2:$C$3011,2,FALSE),"") | F18: =IF(E18<>"",VLOOKUP(E18,ร้าน!$C$2:$D$3011,2,FALSE),"") | G18: s120 | H18: =IF(G18<>"",VLOOKUP(G18,ร้าน!$J$2:$K$3011,2,FALSE),"") -> ปี๊บ สติ๊กสตรอฯ 5 กก. | I18: 3 | J18: 257.84 | K18: =I18*J18 -> 773.52
E19: =IF(D19<>"",VLOOKUP(D19,ร้าน!$B$2:$C$3011,2,FALSE),"") | F19: =IF(E19<>"",VLOOKUP(E19,ร้าน!$C$2:$D$3011,2,FALSE),"") | G19: ต007 | H19: =IF(G19<>"",VLOOKUP(G19,ร้าน!$J$2:$K$3011,2,FALSE),"") -> เต้า ขนมขาไก่ปรุงรส | I19: 1 | J19: 87.78 | K19: =I19*J19 -> 87.78
C20: 5908-1012 | D20: 0954 | E20: =IF(D20<>"",VLOOKUP(D20,ร้าน!$B$2:$C$3011,2,FALSE),"") -> เจ้สายใจ สองพี่น้อง จ.สุพรรณบุรี | F20: =IF(E20<>"",VLOOKUP(E20,ร้าน!$C$2:$D$3011,2,FALSE),"") -> อดุลย์ | G20: ก013 | H20: =IF(G20<>"",VLOOKUP(G20,ร้าน!$J$2:$K$3011,2,FALSE),"") -> ขีด ขนมสติ๊ก/แฟนซี | I20: 3 | J20: 5.34 | K20: =I20*J20 -> 16.02
C21: 5908-0936 | D21: 0451 | E21: =IF(D21<>"",VLOOKUP(D21,ร้าน!$B$2:$C$3011,2,FALSE),"") -> ย่งเชียงหลี มหาชัย จ.สมุทรสาคร | F21: =IF(E21<>"",VLOOKUP(E21,ร้าน!$C$2:$D$3011,2,FALSE),"") -> อดุลย์ | G21: ต001 | H21: =IF(G21<>"",VLOOKUP(G21,ร้าน!$J$2:$K$3011,2,FALSE),"") -> เต้า ขนมปังครีม | I21: 1 | J21: 86.19 | K21: =I21*J21 -> 86.19
E22: =IF(D22<>"",VLOOKUP(D22,ร้าน!$B$2:$C$3011,2,FALSE),"") | F22: =IF(E22<>"",VLOOKUP(E22,ร้าน!$C$2:$D$3011,2,FALSE),"") | G22: c111 | H22: =IF(G22<>"",VLOOKUP(G22,ร้าน!$J$2:$K$3011,2,FALSE),"") -> ปี๊บ รูปไข่ขาวครีม 5 กก. | I22: 1 | J22: 259.35 | K22: =I22*J22 -> 259.35
E23: =IF(D23<>"",VLOOKUP(D23,ร้าน!$B$2:$C$3011,2,FALSE),"") | F23: =IF(E23<>"",VLOOKUP(E23,ร้าน!$C$2:$D$3011,2,FALSE),"") | G23: a110 | H23: =IF(G23<>"",VLOOKUP(G23,ร้าน!$J$2:$K$3011,2,FALSE),"") -> ปี๊บ ABC 4 กก. | I23: 1 | J23: 202.35 | K23: =I23*J23 -> 202.35
C24: 5908-0922 | D24: 0913 | E24: =IF(D24<>"",VLOOKUP(D24,ร้าน!$B$2:$C$3011,2,FALSE),"") -> รุ่งเจริญ บุรีรัมย์ 081-7250441 | F24: =IF(E24<>"",VLOOKUP(E24,ร้าน!$C$2:$D$3011,2,FALSE),"") -> พิเชษฐ์ | G24: s169 | H24: =IF(G24<>"",VLOOKUP(G24,ร้าน!$J$2:$K$3011,2,FALSE),"") -> ปี๊บ มินิสติ๊กลายจุดบลูเบอรี่ 4 กก. | I24: 47 | J24: 221.46 | K24: =I24*J24 -> 10408.62
C25: 5909-0408 | D25: 2709 | E25: =IF(D25<>"",VLOOKUP(D25,ร้าน!$B$2:$C$3011,2,FALSE),"") -> บ้านเฮียอภิวัฒน์ | F25: =IF(E25<>"",VLOOKUP(E25,ร้าน!$C$2:$D$3011,2,FALSE),"") -> อภิวัฒน์ | G25: ต021 | H25: =IF(G25<>"",VLOOKUP(G25,ร้าน!$J$2:$K$3011,2,FALSE),"") -> ส่วนต่างราคาสินค้า | I25: 74 | J25: 4 | K25: =I25*J25 -> 296
C26: 5908-0822 | D26: 0120 | E26: =IF(D26<>"",VLOOKUP(D26,ร้าน!$B$2:$C$3011,2,FALSE),"") -> เจ๊พร ศรีมหาโพธิ์ จ.ปราจีนบุรี | F26: =IF(E26<>"",VLOOKUP(E26,ร้าน!$C$2:$D$3011,2,FALSE),"") -> อดุลย์ | G26: ก001 | H26: =IF(G26<>"",VLOOKUP(G26,ร้าน!$J$2:$K$3011,2,FALSE),"") -> กก. ขนมปังครีม/บัตเตอร์งา | I26: 3 | J26: 51.56 | K26: =I26*J26 -> 154.68
E27: =IF(D27<>"",VLOOKUP(D27,ร้าน!$B$2:$C$3011,2,FALSE),"") | F27: =IF(E27<>"",VLOOKUP(E27,ร้าน!$C$2:$D$3011,2,FALSE),"") | G27: ก002 | H27: =IF(G27<>"",VLOOKUP(G27,ร้าน!$J$2:$K$3011,2,FALSE),"") -> กก. ขนมสติ๊ก/แฟนซี | I27: 1 | J27: 53.45 | K27: =I27*J27 -> 53.45
E28: =IF(D28<>"",VLOOKUP(D28,ร้าน!$B$2:$C$3011,2,FALSE),"") | F28: =IF(E28<>"",VLOOKUP(E28,ร้าน!$C$2:$D$3011,2,FALSE),"") | G28: a170 | H28: =IF(G28<>"",VLOOKUP(G28,ร้าน!$J$2:$K$3011,2,FALSE),"") -> ปี๊บ บุหรี่ทูโทน 4 กก. | I28: 2 | J28: 201.17 | K28: =I28*J28 -> 402.34
C29: 5908-0803 | D29: 0610 | E29: =IF(D29<>"",VLOOKUP(D29,ร้าน!$B$2:$C$3011,2,FALSE),"") -> สุวัฒน์ มหานาค | F29: =IF(E29<>"",VLOOKUP(E29,ร้าน!$C$2:$D$3011,2,FALSE),"") -> วรรากิจ | G29: s1001 | H29: =IF(G29<>"",VLOOKUP(G29,ร้าน!$J$2:$K$3011,2,FALSE),"") -> ปี๊บ มินิสติ๊กลายจุดสตรอฯ 4 กก. | I29: 1 | J29: 231.39 | K29: =I29*J29 -> 231.39
C30: 5908-0814 | D30: 0117 | E30: =IF(D30<>"",VLOOKUP(D30,ร้าน!$B$2:$C$3011,2,FALSE),"") -> เจ๊ป้อม กบินทร์บุรี จ.ปราจีนบุรี | F30: =IF(E30<>"",VLOOKUP(E30,ร้าน!$C$2:$D$3011,2,FALSE),"") -> อดุลย์ | G30: g130 | H30: =IF(G30<>"",VLOOKUP(G30,ร้าน!$J$2:$K$3011,2,FALSE),"") -> ปี๊บ ขาไก่ทรงเครื่อง 5 กก. | I30: 5 | J30: 264.66 | K30: =I30*J30 -> 1323.3
C31: 5908-0734 | D31: 0610 | E31: =IF(D31<>"",VLOOKUP(D31,ร้าน!$B$2:$C$3011,2,FALSE),"") -> สุวัฒน์ มหานาค | F31: =IF(E31<>"",VLOOKUP(E31,ร้าน!$C$2:$D$3011,2,FALSE),"") -> วรรากิจ | G31: s210 | H31: =IF(G31<>"",VLOOKUP(G31,ร้าน!$J$2:$K$3011,2,FALSE),"") -> สติ๊กช็อก (กล่อง1x6) | I31: 5 | J31: 542.86 | K31: =I31*J31 -> 2714.3
E32: =IF(D32<>"",VLOOKUP(D32,ร้าน!$B$2:$C$3011,2,FALSE),"") | F32: =IF(E32<>"",VLOOKUP(E32,ร้าน!$C$2:$D$3011,2,FALSE),"") | G32: ต002 | H32: =IF(G32<>"",VLOOKUP(G32,ร้าน!$J$2:$K$3011,2,FALSE),"") -> เต้า ขนมสติ๊ก/แฟนซี | I32: 4 | J32: 90.78 | K32: =I32*J32 -> 363.12
C33: 5908-0732 | D33: 0610 | E33: =IF(D33<>"",VLOOKUP(D33,ร้าน!$B$2:$C$3011,2,FALSE),"") -> สุวัฒน์ มหานาค | F33: =IF(E33<>"",VLOOKUP(E33,ร้าน!$C$2:$D$3011,2,FALSE),"") -> วรรากิจ | G33: s110 | H33: =IF(G33<>"",VLOOKUP(G33,ร้าน!$J$2:$K$3011,2,FALSE),"") -> ปี๊บ สติ๊กช็อก 5 กก. | I33: 1 | J33: 264.44 | K33: =I33*J33 -> 264.44
E34: =IF(D34<>"",VLOOKUP(D34,ร้าน!$B$2:$C$3011,2,FALSE),"") | F34: =IF(E34<>"",VLOOKUP(E34,ร้าน!$C$2:$D$3011,2,FALSE),"") | G34: g130 | H34: =IF(G34<>"",VLOOKUP(G34,ร้าน!$J$2:$K$3011,2,FALSE),"") -> ปี๊บ ขาไก่ทรงเครื่อง 5 กก. | I34: 1 | J34: 266 | K34: =I34*J34 -> 266
E35: =IF(D35<>"",VLOOKUP(D35,ร้าน!$B$2:$C$3011,2,FALSE),"") | F35: =IF(E35<>"",VLOOKUP(E35,ร้าน!$C$2:$D$3011,2,FALSE),"") | G35: ต007 | H35: =IF(G35<>"",VLOOKUP(G35,ร้าน!$J$2:$K$3011,2,FALSE),"") -> เต้า ขนมขาไก่ปรุงรส | I35: 1 | J35: 87.3 | K35: =I35*J35 -> 87.3
C36: 5908-0820 | D36: 0351 | E36: =IF(D36<>"",VLOOKUP(D36,ร้าน!$B$2:$C$3011,2,FALSE),"") -> ป้าสำรวย ศรีมหาโพธิ์ จ.ปราจีนบุรี | F36: =IF(E36<>"",VLOOKUP(E36,ร้าน!$C$2:$D$3011,2,FALSE),"") -> อดุลย์ | G36: a110 | H36: =IF(G36<>"",VLOOKUP(G36,ร้าน!$J$2:$K$3011,2,FALSE),"") -> ปี๊บ ABC 4 กก. | I36: 1 | J36: 213 | K36: =I36*J36 -> 213
E37: =IF(D37<>"",VLOOKUP(D37,ร้าน!$B$2:$C$3011,2,FALSE),"") | F37: =IF(E37<>"",VLOOKUP(E37,ร้าน!$C$2:$D$3011,2,FALSE),"") | G37: ก006 | H37: =IF(G37<>"",VLOOKUP(G37,ร้าน!$J$2:$K$3011,2,FALSE),"") -> กก. ขนมกรอบเค็ม/แครเกอร์ | I37: 15 | J37: 67.21 | K37: =I37*J37 -> 1008.15
E38: =IF(D38<>"",VLOOKUP(D38,ร้าน!$B$2:$C$3011,2,FALSE),"") | F38: =IF(E38<>"",VLOOKUP(E38,ร้าน!$C$2:$D$3011,2,FALSE),"") | G38: ก013 | H38: =IF(G38<>"",VLOOKUP(G38,ร้าน!$J$2:$K$3011,2,FALSE),"") -> ขีด ขนมสติ๊ก/แฟนซี | I38: 8 | J38: 5.29 | K38: =I38*J38 -> 42.32
E39: =IF(D39<>"",VLOOKUP(D39,ร้าน!$B$2:$C$3011,2,FALSE),"") | F39: =IF(E39<>"",VLOOKUP(E39,ร้าน!$C$2:$D$3011,2,FALSE),"") | G39: ก004 | H39: =IF(G39<>"",VLOOKUP(G39,ร้าน!$J$2:$K$3011,2,FALSE),"") -> กก. ขนมสับปะรด | I39: 1 | J39: 52.82 | K39: =I39*J39 -> 52.82
E40: =IF(D40<>"",VLOOKUP(D40,ร้าน!$B$2:$C$3011,2,FALSE),"") | F40: =IF(E40<>"",VLOOKUP(E40,ร้าน!$C$2:$D$3011,2,FALSE),"") | G40: ก008 | H40: =IF(G40<>"",VLOOKUP(G40,ร้าน!$J$2:$K$3011,2,FALSE),"") -> ขีด ขนมมินิชีส | I40: 5 | J40: 6.22 | K40: =I40*J40 -> 31.1
...
