Workbook
Name ลงยอดเบิกใช้: #REF!
Name ลงยอดเบิกใช้: #REF!

Sheet 1-ลงStockประจำวัน
A1: ลงเบิกจ่าย-รับเข้า Stock Card ประจำวัน
A2: วันที่ทำรายการ | B2: ID | C2: รหัสStock Card | D2: ชื่อรายการ | E2: แผนก | F2: ผู้เบิก/รับเข้า | G2: จำนวน
A3: 42738 | B3: OUT | C3: 1 | D3: =VLOOKUP(C3,ทเบียนรายการStockหลัก!$A$3:$D$108,3,0) -> AA002 | E3: 2.Support | F3: รุ่งโรจน์ | G3: -2
A4: 42738 | B4: OUT | C4: 1 | D4: =VLOOKUP(C4,ทเบียนรายการStockหลัก!$A$3:$D$108,3,0) -> AA002 | E4: 2.Support | F4: รุ่งโรจน์ | G4: -2
A5: 42738 | B5: OUT | C5: 1 | D5: =VLOOKUP(C5,ทเบียนรายการStockหลัก!$A$3:$D$108,3,0) -> AA002 | E5: 2.Support | F5: อรุณ | G5: -2
A6: 42738 | B6: OUT | C6: 8 | D6: =VLOOKUP(C6,ทเบียนรายการStockหลัก!$A$3:$D$108,3,0) -> AA009 | E6: 4.PC Packing | F6: กัลยา | G6: -90
A7: 42738 | B7: OUT | C7: 15 | D7: =VLOOKUP(C7,ทเบียนรายการStockหลัก!$A$3:$D$108,3,0) -> AA016 | E7: 3.PC Process | F7: สมศักดิ์ | G7: -1
A8: 42738 | B8: OUT | C8: 19 | D8: =VLOOKUP(C8,ทเบียนรายการStockหลัก!$A$3:$D$108,3,0) -> AA020 | E8: 2.Support | F8: วชิรา | G8: -2
A9: 42738 | B9: OUT | C9: 28 | D9: =VLOOKUP(C9,ทเบียนรายการStockหลัก!$A$3:$D$108,3,0) -> AA029 | E9: 2.Support | F9: JACKA | G9: -30
A10: 42738 | B10: OUT | C10: 31 | D10: =VLOOKUP(C10,ทเบียนรายการStockหลัก!$A$3:$D$108,3,0) -> AA032 | E10: 2.Support | F10: ปราณี | G10: -1
A11: 42738 | B11: OUT | C11: 31 | D11: =VLOOKUP(C11,ทเบียนรายการStockหลัก!$A$3:$D$108,3,0) -> AA032 | E11: 4.PC Packing | F11: กัลยา | G11: -12
A12: 42738 | B12: OUT | C12: 31 | D12: =VLOOKUP(C12,ทเบียนรายการStockหลัก!$A$3:$D$108,3,0) -> AA032 | E12: 8.Stax | F12: พัธนา | G12: -10
A13: 42738 | B13: OUT | C13: 31 | D13: =VLOOKUP(C13,ทเบียนรายการStockหลัก!$A$3:$D$108,3,0) -> AA032 | E13: 9.Frypack | F13: ยุภา | G13: -7
A14: 42738 | B14: OUT | C14: 31 | D14: =VLOOKUP(C14,ทเบียนรายการStockหลัก!$A$3:$D$108,3,0) -> AA032 | E14: 5.Extrude | F14: มุกดา | G14: -11
... A57: 42738 | B57: OUT | C57: 94 | D57: =VLOOKUP(C57,ทเบียนรายการStockหลัก!$A$3:$D$108,3,0) -> AA095 | E57: 9.Frypack | F57: ศุภชัย | G57: -1
A58: 42739 | B58: IN | C58: 74 | D58: =VLOOKUP(C58,ทเบียนรายการStockหลัก!$A$3:$D$108,3,0) -> AA075 | F58: JACKA | G58: 288
A59: 42739 | B59: IN | C59: 75 | D59: =VLOOKUP(C59,ทเบียนรายการStockหลัก!$A$3:$D$108,3,0) -> AA076 | F59: JACKA | G59: 150
A60: 42739 | B60: IN | C60: 78 | D60: =VLOOKUP(C60,ทเบียนรายการStockหลัก!$A$3:$D$108,3,0) -> AA079 | F60: JACKA | G60: 120
A61: 42739 | B61: IN | C61: 79 | D61: =VLOOKUP(C61,ทเบียนรายการStockหลัก!$A$3:$D$108,3,0) -> AA080 | F61: JACKA | G61: 120
A62: 42739 | B62: OUT | C62: 1 | D62: =VLOOKUP(C62,ทเบียนรายการStockหลัก!$A$3:$D$108,3,0) -> AA002 | E62: 2.Support | F62: อรุณ | G62: -1
A63: 42739 | B63: OUT | C63: 1 | D63: =VLOOKUP(C63,ทเบียนรายการStockหลัก!$A$3:$D$108,3,0) -> AA002 | E63: 2.Support | F63: อรุณ | G63: -2
A64: 42739 | B64: OUT | C64: 14 | D64: =VLOOKUP(C64,ทเบียนรายการStockหลัก!$A$3:$D$108,3,0) -> AA015 | E64: 6.Schaaf&RBS | F64: อรพรรณ | G64: -1
A65: 42739 | B65: OUT | C65: 20 | D65: =VLOOKUP(C65,ทเบียนรายการStockหลัก!$A$3:$D$108,3,0) -> AA021 | E65: 2.Support | F65: ปราณี | G65: -1
A66: 42739 | B66: OUT | C66: 24 | D66: =VLOOKUP(C66,ทเบียนรายการStockหลัก!$A$3:$D$108,3,0) -> AA025 | E66: 2.Support | F66: วชิรา | G66: -10
A67: 42739 | B67: OUT | C67: 24 | D67: =VLOOKUP(C67,ทเบียนรายการStockหลัก!$A$3:$D$108,3,0) -> AA025 | E67: 2.Support | F67: วชิรา | G67: -10
A68: 42739 | B68: OUT | C68: 34 | D68: =VLOOKUP(C68,ทเบียนรายการStockหลัก!$A$3:$D$108,3,0) -> AA035 | E68: 6.Schaaf&RBS | F68: อรพรรณ | G68: -30
A69: 42739 | B69: OUT | C69: 42 | D69: =VLOOKUP(C69,ทเบียนรายการStockหลัก!$A$3:$D$108,3,0) -> AA043 | E69: 8.Stax | F69: อนิรุจน์ | G69: -1
A70: 42739 | B70: OUT | C70: 42 | D70: =VLOOKUP(C70,ทเบียนรายการStockหลัก!$A$3:$D$108,3,0) -> AA043 | E70: 5.Extrude | F70: กิตติพงษ์ | G70: -1
A71: 42739 | B71: OUT | C71: 42 | D71: =VLOOKUP(C71,ทเบียนรายการStockหลัก!$A$3:$D$108,3,0) -> AA043 | E71: 8.Stax | F71: ภัควุฒิ | G71: -1
A72: 42739 | B72: OUT | C72: 44 | D72: =VLOOKUP(C72,ทเบียนรายการStockหลัก!$A$3:$D$108,3,0) -> AA045 | E72: 5.Extrude | F72: บรรจง | G72: -26
A73: 42739 | B73: OUT | C73: 44 | D73: =VLOOKUP(C73,ทเบียนรายการStockหลัก!$A$3:$D$108,3,0) -> AA045 | E73: 2.Support | F73: วีรยุทธ | G73: -7
... A135: 42744 | B135: OUT | C135: 8 | D135: =VLOOKUP(C135,ทเบียนรายการStockหลัก!$A$3:$D$108,3,0) -> AA009 | E135: 4.PC Packing | F135: รณชัย | G135: -60
A136: 42744 | B136: IN | C136: 14 | D136: =VLOOKUP(C136,ทเบียนรายการStockหลัก!$A$3:$D$108,3,0) -> AA015 | F136: สุปรีดา | G136: 8
A137: 42744 | B137: IN | C137: 20 | D137: =VLOOKUP(C137,ทเบียนรายการStockหลัก!$A$3:$D$108,3,0) -> AA021 | F137: สุปรีดา | G137: 3
A138: 42744 | B138: OUT | C138: 34 | D138: =VLOOKUP(C138,ทเบียนรายการStockหลัก!$A$3:$D$108,3,0) -> AA035 | E138: 8.Stax | F138: พัธนา | G138: -30
A139: 42744 | B139: OUT | C139: 34 | D139: =VLOOKUP(C139,ทเบียนรายการStockหลัก!$A$3:$D$108,3,0) -> AA035 | E139: 5.Extrude | F139: นันทิยา | G139: -30
A140: 42744 | B140: OUT | C140: 35 | D140: =VLOOKUP(C140,ทเบียนรายการStockหลัก!$A$3:$D$108,3,0) -> AA036 | E140: 5.Extrude | F140: นันทิยา | G140: -2
A141: 42744 | B141: OUT | C141: 42 | D141: =VLOOKUP(C141,ทเบียนรายการStockหลัก!$A$3:$D$108,3,0) -> AA043 | E141: 3.PC Process | F141: ชาญวิทย์ | G141: -1
A142: 42744 | B142: OUT | C142: 46 | D142: =VLOOKUP(C142,ทเบียนรายการStockหลัก!$A$3:$D$108,3,0) -> AA047 | E142: 5.Extrude | F142: มุกดา | G142: -1
A143: 42744 | B143: OUT | C143: 47 | D143: =VLOOKUP(C143,ทเบียนรายการStockหลัก!$A$3:$D$108,3,0) -> AA048 | E143: 8.Stax | F143: พัธนา | G143: -5
A144: 42744 | B144: OUT | C144: 48 | D144: =VLOOKUP(C144,ทเบียนรายการStockหลัก!$A$3:$D$108,3,0) -> AA049 | E144: 4.PC Packing | F144: จำรอง | G144: -1
A145: 42744 | B145: OUT | C145: 50 | D145: =VLOOKUP(C145,ทเบียนรายการStockหลัก!$A$3:$D$108,3,0) -> AA051 | E145: 4.PC Packing | F145: เอกรินทร์ | G145: -1
A146: 42744 | B146: OUT | C146: 50 | D146: =VLOOKUP(C146,ทเบียนรายการStockหลัก!$A$3:$D$108,3,0) -> AA051 | E146: 6.Schaaf&RBS | F146: จิรวัฒน์ | G146: -1
A147: 42744 | B147: OUT | C147: 56 | D147: =VLOOKUP(C147,ทเบียนรายการStockหลัก!$A$3:$D$108,3,0) -> AA057 | E147: 6.Schaaf&RBS | F147: จิรวัฒน์ | G147: -1
A148: 42744 | B148: OUT | C148: 57 | D148: =VLOOKUP(C148,ทเบียนรายการStockหลัก!$A$3:$D$108,3,0) -> AA058 | E148: 8.Stax | F148: อัตรัช | G148: -2
A149: 42744 | B149: IN | C149: 66 | D149: =VLOOKUP(C149,ทเบียนรายการStockหลัก!$A$3:$D$108,3,0) -> AA067 | F149: สุปรีดา | G149: 48
A150: 42744 | B150: OUT | C150: 66 | D150: =VLOOKUP(C150,ทเบียนรายการStockหลัก!$A$3:$D$108,3,0) -> AA067 | E150: 4.PC Packing | F150: รณชัย | G150: -1
A151: 42744 | B151: OUT | C151: 67 | D151: =VLOOKUP(C151,ทเบียนรายการStockหลัก!$A$3:$D$108,3,0) -> AA068 | E151: 4.PC Packing | F151: รณชัย | G151: -1
A152: 42744 | B152: OUT | C152: 68 | D152: =VLOOKUP(C152,ทเบียนรายการStockหลัก!$A$3:$D$108,3,0) -> AA069 | E152: 4.PC Packing | F152: รณชัย | G152: -1
A153: 42744 | B153: OUT | C153: 72 | D153: =VLOOKUP(C153,ทเบียนรายการStockหลัก!$A$3:$D$108,3,0) -> AA073 | E153: 4.PC Packing | F153: จรีรักษณ์ | G153: -2
A154: 42744 | B154: OUT | C154: 74 | D154: =VLOOKUP(C154,ทเบียนรายการStockหลัก!$A$3:$D$108,3,0) -> AA075 | E154: 4.PC Packing | F154: รณชัย | G154: -18
A155: 42744 | B155: OUT | C155: 76 | D155: =VLOOKUP(C155,ทเบียนรายการStockหลัก!$A$3:$D$108,3,0) -> AA077 | E155: 2.Support | F155: อภิเบศร์ | G155: -1
A156: 42744 | B156: OUT | C156: 78 | D156: =VLOOKUP(C156,ทเบียนรายการStockหลัก!$A$3:$D$108,3,0) -> AA079 | E156: 4.PC Packing | F156: ทิวาภรณ์ | G156: -1
A157: 42744 | B157: OUT | C157: 78 | D157: =VLOOKUP(C157,ทเบียนรายการStockหลัก!$A$3:$D$108,3,0) -> AA079 | E157: 8.Stax | F157: บัวจันทร์ | G157: -1
A158: 42744 | B158: OUT | C158: 78 | D158: =VLOOKUP(C158,ทเบียนรายการStockหลัก!$A$3:$D$108,3,0) -> AA079 | E158: 9.Frypack | F158: ปรัชญา | G158: -1
A159: 42744 | B159: OUT | C159: 79 | D159: =VLOOKUP(C159,ทเบียนรายการStockหลัก!$A$3:$D$108,3,0) -> AA080 | E159: 4.PC Packing | F159: มาไล | G159: -1
A160: 42744 | B160: OUT | C160: 79 | D160: =VLOOKUP(C160,ทเบียนรายการStockหลัก!$A$3:$D$108,3,0) -> AA080 | E160: 6.Schaaf&RBS | F160: ศิริพร | G160: -1
A161: 42744 | B161: OUT | C161: 79 | D161: =VLOOKUP(C161,ทเบียนรายการStockหลัก!$A$3:$D$108,3,0) -> AA080 | E161: 8.Stax | F161: ณัฐวัฒน์/แก้ว | G161: -1
... A208: 42761 | B208: OUT | C208: 46 | D208: =VLOOKUP(C208,ทเบียนรายการStockหลัก!$A$3:$D$108,3,0) -> AA047 | E208: 5.Extrude | F208: สุภาพรรณ | G208: -1
A209: 42761 | B209: IN | C209: 44 | D209: =VLOOKUP(C209,ทเบียนรายการStockหลัก!$A$3:$D$108,3,0) -> AA045 | F209: อภิเบศร์ | G209: 140
A210: 42761 | B210: OUT | C210: 44 | D210: =VLOOKUP(C210,ทเบียนรายการStockหลัก!$A$3:$D$108,3,0) -> AA045 | E210: 3.PC Process | F210: สมศักดิ์ | G210: -5
A211: 42761 | B211: OUT | C211: 15 | D211: =VLOOKUP(C211,ทเบียนรายการStockหลัก!$A$3:$D$108,3,0) -> AA016 | E211: 3.PC Process | F211: สมศักดิ์ | G211: -1
A212: 42761 | B212: OUT | C212: 47 | D212: =VLOOKUP(C212,ทเบียนรายการStockหลัก!$A$3:$D$108,3,0) -> AA048 | E212: 8.Stax | F212: พัธนา | G212: -5
A213: 42761 | B213: OUT | C213: 47 | D213: =VLOOKUP(C213,ทเบียนรายการStockหลัก!$A$3:$D$108,3,0) -> AA048 | E213: 6.Schaaf&RBS | F213: อรพรรณ | G213: -2
A214: 42761 | B214: OUT | C214: 78 | D214: =VLOOKUP(C214,ทเบียนรายการStockหลัก!$A$3:$D$108,3,0) -> AA079 | E214: 4.PC Packing | F214: เจริญ | G214: -1
A215: 42761 | B215: OUT | C215: 78 | D215: =VLOOKUP(C215,ทเบียนรายการStockหลัก!$A$3:$D$108,3,0) -> AA079 | E215: 5.Extrude | F215: สุภาพรรณ | G215: -1
A216: 42761 | B216: OUT | C216: 78 | D216: =VLOOKUP(C216,ทเบียนรายการStockหลัก!$A$3:$D$108,3,0) -> AA079 | E216: 2.Support | F216: อำนาจ | G216: -1
A217: 42761 | B217: OUT | C217: 79 | D217: =VLOOKUP(C217,ทเบียนรายการStockหลัก!$A$3:$D$108,3,0) -> AA080 | E217: 8.Stax | F217: อดุลย์ | G217: -1
A218: 42761 | B218: OUT | C218: 79 | D218: =VLOOKUP(C218,ทเบียนรายการStockหลัก!$A$3:$D$108,3,0) -> AA080 | E218: 4.PC Packing | F218: วีระพงษ์ | G218: -1
A219: 42761 | B219: OUT | C219: 79 | D219: =VLOOKUP(C219,ทเบียนรายการStockหลัก!$A$3:$D$108,3,0) -> AA080 | E219: 2.Support | F219: ศศิวิมล | G219: -1
A220: 42761 | B220: IN | C220: 67 | D220: =VLOOKUP(C220,ทเบียนรายการStockหลัก!$A$3:$D$108,3,0) -> AA068 | F220: อภิเบศร์ | G220: 30
A221: 42761 | B221: IN | C221: 38 | D221: =VLOOKUP(C221,ทเบียนรายการStockหลัก!$A$3:$D$108,3,0) -> AA039 | F221: อภิเบศร์ | G221: 8
A222: 42762 | B222: OUT | C222: 1 | D222: =VLOOKUP(C222,ทเบียนรายการStockหลัก!$A$3:$D$108,3,0) -> AA002 | E222: 2.Support | F222: วีระยุทธ | G222: -1
A223: 42762 | B223: OUT | C223: 1 | D223: =VLOOKUP(C223,ทเบียนรายการStockหลัก!$A$3:$D$108,3,0) -> AA002 | E223: 2.Support | F223: วีรยุทธ | G223: -1
A224: 42762 | B224: OUT | C224: 1 | D224: =VLOOKUP(C224,ทเบียนรายการStockหลัก!$A$3:$D$108,3,0) -> AA002 | E224: 2.Support | F224: วีรยุทธ | G224: -2
A225: 42762 | B225: OUT | C225: 6 | D225: =VLOOKUP(C225,ทเบียนรายการStockหลัก!$A$3:$D$108,3,0) -> AA007 | E225: 8.Stax | F225: ณัฐพงษ์ | G225: -1
A226: 42762 | B226: OUT | C226: 12 | D226: =VLOOKUP(C226,ทเบียนรายการStockหลัก!$A$3:$D$108,3,0) -> AA013 | E226: 8.Stax | F226: พัธนา | G226: -1
A227: 42762 | B227: OUT | C227: 13 | D227: =VLOOKUP(C227,ทเบียนรายการStockหลัก!$A$3:$D$108,3,0) -> AA014 | E227: 2.Support | F227: อภิเบศร์ | G227: -2
A228: 42762 | B228: IN | C228: 14 | D228: =VLOOKUP(C228,ทเบียนรายการStockหลัก!$A$3:$D$108,3,0) -> AA015 | F228: อภิเบศร์ | G228: 12
A229: 42762 | B229: OUT | C229: 14 | D229: =VLOOKUP(C229,ทเบียนรายการStockหลัก!$A$3:$D$108,3,0) -> AA015 | E229: 3.PC Process | F229: สมศักดิ์ | G229: -1
A230: 42762 | B230: IN | C230: 15 | D230: =VLOOKUP(C230,ทเบียนรายการStockหลัก!$A$3:$D$108,3,0) -> AA016 | F230: อภิเบศร์ | G230: 6
A231: 42762 | B231: OUT | C231: 15 | D231: =VLOOKUP(C231,ทเบียนรายการStockหลัก!$A$3:$D$108,3,0) -> AA016 | E231: 3.PC Process | F231: สมศักดิ์ | G231: -1
A232: 42762 | B232: OUT | C232: 17 | D232: =VLOOKUP(C232,ทเบียนรายการStockหลัก!$A$3:$D$108,3,0) -> AA018 | E232: 3.PC Process | F232: สมศักดิ์ | G232: -5
A233: 42762 | B233: OUT | C233: 17 | D233: =VLOOKUP(C233,ทเบียนรายการStockหลัก!$A$3:$D$108,3,0) -> AA018 | E233: 5.Extrude | F233: ภาวุธ | G233: -1
A234: 42762 | B234: OUT | C234: 17 | D234: =VLOOKUP(C234,ทเบียนรายการStockหลัก!$A$3:$D$108,3,0) -> AA018 | E234: 8.Stax | F234: พัธนา | G234: -1
A235: 42762 | B235: OUT | C235: 34 | D235: =VLOOKUP(C235,ทเบียนรายการStockหลัก!$A$3:$D$108,3,0) -> AA035 | E235: 5.Extrude | F235: นันทิยา | G235: -30
A236: 42762 | B236: OUT | C236: 34 | D236: =VLOOKUP(C236,ทเบียนรายการStockหลัก!$A$3:$D$108,3,0) -> AA035 | E236: 9.Frypack | F236: พัธนา | G236: -30
A237: 42762 | B237: OUT | C237: 42 | D237: =VLOOKUP(C237,ทเบียนรายการStockหลัก!$A$3:$D$108,3,0) -> AA043 | E237: 8.Stax | F237: อรุณรัชช์ | G237: -1
A238: 42762 | B238: OUT | C238: 44 | D238: =VLOOKUP(C238,ทเบียนรายการStockหลัก!$A$3:$D$108,3,0) -> AA045 | E238: 2.Support | F238: อภิเบศร์ | G238: -2
A239: 42762 | B239: OUT | C239: 68 | D239: =VLOOKUP(C239,ทเบียนรายการStockหลัก!$A$3:$D$108,3,0) -> AA069 | E239: 4.PC Packing | F239: ชาตรี | G239: -1
A240: 42762 | B240: OUT | C240: 76 | D240: =VLOOKUP(C240,ทเบียนรายการStockหลัก!$A$3:$D$108,3,0) -> AA077 | E240: 4.PC Packing | F240: จรีรักษณ์ | G240: -2
A241: 42762 | B241: OUT | C241: 76 | D241: =VLOOKUP(C241,ทเบียนรายการStockหลัก!$A$3:$D$108,3,0) -> AA077 | E241: 1.Production | F241: สุปรีดา | G241: -1
A242: 42762 | B242: OUT | C242: 78 | D242: =VLOOKUP(C242,ทเบียนรายการStockหลัก!$A$3:$D$108,3,0) -> AA079 | E242: 5.Extrude | F242: ผกามาศ | G242: -1
... A252: 42762 | B252: OUT | C252: 1 | D252: =VLOOKUP(C252,ทเบียนรายการStockหลัก!$A$3:$D$108,3,0) -> AA002 | E252: 2.Support | F252: วีระยุทธ | G252: -1
A253: 42765 | B253: IN | C253: 72 | D253: =VLOOKUP(C253,ทเบียนรายการStockหลัก!$A$3:$D$108,3,0) -> AA073 | F253: JACKA | G253: 40
A254: 42765 | B254: IN | C254: 84 | D254: =VLOOKUP(C254,ทเบียนรายการStockหลัก!$A$3:$D$108,3,0) -> AA085 | F254: JACKA | G254: 1500
A255: 42765 | B255: OUT | C255: 1 | D255: =VLOOKUP(C255,ทเบียนรายการStockหลัก!$A$3:$D$108,3,0) -> AA002 | E255: 2.Support | F255: วีระยุทธ | G255: -1
A256: 42765 | B256: OUT | C256: 1 | D256: =VLOOKUP(C256,ทเบียนรายการStockหลัก!$A$3:$D$108,3,0) -> AA002 | E256: 2.Support | F256: วีระยุทธ | G256: -2
A257: 42765 | B257: OUT | C257: 1 | D257: =VLOOKUP(C257,ทเบียนรายการStockหลัก!$A$3:$D$108,3,0) -> AA002 | E257: 2.Support | F257: อรุณ | G257: -1
A258: 42765 | B258: OUT | C258: 1 | D258: =VLOOKUP(C258,ทเบียนรายการStockหลัก!$A$3:$D$108,3,0) -> AA002 | E258: 2.Support | F258: วีรยุทธ | G258: -1
...

Sheet 2-Stock คงเหลือ
A1: Stock คงเหลือหลักสำคัญ Production Support 2017 | G1: =#REF!-#REF! -> #REF! | J1: Update :
G2: สามารถใช้ได้ (เดือน) 1เดือน =20วัน | H2: จำนวนสั่ง | I2: วันที่สั่งของ | J2: กำหนดวันส่งของ | K2: PC | L2: เบิกใช้ | M2: EXTEUDE | N2: เบิกใช้ | O2: SCHAAF | P2: เบิกใช้ | Q2: STAX FRYPACK | R2: เบิกใช้
A3: รหัสStock Card | B3: ชื่อรายการ | C3: หน่วยนับ | D3: ยกยอดปี16 | E3: Movement | F3: คงเหลือ
A4: 1 | B4: =VLOOKUP(A4,ทเบียนรายการStockหลัก!$A$3:$D$108,3,0) -> AA002 | C4: =VLOOKUP(A4,ทเบียนรายการStockหลัก!$A$3:$D$108,4,0) -> ตลับ | D4: 142 | E4: =SUMPRODUCT(--(Table1[รหัสStock Card]='2-Stock คงเหลือ'!A4),Table1[จำนวน]) -> -40 | F4: =SUM(D4:E4) -> 102 | G4: =#REF!/20 -> #REF! | K4: 50 | L4: ='[1]STOCK เบิก '!M4 -> #REF!
A5: 2 | B5: =VLOOKUP(A5,ทเบียนรายการStockหลัก!$A$3:$D$108,3,0) -> AA003 | C5: =VLOOKUP(A5,ทเบียนรายการStockหลัก!$A$3:$D$108,4,0) -> ตลับ | D5: 9 | E5: =SUMPRODUCT(--(Table1[รหัสStock Card]='2-Stock คงเหลือ'!A5),Table1[จำนวน]) -> 0 | F5: =SUM(D5:E5) -> 9 | G5: =#REF!/20 -> #REF! | K5: 100 | L5: ='[1]STOCK เบิก '!M5 -> #REF!
A6: 3 | B6: =VLOOKUP(A6,ทเบียนรายการStockหลัก!$A$3:$D$108,3,0) -> AA004 | C6: =VLOOKUP(A6,ทเบียนรายการStockหลัก!$A$3:$D$108,4,0) -> กระปุก | D6: 2 | E6: =SUMPRODUCT(--(Table1[รหัสStock Card]='2-Stock คงเหลือ'!A6),Table1[จำนวน]) -> 0 | F6: =SUM(D6:E6) -> 2 | G6: =#REF!/20 -> #REF!
A7: 4 | B7: =VLOOKUP(A7,ทเบียนรายการStockหลัก!$A$3:$D$108,3,0) -> AA005 | C7: =VLOOKUP(A7,ทเบียนรายการStockหลัก!$A$3:$D$108,4,0) -> กระปุก | D7: 2 | E7: =SUMPRODUCT(--(Table1[รหัสStock Card]='2-Stock คงเหลือ'!A7),Table1[จำนวน]) -> 0 | F7: =SUM(D7:E7) -> 2 | G7: =#REF!/20 -> #REF! | Q7: 3 | R7: ='[1]STOCK เบิก '!U6 -> #REF!
A8: 5 | B8: =VLOOKUP(A8,ทเบียนรายการStockหลัก!$A$3:$D$108,3,0) -> AA006 | C8: =VLOOKUP(A8,ทเบียนรายการStockหลัก!$A$3:$D$108,4,0) -> กระปุก | D8: 10 | E8: =SUMPRODUCT(--(Table1[รหัสStock Card]='2-Stock คงเหลือ'!A8),Table1[จำนวน]) -> 0 | F8: =SUM(D8:E8) -> 10 | G8: =#REF!/20 -> #REF! | K8: 4 | L8: ='[1]STOCK เบิก '!M7 -> 0 | M8: 2 | N8: ='[1]STOCK เบิก '!O7 -> #REF! | O8: 2 | P8: ='[1]STOCK เบิก '!R7 -> #REF! | Q8: 3 | R8: ='[1]STOCK เบิก '!U7 -> #REF!
A9: 6 | B9: =VLOOKUP(A9,ทเบียนรายการStockหลัก!$A$3:$D$108,3,0) -> AA007 | C9: =VLOOKUP(A9,ทเบียนรายการStockหลัก!$A$3:$D$108,4,0) -> กระปุก | D9: 21 | E9: =SUMPRODUCT(--(Table1[รหัสStock Card]='2-Stock คงเหลือ'!A9),Table1[จำนวน]) -> -2 | F9: =SUM(D9:E9) -> 19 | G9: =#REF!/20 -> #REF! | K9: 4 | L9: ='[1]STOCK เบิก '!M8 -> 0 | M9: 1 | N9: ='[1]STOCK เบิก '!O8 -> #REF! | O9: 1 | P9: ='[1]STOCK เบิก '!R8 -> #REF! | Q9: 1 | R9: ='[1]STOCK เบิก '!U8 -> #REF!
A10: 7 | B10: =VLOOKUP(A10,ทเบียนรายการStockหลัก!$A$3:$D$108,3,0) -> AA008 | C10: =VLOOKUP(A10,ทเบียนรายการStockหลัก!$A$3:$D$108,4,0) -> Roll | D10: 951 | E10: =SUMPRODUCT(--(Table1[รหัสStock Card]='2-Stock คงเหลือ'!A10),Table1[จำนวน]) -> -200 | F10: =SUM(D10:E10) -> 751 | G10: =#REF!/20 -> #REF! | Q10: 15 | R10: ='[1]STOCK เบิก '!U9 -> #REF!
A11: 8 | B11: =VLOOKUP(A11,ทเบียนรายการStockหลัก!$A$3:$D$108,3,0) -> AA009 | C11: =VLOOKUP(A11,ทเบียนรายการStockหลัก!$A$3:$D$108,4,0) -> Roll | D11: 300 | E11: =SUMPRODUCT(--(Table1[รหัสStock Card]='2-Stock คงเหลือ'!A11),Table1[จำนวน]) -> -210 | F11: =SUM(D11:E11) -> 90 | G11: =#REF!/20 -> #REF! | K11: 800 | L11: ='[1]STOCK เบิก '!M10 -> 160 | M11: 250 | N11: ='[1]STOCK เบิก '!O10 -> #REF! | O11: 250 | P11: ='[1]STOCK เบิก '!R10 -> #REF! | Q11: 300 | R11: ='[1]STOCK เบิก '!U10 -> #REF!
A12: 9 | B12: =VLOOKUP(A12,ทเบียนรายการStockหลัก!$A$3:$D$108,3,0) -> AA010 | C12: =VLOOKUP(A12,ทเบียนรายการStockหลัก!$A$3:$D$108,4,0) -> Roll | D12: 556 | E12: =SUMPRODUCT(--(Table1[รหัสStock Card]='2-Stock คงเหลือ'!A12),Table1[จำนวน]) -> 0 | F12: =SUM(D12:E12) -> 556 | G12: =#REF!/20 -> #REF! | K12: 100 | L12: ='[1]STOCK เบิก '!M11 -> 0 | M12: 0 | N12: ='[1]STOCK เบิก '!O11 -> #REF! | O12: 0 | P12: ='[1]STOCK เบิก '!R11 -> #REF! | Q12: 0 | R12: ='[1]STOCK เบิก '!U11 -> #REF!
A13: 10 | B13: =VLOOKUP(A13,ทเบียนรายการStockหลัก!$A$3:$D$108,3,0) -> AA011 | C13: =VLOOKUP(A13,ทเบียนรายการStockหลัก!$A$3:$D$108,4,0) -> Roll | D13: 480 | E13: =SUMPRODUCT(--(Table1[รหัสStock Card]='2-Stock คงเหลือ'!A13),Table1[จำนวน]) -> -60 | F13: =SUM(D13:E13) -> 420 | G13: =#REF!/20 -> #REF! | K13: 5 | L13: ='[1]STOCK เบิก '!M12 -> 0 | M13: 0 | N13: ='[1]STOCK เบิก '!O12 -> #REF! | O13: 0 | P13: ='[1]STOCK เบิก '!R12 -> #REF! | Q13: 0 | R13: ='[1]STOCK เบิก '!U12 -> #REF!
A14: 11 | B14: =VLOOKUP(A14,ทเบียนรายการStockหลัก!$A$3:$D$108,3,0) -> AA012 | C14: =VLOOKUP(A14,ทเบียนรายการStockหลัก!$A$3:$D$108,4,0) -> Roll | D14: 65 | E14: =SUMPRODUCT(--(Table1[รหัสStock Card]='2-Stock คงเหลือ'!A14),Table1[จำนวน]) -> -10 | F14: =SUM(D14:E14) -> 55 | G14: =#REF!/20 -> #REF! | K14: 10 | L14: ='[1]STOCK เบิก '!M13 -> 0 | M14: 0 | N14: ='[1]STOCK เบิก '!O13 -> #REF! | O14: 0 | P14: ='[1]STOCK เบิก '!R13 -> #REF! | Q14: 3 | R14: ='[1]STOCK เบิก '!U13 -> #REF!
A15: 12 | B15: =VLOOKUP(A15,ทเบียนรายการStockหลัก!$A$3:$D$108,3,0) -> AA013 | C15: =VLOOKUP(A15,ทเบียนรายการStockหลัก!$A$3:$D$108,4,0) -> กล่อง | D15: 7 | E15: =SUMPRODUCT(--(Table1[รหัสStock Card]='2-Stock คงเหลือ'!A15),Table1[จำนวน]) -> -3 | F15: =SUM(D15:E15) -> 4 | G15: =#REF!/20 -> #REF! | K15: 50 | L15: ='[1]STOCK เบิก '!M14 -> 0 | M15: 2 | N15: ='[1]STOCK เบิก '!O14 -> #REF! | O15: 2 | P15: ='[1]STOCK เบิก '!R14 -> #REF! | Q15: 4 | R15: ='[1]STOCK เบิก '!U14 -> #REF!
A16: 13 | B16: =VLOOKUP(A16,ทเบียนรายการStockหลัก!$A$3:$D$108,3,0) -> AA014 | C16: =VLOOKUP(A16,ทเบียนรายการStockหลัก!$A$3:$D$108,4,0) -> แกลลอนด์ | D16: 12 | E16: =SUMPRODUCT(--(Table1[รหัสStock Card]='2-Stock คงเหลือ'!A16),Table1[จำนวน]) -> -2 | F16: =SUM(D16:E16) -> 10 | G16: =#REF!/20 -> #REF! | K16: 300 | L16: ='[1]STOCK เบิก '!M15 -> 50 | M16: 100 | N16: ='[1]STOCK เบิก '!O15 -> #REF! | O16: 100 | P16: ='[1]STOCK เบิก '!R15 -> #REF! | Q16: 160 | R16: ='[1]STOCK เบิก '!U15 -> #REF!
A17: 14 | B17: =VLOOKUP(A17,ทเบียนรายการStockหลัก!$A$3:$D$108,3,0) -> AA015 | C17: =VLOOKUP(A17,ทเบียนรายการStockหลัก!$A$3:$D$108,4,0) -> แกลลอนด์ | D17: 6 | E17: =SUMPRODUCT(--(Table1[รหัสStock Card]='2-Stock คงเหลือ'!A17),Table1[จำนวน]) -> 14 | F17: =SUM(D17:E17) -> 20 | G17: =#REF!/20 -> #REF! | K17: 59 | L17: ='[1]STOCK เบิก '!M16 -> 7 | M17: 17 | N17: ='[1]STOCK เบิก '!O16 -> #REF! | O17: 17 | P17: ='[1]STOCK เบิก '!R16 -> #REF! | Q17: 25 | R17: ='[1]STOCK เบิก '!U16 -> #REF!
A18: 15 | B18: =VLOOKUP(A18,ทเบียนรายการStockหลัก!$A$3:$D$108,3,0) -> AA016 | C18: =VLOOKUP(A18,ทเบียนรายการStockหลัก!$A$3:$D$108,4,0) -> แกลลอนด์ | D18: 7 | E18: =SUMPRODUCT(--(Table1[รหัสStock Card]='2-Stock คงเหลือ'!A18),Table1[จำนวน]) -> 1 | F18: =SUM(D18:E18) -> 8 | G18: =#REF!/20 -> #REF! | K18: 55 | L18: ='[1]STOCK เบิก '!M17 -> 0 | M18: 0 | N18: ='[1]STOCK เบิก '!O17 -> #REF! | O18: 0 | P18: ='[1]STOCK เบิก '!R17 -> #REF! | Q18: 54 | R18: ='[1]STOCK เบิก '!U17 -> #REF!
A19: 16 | B19: =VLOOKUP(A19,ทเบียนรายการStockหลัก!$A$3:$D$108,3,0) -> AA017 | C19: =VLOOKUP(A19,ทเบียนรายการStockหลัก!$A$3:$D$108,4,0) -> แกลลอนด์ | D19: 17 | E19: =SUMPRODUCT(--(Table1[รหัสStock Card]='2-Stock คงเหลือ'!A19),Table1[จำนวน]) -> -1 | F19: =SUM(D19:E19) -> 16 | G19: =#REF!/20 -> #REF! | K19: 10 | L19: ='[1]STOCK เบิก '!M18 -> 0 | M19: 5 | N19: ='[1]STOCK เบิก '!O18 -> #REF! | O19: 5 | P19: ='[1]STOCK เบิก '!R18 -> #REF! | Q19: 20 | R19: ='[1]STOCK เบิก '!U18 -> #REF!
A20: 17 | B20: =VLOOKUP(A20,ทเบียนรายการStockหลัก!$A$3:$D$108,3,0) -> AA018 | C20: =VLOOKUP(A20,ทเบียนรายการStockหลัก!$A$3:$D$108,4,0) -> แกลลอนด์ | D20: 31 | E20: =SUMPRODUCT(--(Table1[รหัสStock Card]='2-Stock คงเหลือ'!A20),Table1[จำนวน]) -> -12 | F20: =SUM(D20:E20) -> 19 | G20: =#REF!/20 -> #REF! | K20: 20 | L20: ='[1]STOCK เบิก '!M19 -> 0 | M20: 11 | N20: ='[1]STOCK เบิก '!O19 -> #REF! | O20: 11 | P20: ='[1]STOCK เบิก '!R19 -> #REF! | Q20: 20 | R20: ='[1]STOCK เบิก '!U19 -> #REF!
A21: 18 | B21: =VLOOKUP(A21,ทเบียนรายการStockหลัก!$A$3:$D$108,3,0) -> AA019 | C21: =VLOOKUP(A21,ทเบียนรายการStockหลัก!$A$3:$D$108,4,0) -> ถัง | D21: 13 | E21: =SUMPRODUCT(--(Table1[รหัสStock Card]='2-Stock คงเหลือ'!A21),Table1[จำนวน]) -> -2 | F21: =SUM(D21:E21) -> 11 | G21: =#REF!/20 -> #REF! | K21: 20 | L21: ='[1]STOCK เบิก '!M20 -> 15 | M21: 11 | N21: ='[1]STOCK เบิก '!O20 -> #REF! | O21: 11 | P21: ='[1]STOCK เบิก '!R20 -> #REF! | Q21: 20 | R21: ='[1]STOCK เบิก '!U20 -> #REF!
A22: 19 | B22: =VLOOKUP(A22,ทเบียนรายการStockหลัก!$A$3:$D$108,3,0) -> AA020 | C22: =VLOOKUP(A22,ทเบียนรายการStockหลัก!$A$3:$D$108,4,0) -> ถุง | D22: 7 | E22: =SUMPRODUCT(--(Table1[รหัสStock Card]='2-Stock คงเหลือ'!A22),Table1[จำนวน]) -> -8 | F22: =SUM(D22:E22) -> -1 | G22: =#REF!/20 -> #REF! | K22: 10 | L22: ='[1]STOCK เบิก '!M21 -> 0 | M22: 5 | N22: ='[1]STOCK เบิก '!O21 -> #REF! | O22: 5 | P22: ='[1]STOCK เบิก '!R21 -> #REF! | Q22: 5 | R22: ='[1]STOCK เบิก '!U21 -> #REF!
... A30: 27 | B30: =VLOOKUP(A30,ทเบียนรายการStockหลัก!$A$3:$D$108,3,0) -> AA028 | C30: =VLOOKUP(A30,ทเบียนรายการStockหลัก!$A$3:$D$108,4,0) -> เมตร | D30: 135 | E30: =SUMPRODUCT(--(Table1[รหัสStock Card]='2-Stock คงเหลือ'!A30),Table1[จำนวน]) -> 0 | F30: =SUM(D30:E30) -> 135 | G30: =#REF!/20 -> #REF! | K30: 120 | L30: ='[1]STOCK เบิก '!M29 -> 0 | M30: 30 | N30: ='[1]STOCK เบิก '!O29 -> #REF! | O30: 30 | P30: ='[1]STOCK เบิก '!R29 -> #REF! | Q30: 30 | R30: ='[1]STOCK เบิก '!U29 -> #REF!
A31: 28 | B31: =VLOOKUP(A31,ทเบียนรายการStockหลัก!$A$3:$D$108,3,0) -> AA029 | C31: =VLOOKUP(A31,ทเบียนรายการStockหลัก!$A$3:$D$108,4,0) -> ด้าม | D31: 50 | E31: =SUMPRODUCT(--(Table1[รหัสStock Card]='2-Stock คงเหลือ'!A31),Table1[จำนวน]) -> -30 | F31: =SUM(D31:E31) -> 20 | G31: =#REF!/20 -> #REF! | K31: =24*16 -> 384 | L31: ='[1]STOCK เบิก '!M30 -> 24 | M31: 180 | N31: ='[1]STOCK เบิก '!O30 -> #REF! | O31: 180 | P31: ='[1]STOCK เบิก '!R30 -> #REF! | Q31: =24*3 -> 72 | R31: ='[1]STOCK เบิก '!U30 -> #REF!
A32: 29 | B32: =VLOOKUP(A32,ทเบียนรายการStockหลัก!$A$3:$D$108,3,0) -> AA030 | C32: =VLOOKUP(A32,ทเบียนรายการStockหลัก!$A$3:$D$108,4,0) -> ด้าม | D32: 21 | E32: =SUMPRODUCT(--(Table1[รหัสStock Card]='2-Stock คงเหลือ'!A32),Table1[จำนวน]) -> 0 | F32: =SUM(D32:E32) -> 21 | G32: =#REF!/20 -> #REF! | K32: 15 | L32: ='[1]STOCK เบิก '!M31 -> 0 | M32: 5 | N32: ='[1]STOCK เบิก '!O31 -> #REF! | O32: 5 | P32: ='[1]STOCK เบิก '!R31 -> #REF! | Q32: 10 | R32: ='[1]STOCK เบิก '!U31 -> #REF!
A33: 30 | B33: =VLOOKUP(A33,ทเบียนรายการStockหลัก!$A$3:$D$108,3,0) -> AA031 | C33: =VLOOKUP(A33,ทเบียนรายการStockหลัก!$A$3:$D$108,4,0) -> ด้าม | D33: 10 | E33: =SUMPRODUCT(--(Table1[รหัสStock Card]='2-Stock คงเหลือ'!A33),Table1[จำนวน]) -> 0 | F33: =SUM(D33:E33) -> 10 | G33: =#REF!/20 -> #REF! | K33: 40 | L33: ='[1]STOCK เบิก '!M32 -> 0 | M33: 10 | N33: ='[1]STOCK เบิก '!O32 -> #REF! | O33: 10 | P33: ='[1]STOCK เบิก '!R32 -> #REF! | Q33: 10 | R33: ='[1]STOCK เบิก '!U32 -> #REF!
A34: 31 | B34: =VLOOKUP(A34,ทเบียนรายการStockหลัก!$A$3:$D$108,3,0) -> AA032 | C34: =VLOOKUP(A34,ทเบียนรายการStockหลัก!$A$3:$D$108,4,0) -> ด้าม | D34: 76 | E34: =SUMPRODUCT(--(Table1[รหัสStock Card]='2-Stock คงเหลือ'!A34),Table1[จำนวน]) -> -63 | F34: =SUM(D34:E34) -> 13 | G34: =#REF!/20 -> #REF! | K34: 0 | L34: ='[1]STOCK เบิก '!M33 -> 0 | M34: 2 | N34: ='[1]STOCK เบิก '!O33 -> #REF! | O34: 0 | P34: ='[1]STOCK เบิก '!R33 -> #REF! | Q34: 0 | R34: ='[1]STOCK เบิก '!U33 -> #REF!
A35: 32 | B35: =VLOOKUP(A35,ทเบียนรายการStockหลัก!$A$3:$D$108,3,0) -> AA033 | C35: =VLOOKUP(A35,ทเบียนรายการStockหลัก!$A$3:$D$108,4,0) -> ด้าม | D35: 0 | E35: =SUMPRODUCT(--(Table1[รหัสStock Card]='2-Stock คงเหลือ'!A35),Table1[จำนวน]) -> 0 | F35: =SUM(D35:E35) -> 0 | G35: =#REF!/20 -> #REF! | K35: 15 | L35: 0 | M35: 5 | N35: Gropping | O35: 5 | P35: ต้องการต่อเดือน | Q35: 7 | R35: 0
A36: 33 | B36: =VLOOKUP(A36,ทเบียนรายการStockหลัก!$A$3:$D$108,3,0) -> AA034 | C36: =VLOOKUP(A36,ทเบียนรายการStockหลัก!$A$3:$D$108,4,0) -> ด้าม | D36: 1 | E36: =SUMPRODUCT(--(Table1[รหัสStock Card]='2-Stock คงเหลือ'!A36),Table1[จำนวน]) -> 0 | F36: =SUM(D36:E36) -> 1 | G36: =#REF!/20 -> #REF! | K36: 30 | L36: Waterbasde Ink ; Midnight Black : หมึกยิงวันที่ | M36: 10 | N36: 0 | O36: 13 | P36: 0 | Q36: 15 | R36: 0
A37: 34 | B37: =VLOOKUP(A37,ทเบียนรายการStockหลัก!$A$3:$D$108,3,0) -> AA035 | C37: =VLOOKUP(A37,ทเบียนรายการStockหลัก!$A$3:$D$108,4,0) -> Kg. | D37: 1785 | E37: =SUMPRODUCT(--(Table1[รหัสStock Card]='2-Stock คงเหลือ'!A37),Table1[จำนวน]) -> -455 | F37: =SUM(D37:E37) -> 1330 | G37: =#REF!/20 -> #REF! | K37: 15 | L37: INK 42 ML,Black(Cartridge):ตลับหมึกปริ้นวันที่ข้างกล่อง | M37: 5 | N37: 0 | O37: 5 | P37: 0 | Q37: 5 | R37: 0
A38: 35 | B38: =VLOOKUP(A38,ทเบียนรายการStockหลัก!$A$3:$D$108,3,0) -> AA036 | C38: =VLOOKUP(A38,ทเบียนรายการStockหลัก!$A$3:$D$108,4,0) -> กระป๋อง | D38: 31 | E38: =SUMPRODUCT(--(Table1[รหัสStock Card]='2-Stock คงเหลือ'!A38),Table1[จำนวน]) -> -4 | F38: =SUM(D38:E38) -> 27 | G38: =#REF!/20 -> #REF! | K38: 25 | L38: Ink Stax DMP - 21 R899 : BK IR 899 BK INK | M38: 10 | N38: 0 | O38: 10 | P38: 0 | Q38: 10 | R38: 0
A39: 36 | B39: =VLOOKUP(A39,ทเบียนรายการStockหลัก!$A$3:$D$108,3,0) -> AA037 | C39: =VLOOKUP(A39,ทเบียนรายการStockหลัก!$A$3:$D$108,4,0) -> ด้าม | D39: 74 | E39: =SUMPRODUCT(--(Table1[รหัสStock Card]='2-Stock คงเหลือ'!A39),Table1[จำนวน]) -> -9 | F39: =SUM(D39:E39) -> 65 | G39: =#REF!/20 -> #REF! | K39: 15 | L39: WL-800 WASH BATH : น้ำยาล้างหัวยิงวันที่ | M39: 8 | N39: 0 | O39: 8 | P39: 0 | Q39: 10 | R39: 0
A40: 37 | B40: =VLOOKUP(A40,ทเบียนรายการStockหลัก!$A$3:$D$108,3,0) -> AA038 | C40: =VLOOKUP(A40,ทเบียนรายการStockหลัก!$A$3:$D$108,4,0) -> Pack | D40: 6 | E40: =SUMPRODUCT(--(Table1[รหัสStock Card]='2-Stock คงเหลือ'!A40),Table1[จำนวน]) -> 0 | F40: =SUM(D40:E40) -> 6 | G40: =#REF!/20 -> #REF! | K40: 30 | L40: MC 899BK Make up Catridge : น้ำยาเติมหมึก | M40: 0 | N40: 0 | O40: 0 | P40: 0 | Q40: 0 | R40: 0
A41: 38 | B41: =VLOOKUP(A41,ทเบียนรายการStockหลัก!$A$3:$D$108,3,0) -> AA039 | C41: =VLOOKUP(A41,ทเบียนรายการStockหลัก!$A$3:$D$108,4,0) -> ผืน | D41: 42 | E41: =SUMPRODUCT(--(Table1[รหัสStock Card]='2-Stock คงเหลือ'!A41),Table1[จำนวน]) -> -22 | F41: =SUM(D41:E41) -> 20 | G41: =#REF!/20 -> #REF! | K41: 12 | L41: Industrial detergent 25 Kg. : ผงขัดพื้น | M41: 4 | N41: 0 | O41: 6 | P41: 0 | Q41: 6 | R41: 0
A42: 39 | B42: =VLOOKUP(A42,ทเบียนรายการStockหลัก!$A$3:$D$108,3,0) -> AA040 | C42: =VLOOKUP(A42,ทเบียนรายการStockหลัก!$A$3:$D$108,4,0) -> PCS. | D42: 3 | E42: =SUMPRODUCT(--(Table1[รหัสStock Card]='2-Stock คงเหลือ'!A42),Table1[จำนวน]) -> 0 | F42: =SUM(D42:E42) -> 3 | G42: =#REF!/20 -> #REF! | K42: 30 | L42: Alcohol Food Grade 70% 20 ลิตร | M42: 10 | N42: 0 | O42: 10 | P42: 0 | Q42: 15 | R42: 0
A43: 40 | B43: =VLOOKUP(A43,ทเบียนรายการStockหลัก!$A$3:$D$108,3,0) -> AA041 | C43: =VLOOKUP(A43,ทเบียนรายการStockหลัก!$A$3:$D$108,4,0) -> แกลลอนด์ | D43: 18 | E43: =SUMPRODUCT(--(Table1[รหัสStock Card]='2-Stock คงเหลือ'!A43),Table1[จำนวน]) -> 0 | F43: =SUM(D43:E43) -> 18 | G43: =#REF!/20 -> #REF! | K43: 12 | L43: Dishwashing-Liquid, FRESH 90 : TOPAX 75 30 kg. | M43: 4 | N43: 0 | O43: 4 | P43: 0 | Q43: 6 | R43: 0
A44: 41 | B44: =VLOOKUP(A44,ทเบียนรายการStockหลัก!$A$3:$D$108,3,0) -> AA042 | C44: =VLOOKUP(A44,ทเบียนรายการStockหลัก!$A$3:$D$108,4,0) -> PCS. | D44: 14 | E44: =SUMPRODUCT(--(Table1[รหัสStock Card]='2-Stock คงเหลือ'!A44),Table1[จำนวน]) -> -1 | F44: =SUM(D44:E44) -> 13 | G44: =#REF!/20 -> #REF! | K44: 12 | L44: SHC Extreme II-30 : เอ็กซ์ตรีม ทู 30 40 kg. | M44: 4 | N44: 0 | O44: 4 | P44: 0 | Q44: 6 | R44: 0
A45: 42 | B45: =VLOOKUP(A45,ทเบียนรายการStockหลัก!$A$3:$D$108,3,0) -> AA043 | C45: =VLOOKUP(A45,ทเบียนรายการStockหลัก!$A$3:$D$108,4,0) -> PCS. | D45: 42 | E45: =SUMPRODUCT(--(Table1[รหัสStock Card]='2-Stock คงเหลือ'!A45),Table1[จำนวน]) -> -16 | F45: =SUM(D45:E45) -> 26 | G45: =#REF!/20 -> #REF! | K45: 30 | L45: TOPAX 56 35 kg. | M45: 0 | N45: 0 | O45: 0 | P45: 0 | Q45: 0 | R45: 0
A46: 43 | B46: =VLOOKUP(A46,ทเบียนรายการStockหลัก!$A$3:$D$108,3,0) -> AA044 | C46: =VLOOKUP(A46,ทเบียนรายการStockหลัก!$A$3:$D$108,4,0) -> PCS. | D46: 63 | E46: =SUMPRODUCT(--(Table1[รหัสStock Card]='2-Stock คงเหลือ'!A46),Table1[จำนวน]) -> 0 | F46: =SUM(D46:E46) -> 63 | G46: =#REF!/20 -> #REF! | K46: 30 | L46: MIP LIQUID 45 Kg. (ถังเล็ก) | M46: 10 | N46: 0 | O46: 10 | P46: 0 | Q46: 15 | R46: 0
A47: 44 | B47: =VLOOKUP(A47,ทเบียนรายการStockหลัก!$A$3:$D$108,3,0) -> AA045 | C47: =VLOOKUP(A47,ทเบียนรายการStockหลัก!$A$3:$D$108,4,0) -> Pack | D47: 393 | E47: =SUMPRODUCT(--(Table1[รหัสStock Card]='2-Stock คงเหลือ'!A47),Table1[จำนวน]) -> -113 | F47: =SUM(D47:E47) -> 280 | G47: =#REF!/20 -> #REF! | K47: 20 | L47: Defoamer 193 KG.ต่อ 1 ถัง | M47: 10 | N47: 0 | O47: 10 | P47: 0 | Q47: 10 | R47: 0
... A61: 58 | B61: =VLOOKUP(A61,ทเบียนรายการStockหลัก!$A$3:$D$108,3,0) -> AA059 | C61: =VLOOKUP(A61,ทเบียนรายการStockหลัก!$A$3:$D$108,4,0) -> ข้าง | D61: 14 | E61: =SUMPRODUCT(--(Table1[รหัสStock Card]='2-Stock คงเหลือ'!A61),Table1[จำนวน]) -> 0 | F61: =SUM(D61:E61) -> 14 | G61: =#REF!/20 -> #REF! | K61: 19 | L61: เอี๋ยมพลาสติกสีขาว | M61: 19 | N61: 0 | O61: 19 | P61: 0 | Q61: 18 | R61: 0
A62: 59 | B62: =VLOOKUP(A62,ทเบียนรายการStockหลัก!$A$3:$D$108,3,0) -> AA060 | C62: =VLOOKUP(A62,ทเบียนรายการStockหลัก!$A$3:$D$108,4,0) -> PCS. | D62: 94 | E62: =SUMPRODUCT(--(Table1[รหัสStock Card]='2-Stock คงเหลือ'!A62),Table1[จำนวน]) -> -1 | F62: =SUM(D62:E62) -> 93 | G62: =#REF!/20 -> #REF! | K62: 20 | L62: PP Bag Size 36 x 45 : ถุงขยะ | M62: 0 | N62: 0 | O62: 0 | Q62: 0
A63: 60 | B63: =VLOOKUP(A63,ทเบียนรายการStockหลัก!$A$3:$D$108,3,0) -> AA061 | C63: =VLOOKUP(A63,ทเบียนรายการStockหลัก!$A$3:$D$108,4,0) -> PCS. | D63: 74 | E63: =SUMPRODUCT(--(Table1[รหัสStock Card]='2-Stock คงเหลือ'!A63),Table1[จำนวน]) -> 0 | F63: =SUM(D63:E63) -> 74 | G63: =#REF!/20 -> #REF! | K63: 50 | L63: 0 | M63: 20 | N63: 0 | O63: 30 | P63: 0 | Q63: 30 | R63: 0
A64: 61 | B64: =VLOOKUP(A64,ทเบียนรายการStockหลัก!$A$3:$D$108,3,0) -> AA062 | C64: =VLOOKUP(A64,ทเบียนรายการStockหลัก!$A$3:$D$108,4,0) -> PCS. | D64: 68 | E64: =SUMPRODUCT(--(Table1[รหัสStock Card]='2-Stock คงเหลือ'!A64),Table1[จำนวน]) -> 0 | F64: =SUM(D64:E64) -> 68 | G64: =#REF!/20 -> #REF! | K64: =L64 -> 1 | L64: 1 | M64: =N64 -> 2 | N64: 2 | O64: =P64 -> 0 | Q64: =R64 -> 0
A65: 62 | B65: =VLOOKUP(A65,ทเบียนรายการStockหลัก!$A$3:$D$108,3,0) -> AA063 | C65: =VLOOKUP(A65,ทเบียนรายการStockหลัก!$A$3:$D$108,4,0) -> PCS. | D65: 41 | E65: =SUMPRODUCT(--(Table1[รหัสStock Card]='2-Stock คงเหลือ'!A65),Table1[จำนวน]) -> 0 | F65: =SUM(D65:E65) -> 41 | G65: =#REF!/20 -> #REF! | K65: =L65 -> 0 | M65: =N65 -> 0 | O65: =P65 -> 0 | Q65: =R65 -> 0
A66: 63 | B66: =VLOOKUP(A66,ทเบียนรายการStockหลัก!$A$3:$D$108,3,0) -> AA064 | C66: =VLOOKUP(A66,ทเบียนรายการStockหลัก!$A$3:$D$108,4,0) -> PCS. | D66: 22 | E66: =SUMPRODUCT(--(Table1[รหัสStock Card]='2-Stock คงเหลือ'!A66),Table1[จำนวน]) -> -1 | F66: =SUM(D66:E66) -> 21 | G66: =#REF!/20 -> #REF! | K66: =L66 -> 0 | M66: =N66 -> 0 | O66: =P66 -> 0 | Q66: =R66 -> 0
A67: 64 | B67: =VLOOKUP(A67,ทเบียนรายการStockหลัก!$A$3:$D$108,3,0) -> AA065 | C67: =VLOOKUP(A67,ทเบียนรายการStockหลัก!$A$3:$D$108,4,0) -> PCS. | D67: 47 | E67: =SUMPRODUCT(--(Table1[รหัสStock Card]='2-Stock คงเหลือ'!A67),Table1[จำนวน]) -> 0 | F67: =SUM(D67:E67) -> 47 | G67: =#REF!/20 -> #REF! | K67: =L67 -> 0 | M67: =N67 -> 0 | O67: =P67 -> 0 | Q67: =R67 -> 0
A68: 65 | B68: =VLOOKUP(A68,ทเบียนรายการStockหลัก!$A$3:$D$108,3,0) -> AA066 | C68: =VLOOKUP(A68,ทเบียนรายการStockหลัก!$A$3:$D$108,4,0) -> PCS. | D68: 54 | E68: =SUMPRODUCT(--(Table1[รหัสStock Card]='2-Stock คงเหลือ'!A68),Table1[จำนวน]) -> 0 | F68: =SUM(D68:E68) -> 54 | G68: =#REF!/20 -> #REF! | K68: =L68 -> 0 | M68: =N68 -> 0 | O68: =P68 -> 0 | Q68: =R68 -> 0
A69: 66 | B69: =VLOOKUP(A69,ทเบียนรายการStockหลัก!$A$3:$D$108,3,0) -> AA067 | C69: =VLOOKUP(A69,ทเบียนรายการStockหลัก!$A$3:$D$108,4,0) -> Roll | D69: 29 | E69: =SUMPRODUCT(--(Table1[รหัสStock Card]='2-Stock คงเหลือ'!A69),Table1[จำนวน]) -> 41 | F69: =SUM(D69:E69) -> 70 | G69: =#REF!/20 -> #REF! | K69: =L69 -> 0 | M69: =N69 -> 0 | O69: =P69 -> 0 | Q69: =R69 -> 0
A70: 67 | B70: =VLOOKUP(A70,ทเบียนรายการStockหลัก!$A$3:$D$108,3,0) -> AA068 | C70: =VLOOKUP(A70,ทเบียนรายการStockหลัก!$A$3:$D$108,4,0) -> Roll | D70: 26 | E70: =SUMPRODUCT(--(Table1[รหัสStock Card]='2-Stock คงเหลือ'!A70),Table1[จำนวน]) -> 27 | F70: =SUM(D70:E70) -> 53 | G70: =#REF!/20 -> #REF! | K70: =L70 -> 0 | M70: =N70 -> 0 | O70: =P70 -> 0 | Q70: =R70 -> 0
A71: 68 | B71: =VLOOKUP(A71,ทเบียนรายการStockหลัก!$A$3:$D$108,3,0) -> AA069 | C71: =VLOOKUP(A71,ทเบียนรายการStockหลัก!$A$3:$D$108,4,0) -> Roll | D71: 6 | E71: =SUMPRODUCT(--(Table1[รหัสStock Card]='2-Stock คงเหลือ'!A71),Table1[จำนวน]) -> -14 | F71: =SUM(D71:E71) -> -8 | G71: =#REF!/20 -> #REF! | K71: =L71 -> 0 | M71: =N71 -> 0 | O71: =P71 -> 0 | Q71: =R71 -> 0
A72: 69 | B72: =VLOOKUP(A72,ทเบียนรายการStockหลัก!$A$3:$D$108,3,0) -> AA070 | C72: =VLOOKUP(A72,ทเบียนรายการStockหลัก!$A$3:$D$108,4,0) -> Roll | D72: 60 | E72: =SUMPRODUCT(--(Table1[รหัสStock Card]='2-Stock คงเหลือ'!A72),Table1[จำนวน]) -> 0 | F72: =SUM(D72:E72) -> 60 | G72: =#REF!/20 -> #REF! | K72: =L72 -> 0 | M72: =N72 -> 0 | O72: 0 | Q72: =R72 -> 0
A73: 70 | B73: =VLOOKUP(A73,ทเบียนรายการStockหลัก!$A$3:$D$108,3,0) -> AA071 | C73: =VLOOKUP(A73,ทเบียนรายการStockหลัก!$A$3:$D$108,4,0) -> ถุง | D73: 90 | E73: =SUMPRODUCT(--(Table1[รหัสStock Card]='2-Stock คงเหลือ'!A73),Table1[จำนวน]) -> 0 | F73: =SUM(D73:E73) -> 90 | G73: =#REF!/20 -> #REF! | K73: =L73 -> 0 | M73: =N73 -> 0 | O73: =P73 -> 0 | Q73: =R73 -> 0
A74: 71 | B74: =VLOOKUP(A74,ทเบียนรายการStockหลัก!$A$3:$D$108,3,0) -> AA072 | C74: =VLOOKUP(A74,ทเบียนรายการStockหลัก!$A$3:$D$108,4,0) -> PCS. | D74: 0 | E74: =SUMPRODUCT(--(Table1[รหัสStock Card]='2-Stock คงเหลือ'!A74),Table1[จำนวน]) -> 0 | F74: =SUM(D74:E74) -> 0 | G74: =#REF!/20 -> #REF! | K74: =L74 -> 0 | M74: =N74 -> 0 | O74: =P74 -> 0 | Q74: =R74 -> 0
A75: 72 | B75: =VLOOKUP(A75,ทเบียนรายการStockหลัก!$A$3:$D$108,3,0) -> AA073 | C75: =VLOOKUP(A75,ทเบียนรายการStockหลัก!$A$3:$D$108,4,0) -> กล่อง | D75: 37 | E75: =SUMPRODUCT(--(Table1[รหัสStock Card]='2-Stock คงเหลือ'!A75),Table1[จำนวน]) -> 29 | F75: =SUM(D75:E75) -> 66 | G75: =#REF!/20 -> #REF! | K75: =L75 -> 0 | M75: =N75 -> 0 | O75: =P75 -> 0 | Q75: =R75 -> 0
A76: 73 | B76: =VLOOKUP(A76,ทเบียนรายการStockหลัก!$A$3:$D$108,3,0) -> AA074 | C76: =VLOOKUP(A76,ทเบียนรายการStockหลัก!$A$3:$D$108,4,0) -> Roll | D76: 26 | E76: =SUMPRODUCT(--(Table1[รหัสStock Card]='2-Stock คงเหลือ'!A76),Table1[จำนวน]) -> 0 | F76: =SUM(D76:E76) -> 26 | G76: =#REF!/20 -> #REF! | K76: =L76 -> 0 | M76: =N76 -> 0 | O76: =P76 -> 0 | Q76: =R76 -> 0
A77: 74 | B77: =VLOOKUP(A77,ทเบียนรายการStockหลัก!$A$3:$D$108,3,0) -> AA075 | C77: =VLOOKUP(A77,ทเบียนรายการStockหลัก!$A$3:$D$108,4,0) -> Roll | D77: 216 | E77: =SUMPRODUCT(--(Table1[รหัสStock Card]='2-Stock คงเหลือ'!A77),Table1[จำนวน]) -> 156 | F77: =SUM(D77:E77) -> 372 | G77: =#REF!/20 -> #REF!
A78: 75 | B78: =VLOOKUP(A78,ทเบียนรายการStockหลัก!$A$3:$D$108,3,0) -> AA076 | C78: =VLOOKUP(A78,ทเบียนรายการStockหลัก!$A$3:$D$108,4,0) -> Roll | D78: 100 | E78: =SUMPRODUCT(--(Table1[รหัสStock Card]='2-Stock คงเหลือ'!A78),Table1[จำนวน]) -> 107 | F78: =SUM(D78:E78) -> 207 | G78: =#REF!/20 -> #REF! | K78: =L78 -> 0 | M78: =N78 -> 0 | O78: =P78 -> 0 | Q78: =R78 -> 0
A79: 76 | B79: =VLOOKUP(A79,ทเบียนรายการStockหลัก!$A$3:$D$108,3,0) -> AA077 | C79: =VLOOKUP(A79,ทเบียนรายการStockหลัก!$A$3:$D$108,4,0) -> Roll | D79: 308 | E79: =SUMPRODUCT(--(Table1[รหัสStock Card]='2-Stock คงเหลือ'!A79),Table1[จำนวน]) -> -54 | F79: =SUM(D79:E79) -> 254 | G79: =#REF!/20 -> #REF! | K79: =L79 -> 0 | M79: =N79 -> 0 | O79: =P79 -> 0 | Q79: =R79 -> 0
A80: 77 | B80: =VLOOKUP(A80,ทเบียนรายการStockหลัก!$A$3:$D$108,3,0) -> AA078 | C80: =VLOOKUP(A80,ทเบียนรายการStockหลัก!$A$3:$D$108,4,0) -> Roll | D80: 6 | E80: =SUMPRODUCT(--(Table1[รหัสStock Card]='2-Stock คงเหลือ'!A80),Table1[จำนวน]) -> 0 | F80: =SUM(D80:E80) -> 6 | G80: =#REF!/20 -> #REF! | K80: =L80 -> 0 | M80: =N80 -> 0 | O80: =P80 -> 0 | Q80: =R80 -> 0
A81: 78 | B81: =VLOOKUP(A81,ทเบียนรายการStockหลัก!$A$3:$D$108,3,0) -> AA079 | C81: =VLOOKUP(A81,ทเบียนรายการStockหลัก!$A$3:$D$108,4,0) -> ด้าม | D81: 131 | E81: =SUMPRODUCT(--(Table1[รหัสStock Card]='2-Stock คงเหลือ'!A81),Table1[จำนวน]) -> 109 | F81: =SUM(D81:E81) -> 240 | G81: =#REF!/20 -> #REF!
A82: 79 | B82: =VLOOKUP(A82,ทเบียนรายการStockหลัก!$A$3:$D$108,3,0) -> AA080 | C82: =VLOOKUP(A82,ทเบียนรายการStockหลัก!$A$3:$D$108,4,0) -> PCS. | D82: 83 | E82: =SUMPRODUCT(--(Table1[รหัสStock Card]='2-Stock คงเหลือ'!A82),Table1[จำนวน]) -> 52 | F82: =SUM(D82:E82) -> 135 | G82: =#REF!/20 -> #REF! | K82: =L82 -> 0 | M82: =N82 -> 0 | O82: =P82 -> 0 | Q82: =R82 -> 0
A83: 80 | B83: =VLOOKUP(A83,ทเบียนรายการStockหลัก!$A$3:$D$108,3,0) -> AA081 | C83: =VLOOKUP(A83,ทเบียนรายการStockหลัก!$A$3:$D$108,4,0) -> ด้าม | D83: 32 | E83: =SUMPRODUCT(--(Table1[รหัสStock Card]='2-Stock คงเหลือ'!A83),Table1[จำนวน]) -> -1 | F83: =SUM(D83:E83) -> 31 | G83: =#REF!/20 -> #REF! | K83: =L83 -> 0 | M83: =N83 -> 0 | O83: =P83 -> 0 | Q83: =R83 -> 0
A84: 81 | B84: =VLOOKUP(A84,ทเบียนรายการStockหลัก!$A$3:$D$108,3,0) -> AA082 | C84: =VLOOKUP(A84,ทเบียนรายการStockหลัก!$A$3:$D$108,4,0) -> เครื่อง | D84: 8 | E84: =SUMPRODUCT(--(Table1[รหัสStock Card]='2-Stock คงเหลือ'!A84),Table1[จำนวน]) -> 0 | F84: =SUM(D84:E84) -> 8 | G84: =#REF!/20 -> #REF! | K84: =L84 -> 0 | M84: =N84 -> 0 | O84: =P84 -> 0 | Q84: =R84 -> 0
A85: 82 | B85: =VLOOKUP(A85,ทเบียนรายการStockหลัก!$A$3:$D$108,3,0) -> AA083 | C85: =VLOOKUP(A85,ทเบียนรายการStockหลัก!$A$3:$D$108,4,0) -> Roll | D85: 180 | E85: =SUMPRODUCT(--(Table1[รหัสStock Card]='2-Stock คงเหลือ'!A85),Table1[จำนวน]) -> -30 | F85: =SUM(D85:E85) -> 150 | G85: =#REF!/20 -> #REF!
A86: 83 | B86: =VLOOKUP(A86,ทเบียนรายการStockหลัก!$A$3:$D$108,3,0) -> AA084 | C86: =VLOOKUP(A86,ทเบียนรายการStockหลัก!$A$3:$D$108,4,0) -> แผ่น | D86: 1400 | E86: =SUMPRODUCT(--(Table1[รหัสStock Card]='2-Stock คงเหลือ'!A86),Table1[จำนวน]) -> -600 | F86: =SUM(D86:E86) -> 800 | G86: =#REF!/20 -> #REF! | K86: =L86 -> 0 | M86: =N86 -> 0 | O86: =P86 -> 0 | Q86: =R86 -> 0
A87: 84 | B87: =VLOOKUP(A87,ทเบียนรายการStockหลัก!$A$3:$D$108,3,0) -> AA085 | C87: =VLOOKUP(A87,ทเบียนรายการStockหลัก!$A$3:$D$108,4,0) -> แผ่น | D87: 1200 | E87: =SUMPRODUCT(--(Table1[รหัสStock Card]='2-Stock คงเหลือ'!A87),Table1[จำนวน]) -> 1500 | F87: =SUM(D87:E87) -> 2700 | G87: =#REF!/20 -> #REF! | K87: =L87 -> 0 | M87: =N87 -> 0 | O87: =P87 -> 0 | Q87: =R87 -> 0
A88: 85 | B88: =VLOOKUP(A88,ทเบียนรายการStockหลัก!$A$3:$D$108,3,0) -> AA086 | C88: =VLOOKUP(A88,ทเบียนรายการStockหลัก!$A$3:$D$108,4,0) -> แผ่น | D88: 1600 | E88: =SUMPRODUCT(--(Table1[รหัสStock Card]='2-Stock คงเหลือ'!A88),Table1[จำนวน]) -> 0 | F88: =SUM(D88:E88) -> 1600 | G88: =#REF!/20 -> #REF! | K88: =L88 -> 0 | M88: =N88 -> 0 | O88: =P88 -> 0 | Q88: =R88 -> 0
A89: 86 | B89: =VLOOKUP(A89,ทเบียนรายการStockหลัก!$A$3:$D$108,3,0) -> AA087 | C89: =VLOOKUP(A89,ทเบียนรายการStockหลัก!$A$3:$D$108,4,0) -> แผ่น | D89: 2000 | E89: =SUMPRODUCT(--(Table1[รหัสStock Card]='2-Stock คงเหลือ'!A89),Table1[จำนวน]) -> 0 | F89: =SUM(D89:E89) -> 2000 | G89: =#REF!/20 -> #REF! | K89: =L89 -> 0 | M89: =N89 -> 0 | O89: =P89 -> 0 | Q89: =R89 -> 0
A90: 87 | B90: =VLOOKUP(A90,ทเบียนรายการStockหลัก!$A$3:$D$108,3,0) -> AA088 | C90: =VLOOKUP(A90,ทเบียนรายการStockหลัก!$A$3:$D$108,4,0) -> แผ่น | D90: 10500 | E90: =SUMPRODUCT(--(Table1[รหัสStock Card]='2-Stock คงเหลือ'!A90),Table1[จำนวน]) -> -1500 | F90: =SUM(D90:E90) -> 9000 | G90: =#REF!/20 -> #REF! | K90: =L90 -> 0 | M90: =N90 -> 0 | O90: =P90 -> 0 | Q90: =R90 -> 0
A91: 88 | B91: =VLOOKUP(A91,ทเบียนรายการStockหลัก!$A$3:$D$108,3,0) -> AA089 | C91: =VLOOKUP(A91,ทเบียนรายการStockหลัก!$A$3:$D$108,4,0) -> แผ่น | D91: 9500 | E91: =SUMPRODUCT(--(Table1[รหัสStock Card]='2-Stock คงเหลือ'!A91),Table1[จำนวน]) -> -1000 | F91: =SUM(D91:E91) -> 8500 | G91: =#REF!/20 -> #REF! | K91: =L91 -> 0 | M91: =N91 -> 0 | O91: =P91 -> 0 | Q91: =R91 -> 0
A92: 89 | B92: =VLOOKUP(A92,ทเบียนรายการStockหลัก!$A$3:$D$108,3,0) -> AA090 | C92: =VLOOKUP(A92,ทเบียนรายการStockหลัก!$A$3:$D$108,4,0) -> แผ่น | D92: 1500 | E92: =SUMPRODUCT(--(Table1[รหัสStock Card]='2-Stock คงเหลือ'!A92),Table1[จำนวน]) -> 0 | F92: =SUM(D92:E92) -> 1500 | G92: =#REF!/20 -> #REF! | K92: =L92 -> 0 | M92: =N92 -> 0 | O92: =P92 -> 0 | Q92: =R92 -> 0
A93: 90 | B93: =VLOOKUP(A93,ทเบียนรายการStockหลัก!$A$3:$D$108,3,0) -> AA091 | C93: =VLOOKUP(A93,ทเบียนรายการStockหลัก!$A$3:$D$108,4,0) -> เล่ม | D93: 6 | E93: =SUMPRODUCT(--(Table1[รหัสStock Card]='2-Stock คงเหลือ'!A93),Table1[จำนวน]) -> 0 | F93: =SUM(D93:E93) -> 6 | G93: =#REF!/20 -> #REF! | K93: =L93 -> 0 | M93: =N93 -> 0 | O93: =P93 -> 0 | Q93: =R93 -> 0
A94: 91 | B94: =VLOOKUP(A94,ทเบียนรายการStockหลัก!$A$3:$D$108,3,0) -> AA092 | C94: =VLOOKUP(A94,ทเบียนรายการStockหลัก!$A$3:$D$108,4,0) -> เล่ม | D94: 8 | E94: =SUMPRODUCT(--(Table1[รหัสStock Card]='2-Stock คงเหลือ'!A94),Table1[จำนวน]) -> 0 | F94: =SUM(D94:E94) -> 8 | G94: =#REF!/20 -> #REF! | K94: =L94 -> 0 | M94: =N94 -> 0 | O94: =P94 -> 0 | Q94: =R94 -> 0
A95: 92 | B95: =VLOOKUP(A95,ทเบียนรายการStockหลัก!$A$3:$D$108,3,0) -> AA093 | C95: =VLOOKUP(A95,ทเบียนรายการStockหลัก!$A$3:$D$108,4,0) -> คู่ | D95: 44 | E95: =SUMPRODUCT(--(Table1[รหัสStock Card]='2-Stock คงเหลือ'!A95),Table1[จำนวน]) -> 0 | F95: =SUM(D95:E95) -> 44 | G95: =#REF!/20 -> #REF! | K95: =L95 -> 0 | M95: =N95 -> 0 | O95: =P95 -> 0 | Q95: =R95 -> 0
A96: 93 | B96: =VLOOKUP(A96,ทเบียนรายการStockหลัก!$A$3:$D$108,3,0) -> AA094 | C96: =VLOOKUP(A96,ทเบียนรายการStockหลัก!$A$3:$D$108,4,0) -> ผืน | D96: 57 | E96: =SUMPRODUCT(--(Table1[รหัสStock Card]='2-Stock คงเหลือ'!A96),Table1[จำนวน]) -> 0 | F96: =SUM(D96:E96) -> 57 | G96: =#REF!/20 -> #REF! | K96: =L96 -> 0 | M96: =N96 -> 0 | O96: =P96 -> 0 | Q96: =R96 -> 0
A97: 94 | B97: =VLOOKUP(A97,ทเบียนรายการStockหลัก!$A$3:$D$108,3,0) -> AA095 | C97: =VLOOKUP(A97,ทเบียนรายการStockหลัก!$A$3:$D$108,4,0) -> PCS. | D97: 72 | E97: =SUMPRODUCT(--(Table1[รหัสStock Card]='2-Stock คงเหลือ'!A97),Table1[จำนวน]) -> -28 | F97: =SUM(D97:E97) -> 44 | G97: =#REF!/20 -> #REF! | K97: =L97 -> 0 | M97: =N97 -> 0 | O97: =P97 -> 0 | Q97: =R97 -> 0
... A109: 106 | B109: =VLOOKUP(A109,ทเบียนรายการStockหลัก!$A$3:$D$108,3,0) -> AA107 | C109: =VLOOKUP(A109,ทเบียนรายการStockหลัก!$A$3:$D$108,4,0) -> กระปุก | D109: 0 | E109: =SUMPRODUCT(--(Table1[รหัสStock Card]='2-Stock คงเหลือ'!A109),Table1[จำนวน]) -> 0 | F109: =SUM(D109:E109) -> 0 | G109: =#REF!/20 -> #REF! | K109: =L109 -> 0 | M109: =N109 -> 0 | O109: =P109 -> 0 | Q109: =R109 -> 0

Sheet Line
A1: 1.Production | C1: IN
A2: 2.Support | C2: OUT
A3: 3.PC Process
A4: 4.PC Packing
A5: 5.Extrude
A6: 6.Schaaf&RBS
A7: 7.Pellet line
A8: 8.Stax
A9: 9.Frypack
A10: 10.OC
A11: Monpower
A12: 12.RM ยืม
A13: 13.QC ยืม
A14: 14.CR ยืม
... A17: 17.ส่งคืนจากยืม

Sheet ยอดเบิก
A1: วันที่ทำรายการ | B1: (All)
A2: Months | B2: Jan | C2: สรุปยอดเบิกใช้ประจำเดือน
A3: Years | B3: 2017
A4: ID | B4: OUT
A6: Sum of จำนวน | C6: แผนก
A7: รหัสStock Card | B7: ชื่อรายการ | C7: 1.Production | D7: 2.Support | E7: 3.PC Process | F7: 4.PC Packing | G7: 5.Extrude | H7: 6.Schaaf&RBS | I7: 7.Pellet line | J7: 8.Stax | K7: 9.Frypack | L7: Monpower | M7: ยอดใช้รวม
A8: 1 | B8: AA002 | D8: -105 | M8: -105
A9: 5 | B9: AA006 | J9: -1 | M9: -1
A10: 6 | B10: AA007 | J10: -3 | M10: -3
A11: 7 | B11: AA008 | G11: -200 | H11: -160 | J11: -40 | K11: -271 | M11: -671
A12: 8 | B12: AA009 | F12: -300 | M12: -300
A13: 10 | B13: AA011 | F13: -255 | M13: -255
A14: 11 | B14: AA012 | D14: -20 | M14: -20
A15: 12 | B15: AA013 | E15: -3 | G15: -1 | J15: -1 | M15: -5
A16: 13 | B16: AA014 | D16: -10 | H16: -1 | M16: -11
A17: 14 | B17: AA015 | E17: -2 | G17: -4 | H17: -4 | J17: -3 | M17: -13
A18: 15 | B18: AA016 | E18: -9 | M18: -9
A19: 16 | B19: AA017 | E19: -3 | M19: -3
A20: 17 | B20: AA018 | E20: -19 | G20: -2 | H20: -1 | J20: -2 | K20: -4 | M20: -28
A21: 18 | B21: AA019 | E21: -2 | M21: -2
A22: 19 | B22: AA020 | D22: -12 | M22: -12
A23: 20 | B23: AA021 | D23: -3 | M23: -3
A24: 23 | B24: AA024 | G24: -3 | M24: -3
A25: 24 | B25: AA025 | D25: -140 | M25: -140
A26: 25 | B26: AA026 | E26: -1 | M26: -1
A27: 26 | B27: AA027 | E27: -74 | J27: -4 | M27: -78
A28: 27 | B28: AA028 | G28: -35 | K28: -15 | M28: -50
A29: 28 | B29: AA029 | D29: -33 | H29: -1 | M29: -34
A30: 29 | B30: AA030 | D30: -7 | E30: -4 | H30: -4 | M30: -15
A31: 30 | B31: AA031 | H31: -1 | M31: -1
A32: 31 | B32: AA032 | D32: -6 | E32: -9 | F32: -12 | G32: -11 | H32: -21 | J32: -10 | K32: -7 | M32: -76
A33: 34 | B33: AA035 | E33: -5 | F33: -345 | G33: -240 | H33: -150 | J33: -150 | K33: -180 | M33: -1070
A34: 35 | B34: AA036 | F34: -4 | G34: -4 | H34: -1 | J34: -1 | M34: -10
A35: 36 | B35: AA037 | F35: -12 | G35: -2 | H35: -9 | J35: -2 | M35: -25
A36: 37 | B36: AA038 | C36: -2 | M36: -2
A37: 38 | B37: AA039 | D37: -37 | H37: -1 | M37: -38
A38: 39 | B38: AA040 | D38: -1 | M38: -1
A39: 41 | B39: AA042 | H39: -1 | J39: -1 | M39: -2
A40: 42 | B40: AA043 | E40: -7 | G40: -6 | H40: -4 | I40: -4 | J40: -11 | K40: -3 | M40: -35
A41: 44 | B41: AA045 | C41: -3 | D41: -31 | E41: -25 | F41: -125 | G41: -56 | H41: -60 | J41: -66 | K41: -47 | M41: -413
A42: 45 | B42: AA046 | D42: -2 | E42: -12 | F42: -1 | G42: -10 | H42: -5 | J42: -20 | K42: -9 | M42: -59
A43: 46 | B43: AA047 | E43: -2 | F43: -18 | G43: -7 | H43: -3 | J43: -4 | K43: -4 | M43: -38
A44: 47 | B44: AA048 | E44: -10 | H44: -3 | J44: -39 | M44: -52
A45: 48 | B45: AA049 | F45: -6 | J45: -3 | K45: -2 | M45: -11
A46: 49 | B46: AA050 | D46: -1 | E46: -22 | H46: -1 | M46: -24
A47: 50 | B47: AA051 | F47: -14 | G47: -2 | H47: -5 | I47: -6 | J47: -1 | K47: -4 | M47: -32
A48: 51 | B48: AA052 | E48: -11 | M48: -11
A49: 53 | B49: AA054 | E49: -1 | M49: -1
A50: 54 | B50: AA055 | G50: -2 | M50: -2
A51: 55 | B51: AA056 | D51: -40 | M51: -40
A52: 56 | B52: AA057 | D52: -1 | G52: -5 | H52: -1 | M52: -7
A53: 57 | B53: AA058 | E53: -3 | H53: -1 | J53: -6 | M53: -10
A54: 59 | B54: AA060 | E54: -2 | F54: -4 | G54: -1 | K54: -1 | M54: -8
A55: 62 | B55: AA063 | E55: -2 | M55: -2
A56: 63 | B56: AA064 | E56: -1 | H56: -1 | M56: -2
A57: 64 | B57: AA065 | E57: -1 | M57: -1
A58: 66 | B58: AA067 | E58: -2 | F58: -8 | G58: -7 | H58: -10 | K58: -6 | M58: -33
A59: 67 | B59: AA068 | F59: -2 | H59: -1 | K59: -4 | M59: -7
A60: 68 | B60: AA069 | F60: -7 | H60: -2 | K60: -5 | M60: -14
A61: 70 | B61: AA071 | E61: -10 | M61: -10
A62: 72 | B62: AA073 | D62: -2 | F62: -5 | G62: -5 | H62: -4 | I62: -1 | J62: -4 | M62: -21
A63: 73 | B63: AA074 | G63: -1 | K63: -2 | M63: -3
A64: 74 | B64: AA075 | F64: -84 | G64: -120 | H64: -24 | J64: -24 | K64: -36 | M64: -288
A65: 75 | B65: AA076 | C65: -4 | D65: -73 | M65: -77
A66: 76 | B66: AA077 | C66: -6 | D66: -3 | F66: -50 | G66: -24 | J66: -24 | K66: -24 | M66: -131
A67: 77 | B67: AA078 | D67: -1 | E67: -1 | M67: -2
A68: 78 | B68: AA079 | C68: -1 | D68: -7 | E68: -3 | F68: -9 | G68: -8 | H68: -5 | I68: -2 | J68: -3 | K68: -6 | M68: -44
A69: 79 | B69: AA080 | C69: -1 | D69: -8 | E69: -21 | F69: -24 | G69: -26 | H69: -31 | I69: -2 | J69: -16 | K69: -15 | M69: -144
A70: 80 | B70: AA081 | D70: -1 | G70: -2 | J70: -1 | K70: -1 | M70: -5
A71: 81 | B71: AA082 | C71: -1 | F71: -2 | M71: -3
A72: 82 | B72: AA083 | D72: -90 | M72: -90
A73: 83 | B73: AA084 | F73: -400 | G73: -200 | K73: -400 | M73: -1000
A74: 84 | B74: AA085 | F74: -200 | G74: -200 | K74: -200 | M74: -600
A75: 85 | B75: AA086 | J75: -200 | K75: -200 | M75: -400
A76: 86 | B76: AA087 | E76: -500 | H76: -500 | M76: -1000
A77: 87 | B77: AA088 | F77: -2000 | G77: -1000 | H77: -500 | J77: -750 | K77: -750 | M77: -5000
A78: 88 | B78: AA089 | F78: -2500 | G78: -500 | H78: -500 | J78: -500 | M78: -4000
A79: 89 | B79: AA090 | J79: -250 | K79: -250 | M79: -500
A80: 94 | B80: AA095 | D80: -1 | E80: -9 | F80: -33 | G80: -7 | H80: -7 | J80: -11 | K80: -16 | M80: -84
A81: 95 | B81: AA096 | F81: -4 | G81: -5 | H81: -1 | J81: -2 | K81: -3 | M81: -15
A82: 98 | B82: AA099 | F82: -1 | M82: -1
A83: 99 | B83: AA100 | F83: -1 | M83: -1
A84: 100 | B84: AA101 | D84: -1 | G84: -1 | H84: -1 | M84: -3
A85: 101 | B85: AA102 | D85: -8 | F85: -6 | G85: -6 | H85: -4 | K85: -6 | M85: -30
A86: ยอดใช้รวม | C86: -18 | D86: -644 | E86: -776 | F86: -6432 | G86: -2703 | H86: -2029 | I86: -15 | J86: -2153 | K86: -2471 | M86: -17241

Sheet ทเบียนรายการStockหลัก
A1: ทะเบียน Stock A
A2: รหัสStock Card | B2: ประเภทของอุปกรณ์ | C2: รายการ | D2: หน่วยนับ
A3: 1 | B3: Hotfoil | C3: AA002 | D3: ตลับ
A4: 2 | B4: Hotfoil | C4: AA003 | D4: ตลับ
A5: 3 | B5: Hotfoil | C5: AA004 | D5: กระปุก
A6: 4 | B6: Hotfoil | C6: AA005 | D6: กระปุก
A7: 5 | B7: Hotfoil | C7: AA006 | D7: กระปุก
A8: 6 | B8: Hotfoil | C8: AA007 | D8: กระปุก
A9: 7 | B9: Hotfoil | C9: AA008 | D9: Roll
A10: 8 | B10: Hotfoil | C10: AA009 | D10: Roll
A11: 9 | B11: Hotfoil | C11: AA010 | D11: Roll
A12: 10 | B12: Hotfoil | C12: AA011 | D12: Roll
A13: 11 | B13: Hotfoil | C13: AA012 | D13: Roll
A14: 12 | B14: Chemical | C14: AA013 | D14: กล่อง
... A108: 106 | B108: Hotfoil | C108: AA107 | D108: กระปุก
