Workbook
Name ลงยอดเบิกใช้: #REF!
Name ลงยอดเบิกใช้: #REF!

Sheet 1-ลงStockประจำวัน
A1: ลงเบิกจ่าย-รับเข้า Stock Card ประจำวัน
A2: วันที่ทำรายการ | B2: ID | C2: รหัสStock Card | D2: ชื่อรายการ | E2: แผนก | F2: ผู้เบิก/รับเข้า | G2: จำนวน
A3: 42738 | B3: OUT | C3: 1 | D3: =VLOOKUP(C3,ทเบียนรายการStockหลัก!$A$3:$D$108,3,0) -> AA002 | E3: 2.Support | F3: รุ่งโรจน์ | G3: -2
A4: 42738 | B4: OUT | C4: 1 | D4: =VLOOKUP(C4,ทเบียนรายการStockหลัก!$A$3:$D$108,3,0) -> AA002 | E4: 2.Support | F4: รุ่งโรจน์ | G4: -2
A5: 42738 | B5: OUT | C5: 1 | D5: =VLOOKUP(C5,ทเบียนรายการStockหลัก!$A$3:$D$108,3,0) -> AA002 | E5: 2.Support | F5: อรุณ | G5: -2
A6: 42738 | B6: OUT | C6: 8 | D6: =VLOOKUP(C6,ทเบียนรายการStockหลัก!$A$3:$D$108,3,0) -> AA009 | E6: 4.PC Packing | F6: กัลยา | G6: -90
A7: 42738 | B7: OUT | C7: 15 | D7: =VLOOKUP(C7,ทเบียนรายการStockหลัก!$A$3:$D$108,3,0) -> AA016 | E7: 3.PC Process | F7: สมศักดิ์ | G7: -1
A8: 42738 | B8: OUT | C8: 19 | D8: =VLOOKUP(C8,ทเบียนรายการStockหลัก!$A$3:$D$108,3,0) -> AA020 | E8: 2.Support | F8: วชิรา | G8: -2
A9: 42738 | B9: OUT | C9: 28 | D9: =VLOOKUP(C9,ทเบียนรายการStockหลัก!$A$3:$D$108,3,0) -> AA029 | E9: 2.Support | F9: JACKA | G9: -30
A10: 42738 | B10: OUT | C10: 31 | D10: =VLOOKUP(C10,ทเบียนรายการStockหลัก!$A$3:$D$108,3,0) -> AA032 | E10: 2.Support | F10: ปราณี | G10: -1
A11: 42738 | B11: OUT | C11: 31 | D11: =VLOOKUP(C11,ทเบียนรายการStockหลัก!$A$3:$D$108,3,0) -> AA032 | E11: 4.PC Packing | F11: กัลยา | G11: -12
A12: 42738 | B12: OUT | C12: 31 | D12: =VLOOKUP(C12,ทเบียนรายการStockหลัก!$A$3:$D$108,3,0) -> AA032 | E12: 8.Stax | F12: พัธนา | G12: -10
A13: 42738 | B13: OUT | C13: 31 | D13: =VLOOKUP(C13,ทเบียนรายการStockหลัก!$A$3:$D$108,3,0) -> AA032 | E13: 9.Frypack | F13: ยุภา | G13: -7
A14: 42738 | B14: OUT | C14: 31 | D14: =VLOOKUP(C14,ทเบียนรายการStockหลัก!$A$3:$D$108,3,0) -> AA032 | E14: 5.Extrude | F14: มุกดา | G14: -11
... A57: 42738 | B57: OUT | C57: 94 | D57: =VLOOKUP(C57,ทเบียนรายการStockหลัก!$A$3:$D$108,3,0) -> AA095 | E57: 9.Frypack | F57: ศุภชัย | G57: -1
A58: 42739 | B58: IN | C58: 74 | D58: =VLOOKUP(C58,ทเบียนรายการStockหลัก!$A$3:$D$108,3,0) -> AA075 | F58: JACKA | G58: 288
A59: 42739 | B59: IN | C59: 75 | D59: =VLOOKUP(C59,ทเบียนรายการStockหลัก!$A$3:$D$108,3,0) -> AA076 | F59: JACKA | G59: 150
A60: 42739 | B60: IN | C60: 78 | D60: =VLOOKUP(C60,ทเบียนรายการStockหลัก!$A$3:$D$108,3,0) -> AA079 | F60: JACKA | G60: 120
A61: 42739 | B61: IN | C61: 79 | D61: =VLOOKUP(C61,ทเบียนรายการStockหลัก!$A$3:$D$108,3,0) -> AA080 | F61: JACKA | G61: 120
A62: 42739 | B62: OUT | C62: 1 | D62: =VLOOKUP(C62,ทเบียนรายการStockหลัก!$A$3:$D$108,3,0) -> AA002 | E62: 2.Support | F62: อรุณ | G62: -1
A63: 42739 | B63: OUT | C63: 1 | D63: =VLOOKUP(C63,ทเบียนรายการStockหลัก!$A$3:$D$108,3,0) -> AA002 | E63: 2.Support | F63: อรุณ | G63: -2
A64: 42739 | B64: OUT | C64: 14 | D64: =VLOOKUP(C64,ทเบียนรายการStockหลัก!$A$3:$D$108,3,0) -> AA015 | E64: 6.Schaaf&RBS | F64: อรพรรณ | G64: -1
A65: 42739 | B65: OUT | C65: 20 | D65: =VLOOKUP(C65,ทเบียนรายการStockหลัก!$A$3:$D$108,3,0) -> AA021 | E65: 2.Support | F65: ปราณี | G65: -1
A66: 42739 | B66: OUT | C66: 24 | D66: =VLOOKUP(C66,ทเบียนรายการStockหลัก!$A$3:$D$108,3,0) -> AA025 | E66: 2.Support | F66: วชิรา | G66: -10
A67: 42739 | B67: OUT | C67: 24 | D67: =VLOOKUP(C67,ทเบียนรายการStockหลัก!$A$3:$D$108,3,0) -> AA025 | E67: 2.Support | F67: วชิรา | G67: -10
A68: 42739 | B68: OUT | C68: 34 | D68: =VLOOKUP(C68,ทเบียนรายการStockหลัก!$A$3:$D$108,3,0) -> AA035 | E68: 6.Schaaf&RBS | F68: อรพรรณ | G68: -30
A69: 42739 | B69: OUT | C69: 42 | D69: =VLOOKUP(C69,ทเบียนรายการStockหลัก!$A$3:$D$108,3,0) -> AA043 | E69: 8.Stax | F69: อนิรุจน์ | G69: -1
A70: 42739 | B70: OUT | C70: 42 | D70: =VLOOKUP(C70,ทเบียนรายการStockหลัก!$A$3:$D$108,3,0) -> AA043 | E70: 5.Extrude | F70: กิตติพงษ์ | G70: -1
A71: 42739 | B71: OUT | C71: 42 | D71: =VLOOKUP(C71,ทเบียนรายการStockหลัก!$A$3:$D$108,3,0) -> AA043 | E71: 8.Stax | F71: ภัควุฒิ | G71: -1
A72: 42739 | B72: OUT | C72: 44 | D72: =VLOOKUP(C72,ทเบียนรายการStockหลัก!$A$3:$D$108,3,0) -> AA045 | E72: 5.Extrude | F72: บรรจง | G72: -26
A73: 42739 | B73: OUT | C73: 44 | D73: =VLOOKUP(C73,ทเบียนรายการStockหลัก!$A$3:$D$108,3,0) -> AA045 | E73: 2.Support | F73: วีรยุทธ | G73: -7
... A135: 42744 | B135: OUT | C135: 8 | D135: =VLOOKUP(C135,ทเบียนรายการStockหลัก!$A$3:$D$108,3,0) -> AA009 | E135: 4.PC Packing | F135: รณชัย | G135: -60
A136: 42744 | B136: IN | C136: 14 | D136: =VLOOKUP(C136,ทเบียนรายการStockหลัก!$A$3:$D$108,3,0) -> AA015 | F136: สุปรีดา | G136: 8
A137: 42744 | B137: IN | C137: 20 | D137: =VLOOKUP(C137,ทเบียนรายการStockหลัก!$A$3:$D$108,3,0) -> AA021 | F137: สุปรีดา | G137: 3
A138: 42744 | B138: OUT | C138: 34 | D138: =VLOOKUP(C138,ทเบียนรายการStockหลัก!$A$3:$D$108,3,0) -> AA035 | E138: 8.Stax | F138: พัธนา | G138: -30
A139: 42744 | B139: OUT | C139: 34 | D139: =VLOOKUP(C139,ทเบียนรายการStockหลัก!$A$3:$D$108,3,0) -> AA035 | E139: 5.Extrude | F139: นันทิยา | G139: -30
A140: 42744 | B140: OUT | C140: 35 | D140: =VLOOKUP(C140,ทเบียนรายการStockหลัก!$A$3:$D$108,3,0) -> AA036 | E140: 5.Extrude | F140: นันทิยา | G140: -2
A141: 42744 | B141: OUT | C141: 42 | D141: =VLOOKUP(C141,ทเบียนรายการStockหลัก!$A$3:$D$108,3,0) -> AA043 | E141: 3.PC Process | F141: ชาญวิทย์ | G141: -1
A142: 42744 | B142: OUT | C142: 46 | D142: =VLOOKUP(C142,ทเบียนรายการStockหลัก!$A$3:$D$108,3,0) -> AA047 | E142: 5.Extrude | F142: มุกดา | G142: -1
A143: 42744 | B143: OUT | C143: 47 | D143: =VLOOKUP(C143,ทเบียนรายการStockหลัก!$A$3:$D$108,3,0) -> AA048 | E143: 8.Stax | F143: พัธนา | G143: -5
...

Sheet 2-Stock คงเหลือ
A1: Stock คงเหลือหลักสำคัญ Production Support 2017 | G1: =#REF!-#REF! -> #REF! | J1: Update :
G2: สามารถใช้ได้ (เดือน) 1เดือน =20วัน | H2: จำนวนสั่ง | I2: วันที่สั่งของ | J2: กำหนดวันส่งของ | K2: PC | L2: เบิกใช้ | M2: EXTEUDE | N2: เบิกใช้ | O2: SCHAAF | P2: เบิกใช้ | Q2: STAX FRYPACK | R2: เบิกใช้
A3: รหัสStock Card | B3: ชื่อรายการ | C3: หน่วยนับ | D3: ยกยอดปี16 | E3: Movement | F3: คงเหลือ
A4: 1 | B4: =VLOOKUP(A4,ทเบียนรายการStockหลัก!$A$3:$D$108,3,0) -> AA002 | C4: =VLOOKUP(A4,ทเบียนรายการStockหลัก!$A$3:$D$108,4,0) -> ตลับ | D4: 142 | E4: =SUMPRODUCT(--(Table1[รหัสStock Card]='2-Stock คงเหลือ'!A4),Table1[จำนวน]) -> -40 | F4: =SUM(D4:E4) -> 102 | G4: =#REF!/20 -> #REF! | K4: 50 | L4: ='[1]STOCK เบิก '!M4 -> #REF!
A5: 2 | B5: =VLOOKUP(A5,ทเบียนรายการStockหลัก!$A$3:$D$108,3,0) -> AA003 | C5: =VLOOKUP(A5,ทเบียนรายการStockหลัก!$A$3:$D$108,4,0) -> ตลับ | D5: 9 | E5: =SUMPRODUCT(--(Table1[รหัสStock Card]='2-Stock คงเหลือ'!A5),Table1[จำนวน]) -> 0 | F5: =SUM(D5:E5) -> 9 | G5: =#REF!/20 -> #REF! | K5: 100 | L5: ='[1]STOCK เบิก '!M5 -> #REF!
A6: 3 | B6: =VLOOKUP(A6,ทเบียนรายการStockหลัก!$A$3:$D$108,3,0) -> AA004 | C6: =VLOOKUP(A6,ทเบียนรายการStockหลัก!$A$3:$D$108,4,0) -> กระปุก | D6: 2 | E6: =SUMPRODUCT(--(Table1[รหัสStock Card]='2-Stock คงเหลือ'!A6),Table1[จำนวน]) -> 0 | F6: =SUM(D6:E6) -> 2 | G6: =#REF!/20 -> #REF!
A7: 4 | B7: =VLOOKUP(A7,ทเบียนรายการStockหลัก!$A$3:$D$108,3,0) -> AA005 | C7: =VLOOKUP(A7,ทเบียนรายการStockหลัก!$A$3:$D$108,4,0) -> กระปุก | D7: 2 | E7: =SUMPRODUCT(--(Table1[รหัสStock Card]='2-Stock คงเหลือ'!A7),Table1[จำนวน]) -> 0 | F7: =SUM(D7:E7) -> 2 | G7: =#REF!/20 -> #REF! | Q7: 3 | R7: ='[1]STOCK เบิก '!U6 -> #REF!
A8: 5 | B8: =VLOOKUP(A8,ทเบียนรายการStockหลัก!$A$3:$D$108,3,0) -> AA006 | C8: =VLOOKUP(A8,ทเบียนรายการStockหลัก!$A$3:$D$108,4,0) -> กระปุก | D8: 10 | E8: =SUMPRODUCT(--(Table1[รหัสStock Card]='2-Stock คงเหลือ'!A8),Table1[จำนวน]) -> 0 | F8: =SUM(D8:E8) -> 10 | G8: =#REF!/20 -> #REF! | K8: 4 | L8: ='[1]STOCK เบิก '!M7 -> 0 | M8: 2 | N8: ='[1]STOCK เบิก '!O7 -> #REF! | O8: 2 | P8: ='[1]STOCK เบิก '!R7 -> #REF! | Q8: 3 | R8: ='[1]STOCK เบิก '!U7 -> #REF!
A9: 6 | B9: =VLOOKUP(A9,ทเบียนรายการStockหลัก!$A$3:$D$108,3,0) -> AA007 | C9: =VLOOKUP(A9,ทเบียนรายการStockหลัก!$A$3:$D$108,4,0) -> กระปุก | D9: 21 | E9: =SUMPRODUCT(--(Table1[รหัสStock Card]='2-Stock คงเหลือ'!A9),Table1[จำนวน]) -> -2 | F9: =SUM(D9:E9) -> 19 | G9: =#REF!/20 -> #REF! | K9: 4 | L9: ='[1]STOCK เบิก '!M8 -> 0 | M9: 1 | N9: ='[1]STOCK เบิก '!O8 -> #REF! | O9: 1 | P9: ='[1]STOCK เบิก '!R8 -> #REF! | Q9: 1 | R9: ='[1]STOCK เบิก '!U8 -> #REF!
A10: 7 | B10: =VLOOKUP(A10,ทเบียนรายการStockหลัก!$A$3:$D$108,3,0) -> AA008 | C10: =VLOOKUP(A10,ทเบียนรายการStockหลัก!$A$3:$D$108,4,0) -> Roll | D10: 951 | E10: =SUMPRODUCT(--(Table1[รหัสStock Card]='2-Stock คงเหลือ'!A10),Table1[จำนวน]) -> -200 | F10: =SUM(D10:E10) -> 751 | G10: =#REF!/20 -> #REF! | Q10: 15 | R10: ='[1]STOCK เบิก '!U9 -> #REF!
A11: 8 | B11: =VLOOKUP(A11,ทเบียนรายการStockหลัก!$A$3:$D$108,3,0) -> AA009 | C11: =VLOOKUP(A11,ทเบียนรายการStockหลัก!$A$3:$D$108,4,0) -> Roll | D11: 300 | E11: =SUMPRODUCT(--(Table1[รหัสStock Card]='2-Stock คงเหลือ'!A11),Table1[จำนวน]) -> -210 | F11: =SUM(D11:E11) -> 90 | G11: =#REF!/20 -> #REF! | K11: 800 | L11: ='[1]STOCK เบิก '!M10 -> 160 | M11: 250 | N11: ='[1]STOCK เบิก '!O10 -> #REF! | O11: 250 | P11: ='[1]STOCK เบิก '!R10 -> #REF! | Q11: 300 | R11: ='[1]STOCK เบิก '!U10 -> #REF!
A12: 9 | B12: =VLOOKUP(A12,ทเบียนรายการStockหลัก!$A$3:$D$108,3,0) -> AA010 | C12: =VLOOKUP(A12,ทเบียนรายการStockหลัก!$A$3:$D$108,4,0) -> Roll | D12: 556 | E12: =SUMPRODUCT(--(Table1[รหัสStock Card]='2-Stock คงเหลือ'!A12),Table1[จำนวน]) -> 0 | F12: =SUM(D12:E12) -> 556 | G12: =#REF!/20 -> #REF! | K12: 100 | L12: ='[1]STOCK เบิก '!M11 -> 0 | M12: 0 | N12: ='[1]STOCK เบิก '!O11 -> #REF! | O12: 0 | P12: ='[1]STOCK เบิก '!R11 -> #REF! | Q12: 0 | R12: ='[1]STOCK เบิก '!U11 -> #REF!
A13: 10 | B13: =VLOOKUP(A13,ทเบียนรายการStockหลัก!$A$3:$D$108,3,0) -> AA011 | C13: =VLOOKUP(A13,ทเบียนรายการStockหลัก!$A$3:$D$108,4,0) -> Roll | D13: 480 | E13: =SUMPRODUCT(--(Table1[รหัสStock Card]='2-Stock คงเหลือ'!A13),Table1[จำนวน]) -> -60 | F13: =SUM(D13:E13) -> 420 | G13: =#REF!/20 -> #REF! | K13: 5 | L13: ='[1]STOCK เบิก '!M12 -> 0 | M13: 0 | N13: ='[1]STOCK เบิก '!O12 -> #REF! | O13: 0 | P13: ='[1]STOCK เบิก '!R12 -> #REF! | Q13: 0 | R13: ='[1]STOCK เบิก '!U12 -> #REF!
A14: 11 | B14: =VLOOKUP(A14,ทเบียนรายการStockหลัก!$A$3:$D$108,3,0) -> AA012 | C14: =VLOOKUP(A14,ทเบียนรายการStockหลัก!$A$3:$D$108,4,0) -> Roll | D14: 65 | E14: =SUMPRODUCT(--(Table1[รหัสStock Card]='2-Stock คงเหลือ'!A14),Table1[จำนวน]) -> -10 | F14: =SUM(D14:E14) -> 55 | G14: =#REF!/20 -> #REF! | K14: 10 | L14: ='[1]STOCK เบิก '!M13 -> 0 | M14: 0 | N14: ='[1]STOCK เบิก '!O13 -> #REF! | O14: 0 | P14: ='[1]STOCK เบิก '!R13 -> #REF! | Q14: 3 | R14: ='[1]STOCK เบิก '!U13 -> #REF!
A15: 12 | B15: =VLOOKUP(A15,ทเบียนรายการStockหลัก!$A$3:$D$108,3,0) -> AA013 | C15: =VLOOKUP(A15,ทเบียนรายการStockหลัก!$A$3:$D$108,4,0) -> กล่อง | D15: 7 | E15: =SUMPRODUCT(--(Table1[รหัสStock Card]='2-Stock คงเหลือ'!A15),Table1[จำนวน]) -> -3 | F15: =SUM(D15:E15) -> 4 | G15: =#REF!/20 -> #REF! | K15: 50 | L15: ='[1]STOCK เบิก '!M14 -> 0 | M15: 2 | N15: ='[1]STOCK เบิก '!O14 -> #REF! | O15: 2 | P15: ='[1]STOCK เบิก '!R14 -> #REF! | Q15: 4 | R15: ='[1]STOCK เบิก '!U14 -> #REF!
A16: 13 | B16: =VLOOKUP(A16,ทเบียนรายการStockหลัก!$A$3:$D$108,3,0) -> AA014 | C16: =VLOOKUP(A16,ทเบียนรายการStockหลัก!$A$3:$D$108,4,0) -> แกลลอนด์ | D16: 12 | E16: =SUMPRODUCT(--(Table1[รหัสStock Card]='2-Stock คงเหลือ'!A16),Table1[จำนวน]) -> -2 | F16: =SUM(D16:E16) -> 10 | G16: =#REF!/20 -> #REF! | K16: 300 | L16: ='[1]STOCK เบิก '!M15 -> 50 | M16: 100 | N16: ='[1]STOCK เบิก '!O15 -> #REF! | O16: 100 | P16: ='[1]STOCK เบิก '!R15 -> #REF! | Q16: 160 | R16: ='[1]STOCK เบิก '!U15 -> #REF!
A17: 14 | B17: =VLOOKUP(A17,ทเบียนรายการStockหลัก!$A$3:$D$108,3,0) -> AA015 | C17: =VLOOKUP(A17,ทเบียนรายการStockหลัก!$A$3:$D$108,4,0) -> แกลลอนด์ | D17: 6 | E17: =SUMPRODUCT(--(Table1[รหัสStock Card]='2-Stock คงเหลือ'!A17),Table1[จำนวน]) -> 14 | F17: =SUM(D17:E17) -> 20 | G17: =#REF!/20 -> #REF! | K17: 59 | L17: ='[1]STOCK เบิก '!M16 -> 7 | M17: 17 | N17: ='[1]STOCK เบิก '!O16 -> #REF! | O17: 17 | P17: ='[1]STOCK เบิก '!R16 -> #REF! | Q17: 25 | R17: ='[1]STOCK เบิก '!U16 -> #REF!
A18: 15 | B18: =VLOOKUP(A18,ทเบียนรายการStockหลัก!$A$3:$D$108,3,0) -> AA016 | C18: =VLOOKUP(A18,ทเบียนรายการStockหลัก!$A$3:$D$108,4,0) -> แกลลอนด์ | D18: 7 | E18: =SUMPRODUCT(--(Table1[รหัสStock Card]='2-Stock คงเหลือ'!A18),Table1[จำนวน]) -> 1 | F18: =SUM(D18:E18) -> 8 | G18: =#REF!/20 -> #REF! | K18: 55 | L18: ='[1]STOCK เบิก '!M17 -> 0 | M18: 0 | N18: ='[1]STOCK เบิก '!O17 -> #REF! | O18: 0 | P18: ='[1]STOCK เบิก '!R17 -> #REF! | Q18: 54 | R18: ='[1]STOCK เบิก '!U17 -> #REF!
A19: 16 | B19: =VLOOKUP(A19,ทเบียนรายการStockหลัก!$A$3:$D$108,3,0) -> AA017 | C19: =VLOOKUP(A19,ทเบียนรายการStockหลัก!$A$3:$D$108,4,0) -> แกลลอนด์ | D19: 17 | E19: =SUMPRODUCT(--(Table1[รหัสStock Card]='2-Stock คงเหลือ'!A19),Table1[จำนวน]) -> -1 | F19: =SUM(D19:E19) -> 16 | G19: =#REF!/20 -> #REF! | K19: 10 | L19: ='[1]STOCK เบิก '!M18 -> 0 | M19: 5 | N19: ='[1]STOCK เบิก '!O18 -> #REF! | O19: 5 | P19: ='[1]STOCK เบิก '!R18 -> #REF! | Q19: 20 | R19: ='[1]STOCK เบิก '!U18 -> #REF!
A20: 17 | B20: =VLOOKUP(A20,ทเบียนรายการStockหลัก!$A$3:$D$108,3,0) -> AA018 | C20: =VLOOKUP(A20,ทเบียนรายการStockหลัก!$A$3:$D$108,4,0) -> แกลลอนด์ | D20: 31 | E20: =SUMPRODUCT(--(Table1[รหัสStock Card]='2-Stock คงเหลือ'!A20),Table1[จำนวน]) -> -12 | F20: =SUM(D20:E20) -> 19 | G20: =#REF!/20 -> #REF! | K20: 20 | L20: ='[1]STOCK เบิก '!M19 -> 0 | M20: 11 | N20: ='[1]STOCK เบิก '!O19 -> #REF! | O20: 11 | P20: ='[1]STOCK เบิก '!R19 -> #REF! | Q20: 20 | R20: ='[1]STOCK เบิก '!U19 -> #REF!
A21: 18 | B21: =VLOOKUP(A21,ทเบียนรายการStockหลัก!$A$3:$D$108,3,0) -> AA019 | C21: =VLOOKUP(A21,ทเบียนรายการStockหลัก!$A$3:$D$108,4,0) -> ถัง | D21: 13 | E21: =SUMPRODUCT(--(Table1[รหัสStock Card]='2-Stock คงเหลือ'!A21),Table1[จำนวน]) -> -2 | F21: =SUM(D21:E21) -> 11 | G21: =#REF!/20 -> #REF! | K21: 20 | L21: ='[1]STOCK เบิก '!M20 -> 15 | M21: 11 | N21: ='[1]STOCK เบิก '!O20 -> #REF! | O21: 11 | P21: ='[1]STOCK เบิก '!R20 -> #REF! | Q21: 20 | R21: ='[1]STOCK เบิก '!U20 -> #REF!
A22: 19 | B22: =VLOOKUP(A22,ทเบียนรายการStockหลัก!$A$3:$D$108,3,0) -> AA020 | C22: =VLOOKUP(A22,ทเบียนรายการStockหลัก!$A$3:$D$108,4,0) -> ถุง | D22: 7 | E22: =SUMPRODUCT(--(Table1[รหัสStock Card]='2-Stock คงเหลือ'!A22),Table1[จำนวน]) -> -8 | F22: =SUM(D22:E22) -> -1 | G22: =#REF!/20 -> #REF! | K22: 10 | L22: ='[1]STOCK เบิก '!M21 -> 0 | M22: 5 | N22: ='[1]STOCK เบิก '!O21 -> #REF! | O22: 5 | P22: ='[1]STOCK เบิก '!R21 -> #REF! | Q22: 5 | R22: ='[1]STOCK เบิก '!U21 -> #REF!
... A30: 27 | B30: =VLOOKUP(A30,ทเบียนรายการStockหลัก!$A$3:$D$108,3,0) -> AA028 | C30: =VLOOKUP(A30,ทเบียนรายการStockหลัก!$A$3:$D$108,4,0) -> เมตร | D30: 135 | E30: =SUMPRODUCT(--(Table1[รหัสStock Card]='2-Stock คงเหลือ'!A30),Table1[จำนวน]) -> 0 | F30: =SUM(D30:E30) -> 135 | G30: =#REF!/20 -> #REF! | K30: 120 | L30: ='[1]STOCK เบิก '!M29 -> 0 | M30: 30 | N30: ='[1]STOCK เบิก '!O29 -> #REF! | O30: 30 | P30: ='[1]STOCK เบิก '!R29 -> #REF! | Q30: 30 | R30: ='[1]STOCK เบิก '!U29 -> #REF!
A31: 28 | B31: =VLOOKUP(A31,ทเบียนรายการStockหลัก!$A$3:$D$108,3,0) -> AA029 | C31: =VLOOKUP(A31,ทเบียนรายการStockหลัก!$A$3:$D$108,4,0) -> ด้าม | D31: 50 | E31: =SUMPRODUCT(--(Table1[รหัสStock Card]='2-Stock คงเหลือ'!A31),Table1[จำนวน]) -> -30 | F31: =SUM(D31:E31) -> 20 | G31: =#REF!/20 -> #REF! | K31: =24*16 -> 384 | L31: ='[1]STOCK เบิก '!M30 -> 24 | M31: 180 | N31: ='[1]STOCK เบิก '!O30 -> #REF! | O31: 180 | P31: ='[1]STOCK เบิก '!R30 -> #REF! | Q31: =24*3 -> 72 | R31: ='[1]STOCK เบิก '!U30 -> #REF!
A32: 29 | B32: =VLOOKUP(A32,ทเบียนรายการStockหลัก!$A$3:$D$108,3,0) -> AA030 | C32: =VLOOKUP(A32,ทเบียนรายการStockหลัก!$A$3:$D$108,4,0) -> ด้าม | D32: 21 | E32: =SUMPRODUCT(--(Table1[รหัสStock Card]='2-Stock คงเหลือ'!A32),Table1[จำนวน]) -> 0 | F32: =SUM(D32:E32) -> 21 | G32: =#REF!/20 -> #REF! | K32: 15 | L32: ='[1]STOCK เบิก '!M31 -> 0 | M32: 5 | N32: ='[1]STOCK เบิก '!O31 -> #REF! | O32: 5 | P32: ='[1]STOCK เบิก '!R31 -> #REF! | Q32: 10 | R32: ='[1]STOCK เบิก '!U31 -> #REF!
A33: 30 | B33: =VLOOKUP(A33,ทเบียนรายการStockหลัก!$A$3:$D$108,3,0) -> AA031 | C33: =VLOOKUP(A33,ทเบียนรายการStockหลัก!$A$3:$D$108,4,0) -> ด้าม | D33: 10 | E33: =SUMPRODUCT(--(Table1[รหัสStock Card]='2-Stock คงเหลือ'!A33),Table1[จำนวน]) -> 0 | F33: =SUM(D33:E33) -> 10 | G33: =#REF!/20 -> #REF! | K33: 40 | L33: ='[1]STOCK เบิก '!M32 -> 0 | M33: 10 | N33: ='[1]STOCK เบิก '!O32 -> #REF! | O33: 10 | P33: ='[1]STOCK เบิก '!R32 -> #REF! | Q33: 10 | R33: ='[1]STOCK เบิก '!U32 -> #REF!
A34: 31 | B34: =VLOOKUP(A34,ทเบียนรายการStockหลัก!$A$3:$D$108,3,0) -> AA032 | C34: =VLOOKUP(A34,ทเบียนรายการStockหลัก!$A$3:$D$108,4,0) -> ด้าม | D34: 76 | E34: =SUMPRODUCT(--(Table1[รหัสStock Card]='2-Stock คงเหลือ'!A34),Table1[จำนวน]) -> -63 | F34: =SUM(D34:E34) -> 13 | G34: =#REF!/20 -> #REF! | K34: 0 | L34: ='[1]STOCK เบิก '!M33 -> 0 | M34: 2 | N34: ='[1]STOCK เบิก '!O33 -> #REF! | O34: 0 | P34: ='[1]STOCK เบิก '!R33 -> #REF! | Q34: 0 | R34: ='[1]STOCK เบิก '!U33 -> #REF!
A35: 32 | B35: =VLOOKUP(A35,ทเบียนรายการStockหลัก!$A$3:$D$108,3,0) -> AA033 | C35: =VLOOKUP(A35,ทเบียนรายการStockหลัก!$A$3:$D$108,4,0) -> ด้าม | D35: 0 | E35: =SUMPRODUCT(--(Table1[รหัสStock Card]='2-Stock คงเหลือ'!A35),Table1[จำนวน]) -> 0 | F35: =SUM(D35:E35) -> 0 | G35: =#REF!/20 -> #REF! | K35: 15 | L35: 0 | M35: 5 | N35: Gropping | O35: 5 | P35: ต้องการต่อเดือน | Q35: 7 | R35: 0
A36: 33 | B36: =VLOOKUP(A36,ทเบียนรายการStockหลัก!$A$3:$D$108,3,0) -> AA034 | C36: =VLOOKUP(A36,ทเบียนรายการStockหลัก!$A$3:$D$108,4,0) -> ด้าม | D36: 1 | E36: =SUMPRODUCT(--(Table1[รหัสStock Card]='2-Stock คงเหลือ'!A36),Table1[จำนวน]) -> 0 | F36: =SUM(D36:E36) -> 1 | G36: =#REF!/20 -> #REF! | K36: 30 | L36: Waterbasde Ink ; Midnight Black : หมึกยิงวันที่ | M36: 10 | N36: 0 | O36: 13 | P36: 0 | Q36: 15 | R36: 0
A37: 34 | B37: =VLOOKUP(A37,ทเบียนรายการStockหลัก!$A$3:$D$108,3,0) -> AA035 | C37: =VLOOKUP(A37,ทเบียนรายการStockหลัก!$A$3:$D$108,4,0) -> Kg. | D37: 1785 | E37: =SUMPRODUCT(--(Table1[รหัสStock Card]='2-Stock คงเหลือ'!A37),Table1[จำนวน]) -> -455 | F37: =SUM(D37:E37) -> 1330 | G37: =#REF!/20 -> #REF! | K37: 15 | L37: INK 42 ML,Black(Cartridge):ตลับหมึกปริ้นวันที่ข้างกล่อง | M37: 5 | N37: 0 | O37: 5 | P37: 0 | Q37: 5 | R37: 0
A38: 35 | B38: =VLOOKUP(A38,ทเบียนรายการStockหลัก!$A$3:$D$108,3,0) -> AA036 | C38: =VLOOKUP(A38,ทเบียนรายการStockหลัก!$A$3:$D$108,4,0) -> กระป๋อง | D38: 31 | E38: =SUMPRODUCT(--(Table1[รหัสStock Card]='2-Stock คงเหลือ'!A38),Table1[จำนวน]) -> -4 | F38: =SUM(D38:E38) -> 27 | G38: =#REF!/20 -> #REF! | K38: 25 | L38: Ink Stax DMP - 21 R899 : BK IR 899 BK INK | M38: 10 | N38: 0 | O38: 10 | P38: 0 | Q38: 10 | R38: 0
A39: 36 | B39: =VLOOKUP(A39,ทเบียนรายการStockหลัก!$A$3:$D$108,3,0) -> AA037 | C39: =VLOOKUP(A39,ทเบียนรายการStockหลัก!$A$3:$D$108,4,0) -> ด้าม | D39: 74 | E39: =SUMPRODUCT(--(Table1[รหัสStock Card]='2-Stock คงเหลือ'!A39),Table1[จำนวน]) -> -9 | F39: =SUM(D39:E39) -> 65 | G39: =#REF!/20 -> #REF! | K39: 15 | L39: WL-800 WASH BATH : น้ำยาล้างหัวยิงวันที่ | M39: 8 | N39: 0 | O39: 8 | P39: 0 | Q39: 10 | R39: 0
A40: 37 | B40: =VLOOKUP(A40,ทเบียนรายการStockหลัก!$A$3:$D$108,3,0) -> AA038 | C40: =VLOOKUP(A40,ทเบียนรายการStockหลัก!$A$3:$D$108,4,0) -> Pack | D40: 6 | E40: =SUMPRODUCT(--(Table1[รหัสStock Card]='2-Stock คงเหลือ'!A40),Table1[จำนวน]) -> 0 | F40: =SUM(D40:E40) -> 6 | G40: =#REF!/20 -> #REF! | K40: 30 | L40: MC 899BK Make up Catridge : น้ำยาเติมหมึก | M40: 0 | N40: 0 | O40: 0 | P40: 0 | Q40: 0 | R40: 0
A41: 38 | B41: =VLOOKUP(A41,ทเบียนรายการStockหลัก!$A$3:$D$108,3,0) -> AA039 | C41: =VLOOKUP(A41,ทเบียนรายการStockหลัก!$A$3:$D$108,4,0) -> ผืน | D41: 42 | E41: =SUMPRODUCT(--(Table1[รหัสStock Card]='2-Stock คงเหลือ'!A41),Table1[จำนวน]) -> -22 | F41: =SUM(D41:E41) -> 20 | G41: =#REF!/20 -> #REF! | K41: 12 | L41: Industrial detergent 25 Kg. : ผงขัดพื้น | M41: 4 | N41: 0 | O41: 6 | P41: 0 | Q41: 6 | R41: 0
A42: 39 | B42: =VLOOKUP(A42,ทเบียนรายการStockหลัก!$A$3:$D$108,3,0) -> AA040 | C42: =VLOOKUP(A42,ทเบียนรายการStockหลัก!$A$3:$D$108,4,0) -> PCS. | D42: 3 | E42: =SUMPRODUCT(--(Table1[รหัสStock Card]='2-Stock คงเหลือ'!A42),Table1[จำนวน]) -> 0 | F42: =SUM(D42:E42) -> 3 | G42: =#REF!/20 -> #REF! | K42: 30 | L42: Alcohol Food Grade 70% 20 ลิตร | M42: 10 | N42: 0 | O42: 10 | P42: 0 | Q42: 15 | R42: 0
A43: 40 | B43: =VLOOKUP(A43,ทเบียนรายการStockหลัก!$A$3:$D$108,3,0) -> AA041 | C43: =VLOOKUP(A43,ทเบียนรายการStockหลัก!$A$3:$D$108,4,0) -> แกลลอนด์ | D43: 18 | E43: =SUMPRODUCT(--(Table1[รหัสStock Card]='2-Stock คงเหลือ'!A43),Table1[จำนวน]) -> 0 | F43: =SUM(D43:E43) -> 18 | G43: =#REF!/20 -> #REF! | K43: 12 | L43: Dishwashing-Liquid, FRESH 90 : TOPAX 75 30 kg. | M43: 4 | N43: 0 | O43: 4 | P43: 0 | Q43: 6 | R43: 0
A44: 41 | B44: =VLOOKUP(A44,ทเบียนรายการStockหลัก!$A$3:$D$108,3,0) -> AA042 | C44: =VLOOKUP(A44,ทเบียนรายการStockหลัก!$A$3:$D$108,4,0) -> PCS. | D44: 14 | E44: =SUMPRODUCT(--(Table1[รหัสStock Card]='2-Stock คงเหลือ'!A44),Table1[จำนวน]) -> -1 | F44: =SUM(D44:E44) -> 13 | G44: =#REF!/20 -> #REF! | K44: 12 | L44: SHC Extreme II-30 : เอ็กซ์ตรีม ทู 30 40 kg. | M44: 4 | N44: 0 | O44: 4 | P44: 0 | Q44: 6 | R44: 0
A45: 42 | B45: =VLOOKUP(A45,ทเบียนรายการStockหลัก!$A$3:$D$108,3,0) -> AA043 | C45: =VLOOKUP(A45,ทเบียนรายการStockหลัก!$A$3:$D$108,4,0) -> PCS. | D45: 42 | E45: =SUMPRODUCT(--(Table1[รหัสStock Card]='2-Stock คงเหลือ'!A45),Table1[จำนวน]) -> -16 | F45: =SUM(D45:E45) -> 26 | G45: =#REF!/20 -> #REF! | K45: 30 | L45: TOPAX 56 35 kg. | M45: 0 | N45: 0 | O45: 0 | P45: 0 | Q45: 0 | R45: 0
A46: 43 | B46: =VLOOKUP(A46,ทเบียนรายการStockหลัก!$A$3:$D$108,3,0) -> AA044 | C46: =VLOOKUP(A46,ทเบียนรายการStockหลัก!$A$3:$D$108,4,0) -> PCS. | D46: 63 | E46: =SUMPRODUCT(--(Table1[รหัสStock Card]='2-Stock คงเหลือ'!A46),Table1[จำนวน]) -> 0 | F46: =SUM(D46:E46) -> 63 | G46: =#REF!/20 -> #REF! | K46: 30 | L46: MIP LIQUID 45 Kg. (ถังเล็ก) | M46: 10 | N46: 0 | O46: 10 | P46: 0 | Q46: 15 | R46: 0
A47: 44 | B47: =VLOOKUP(A47,ทเบียนรายการStockหลัก!$A$3:$D$108,3,0) -> AA045 | C47: =VLOOKUP(A47,ทเบียนรายการStockหลัก!$A$3:$D$108,4,0) -> Pack | D47: 393 | E47: =SUMPRODUCT(--(Table1[รหัสStock Card]='2-Stock คงเหลือ'!A47),Table1[จำนวน]) -> -113 | F47: =SUM(D47:E47) -> 280 | G47: =#REF!/20 -> #REF! | K47: 20 | L47: Defoamer 193 KG.ต่อ 1 ถัง | M47: 10 | N47: 0 | O47: 10 | P47: 0 | Q47: 10 | R47: 0
...

Sheet Line
A1: 1.Production | C1: IN
A2: 2.Support | C2: OUT
A3: 3.PC Process
A4: 4.PC Packing
A5: 5.Extrude
A6: 6.Schaaf&RBS
A7: 7.Pellet line
A8: 8.Stax
A9: 9.Frypack
A10: 10.OC
A11: Monpower
A12: 12.RM ยืม
A13: 13.QC ยืม
A14: 14.CR ยืม
... A17: 17.ส่งคืนจากยืม

Sheet ยอดเบิก
A1: วันที่ทำรายการ | B1: (All)
A2: Months | B2: Jan | C2: สรุปยอดเบิกใช้ประจำเดือน
A3: Years | B3: 2017
A4: ID | B4: OUT
A6: Sum of จำนวน | C6: แผนก
A7: รหัสStock Card | B7: ชื่อรายการ | C7: 1.Production | D7: 2.Support | E7: 3.PC Process | F7: 4.PC Packing | G7: 5.Extrude | H7: 6.Schaaf&RBS | I7: 7.Pellet line | J7: 8.Stax | K7: 9.Frypack | L7: Monpower | M7: ยอดใช้รวม
A8: 1 | B8: AA002 | D8: -105 | M8: -105
A9: 5 | B9: AA006 | J9: -1 | M9: -1
A10: 6 | B10: AA007 | J10: -3 | M10: -3
A11: 7 | B11: AA008 | G11: -200 | H11: -160 | J11: -40 | K11: -271 | M11: -671
A12: 8 | B12: AA009 | F12: -300 | M12: -300
A13: 10 | B13: AA011 | F13: -255 | M13: -255
A14: 11 | B14: AA012 | D14: -20 | M14: -20
A15: 12 | B15: AA013 | E15: -3 | G15: -1 | J15: -1 | M15: -5
A16: 13 | B16: AA014 | D16: -10 | H16: -1 | M16: -11
A17: 14 | B17: AA015 | E17: -2 | G17: -4 | H17: -4 | J17: -3 | M17: -13
A18: 15 | B18: AA016 | E18: -9 | M18: -9
A19: 16 | B19: AA017 | E19: -3 | M19: -3
A20: 17 | B20: AA018 | E20: -19 | G20: -2 | H20: -1 | J20: -2 | K20: -4 | M20: -28
A21: 18 | B21: AA019 | E21: -2 | M21: -2
A22: 19 | B22: AA020 | D22: -12 | M22: -12
A23: 20 | B23: AA021 | D23: -3 | M23: -3
A24: 23 | B24: AA024 | G24: -3 | M24: -3
A25: 24 | B25: AA025 | D25: -140 | M25: -140
A26: 25 | B26: AA026 | E26: -1 | M26: -1
A27: 26 | B27: AA027 | E27: -74 | J27: -4 | M27: -78
A28: 27 | B28: AA028 | G28: -35 | K28: -15 | M28: -50
A29: 28 | B29: AA029 | D29: -33 | H29: -1 | M29: -34
A30: 29 | B30: AA030 | D30: -7 | E30: -4 | H30: -4 | M30: -15
A31: 30 | B31: AA031 | H31: -1 | M31: -1
A32: 31 | B32: AA032 | D32: -6 | E32: -9 | F32: -12 | G32: -11 | H32: -21 | J32: -10 | K32: -7 | M32: -76
A33: 34 | B33: AA035 | E33: -5 | F33: -345 | G33: -240 | H33: -150 | J33: -150 | K33: -180 | M33: -1070
A34: 35 | B34: AA036 | F34: -4 | G34: -4 | H34: -1 | J34: -1 | M34: -10
A35: 36 | B35: AA037 | F35: -12 | G35: -2 | H35: -9 | J35: -2 | M35: -25
A36: 37 | B36: AA038 | C36: -2 | M36: -2
A37: 38 | B37: AA039 | D37: -37 | H37: -1 | M37: -38
A38: 39 | B38: AA040 | D38: -1 | M38: -1
A39: 41 | B39: AA042 | H39: -1 | J39: -1 | M39: -2
A40: 42 | B40: AA043 | E40: -7 | G40: -6 | H40: -4 | I40: -4 | J40: -11 | K40: -3 | M40: -35
A41: 44 | B41: AA045 | C41: -3 | D41: -31 | E41: -25 | F41: -125 | G41: -56 | H41: -60 | J41: -66 | K41: -47 | M41: -413
...

Sheet ทเบียนรายการStockหลัก
A1: ทะเบียน Stock A
A2: รหัสStock Card | B2: ประเภทของอุปกรณ์ | C2: รายการ | D2: หน่วยนับ
A3: 1 | B3: Hotfoil | C3: AA002 | D3: ตลับ
A4: 2 | B4: Hotfoil | C4: AA003 | D4: ตลับ
A5: 3 | B5: Hotfoil | C5: AA004 | D5: กระปุก
A6: 4 | B6: Hotfoil | C6: AA005 | D6: กระปุก
A7: 5 | B7: Hotfoil | C7: AA006 | D7: กระปุก
A8: 6 | B8: Hotfoil | C8: AA007 | D8: กระปุก
A9: 7 | B9: Hotfoil | C9: AA008 | D9: Roll
A10: 8 | B10: Hotfoil | C10: AA009 | D10: Roll
A11: 9 | B11: Hotfoil | C11: AA010 | D11: Roll
A12: 10 | B12: Hotfoil | C12: AA011 | D12: Roll
A13: 11 | B13: Hotfoil | C13: AA012 | D13: Roll
A14: 12 | B14: Chemical | C14: AA013 | D14: กล่อง
... A108: 106 | B108: Hotfoil | C108: AA107 | D108: กระปุก
