Workbook

Sheet 1
A1: OHO Daily Sales Report as of July 1, 2011
B3: OHO Jok (Sachet) | H3: Total | J3: OHO Jok (Cup) | P3: Total | R3: Total Market
A4: Customer | B4: Pork | D4: Chicken | F4: Seaweed | H4: Sachet | J4: Pork | L4: Chicken | N4: Seaweed | P4: Cup
B5: Cases | C5: Bht. | D5: Cases | E5: Bht. | F5: Cases | G5: Bht. | H5: Cases | I5: Bht. | J5: Cases | K5: Bht. | L5: Cases | M5: Bht. | N5: Cases | O5: Bht. | P5: Cases | Q5: Bht. | R5: Cases | S5: Bht.
A6: 1. The Mall Group | C6: =VLOOKUP($A$6:$A$15,Data!$A$6:$E$16,3,TRUE)*B6 -> 0 | E6: =VLOOKUP($A$6:$A$15,Data!$A$6:$E$16,3,TRUE)*D6 -> 0 | G6: =VLOOKUP($A$6:$A$15,Data!$A$6:$E$16,3,TRUE)*F6 -> 0 | H6: =B6+D6+F6 -> 0 | I6: =C6+E6+G6 -> 0 | K6: =VLOOKUP($A$6:$A$13,Data!$A$6:$E$16,5,TRUE)*J6 -> 0 | M6: =VLOOKUP($A$6:$A$13,Data!$A$6:$E$16,5,TRUE)*L6 -> 0 | O6: =VLOOKUP($A$6:$A$13,Data!$A$6:$E$16,5,TRUE)*N6 -> 0 | P6: =J6+L6+N6 -> 0 | Q6: =K6+M6+O6 -> 0 | R6: =B6+D6+F6+J6+L6+N6 -> 0 | S6: =C6+E6+G6+K6+M6+O6 -> 0
A7: 2. Lotus Express | C7: =VLOOKUP($A$6:$A$15,Data!$A$6:$E$16,3,TRUE)*B7 -> 0 | E7: =VLOOKUP($A$6:$A$15,Data!$A$6:$E$16,3,TRUE)*D7 -> 0 | G7: =VLOOKUP($A$6:$A$15,Data!$A$6:$E$16,3,TRUE)*F7 -> 0 | H7: =B7+D7+F7 -> 0 | I7: =C7+E7+G7 -> 0 | K7: =VLOOKUP($A$6:$A$13,Data!$A$6:$E$16,5,TRUE)*J7 -> 0 | M7: =VLOOKUP($A$6:$A$13,Data!$A$6:$E$16,5,TRUE)*L7 -> 0 | O7: =VLOOKUP($A$6:$A$13,Data!$A$6:$E$16,5,TRUE)*N7 -> 0 | P7: =J7+L7+N7 -> 0 | Q7: =K7+M7+O7 -> 0 | R7: =B7+D7+F7+J7+L7+N7 -> 0 | S7: =C7+E7+G7+K7+M7+O7 -> 0
A8: 3. Tesco Lotus | C8: =VLOOKUP($A$6:$A$15,Data!$A$6:$E$16,3,TRUE)*B8 -> 0 | E8: =VLOOKUP($A$6:$A$15,Data!$A$6:$E$16,3,TRUE)*D8 -> 0 | G8: =VLOOKUP($A$6:$A$15,Data!$A$6:$E$16,3,TRUE)*F8 -> 0 | H8: =B8+D8+F8 -> 0 | I8: =C8+E8+G8 -> 0 | K8: =VLOOKUP($A$6:$A$13,Data!$A$6:$E$16,5,TRUE)*J8 -> 0 | M8: =VLOOKUP($A$6:$A$13,Data!$A$6:$E$16,5,TRUE)*L8 -> 0 | O8: =VLOOKUP($A$6:$A$13,Data!$A$6:$E$16,5,TRUE)*N8 -> 0 | P8: =J8+L8+N8 -> 0 | Q8: =K8+M8+O8 -> 0 | R8: =B8+D8+F8+J8+L8+N8 -> 0 | S8: =C8+E8+G8+K8+M8+O8 -> 0
A9: 4. Tarad Lotus | C9: =VLOOKUP($A$6:$A$15,Data!$A$6:$E$16,3,TRUE)*B9 -> 0 | E9: =VLOOKUP($A$6:$A$15,Data!$A$6:$E$16,3,TRUE)*D9 -> 0 | G9: =VLOOKUP($A$6:$A$15,Data!$A$6:$E$16,3,TRUE)*F9 -> 0 | H9: =B9+D9+F9 -> 0 | I9: =C9+E9+G9 -> 0 | K9: =VLOOKUP($A$6:$A$13,Data!$A$6:$E$16,5,TRUE)*J9 -> 0 | M9: =VLOOKUP($A$6:$A$13,Data!$A$6:$E$16,5,TRUE)*L9 -> 0 | O9: =VLOOKUP($A$6:$A$13,Data!$A$6:$E$16,5,TRUE)*N9 -> 0 | P9: =J9+L9+N9 -> 0 | Q9: =K9+M9+O9 -> 0 | R9: =B9+D9+F9+J9+L9+N9 -> 0 | S9: =C9+E9+G9+K9+M9+O9 -> 0
A10: 5. BigC Supercenter | C10: =VLOOKUP($A$6:$A$15,Data!$A$6:$E$16,3,TRUE)*B10 -> 0 | E10: =VLOOKUP($A$6:$A$15,Data!$A$6:$E$16,3,TRUE)*D10 -> 0 | G10: =VLOOKUP($A$6:$A$15,Data!$A$6:$E$16,3,TRUE)*F10 -> 0 | H10: =B10+D10+F10 -> 0 | I10: =C10+E10+G10 -> 0 | K10: =VLOOKUP($A$6:$A$13,Data!$A$6:$E$16,5,TRUE)*J10 -> 0 | M10: =VLOOKUP($A$6:$A$13,Data!$A$6:$E$16,5,TRUE)*L10 -> 0 | O10: =VLOOKUP($A$6:$A$13,Data!$A$6:$E$16,5,TRUE)*N10 -> 0 | P10: =J10+L10+N10 -> 0 | Q10: =K10+M10+O10 -> 0 | R10: =B10+D10+F10+J10+L10+N10 -> 0 | S10: =C10+E10+G10+K10+M10+O10 -> 0
A11: 6. Aeon (Max Value) | C11: =VLOOKUP($A$6:$A$15,Data!$A$6:$E$16,3,TRUE)*B11 -> 0 | E11: =VLOOKUP($A$6:$A$15,Data!$A$6:$E$16,3,TRUE)*D11 -> 0 | G11: =VLOOKUP($A$6:$A$15,Data!$A$6:$E$16,3,TRUE)*F11 -> 0 | H11: =B11+D11+F11 -> 0 | I11: =C11+E11+G11 -> 0 | K11: =VLOOKUP($A$6:$A$13,Data!$A$6:$E$16,5,TRUE)*J11 -> 0 | M11: =VLOOKUP($A$6:$A$13,Data!$A$6:$E$16,5,TRUE)*L11 -> 0 | O11: =VLOOKUP($A$6:$A$13,Data!$A$6:$E$16,5,TRUE)*N11 -> 0 | P11: =J11+L11+N11 -> 0 | Q11: =K11+M11+O11 -> 0 | R11: =B11+D11+F11+J11+L11+N11 -> 0 | S11: =C11+E11+G11+K11+M11+O11 -> 0
A12: 7. Foodland | C12: =VLOOKUP($A$6:$A$15,Data!$A$6:$E$16,3,TRUE)*B12 -> 0 | E12: =VLOOKUP($A$6:$A$15,Data!$A$6:$E$16,3,TRUE)*D12 -> 0 | G12: =VLOOKUP($A$6:$A$15,Data!$A$6:$E$16,3,TRUE)*F12 -> 0 | H12: =B12+D12+F12 -> 0 | I12: =C12+E12+G12 -> 0 | K12: =VLOOKUP($A$6:$A$13,Data!$A$6:$E$16,5,TRUE)*J12 -> 0 | M12: =VLOOKUP($A$6:$A$13,Data!$A$6:$E$16,5,TRUE)*L12 -> 0 | O12: =VLOOKUP($A$6:$A$13,Data!$A$6:$E$16,5,TRUE)*N12 -> 0 | P12: =J12+L12+N12 -> 0 | Q12: =K12+M12+O12 -> 0 | R12: =B12+D12+F12+J12+L12+N12 -> 0 | S12: =C12+E12+G12+K12+M12+O12 -> 0
A13: 8. Carrefour | C13: =VLOOKUP($A$6:$A$15,Data!$A$6:$E$16,3,TRUE)*B13 -> 0 | E13: =VLOOKUP($A$6:$A$15,Data!$A$6:$E$16,3,TRUE)*D13 -> 0 | G13: =VLOOKUP($A$6:$A$15,Data!$A$6:$E$16,3,TRUE)*F13 -> 0 | H13: =B13+D13+F13 -> 0 | I13: =C13+E13+G13 -> 0 | K13: =VLOOKUP($A$6:$A$13,Data!$A$6:$E$16,5,TRUE)*J13 -> 0 | M13: =VLOOKUP($A$6:$A$13,Data!$A$6:$E$16,5,TRUE)*L13 -> 0 | O13: =VLOOKUP($A$6:$A$13,Data!$A$6:$E$16,5,TRUE)*N13 -> 0 | P13: =J13+L13+N13 -> 0 | Q13: =K13+M13+O13 -> 0 | R13: =B13+D13+F13+J13+L13+N13 -> 0 | S13: =C13+E13+G13+K13+M13+O13 -> 0
A14: 9. Top | C14: =VLOOKUP($A$6:$A$15,Data!$A$6:$E$16,3,TRUE)*B14 -> 0 | E14: =VLOOKUP($A$6:$A$15,Data!$A$6:$E$16,3,TRUE)*D14 -> 0 | G14: =VLOOKUP($A$6:$A$15,Data!$A$6:$E$16,3,TRUE)*F14 -> 0 | H14: =B14+D14+F14 -> 0
A15: 10. อื่นๆ | C15: =VLOOKUP($A$6:$A$15,Data!$A$6:$E$16,3,TRUE)*B15 -> 0 | E15: =VLOOKUP($A$6:$A$15,Data!$A$6:$E$16,3,TRUE)*D15 -> 0 | G15: =VLOOKUP($A$6:$A$15,Data!$A$6:$E$16,3,TRUE)*F15 -> 0 | H15: =B15+D15+F15 -> 0
A16: Total | B16: =SUM(B6:B15) -> 0 | C16: =SUM(C6:C12) -> 0 | D16: =SUM(D6:D15) -> 0 | E16: =SUM(E6:E12) -> 0 | F16: =SUM(F6:F15) -> 0 | G16: =SUM(G6:G12) -> 0 | H16: =B16+D16+F16 -> 0 | I16: =C16+E16+G16 -> 0 | J16: =SUM(J6:J13) -> 0 | K16: =SUM(K6:K12) -> 0 | L16: =SUM(L6:L13) -> 0 | M16: =SUM(M6:M12) -> 0 | N16: =SUM(N6:N13) -> 0 | O16: =SUM(O6:O12) -> 0 | P16: =J16+L16+N16 -> 0 | Q16: =K16+M16+O16 -> 0 | R16: =SUM(R6:R13) -> 0 | S16: =SUM(S6:S12) -> 0

Sheet 2
A1: OHO Daily Sales Report as of July 2, 2011
B3: OHO Jok (Sachet) | H3: Total | J3: OHO Jok (Cup) | P3: Total | R3: Total Market
A4: Customer | B4: Pork | D4: Chicken | F4: Seaweed | H4: Sachet | J4: Pork | L4: Chicken | N4: Seaweed | P4: Cup
B5: Cases | C5: Bht. | D5: Cases | E5: Bht. | F5: Cases | G5: Bht. | H5: Cases | I5: Bht. | J5: Cases | K5: Bht. | L5: Cases | M5: Bht. | N5: Cases | O5: Bht. | P5: Cases | Q5: Bht. | R5: Cases | S5: Bht.
A6: 1. The Mall Group | C6: =VLOOKUP($A$6:$A$13,Data!$A$6:$E$16,3,TRUE)*B6 -> 0 | E6: =VLOOKUP($A$6:$A$12,Data!$A$6:$E$16,3,TRUE)*D6 -> 0 | G6: =VLOOKUP($A$6:$A$12,Data!$A$6:$E$16,3,TRUE)*F6 -> 0 | H6: =B6+D6+F6 -> 0 | I6: =C6+E6+G6 -> 0 | K6: =VLOOKUP($A$6:$A$12,Data!$A$6:$E$16,5,TRUE)*J6 -> 0 | M6: =VLOOKUP($A$6:$A$12,Data!$A$6:$E$16,5,TRUE)*L6 -> 0 | O6: =VLOOKUP($A$6:$A$12,Data!$A$6:$E$16,5,TRUE)*N6 -> 0 | P6: =J6+L6+N6 -> 0 | Q6: =K6+M6+O6 -> 0 | R6: =B6+D6+F6+J6+L6+N6 -> 0 | S6: =C6+E6+G6+K6+M6+O6 -> 0
A7: 2. Lotus Express | C7: =VLOOKUP($A$6:$A$13,Data!$A$6:$E$16,3,TRUE)*B7 -> 0 | E7: =VLOOKUP($A$6:$A$12,Data!$A$6:$E$16,3,TRUE)*D7 -> 0 | G7: =VLOOKUP($A$6:$A$12,Data!$A$6:$E$16,3,TRUE)*F7 -> 0 | H7: =B7+D7+F7 -> 0 | I7: =C7+E7+G7 -> 0 | K7: =VLOOKUP($A$6:$A$12,Data!$A$6:$E$16,5,TRUE)*J7 -> 0 | M7: =VLOOKUP($A$6:$A$12,Data!$A$6:$E$16,5,TRUE)*L7 -> 0 | O7: =VLOOKUP($A$6:$A$12,Data!$A$6:$E$16,5,TRUE)*N7 -> 0 | P7: =J7+L7+N7 -> 0 | Q7: =K7+M7+O7 -> 0 | R7: =B7+D7+F7+J7+L7+N7 -> 0 | S7: =C7+E7+G7+K7+M7+O7 -> 0
A8: 3. Tesco Lotus | C8: =VLOOKUP($A$6:$A$13,Data!$A$6:$E$16,3,TRUE)*B8 -> 0 | E8: =VLOOKUP($A$6:$A$12,Data!$A$6:$E$16,3,TRUE)*D8 -> 0 | G8: =VLOOKUP($A$6:$A$12,Data!$A$6:$E$16,3,TRUE)*F8 -> 0 | H8: =B8+D8+F8 -> 0 | I8: =C8+E8+G8 -> 0 | K8: =VLOOKUP($A$6:$A$12,Data!$A$6:$E$16,5,TRUE)*J8 -> 0 | M8: =VLOOKUP($A$6:$A$12,Data!$A$6:$E$16,5,TRUE)*L8 -> 0 | O8: =VLOOKUP($A$6:$A$12,Data!$A$6:$E$16,5,TRUE)*N8 -> 0 | P8: =J8+L8+N8 -> 0 | Q8: =K8+M8+O8 -> 0 | R8: =B8+D8+F8+J8+L8+N8 -> 0 | S8: =C8+E8+G8+K8+M8+O8 -> 0
A9: 4. Tarad Lotus | C9: =VLOOKUP($A$6:$A$13,Data!$A$6:$E$16,3,TRUE)*B9 -> 0 | E9: =VLOOKUP($A$6:$A$12,Data!$A$6:$E$16,3,TRUE)*D9 -> 0 | G9: =VLOOKUP($A$6:$A$12,Data!$A$6:$E$16,3,TRUE)*F9 -> 0 | H9: =B9+D9+F9 -> 0 | I9: =C9+E9+G9 -> 0 | K9: =VLOOKUP($A$6:$A$12,Data!$A$6:$E$16,5,TRUE)*J9 -> 0 | M9: =VLOOKUP($A$6:$A$12,Data!$A$6:$E$16,5,TRUE)*L9 -> 0 | O9: =VLOOKUP($A$6:$A$12,Data!$A$6:$E$16,5,TRUE)*N9 -> 0 | P9: =J9+L9+N9 -> 0 | Q9: =K9+M9+O9 -> 0 | R9: =B9+D9+F9+J9+L9+N9 -> 0 | S9: =C9+E9+G9+K9+M9+O9 -> 0
A10: 5. BigC Supercenter | C10: =VLOOKUP($A$6:$A$13,Data!$A$6:$E$16,3,TRUE)*B10 -> 0 | E10: =VLOOKUP($A$6:$A$12,Data!$A$6:$E$16,3,TRUE)*D10 -> 0 | G10: =VLOOKUP($A$6:$A$12,Data!$A$6:$E$16,3,TRUE)*F10 -> 0 | H10: =B10+D10+F10 -> 0 | I10: =C10+E10+G10 -> 0 | K10: =VLOOKUP($A$6:$A$12,Data!$A$6:$E$16,5,TRUE)*J10 -> 0 | M10: =VLOOKUP($A$6:$A$12,Data!$A$6:$E$16,5,TRUE)*L10 -> 0 | O10: =VLOOKUP($A$6:$A$12,Data!$A$6:$E$16,5,TRUE)*N10 -> 0 | P10: =J10+L10+N10 -> 0 | Q10: =K10+M10+O10 -> 0 | R10: =B10+D10+F10+J10+L10+N10 -> 0 | S10: =C10+E10+G10+K10+M10+O10 -> 0
A11: 6. Aeon (Max Value) | C11: =VLOOKUP($A$6:$A$13,Data!$A$6:$E$16,3,TRUE)*B11 -> 0 | E11: =VLOOKUP($A$6:$A$12,Data!$A$6:$E$16,3,TRUE)*D11 -> 0 | G11: =VLOOKUP($A$6:$A$12,Data!$A$6:$E$16,3,TRUE)*F11 -> 0 | H11: =B11+D11+F11 -> 0 | I11: =C11+E11+G11 -> 0 | K11: =VLOOKUP($A$6:$A$12,Data!$A$6:$E$16,5,TRUE)*J11 -> 0 | M11: =VLOOKUP($A$6:$A$12,Data!$A$6:$E$16,5,TRUE)*L11 -> 0 | O11: =VLOOKUP($A$6:$A$12,Data!$A$6:$E$16,5,TRUE)*N11 -> 0 | P11: =J11+L11+N11 -> 0 | Q11: =K11+M11+O11 -> 0 | R11: =B11+D11+F11+J11+L11+N11 -> 0 | S11: =C11+E11+G11+K11+M11+O11 -> 0
A12: 7. Foodland | C12: =VLOOKUP($A$6:$A$13,Data!$A$6:$E$16,3,TRUE)*B12 -> 0 | E12: =VLOOKUP($A$6:$A$12,Data!$A$6:$E$16,3,TRUE)*D12 -> 0 | G12: =VLOOKUP($A$6:$A$12,Data!$A$6:$E$16,3,TRUE)*F12 -> 0 | H12: =B12+D12+F12 -> 0 | I12: =C12+E12+G12 -> 0 | K12: =VLOOKUP($A$6:$A$12,Data!$A$6:$E$16,5,TRUE)*J12 -> 0 | M12: =VLOOKUP($A$6:$A$12,Data!$A$6:$E$16,5,TRUE)*L12 -> 0 | O12: =VLOOKUP($A$6:$A$12,Data!$A$6:$E$16,5,TRUE)*N12 -> 0 | P12: =J12+L12+N12 -> 0 | Q12: =K12+M12+O12 -> 0 | R12: =B12+D12+F12+J12+L12+N12 -> 0 | S12: =C12+E12+G12+K12+M12+O12 -> 0
A13: 8. Carrefour | C13: =VLOOKUP($A$6:$A$13,Data!$A$6:$E$16,3,TRUE)*B13 -> 0 | H13: =B13+D13+F13 -> 0 | P13: =J13+L13+N13 -> 0 | R13: =B13+D13+F13+J13+L13+N13 -> 0
A14: 9. Top
A15: 10. อื่นๆ
B16: =SUM(B6:B13) -> 0 | C16: =SUM(C6:C12) -> 0 | D16: =SUM(D6:D13) -> 0 | E16: =SUM(E6:E12) -> 0 | F16: =SUM(F6:F13) -> 0 | G16: =SUM(G6:G12) -> 0 | H16: =B16+D16+F16 -> 0 | I16: =C16+E16+G16 -> 0 | J16: =SUM(J6:J13) -> 0 | K16: =SUM(K6:K12) -> 0 | L16: =SUM(L6:L13) -> 0 | M16: =SUM(M6:M12) -> 0 | N16: =SUM(N6:N13) -> 0 | O16: =SUM(O6:O12) -> 0 | P16: =J16+L16+N16 -> 0 | Q16: =K16+M16+O16 -> 0 | R16: =SUM(R6:R13) -> 0 | S16: =SUM(S6:S12) -> 0

Sheet 3
A1: OHO Daily Sales Report as of July 3, 2011
B3: OHO Jok (Sachet) | H3: Total | J3: OHO Jok (Cup) | P3: Total | R3: Total Market
A4: Customer | B4: Pork | D4: Chicken | F4: Seaweed | H4: Sachet | J4: Pork | L4: Chicken | N4: Seaweed | P4: Cup
B5: Cases | C5: Bht. | D5: Cases | E5: Bht. | F5: Cases | G5: Bht. | H5: Cases | I5: Bht. | J5: Cases | K5: Bht. | L5: Cases | M5: Bht. | N5: Cases | O5: Bht. | P5: Cases | Q5: Bht. | R5: Cases | S5: Bht.
A6: 1. The Mall Group | C6: =VLOOKUP($A$6:$A$13,Data!$A$6:$E$16,3,TRUE)*B6 -> 0 | E6: =VLOOKUP($A$6:$A$13,Data!$A$6:$E$16,3,TRUE)*D6 -> 0 | G6: =VLOOKUP($A$6:$A$13,Data!$A$6:$E$16,3,TRUE)*F6 -> 0 | H6: =B6+D6+F6 -> 0 | I6: =C6+E6+G6 -> 0 | K6: =VLOOKUP($A$6:$A$13,Data!$A$6:$E$16,5,TRUE)*J6 -> 0 | M6: =VLOOKUP($A$6:$A$13,Data!$A$6:$E$16,5,TRUE)*L6 -> 0 | O6: =VLOOKUP($A$6:$A$13,Data!$A$6:$E$16,5,TRUE)*N6 -> 0 | P6: =J6+L6+N6 -> 0 | Q6: =K6+M6+O6 -> 0 | R6: =H6+P6 -> 0 | S6: =I6+Q6 -> 0
A7: 2. Lotus Express | C7: =VLOOKUP($A$6:$A$13,Data!$A$6:$E$16,3,TRUE)*B7 -> 0 | E7: =VLOOKUP($A$6:$A$13,Data!$A$6:$E$16,3,TRUE)*D7 -> 0 | G7: =VLOOKUP($A$6:$A$13,Data!$A$6:$E$16,3,TRUE)*F7 -> 0 | H7: =B7+D7+F7 -> 0 | I7: =C7+E7+G7 -> 0 | K7: =VLOOKUP($A$6:$A$13,Data!$A$6:$E$16,5,TRUE)*J7 -> 0 | M7: =VLOOKUP($A$6:$A$13,Data!$A$6:$E$16,5,TRUE)*L7 -> 0 | O7: =VLOOKUP($A$6:$A$13,Data!$A$6:$E$16,5,TRUE)*N7 -> 0 | P7: =J7+L7+N7 -> 0 | Q7: =K7+M7+O7 -> 0 | R7: =H7+P7 -> 0 | S7: =I7+Q7 -> 0
A8: 3. Tesco Lotus | C8: =VLOOKUP($A$6:$A$13,Data!$A$6:$E$16,3,TRUE)*B8 -> 0 | E8: =VLOOKUP($A$6:$A$13,Data!$A$6:$E$16,3,TRUE)*D8 -> 0 | G8: =VLOOKUP($A$6:$A$13,Data!$A$6:$E$16,3,TRUE)*F8 -> 0 | H8: =B8+D8+F8 -> 0 | I8: =C8+E8+G8 -> 0 | K8: =VLOOKUP($A$6:$A$13,Data!$A$6:$E$16,5,TRUE)*J8 -> 0 | M8: =VLOOKUP($A$6:$A$13,Data!$A$6:$E$16,5,TRUE)*L8 -> 0 | O8: =VLOOKUP($A$6:$A$13,Data!$A$6:$E$16,5,TRUE)*N8 -> 0 | P8: =J8+L8+N8 -> 0 | Q8: =K8+M8+O8 -> 0 | R8: =H8+P8 -> 0 | S8: =I8+Q8 -> 0
A9: 4. Tarad Lotus | C9: =VLOOKUP($A$6:$A$13,Data!$A$6:$E$16,3,TRUE)*B9 -> 0 | E9: =VLOOKUP($A$6:$A$13,Data!$A$6:$E$16,3,TRUE)*D9 -> 0 | G9: =VLOOKUP($A$6:$A$13,Data!$A$6:$E$16,3,TRUE)*F9 -> 0 | H9: =B9+D9+F9 -> 0 | I9: =C9+E9+G9 -> 0 | K9: =VLOOKUP($A$6:$A$13,Data!$A$6:$E$16,5,TRUE)*J9 -> 0 | M9: =VLOOKUP($A$6:$A$13,Data!$A$6:$E$16,5,TRUE)*L9 -> 0 | O9: =VLOOKUP($A$6:$A$13,Data!$A$6:$E$16,5,TRUE)*N9 -> 0 | P9: =J9+L9+N9 -> 0 | Q9: =K9+M9+O9 -> 0 | R9: =H9+P9 -> 0 | S9: =I9+Q9 -> 0
A10: 5. BigC Supercenter | C10: =VLOOKUP($A$6:$A$13,Data!$A$6:$E$16,3,TRUE)*B10 -> 0 | E10: =VLOOKUP($A$6:$A$13,Data!$A$6:$E$16,3,TRUE)*D10 -> 0 | G10: =VLOOKUP($A$6:$A$13,Data!$A$6:$E$16,3,TRUE)*F10 -> 0 | H10: =B10+D10+F10 -> 0 | I10: =C10+E10+G10 -> 0 | K10: =VLOOKUP($A$6:$A$13,Data!$A$6:$E$16,5,TRUE)*J10 -> 0 | M10: =VLOOKUP($A$6:$A$13,Data!$A$6:$E$16,5,TRUE)*L10 -> 0 | O10: =VLOOKUP($A$6:$A$13,Data!$A$6:$E$16,5,TRUE)*N10 -> 0 | P10: =J10+L10+N10 -> 0 | Q10: =K10+M10+O10 -> 0 | R10: =H10+P10 -> 0 | S10: =I10+Q10 -> 0
A11: 6. Aeon (Max Value) | C11: =VLOOKUP($A$6:$A$13,Data!$A$6:$E$16,3,TRUE)*B11 -> 0 | E11: =VLOOKUP($A$6:$A$13,Data!$A$6:$E$16,3,TRUE)*D11 -> 0 | G11: =VLOOKUP($A$6:$A$13,Data!$A$6:$E$16,3,TRUE)*F11 -> 0 | H11: =B11+D11+F11 -> 0 | I11: =C11+E11+G11 -> 0 | K11: =VLOOKUP($A$6:$A$13,Data!$A$6:$E$16,5,TRUE)*J11 -> 0 | M11: =VLOOKUP($A$6:$A$13,Data!$A$6:$E$16,5,TRUE)*L11 -> 0 | O11: =VLOOKUP($A$6:$A$13,Data!$A$6:$E$16,5,TRUE)*N11 -> 0 | P11: =J11+L11+N11 -> 0 | Q11: =K11+M11+O11 -> 0 | R11: =H11+P11 -> 0 | S11: =I11+Q11 -> 0
A12: 7. Foodland | C12: =VLOOKUP($A$6:$A$13,Data!$A$6:$E$16,3,TRUE)*B12 -> 0 | E12: =VLOOKUP($A$6:$A$13,Data!$A$6:$E$16,3,TRUE)*D12 -> 0 | G12: =VLOOKUP($A$6:$A$13,Data!$A$6:$E$16,3,TRUE)*F12 -> 0 | H12: =B12+D12+F12 -> 0 | I12: =C12+E12+G12 -> 0 | K12: =VLOOKUP($A$6:$A$13,Data!$A$6:$E$16,5,TRUE)*J12 -> 0 | M12: =VLOOKUP($A$6:$A$13,Data!$A$6:$E$16,5,TRUE)*L12 -> 0 | O12: =VLOOKUP($A$6:$A$13,Data!$A$6:$E$16,5,TRUE)*N12 -> 0 | P12: =J12+L12+N12 -> 0 | Q12: =K12+M12+O12 -> 0 | R12: =H12+P12 -> 0 | S12: =I12+Q12 -> 0
A13: 8. Carrefour | C13: =VLOOKUP($A$6:$A$13,Data!$A$6:$E$16,3,TRUE)*B13 -> 0 | E13: =VLOOKUP($A$6:$A$13,Data!$A$6:$E$16,3,TRUE)*D13 -> 0 | G13: =VLOOKUP($A$6:$A$13,Data!$A$6:$E$16,3,TRUE)*F13 -> 0 | H13: =B13+D13+F13 -> 0 | I13: =C13+E13+G13 -> 0 | K13: =VLOOKUP($A$6:$A$13,Data!$A$6:$E$16,5,TRUE)*J13 -> 0 | M13: =VLOOKUP($A$6:$A$13,Data!$A$6:$E$16,5,TRUE)*L13 -> 0 | O13: =VLOOKUP($A$6:$A$13,Data!$A$6:$E$16,5,TRUE)*N13 -> 0 | P13: =J13+L13+N13 -> 0 | Q13: =K13+M13+O13 -> 0 | R13: =H13+P13 -> 0 | S13: =I13+Q13 -> 0
A14: 9. Top
A15: 10. อื่นๆ
B16: =SUM(B6:B13) -> 0 | C16: =SUM(C6:C12) -> 0 | D16: =SUM(D6:D13) -> 0 | E16: =SUM(E6:E12) -> 0 | F16: =SUM(F6:F13) -> 0 | G16: =SUM(G6:G12) -> 0 | H16: =B16+D16+F16 -> 0 | I16: =C16+E16+G16 -> 0 | J16: =SUM(J6:J13) -> 0 | K16: =SUM(K6:K12) -> 0 | L16: =SUM(L6:L13) -> 0 | M16: =SUM(M6:M12) -> 0 | N16: =SUM(N6:N13) -> 0 | O16: =SUM(O6:O12) -> 0 | P16: =J16+L16+N16 -> 0 | Q16: =K16+M16+O16 -> 0 | R16: =H16+P16 -> 0 | S16: =I16+Q16 -> 0

Sheet 4
A1: OHO Daily Sales Report as of July 4, 2011
B3: OHO Jok (Sachet) | H3: Total | J3: OHO Jok (Cup) | P3: Total | R3: Total Market
A4: Customer | B4: Pork | D4: Chicken | F4: Seaweed | H4: Sachet | J4: Pork | L4: Chicken | N4: Seaweed | P4: Cup
B5: Cases | C5: Bht. | D5: Cases | E5: Bht. | F5: Cases | G5: Bht. | H5: Cases | I5: Bht. | J5: Cases | K5: Bht. | L5: Cases | M5: Bht. | N5: Cases | O5: Bht. | P5: Cases | Q5: Bht. | R5: Cases | S5: Bht.
A6: 1. The Mall Group | B6: 4 | C6: =VLOOKUP($A$6:$A$115,Data!$A$6:$E$16,3,TRUE)*B6 -> 1908 | D6: 2 | E6: =VLOOKUP($A$6:$A$15,Data!$A$6:$E$16,3,TRUE)*D6 -> 954 | F6: 4 | G6: =VLOOKUP($A$6:$A$15,Data!$A$6:$E$16,3,TRUE)*F6 -> 1908 | H6: =B6+D6+F6 -> 10 | I6: =C6+E6+G6 -> 4770 | J6: 2 | K6: =VLOOKUP($A$6:$A$15,Data!$A$6:$E$16,5,TRUE)*J6 -> 810 | L6: 0 | M6: =VLOOKUP($A$6:$A$15,Data!$A$6:$E$16,5,TRUE)*L6 -> 0 | N6: 2 | O6: =VLOOKUP($A$6:$A$15,Data!$A$6:$E$16,5,TRUE)*N6 -> 810 | P6: =J6+L6+N6 -> 4 | Q6: =K6+M6+O6 -> 1620 | R6: =H6+P6 -> 14 | S6: =I6+Q6 -> 6390
A7: 2. Lotus Express | B7: 0 | C7: =VLOOKUP($A$6:$A$115,Data!$A$6:$E$16,3,TRUE)*B7 -> 0 | D7: 0 | E7: =VLOOKUP($A$6:$A$15,Data!$A$6:$E$16,3,TRUE)*D7 -> 0 | F7: 0 | G7: =VLOOKUP($A$6:$A$15,Data!$A$6:$E$16,3,TRUE)*F7 -> 0 | H7: =B7+D7+F7 -> 0 | I7: =C7+E7+G7 -> 0 | J7: 0 | K7: =VLOOKUP($A$6:$A$15,Data!$A$6:$E$16,5,TRUE)*J7 -> 0 | L7: 0 | M7: =VLOOKUP($A$6:$A$15,Data!$A$6:$E$16,5,TRUE)*L7 -> 0 | N7: 0 | O7: =VLOOKUP($A$6:$A$15,Data!$A$6:$E$16,5,TRUE)*N7 -> 0 | P7: =J7+L7+N7 -> 0 | Q7: =K7+M7+O7 -> 0 | R7: =H7+P7 -> 0 | S7: =I7+Q7 -> 0
A8: 3. Tesco Lotus | B8: 0 | C8: =VLOOKUP($A$6:$A$115,Data!$A$6:$E$16,3,TRUE)*B8 -> 0 | D8: 0 | E8: =VLOOKUP($A$6:$A$15,Data!$A$6:$E$16,3,TRUE)*D8 -> 0 | F8: 0 | G8: =VLOOKUP($A$6:$A$15,Data!$A$6:$E$16,3,TRUE)*F8 -> 0 | H8: =B8+D8+F8 -> 0 | I8: =C8+E8+G8 -> 0 | J8: 0 | K8: =VLOOKUP($A$6:$A$15,Data!$A$6:$E$16,5,TRUE)*J8 -> 0 | L8: 0 | M8: =VLOOKUP($A$6:$A$15,Data!$A$6:$E$16,5,TRUE)*L8 -> 0 | N8: 0 | O8: =VLOOKUP($A$6:$A$15,Data!$A$6:$E$16,5,TRUE)*N8 -> 0 | P8: =J8+L8+N8 -> 0 | Q8: =K8+M8+O8 -> 0 | R8: =H8+P8 -> 0 | S8: =I8+Q8 -> 0
A9: 4. Tarad Lotus | B9: 0 | C9: =VLOOKUP($A$6:$A$115,Data!$A$6:$E$16,3,TRUE)*B9 -> 0 | D9: 0 | E9: =VLOOKUP($A$6:$A$15,Data!$A$6:$E$16,3,TRUE)*D9 -> 0 | F9: 0 | G9: =VLOOKUP($A$6:$A$15,Data!$A$6:$E$16,3,TRUE)*F9 -> 0 | H9: =B9+D9+F9 -> 0 | I9: =C9+E9+G9 -> 0 | J9: 0 | K9: =VLOOKUP($A$6:$A$15,Data!$A$6:$E$16,5,TRUE)*J9 -> 0 | L9: 0 | M9: =VLOOKUP($A$6:$A$15,Data!$A$6:$E$16,5,TRUE)*L9 -> 0 | N9: 0 | O9: =VLOOKUP($A$6:$A$15,Data!$A$6:$E$16,5,TRUE)*N9 -> 0 | P9: =J9+L9+N9 -> 0 | Q9: =K9+M9+O9 -> 0 | R9: =H9+P9 -> 0 | S9: =I9+Q9 -> 0
A10: 5. BigC Supercenter | B10: 0 | C10: =VLOOKUP($A$6:$A$115,Data!$A$6:$E$16,3,TRUE)*B10 -> 0 | D10: 0 | E10: =VLOOKUP($A$6:$A$15,Data!$A$6:$E$16,3,TRUE)*D10 -> 0 | F10: 0 | G10: =VLOOKUP($A$6:$A$15,Data!$A$6:$E$16,3,TRUE)*F10 -> 0 | H10: =B10+D10+F10 -> 0 | I10: =C10+E10+G10 -> 0 | J10: 0 | K10: =VLOOKUP($A$6:$A$15,Data!$A$6:$E$16,5,TRUE)*J10 -> 0 | L10: 0 | M10: =VLOOKUP($A$6:$A$15,Data!$A$6:$E$16,5,TRUE)*L10 -> 0 | N10: 0 | O10: =VLOOKUP($A$6:$A$15,Data!$A$6:$E$16,5,TRUE)*N10 -> 0 | P10: =J10+L10+N10 -> 0 | Q10: =K10+M10+O10 -> 0 | R10: =H10+P10 -> 0 | S10: =I10+Q10 -> 0
A11: 6. Aeon (Max Value) | B11: 0 | C11: =VLOOKUP($A$6:$A$115,Data!$A$6:$E$16,3,TRUE)*B11 -> 0 | D11: 0 | E11: =VLOOKUP($A$6:$A$15,Data!$A$6:$E$16,3,TRUE)*D11 -> 0 | F11: 0 | G11: =VLOOKUP($A$6:$A$15,Data!$A$6:$E$16,3,TRUE)*F11 -> 0 | H11: =B11+D11+F11 -> 0 | I11: =C11+E11+G11 -> 0 | J11: 0 | K11: =VLOOKUP($A$6:$A$15,Data!$A$6:$E$16,5,TRUE)*J11 -> 0 | L11: 0 | M11: =VLOOKUP($A$6:$A$15,Data!$A$6:$E$16,5,TRUE)*L11 -> 0 | N11: 0 | O11: =VLOOKUP($A$6:$A$15,Data!$A$6:$E$16,5,TRUE)*N11 -> 0 | P11: =J11+L11+N11 -> 0 | Q11: =K11+M11+O11 -> 0 | R11: =H11+P11 -> 0 | S11: =I11+Q11 -> 0
A12: 7. Foodland | B12: 2 | C12: =VLOOKUP($A$6:$A$115,Data!$A$6:$E$16,3,TRUE)*B12 -> 1028.2 | D12: 2 | E12: =VLOOKUP($A$6:$A$15,Data!$A$6:$E$16,3,TRUE)*D12 -> 1028.2 | F12: 1 | G12: =VLOOKUP($A$6:$A$15,Data!$A$6:$E$16,3,TRUE)*F12 -> 514.1 | H12: =B12+D12+F12 -> 5 | I12: =C12+E12+G12 -> 2570.5 | J12: 2 | K12: =VLOOKUP($A$6:$A$15,Data!$A$6:$E$16,5,TRUE)*J12 -> 873 | L12: 2 | M12: =VLOOKUP($A$6:$A$15,Data!$A$6:$E$16,5,TRUE)*L12 -> 873 | N12: 1 | O12: =VLOOKUP($A$6:$A$15,Data!$A$6:$E$16,5,TRUE)*N12 -> 436.5 | P12: =J12+L12+N12 -> 5 | Q12: =K12+M12+O12 -> 2182.5 | R12: =H12+P12 -> 10 | S12: =I12+Q12 -> 4753
A13: 8. Carrefour | B13: 0 | C13: =VLOOKUP($A$6:$A$115,Data!$A$6:$E$16,3,TRUE)*B13 -> 0 | D13: 0 | E13: =VLOOKUP($A$6:$A$15,Data!$A$6:$E$16,3,TRUE)*D13 -> 0 | F13: 0 | G13: =VLOOKUP($A$6:$A$15,Data!$A$6:$E$16,3,TRUE)*F13 -> 0 | H13: =B13+D13+F13 -> 0 | I13: =C13+E13+G13 -> 0 | J13: 0 | K13: =VLOOKUP($A$6:$A$15,Data!$A$6:$E$16,5,TRUE)*J13 -> 0 | L13: 0 | M13: =VLOOKUP($A$6:$A$15,Data!$A$6:$E$16,5,TRUE)*L13 -> 0 | N13: 0 | O13: =VLOOKUP($A$6:$A$15,Data!$A$6:$E$16,5,TRUE)*N13 -> 0 | P13: =J13+L13+N13 -> 0 | Q13: =K13+M13+O13 -> 0 | R13: =H13+P13 -> 0 | S13: =I13+Q13 -> 0
A14: 9. Top | B14: 0 | C14: =VLOOKUP($A$6:$A$115,Data!$A$6:$E$16,3,TRUE)*B14 -> 0 | D14: 0 | E14: =VLOOKUP($A$6:$A$15,Data!$A$6:$E$16,3,TRUE)*D14 -> 0 | F14: 0 | G14: =VLOOKUP($A$6:$A$15,Data!$A$6:$E$16,3,TRUE)*F14 -> 0 | H14: =B14+D14+F14 -> 0 | I14: =C14+E14+G14 -> 0 | J14: 0 | K14: =VLOOKUP($A$6:$A$15,Data!$A$6:$E$16,5,TRUE)*J14 -> 0 | L14: 0 | M14: =VLOOKUP($A$6:$A$15,Data!$A$6:$E$16,5,TRUE)*L14 -> 0 | N14: 0 | O14: =VLOOKUP($A$6:$A$15,Data!$A$6:$E$16,5,TRUE)*N14 -> 0 | P14: =J14+L14+N14 -> 0 | Q14: =K14+M14+O14 -> 0 | R14: =H14+P14 -> 0 | S14: =I14+Q14 -> 0
A15: 10. อื่นๆ | B15: 0 | C15: =VLOOKUP($A$6:$A$115,Data!$A$6:$E$16,3,TRUE)*B15 -> 0 | D15: 0 | E15: =VLOOKUP($A$6:$A$15,Data!$A$6:$E$16,3,TRUE)*D15 -> 0 | F15: 0 | G15: =VLOOKUP($A$6:$A$15,Data!$A$6:$E$16,3,TRUE)*F15 -> 0 | H15: =B15+D15+F15 -> 0 | I15: =C15+E15+G15 -> 0 | J15: 0 | K15: =VLOOKUP($A$6:$A$15,Data!$A$6:$E$16,5,TRUE)*J15 -> 0 | L15: 0 | M15: =VLOOKUP($A$6:$A$15,Data!$A$6:$E$16,5,TRUE)*L15 -> 0 | N15: 0 | O15: =VLOOKUP($A$6:$A$15,Data!$A$6:$E$16,5,TRUE)*N15 -> 0 | P15: =J15+L15+N15 -> 0 | Q15: =K15+M15+O15 -> 0 | R15: =H15+P15 -> 0 | S15: =I15+Q15 -> 0
B16: =SUM(B6:B15) -> 6 | C16: =SUM(C6:C15) -> 2936.2 | D16: =SUM(D6:D15) -> 4 | E16: =SUM(E6:E15) -> 1982.2 | F16: =SUM(F6:F15) -> 5 | G16: =SUM(G6:G15) -> 2422.1 | H16: =B16+D16+F16 -> 15 | I16: =C16+E16+G16 -> 7340.5 | J16: =SUM(J6:J15) -> 4 | K16: =SUM(K6:K15) -> 1683 | L16: =SUM(L6:L15) -> 2 | M16: =SUM(M6:M15) -> 873 | N16: =SUM(N6:N15) -> 3 | O16: =SUM(O6:O15) -> 1246.5 | P16: =J16+L16+N16 -> 9 | Q16: =K16+M16+O16 -> 3802.5 | R16: =H16+P16 -> 24 | S16: =I16+Q16 -> 11143

Sheet 5
A1: OHO Daily Sales Report as of July 5, 2011
B3: OHO Jok (Sachet) | H3: Total | J3: OHO Jok (Cup) | P3: Total | R3: Total Market
A4: Customer | B4: Pork | D4: Chicken | F4: Seaweed | H4: Sachet | J4: Pork | L4: Chicken | N4: Seaweed | P4: Cup
B5: Cases | C5: Bht. | D5: Cases | E5: Bht. | F5: Cases | G5: Bht. | H5: Cases | I5: Bht. | J5: Cases | K5: Bht. | L5: Cases | M5: Bht. | N5: Cases | O5: Bht. | P5: Cases | Q5: Bht. | R5: Cases | S5: Bht.
A6: 1. The Mall Group | B6: 0 | C6: =VLOOKUP($A$6:$A$15,Data!$A$6:$E$16,3,TRUE)*B6 -> 0 | D6: 0 | E6: =VLOOKUP($A$6:$A$15,Data!$A$6:$E$16,3,TRUE)*D6 -> 0 | F6: 0 | G6: =VLOOKUP($A$6:$A$15,Data!$A$6:$E$16,3,TRUE)*F6 -> 0 | H6: =B6+D6+F6 -> 0 | I6: =C6+E6+G6 -> 0 | J6: 0 | K6: =VLOOKUP($A$6:$A$15,Data!$A$6:$E$16,5,TRUE)*J6 -> 0 | L6: 0 | M6: =VLOOKUP($A$6:$A$15,Data!$A$6:$E$16,5,TRUE)*L6 -> 0 | N6: 0 | O6: =VLOOKUP($A$6:$A$15,Data!$A$6:$E$16,5,TRUE)*N6 -> 0 | P6: =J6+L6+N6 -> 0 | Q6: =K6+M6+O6 -> 0 | R6: =H6+P6 -> 0 | S6: =I6+Q6 -> 0
A7: 2. Lotus Express | B7: 0 | C7: =VLOOKUP($A$6:$A$15,Data!$A$6:$E$16,3,TRUE)*B7 -> 0 | D7: 0 | E7: =VLOOKUP($A$6:$A$15,Data!$A$6:$E$16,3,TRUE)*D7 -> 0 | F7: 0 | G7: =VLOOKUP($A$6:$A$15,Data!$A$6:$E$16,3,TRUE)*F7 -> 0 | H7: =B7+D7+F7 -> 0 | I7: =C7+E7+G7 -> 0 | J7: 0 | K7: =VLOOKUP($A$6:$A$15,Data!$A$6:$E$16,5,TRUE)*J7 -> 0 | L7: 0 | M7: =VLOOKUP($A$6:$A$15,Data!$A$6:$E$16,5,TRUE)*L7 -> 0 | N7: 0 | O7: =VLOOKUP($A$6:$A$15,Data!$A$6:$E$16,5,TRUE)*N7 -> 0 | P7: =J7+L7+N7 -> 0 | Q7: =K7+M7+O7 -> 0 | R7: =H7+P7 -> 0 | S7: =I7+Q7 -> 0
A8: 3. Tesco Lotus | B8: 0 | C8: =VLOOKUP($A$6:$A$15,Data!$A$6:$E$16,3,TRUE)*B8 -> 0 | D8: 0 | E8: =VLOOKUP($A$6:$A$15,Data!$A$6:$E$16,3,TRUE)*D8 -> 0 | F8: 0 | G8: =VLOOKUP($A$6:$A$15,Data!$A$6:$E$16,3,TRUE)*F8 -> 0 | H8: =B8+D8+F8 -> 0 | I8: =C8+E8+G8 -> 0 | J8: 0 | K8: =VLOOKUP($A$6:$A$15,Data!$A$6:$E$16,5,TRUE)*J8 -> 0 | L8: 0 | M8: =VLOOKUP($A$6:$A$15,Data!$A$6:$E$16,5,TRUE)*L8 -> 0 | N8: 0 | O8: =VLOOKUP($A$6:$A$15,Data!$A$6:$E$16,5,TRUE)*N8 -> 0 | P8: =J8+L8+N8 -> 0 | Q8: =K8+M8+O8 -> 0 | R8: =H8+P8 -> 0 | S8: =I8+Q8 -> 0
A9: 4. Tarad Lotus | B9: 0 | C9: =VLOOKUP($A$6:$A$15,Data!$A$6:$E$16,3,TRUE)*B9 -> 0 | D9: 0 | E9: =VLOOKUP($A$6:$A$15,Data!$A$6:$E$16,3,TRUE)*D9 -> 0 | F9: 0 | G9: =VLOOKUP($A$6:$A$15,Data!$A$6:$E$16,3,TRUE)*F9 -> 0 | H9: =B9+D9+F9 -> 0 | I9: =C9+E9+G9 -> 0 | J9: 0 | K9: =VLOOKUP($A$6:$A$15,Data!$A$6:$E$16,5,TRUE)*J9 -> 0 | L9: 0 | M9: =VLOOKUP($A$6:$A$15,Data!$A$6:$E$16,5,TRUE)*L9 -> 0 | N9: 0 | O9: =VLOOKUP($A$6:$A$15,Data!$A$6:$E$16,5,TRUE)*N9 -> 0 | P9: =J9+L9+N9 -> 0 | Q9: =K9+M9+O9 -> 0 | R9: =H9+P9 -> 0 | S9: =I9+Q9 -> 0
A10: 5. BigC Supercenter | B10: 0 | C10: =VLOOKUP($A$6:$A$15,Data!$A$6:$E$16,3,TRUE)*B10 -> 0 | D10: 0 | E10: =VLOOKUP($A$6:$A$15,Data!$A$6:$E$16,3,TRUE)*D10 -> 0 | F10: 0 | G10: =VLOOKUP($A$6:$A$15,Data!$A$6:$E$16,3,TRUE)*F10 -> 0 | H10: =B10+D10+F10 -> 0 | I10: =C10+E10+G10 -> 0 | J10: 0 | K10: =VLOOKUP($A$6:$A$15,Data!$A$6:$E$16,5,TRUE)*J10 -> 0 | L10: 0 | M10: =VLOOKUP($A$6:$A$15,Data!$A$6:$E$16,5,TRUE)*L10 -> 0 | N10: 0 | O10: =VLOOKUP($A$6:$A$15,Data!$A$6:$E$16,5,TRUE)*N10 -> 0 | P10: =J10+L10+N10 -> 0 | Q10: =K10+M10+O10 -> 0 | R10: =H10+P10 -> 0 | S10: =I10+Q10 -> 0
A11: 6. Aeon (Max Value) | B11: 1 | C11: =VLOOKUP($A$6:$A$15,Data!$A$6:$E$16,3,TRUE)*B11 -> 530 | D11: 1 | E11: =VLOOKUP($A$6:$A$15,Data!$A$6:$E$16,3,TRUE)*D11 -> 530 | F11: 1 | G11: =VLOOKUP($A$6:$A$15,Data!$A$6:$E$16,3,TRUE)*F11 -> 530 | H11: =B11+D11+F11 -> 3 | I11: =C11+E11+G11 -> 1590 | J11: 3 | K11: =VLOOKUP($A$6:$A$15,Data!$A$6:$E$16,5,TRUE)*J11 -> 1350 | L11: 4 | M11: =VLOOKUP($A$6:$A$15,Data!$A$6:$E$16,5,TRUE)*L11 -> 1800 | N11: 3 | O11: =VLOOKUP($A$6:$A$15,Data!$A$6:$E$16,5,TRUE)*N11 -> 1350 | P11: =J11+L11+N11 -> 10 | Q11: =K11+M11+O11 -> 4500 | R11: =H11+P11 -> 13 | S11: =I11+Q11 -> 6090
A12: 7. Foodland | B12: 0 | C12: =VLOOKUP($A$6:$A$15,Data!$A$6:$E$16,3,TRUE)*B12 -> 0 | D12: 0 | E12: =VLOOKUP($A$6:$A$15,Data!$A$6:$E$16,3,TRUE)*D12 -> 0 | F12: 0 | G12: =VLOOKUP($A$6:$A$15,Data!$A$6:$E$16,3,TRUE)*F12 -> 0 | H12: =B12+D12+F12 -> 0 | I12: =C12+E12+G12 -> 0 | J12: 0 | K12: =VLOOKUP($A$6:$A$15,Data!$A$6:$E$16,5,TRUE)*J12 -> 0 | L12: 0 | M12: =VLOOKUP($A$6:$A$15,Data!$A$6:$E$16,5,TRUE)*L12 -> 0 | N12: 0 | O12: =VLOOKUP($A$6:$A$15,Data!$A$6:$E$16,5,TRUE)*N12 -> 0 | P12: =J12+L12+N12 -> 0 | Q12: =K12+M12+O12 -> 0 | R12: =H12+P12 -> 0 | S12: =I12+Q12 -> 0
A13: 8. Carrefour | B13: 0 | C13: =VLOOKUP($A$6:$A$15,Data!$A$6:$E$16,3,TRUE)*B13 -> 0 | D13: 0 | E13: =VLOOKUP($A$6:$A$15,Data!$A$6:$E$16,3,TRUE)*D13 -> 0 | F13: 0 | G13: =VLOOKUP($A$6:$A$15,Data!$A$6:$E$16,3,TRUE)*F13 -> 0 | H13: =B13+D13+F13 -> 0 | I13: =C13+E13+G13 -> 0 | J13: 0 | K13: =VLOOKUP($A$6:$A$15,Data!$A$6:$E$16,5,TRUE)*J13 -> 0 | L13: 0 | M13: =VLOOKUP($A$6:$A$15,Data!$A$6:$E$16,5,TRUE)*L13 -> 0 | N13: 0 | O13: =VLOOKUP($A$6:$A$15,Data!$A$6:$E$16,5,TRUE)*N13 -> 0 | P13: =J13+L13+N13 -> 0 | Q13: =K13+M13+O13 -> 0 | R13: =H13+P13 -> 0 | S13: =I13+Q13 -> 0
A14: 9. Top | B14: 0 | C14: =VLOOKUP($A$6:$A$15,Data!$A$6:$E$16,3,TRUE)*B14 -> 0 | D14: 0 | E14: =VLOOKUP($A$6:$A$15,Data!$A$6:$E$16,3,TRUE)*D14 -> 0 | F14: 0 | G14: =VLOOKUP($A$6:$A$15,Data!$A$6:$E$16,3,TRUE)*F14 -> 0 | H14: =B14+D14+F14 -> 0 | I14: =C14+E14+G14 -> 0 | J14: 80 | K14: =VLOOKUP($A$6:$A$15,Data!$A$6:$E$16,5,TRUE)*J14 -> 31279.68 | L14: 0 | M14: =VLOOKUP($A$6:$A$15,Data!$A$6:$E$16,5,TRUE)*L14 -> 0 | N14: 0 | O14: =VLOOKUP($A$6:$A$15,Data!$A$6:$E$16,5,TRUE)*N14 -> 0 | P14: =J14+L14+N14 -> 80 | Q14: =K14+M14+O14 -> 31279.68 | R14: =H14+P14 -> 80 | S14: =I14+Q14 -> 31279.68
A15: 10. อื่นๆ | B15: 0 | C15: =VLOOKUP($A$6:$A$15,Data!$A$6:$E$16,3,TRUE)*B15 -> 0 | D15: 0 | E15: =VLOOKUP($A$6:$A$15,Data!$A$6:$E$16,3,TRUE)*D15 -> 0 | F15: 0 | G15: =VLOOKUP($A$6:$A$15,Data!$A$6:$E$16,3,TRUE)*F15 -> 0 | H15: =B15+D15+F15 -> 0 | I15: =C15+E15+G15 -> 0 | J15: 0 | K15: =VLOOKUP($A$6:$A$15,Data!$A$6:$E$16,5,TRUE)*J15 -> 0 | L15: 0 | M15: =VLOOKUP($A$6:$A$15,Data!$A$6:$E$16,5,TRUE)*L15 -> 0 | N15: 0 | O15: =VLOOKUP($A$6:$A$15,Data!$A$6:$E$16,5,TRUE)*N15 -> 0 | P15: =J15+L15+N15 -> 0 | Q15: =K15+M15+O15 -> 0 | R15: =H15+P15 -> 0 | S15: =I15+Q15 -> 0
B16: =SUM(B6:B15) -> 1 | C16: =SUM(C6:C15) -> 530 | D16: =SUM(D6:D15) -> 1 | E16: =SUM(E6:E15) -> 530 | F16: =SUM(F6:F15) -> 1 | G16: =SUM(G6:G15) -> 530 | H16: =B16+D16+F16 -> 3 | I16: =C16+E16+G16 -> 1590 | J16: =SUM(J6:J15) -> 83 | K16: =SUM(K6:K15) -> 32629.68 | L16: =SUM(L6:L15) -> 4 | M16: =SUM(M6:M15) -> 1800 | N16: =SUM(N6:N15) -> 3 | O16: =SUM(O6:O15) -> 1350 | P16: =J16+L16+N16 -> 90 | Q16: =K16+M16+O16 -> 35779.68 | R16: =H16+P16 -> 93 | S16: =I16+Q16 -> 37369.68

Sheet 6
A1: OHO Daily Sales Report as of July 6, 2011
B3: OHO Jok (Sachet) | H3: Total | J3: OHO Jok (Cup) | P3: Total | R3: Total Market
A4: Customer | B4: Pork | D4: Chicken | F4: Seaweed | H4: Sachet | J4: Pork | L4: Chicken | N4: Seaweed | P4: Cup
B5: Cases | C5: Bht. | D5: Cases | E5: Bht. | F5: Cases | G5: Bht. | H5: Cases | I5: Bht. | J5: Cases | K5: Bht. | L5: Cases | M5: Bht. | N5: Cases | O5: Bht. | P5: Cases | Q5: Bht. | R5: Cases | S5: Bht.
A6: 1. The Mall Group | C6: =VLOOKUP($A$6:$A$15,Data!$A$6:$E$16,3,TRUE)*B6 -> 0 | E6: =VLOOKUP($A$6:$A$15,Data!$A$6:$E$16,3,TRUE)*D6 -> 0 | G6: =VLOOKUP($A$6:$A$15,Data!$A$6:$E$16,3,TRUE)*F6 -> 0 | H6: =B6+D6+F6 -> 0 | I6: =C6+E6+G6 -> 0 | K6: =VLOOKUP($A$6:$A$15,Data!$A$6:$E$16,5,TRUE)*J6 -> 0 | M6: =VLOOKUP($A$6:$A$15,Data!$A$6:$E$16,5,TRUE)*L6 -> 0 | O6: =VLOOKUP($A$6:$A$15,Data!$A$6:$E$16,5,TRUE)*N6 -> 0 | P6: =J6+L6+N6 -> 0 | Q6: =K6+M6+O6 -> 0 | R6: =H6+P6 -> 0 | S6: =I6+Q6 -> 0
A7: 2. Lotus Express | C7: =VLOOKUP($A$6:$A$15,Data!$A$6:$E$16,3,TRUE)*B7 -> 0 | E7: =VLOOKUP($A$6:$A$15,Data!$A$6:$E$16,3,TRUE)*D7 -> 0 | G7: =VLOOKUP($A$6:$A$15,Data!$A$6:$E$16,3,TRUE)*F7 -> 0 | H7: =B7+D7+F7 -> 0 | I7: =C7+E7+G7 -> 0 | K7: =VLOOKUP($A$6:$A$15,Data!$A$6:$E$16,5,TRUE)*J7 -> 0 | M7: =VLOOKUP($A$6:$A$15,Data!$A$6:$E$16,5,TRUE)*L7 -> 0 | O7: =VLOOKUP($A$6:$A$15,Data!$A$6:$E$16,5,TRUE)*N7 -> 0 | P7: =J7+L7+N7 -> 0 | Q7: =K7+M7+O7 -> 0 | R7: =H7+P7 -> 0 | S7: =I7+Q7 -> 0
A8: 3. Tesco Lotus | C8: =VLOOKUP($A$6:$A$15,Data!$A$6:$E$16,3,TRUE)*B8 -> 0 | E8: =VLOOKUP($A$6:$A$15,Data!$A$6:$E$16,3,TRUE)*D8 -> 0 | G8: =VLOOKUP($A$6:$A$15,Data!$A$6:$E$16,3,TRUE)*F8 -> 0 | H8: =B8+D8+F8 -> 0 | I8: =C8+E8+G8 -> 0 | K8: =VLOOKUP($A$6:$A$15,Data!$A$6:$E$16,5,TRUE)*J8 -> 0 | M8: =VLOOKUP($A$6:$A$15,Data!$A$6:$E$16,5,TRUE)*L8 -> 0 | O8: =VLOOKUP($A$6:$A$15,Data!$A$6:$E$16,5,TRUE)*N8 -> 0 | P8: =J8+L8+N8 -> 0 | Q8: =K8+M8+O8 -> 0 | R8: =H8+P8 -> 0 | S8: =I8+Q8 -> 0
A9: 4. Tarad Lotus | C9: =VLOOKUP($A$6:$A$15,Data!$A$6:$E$16,3,TRUE)*B9 -> 0 | E9: =VLOOKUP($A$6:$A$15,Data!$A$6:$E$16,3,TRUE)*D9 -> 0 | G9: =VLOOKUP($A$6:$A$15,Data!$A$6:$E$16,3,TRUE)*F9 -> 0 | H9: =B9+D9+F9 -> 0 | I9: =C9+E9+G9 -> 0 | K9: =VLOOKUP($A$6:$A$15,Data!$A$6:$E$16,5,TRUE)*J9 -> 0 | M9: =VLOOKUP($A$6:$A$15,Data!$A$6:$E$16,5,TRUE)*L9 -> 0 | O9: =VLOOKUP($A$6:$A$15,Data!$A$6:$E$16,5,TRUE)*N9 -> 0 | P9: =J9+L9+N9 -> 0 | Q9: =K9+M9+O9 -> 0 | R9: =H9+P9 -> 0 | S9: =I9+Q9 -> 0
A10: 5. BigC Supercenter | C10: =VLOOKUP($A$6:$A$15,Data!$A$6:$E$16,3,TRUE)*B10 -> 0 | E10: =VLOOKUP($A$6:$A$15,Data!$A$6:$E$16,3,TRUE)*D10 -> 0 | G10: =VLOOKUP($A$6:$A$15,Data!$A$6:$E$16,3,TRUE)*F10 -> 0 | H10: =B10+D10+F10 -> 0 | I10: =C10+E10+G10 -> 0 | K10: =VLOOKUP($A$6:$A$15,Data!$A$6:$E$16,5,TRUE)*J10 -> 0 | M10: =VLOOKUP($A$6:$A$15,Data!$A$6:$E$16,5,TRUE)*L10 -> 0 | O10: =VLOOKUP($A$6:$A$15,Data!$A$6:$E$16,5,TRUE)*N10 -> 0 | P10: =J10+L10+N10 -> 0 | Q10: =K10+M10+O10 -> 0 | R10: =H10+P10 -> 0 | S10: =I10+Q10 -> 0
A11: 6. Aeon (Max Value) | C11: =VLOOKUP($A$6:$A$15,Data!$A$6:$E$16,3,TRUE)*B11 -> 0 | E11: =VLOOKUP($A$6:$A$15,Data!$A$6:$E$16,3,TRUE)*D11 -> 0 | G11: =VLOOKUP($A$6:$A$15,Data!$A$6:$E$16,3,TRUE)*F11 -> 0 | H11: =B11+D11+F11 -> 0 | I11: =C11+E11+G11 -> 0 | K11: =VLOOKUP($A$6:$A$15,Data!$A$6:$E$16,5,TRUE)*J11 -> 0 | M11: =VLOOKUP($A$6:$A$15,Data!$A$6:$E$16,5,TRUE)*L11 -> 0 | O11: =VLOOKUP($A$6:$A$15,Data!$A$6:$E$16,5,TRUE)*N11 -> 0 | P11: =J11+L11+N11 -> 0 | Q11: =K11+M11+O11 -> 0 | R11: =H11+P11 -> 0 | S11: =I11+Q11 -> 0
A12: 7. Foodland | C12: =VLOOKUP($A$6:$A$15,Data!$A$6:$E$16,3,TRUE)*B12 -> 0 | E12: =VLOOKUP($A$6:$A$15,Data!$A$6:$E$16,3,TRUE)*D12 -> 0 | G12: =VLOOKUP($A$6:$A$15,Data!$A$6:$E$16,3,TRUE)*F12 -> 0 | H12: =B12+D12+F12 -> 0 | I12: =C12+E12+G12 -> 0 | K12: =VLOOKUP($A$6:$A$15,Data!$A$6:$E$16,5,TRUE)*J12 -> 0 | M12: =VLOOKUP($A$6:$A$15,Data!$A$6:$E$16,5,TRUE)*L12 -> 0 | O12: =VLOOKUP($A$6:$A$15,Data!$A$6:$E$16,5,TRUE)*N12 -> 0 | P12: =J12+L12+N12 -> 0 | Q12: =K12+M12+O12 -> 0 | R12: =H12+P12 -> 0 | S12: =I12+Q12 -> 0
A13: 8. Carrefour | C13: =VLOOKUP($A$6:$A$15,Data!$A$6:$E$16,3,TRUE)*B13 -> 0 | E13: =VLOOKUP($A$6:$A$15,Data!$A$6:$E$16,3,TRUE)*D13 -> 0 | G13: =VLOOKUP($A$6:$A$15,Data!$A$6:$E$16,3,TRUE)*F13 -> 0 | H13: =B13+D13+F13 -> 0 | I13: =C13+E13+G13 -> 0 | K13: =VLOOKUP($A$6:$A$15,Data!$A$6:$E$16,5,TRUE)*J13 -> 0 | M13: =VLOOKUP($A$6:$A$15,Data!$A$6:$E$16,5,TRUE)*L13 -> 0 | O13: =VLOOKUP($A$6:$A$15,Data!$A$6:$E$16,5,TRUE)*N13 -> 0 | P13: =J13+L13+N13 -> 0 | Q13: =K13+M13+O13 -> 0 | R13: =H13+P13 -> 0 | S13: =I13+Q13 -> 0
A14: 9. Top | C14: =VLOOKUP($A$6:$A$15,Data!$A$6:$E$16,3,TRUE)*B14 -> 0 | E14: =VLOOKUP($A$6:$A$15,Data!$A$6:$E$16,3,TRUE)*D14 -> 0 | G14: =VLOOKUP($A$6:$A$15,Data!$A$6:$E$16,3,TRUE)*F14 -> 0 | H14: =B14+D14+F14 -> 0 | I14: =C14+E14+G14 -> 0 | K14: =VLOOKUP($A$6:$A$15,Data!$A$6:$E$16,5,TRUE)*J14 -> 0 | M14: =VLOOKUP($A$6:$A$15,Data!$A$6:$E$16,5,TRUE)*L14 -> 0 | O14: =VLOOKUP($A$6:$A$15,Data!$A$6:$E$16,5,TRUE)*N14 -> 0 | P14: =J14+L14+N14 -> 0 | Q14: =K14+M14+O14 -> 0 | R14: =H14+P14 -> 0 | S14: =I14+Q14 -> 0
A15: 10. อื่นๆ | C15: =VLOOKUP($A$6:$A$15,Data!$A$6:$E$16,3,TRUE)*B15 -> 0 | E15: =VLOOKUP($A$6:$A$15,Data!$A$6:$E$16,3,TRUE)*D15 -> 0 | G15: =VLOOKUP($A$6:$A$15,Data!$A$6:$E$16,3,TRUE)*F15 -> 0 | H15: =B15+D15+F15 -> 0 | I15: =C15+E15+G15 -> 0 | K15: =VLOOKUP($A$6:$A$15,Data!$A$6:$E$16,5,TRUE)*J15 -> 0 | M15: =VLOOKUP($A$6:$A$15,Data!$A$6:$E$16,5,TRUE)*L15 -> 0 | O15: =VLOOKUP($A$6:$A$15,Data!$A$6:$E$16,5,TRUE)*N15 -> 0 | P15: =J15+L15+N15 -> 0 | R15: =H15+P15 -> 0 | S15: =I15+Q15 -> 0
B16: =SUM(B6:B15) -> 0 | C16: =SUM(C6:C15) -> 0 | D16: =SUM(D6:D15) -> 0 | E16: =SUM(E6:E15) -> 0 | F16: =SUM(F6:F13) -> 0 | G16: =SUM(G6:G15) -> 0 | H16: =B16+D16+F16 -> 0 | I16: =C16+E16+G16 -> 0 | J16: =SUM(J6:J13) -> 0 | K16: =SUM(K6:K15) -> 0 | L16: =SUM(L6:L13) -> 0 | M16: =SUM(M6:M15) -> 0 | N16: =SUM(N6:N13) -> 0 | O16: =SUM(O6:O15) -> 0 | P16: =J16+L16+N16 -> 0 | Q16: =K16+M16+O16 -> 0 | R16: =H16+P16 -> 0 | S16: =I16+Q16 -> 0

Sheet 7
A1: OHO Daily Sales Report as of July 7, 2011
B3: OHO Jok (Sachet) | H3: Total | J3: OHO Jok (Cup) | P3: Total | R3: Total Market
A4: Customer | B4: Pork | D4: Chicken | F4: Seaweed | H4: Sachet | J4: Pork | L4: Chicken | N4: Seaweed | P4: Cup
B5: Cases | C5: Bht. | D5: Cases | E5: Bht. | F5: Cases | G5: Bht. | H5: Cases | I5: Bht. | J5: Cases | K5: Bht. | L5: Cases | M5: Bht. | N5: Cases | O5: Bht. | P5: Cases | Q5: Bht. | R5: Cases | S5: Bht.
A6: 1. The Mall Group | B6: 2 | C6: =VLOOKUP($A$6:$A$15,Data!$A$6:$E$16,3,TRUE)*B6 -> 954 | D6: 2 | E6: =VLOOKUP($A$6:$A$15,Data!$A$6:$E$16,3,TRUE)*D6 -> 954 | F6: 0 | G6: =VLOOKUP($A$6:$A$15,Data!$A$6:$E$16,3,TRUE)*F6 -> 0 | H6: =B6+D6+F6 -> 4 | I6: =C6+E6+G6 -> 1908 | J6: 2 | K6: =VLOOKUP($A$6:$A$15,Data!$A$6:$E$16,5,TRUE)*J6 -> 810 | L6: 2 | M6: =VLOOKUP($A$6:$A$15,Data!$A$6:$E$16,5,TRUE)*L6 -> 810 | N6: 0 | O6: =VLOOKUP($A$6:$A$13,Data!$A$6:$E$16,5,TRUE)*N6 -> 0 | P6: =J6+L6+N6 -> 4 | Q6: =K6+M6+O6 -> 1620 | R6: =H6+P6 -> 8 | S6: =I6+Q6 -> 3528
A7: 2. Lotus Express | B7: 0 | C7: =VLOOKUP($A$6:$A$15,Data!$A$6:$E$16,3,TRUE)*B7 -> 0 | D7: 0 | E7: =VLOOKUP($A$6:$A$15,Data!$A$6:$E$16,3,TRUE)*D7 -> 0 | F7: 0 | G7: =VLOOKUP($A$6:$A$15,Data!$A$6:$E$16,3,TRUE)*F7 -> 0 | H7: =B7+D7+F7 -> 0 | I7: =C7+E7+G7 -> 0 | J7: 23 | K7: =VLOOKUP($A$6:$A$15,Data!$A$6:$E$16,5,TRUE)*J7 -> 9775 | L7: 0 | M7: =VLOOKUP($A$6:$A$15,Data!$A$6:$E$16,5,TRUE)*L7 -> 0 | N7: 14 | O7: =VLOOKUP($A$6:$A$13,Data!$A$6:$E$16,5,TRUE)*N7 -> 5950 | P7: =J7+L7+N7 -> 37 | Q7: =K7+M7+O7 -> 15725 | R7: =H7+P7 -> 37 | S7: =I7+Q7 -> 15725
A8: 3. Tesco Lotus | B8: 74 | C8: =VLOOKUP($A$6:$A$15,Data!$A$6:$E$16,3,TRUE)*B8 -> 39220 | D8: 23 | E8: =VLOOKUP($A$6:$A$15,Data!$A$6:$E$16,3,TRUE)*D8 -> 12190 | F8: 22 | G8: =VLOOKUP($A$6:$A$15,Data!$A$6:$E$16,3,TRUE)*F8 -> 11660 | H8: =B8+D8+F8 -> 119 | I8: =C8+E8+G8 -> 63070 | J8: 13 | K8: =VLOOKUP($A$6:$A$15,Data!$A$6:$E$16,5,TRUE)*J8 -> 5525 | L8: 2 | M8: =VLOOKUP($A$6:$A$15,Data!$A$6:$E$16,5,TRUE)*L8 -> 850 | N8: 5 | O8: =VLOOKUP($A$6:$A$13,Data!$A$6:$E$16,5,TRUE)*N8 -> 2125 | P8: =J8+L8+N8 -> 20 | Q8: =K8+M8+O8 -> 8500 | R8: =H8+P8 -> 139 | S8: =I8+Q8 -> 71570
A9: 4. Tarad Lotus | B9: 0 | C9: =VLOOKUP($A$6:$A$15,Data!$A$6:$E$16,3,TRUE)*B9 -> 0 | D9: 0 | E9: =VLOOKUP($A$6:$A$15,Data!$A$6:$E$16,3,TRUE)*D9 -> 0 | F9: 0 | G9: =VLOOKUP($A$6:$A$15,Data!$A$6:$E$16,3,TRUE)*F9 -> 0 | H9: =B9+D9+F9 -> 0 | I9: =C9+E9+G9 -> 0 | J9: 0 | K9: =VLOOKUP($A$6:$A$15,Data!$A$6:$E$16,5,TRUE)*J9 -> 0 | L9: 0 | M9: =VLOOKUP($A$6:$A$15,Data!$A$6:$E$16,5,TRUE)*L9 -> 0 | N9: 0 | O9: =VLOOKUP($A$6:$A$13,Data!$A$6:$E$16,5,TRUE)*N9 -> 0 | P9: =J9+L9+N9 -> 0 | Q9: =K9+M9+O9 -> 0 | R9: =H9+P9 -> 0 | S9: =I9+Q9 -> 0
A10: 5. BigC Supercenter | B10: 0 | C10: =VLOOKUP($A$6:$A$15,Data!$A$6:$E$16,3,TRUE)*B10 -> 0 | D10: 0 | E10: =VLOOKUP($A$6:$A$15,Data!$A$6:$E$16,3,TRUE)*D10 -> 0 | F10: 0 | G10: =VLOOKUP($A$6:$A$15,Data!$A$6:$E$16,3,TRUE)*F10 -> 0 | H10: =B10+D10+F10 -> 0 | I10: =C10+E10+G10 -> 0 | J10: 0 | K10: =VLOOKUP($A$6:$A$15,Data!$A$6:$E$16,5,TRUE)*J10 -> 0 | L10: 0 | M10: =VLOOKUP($A$6:$A$15,Data!$A$6:$E$16,5,TRUE)*L10 -> 0 | N10: 0 | O10: =VLOOKUP($A$6:$A$13,Data!$A$6:$E$16,5,TRUE)*N10 -> 0 | P10: =J10+L10+N10 -> 0 | Q10: =K10+M10+O10 -> 0 | R10: =H10+P10 -> 0 | S10: =I10+Q10 -> 0
A11: 6. Aeon (Max Value) | B11: 0 | C11: =VLOOKUP($A$6:$A$15,Data!$A$6:$E$16,3,TRUE)*B11 -> 0 | D11: 0 | E11: =VLOOKUP($A$6:$A$15,Data!$A$6:$E$16,3,TRUE)*D11 -> 0 | F11: 0 | G11: =VLOOKUP($A$6:$A$15,Data!$A$6:$E$16,3,TRUE)*F11 -> 0 | H11: =B11+D11+F11 -> 0 | I11: =C11+E11+G11 -> 0 | J11: 0 | K11: =VLOOKUP($A$6:$A$15,Data!$A$6:$E$16,5,TRUE)*J11 -> 0 | L11: 0 | M11: =VLOOKUP($A$6:$A$15,Data!$A$6:$E$16,5,TRUE)*L11 -> 0 | N11: 0 | O11: =VLOOKUP($A$6:$A$13,Data!$A$6:$E$16,5,TRUE)*N11 -> 0 | P11: =J11+L11+N11 -> 0 | Q11: =K11+M11+O11 -> 0 | R11: =H11+P11 -> 0 | S11: =I11+Q11 -> 0
A12: 7. Foodland | B12: 0 | C12: =VLOOKUP($A$6:$A$15,Data!$A$6:$E$16,3,TRUE)*B12 -> 0 | D12: 0 | E12: =VLOOKUP($A$6:$A$15,Data!$A$6:$E$16,3,TRUE)*D12 -> 0 | F12: 0 | G12: =VLOOKUP($A$6:$A$15,Data!$A$6:$E$16,3,TRUE)*F12 -> 0 | H12: =B12+D12+F12 -> 0 | I12: =C12+E12+G12 -> 0 | J12: 0 | K12: =VLOOKUP($A$6:$A$15,Data!$A$6:$E$16,5,TRUE)*J12 -> 0 | L12: 0 | M12: =VLOOKUP($A$6:$A$15,Data!$A$6:$E$16,5,TRUE)*L12 -> 0 | N12: 0 | O12: =VLOOKUP($A$6:$A$13,Data!$A$6:$E$16,5,TRUE)*N12 -> 0 | P12: =J12+L12+N12 -> 0 | Q12: =K12+M12+O12 -> 0 | R12: =H12+P12 -> 0 | S12: =I12+Q12 -> 0
A13: 8. Carrefour | B13: 0 | C13: =VLOOKUP($A$6:$A$15,Data!$A$6:$E$16,3,TRUE)*B13 -> 0 | D13: 0 | E13: =VLOOKUP($A$6:$A$15,Data!$A$6:$E$16,3,TRUE)*D13 -> 0 | F13: 0 | G13: =VLOOKUP($A$6:$A$15,Data!$A$6:$E$16,3,TRUE)*F13 -> 0 | H13: =B13+D13+F13 -> 0 | I13: =C13+E13+G13 -> 0 | J13: 0 | K13: =VLOOKUP($A$6:$A$15,Data!$A$6:$E$16,5,TRUE)*J13 -> 0 | L13: 0 | M13: =VLOOKUP($A$6:$A$15,Data!$A$6:$E$16,5,TRUE)*L13 -> 0 | N13: 0 | O13: =VLOOKUP($A$6:$A$13,Data!$A$6:$E$16,5,TRUE)*N13 -> 0 | P13: =J13+L13+N13 -> 0 | Q13: =K13+M13+O13 -> 0 | R13: =H13+P13 -> 0 | S13: =I13+Q13 -> 0
A14: 9. Top | B14: 0 | C14: =VLOOKUP($A$6:$A$15,Data!$A$6:$E$16,3,TRUE)*B14 -> 0 | D14: 0 | E14: =VLOOKUP($A$6:$A$15,Data!$A$6:$E$16,3,TRUE)*D14 -> 0 | F14: 0 | G14: =VLOOKUP($A$6:$A$15,Data!$A$6:$E$16,3,TRUE)*F14 -> 0 | H14: =B14+D14+F14 -> 0 | I14: =C14+E14+G14 -> 0 | J14: 0 | K14: =VLOOKUP($A$6:$A$15,Data!$A$6:$E$16,5,TRUE)*J14 -> 0 | L14: 0 | M14: =VLOOKUP($A$6:$A$15,Data!$A$6:$E$16,5,TRUE)*L14 -> 0 | N14: 0 | P14: =J14+L14+N14 -> 0 | Q14: =K14+M14+O14 -> 0 | R14: =H14+P14 -> 0 | S14: =I14+Q14 -> 0
A15: 10. อื่นๆ | B15: 0 | C15: =VLOOKUP($A$6:$A$15,Data!$A$6:$E$16,3,TRUE)*B15 -> 0 | D15: 0 | E15: =VLOOKUP($A$6:$A$15,Data!$A$6:$E$16,3,TRUE)*D15 -> 0 | F15: 0 | G15: =VLOOKUP($A$6:$A$15,Data!$A$6:$E$16,3,TRUE)*F15 -> 0 | H15: =B15+D15+F15 -> 0 | I15: =C15+E15+G15 -> 0 | J15: 0 | K15: =VLOOKUP($A$6:$A$15,Data!$A$6:$E$16,5,TRUE)*J15 -> 0 | L15: 0 | M15: =VLOOKUP($A$6:$A$15,Data!$A$6:$E$16,5,TRUE)*L15 -> 0 | N15: 0 | P15: =J15+L15+N15 -> 0 | Q15: =K15+M15+O15 -> 0 | R15: =H15+P15 -> 0 | S15: =I15+Q15 -> 0
B16: =SUM(B6:B15) -> 76 | C16: =SUM(C6:C15) -> 40174 | D16: =SUM(D6:D15) -> 25 | E16: =SUM(E6:E15) -> 13144 | F16: =SUM(F6:F15) -> 22 | G16: =SUM(G6:G15) -> 11660 | H16: =B16+D16+F16 -> 123 | I16: =C16+E16+G16 -> 64978 | J16: =SUM(J6:J15) -> 38 | K16: =SUM(K6:K15) -> 16110 | L16: =SUM(L6:L15) -> 4 | M16: =SUM(M6:M15) -> 1660 | N16: =SUM(N6:N15) -> 19 | O16: =SUM(O6:O15) -> 8075 | P16: =J16+L16+N16 -> 61 | Q16: =K16+M16+O16 -> 25845 | R16: =H16+P16 -> 184 | S16: =I16+Q16 -> 90823

Sheet 8
A1: OHO Daily Sales Report as of July 8, 2011
B3: OHO Jok (Sachet) | H3: Total | J3: OHO Jok (Cup) | P3: Total | R3: Total Market
A4: Customer | B4: Pork | D4: Chicken | F4: Seaweed | H4: Sachet | J4: Pork | L4: Chicken | N4: Seaweed | P4: Cup
B5: Cases | C5: Bht. | D5: Cases | E5: Bht. | F5: Cases | G5: Bht. | H5: Cases | I5: Bht. | J5: Cases | K5: Bht. | L5: Cases | M5: Bht. | N5: Cases | O5: Bht. | P5: Cases | Q5: Bht. | R5: Cases | S5: Bht.
A6: 1. The Mall Group | B6: 0 | C6: =VLOOKUP($A$6:$A$15,Data!$A$6:$E$16,3,TRUE)*B6 -> 0 | D6: 0 | E6: =VLOOKUP($A$6:$A$15,Data!$A$6:$E$16,3,TRUE)*D6 -> 0 | F6: 0 | G6: =VLOOKUP($A$6:$A$15,Data!$A$6:$E$16,3,TRUE)*F6 -> 0 | H6: =B6+D6+F6 -> 0 | I6: =C6+E6+G6 -> 0 | J6: 0 | K6: =VLOOKUP($A$6:$A$15,Data!$A$6:$E$16,5,TRUE)*J6 -> 0 | L6: 0 | M6: =VLOOKUP($A$6:$A$15,Data!$A$6:$E$16,5,TRUE)*L6 -> 0 | N6: 0 | O6: =VLOOKUP($A$6:$A$15,Data!$A$6:$E$16,5,TRUE)*N6 -> 0 | P6: =J6+L6+N6 -> 0 | Q6: =K6+M6+O6 -> 0 | R6: =H6+P6 -> 0 | S6: =I6+Q6 -> 0
A7: 2. Lotus Express | B7: 0 | C7: =VLOOKUP($A$6:$A$15,Data!$A$6:$E$16,3,TRUE)*B7 -> 0 | D7: 0 | E7: =VLOOKUP($A$6:$A$15,Data!$A$6:$E$16,3,TRUE)*D7 -> 0 | F7: 0 | G7: =VLOOKUP($A$6:$A$15,Data!$A$6:$E$16,3,TRUE)*F7 -> 0 | H7: =B7+D7+F7 -> 0 | I7: =C7+E7+G7 -> 0 | J7: 0 | K7: =VLOOKUP($A$6:$A$15,Data!$A$6:$E$16,5,TRUE)*J7 -> 0 | L7: 0 | M7: =VLOOKUP($A$6:$A$15,Data!$A$6:$E$16,5,TRUE)*L7 -> 0 | N7: 0 | O7: =VLOOKUP($A$6:$A$15,Data!$A$6:$E$16,5,TRUE)*N7 -> 0 | P7: =J7+L7+N7 -> 0 | Q7: =K7+M7+O7 -> 0 | R7: =H7+P7 -> 0 | S7: =I7+Q7 -> 0
A8: 3. Tesco Lotus | B8: 0 | C8: =VLOOKUP($A$6:$A$15,Data!$A$6:$E$16,3,TRUE)*B8 -> 0 | D8: 0 | E8: =VLOOKUP($A$6:$A$15,Data!$A$6:$E$16,3,TRUE)*D8 -> 0 | F8: 0 | G8: =VLOOKUP($A$6:$A$15,Data!$A$6:$E$16,3,TRUE)*F8 -> 0 | H8: =B8+D8+F8 -> 0 | I8: =C8+E8+G8 -> 0 | J8: 0 | K8: =VLOOKUP($A$6:$A$15,Data!$A$6:$E$16,5,TRUE)*J8 -> 0 | L8: 0 | M8: =VLOOKUP($A$6:$A$15,Data!$A$6:$E$16,5,TRUE)*L8 -> 0 | N8: 0 | O8: =VLOOKUP($A$6:$A$15,Data!$A$6:$E$16,5,TRUE)*N8 -> 0 | P8: =J8+L8+N8 -> 0 | Q8: =K8+M8+O8 -> 0 | R8: =H8+P8 -> 0 | S8: =I8+Q8 -> 0
A9: 4. Tarad Lotus | B9: 16 | C9: =VLOOKUP($A$6:$A$15,Data!$A$6:$E$16,3,TRUE)*B9 -> 8480 | D9: 3 | E9: =VLOOKUP($A$6:$A$15,Data!$A$6:$E$16,3,TRUE)*D9 -> 1590 | F9: 2 | G9: =VLOOKUP($A$6:$A$15,Data!$A$6:$E$16,3,TRUE)*F9 -> 1060 | H9: =B9+D9+F9 -> 21 | I9: =C9+E9+G9 -> 11130 | J9: 23 | K9: =VLOOKUP($A$6:$A$15,Data!$A$6:$E$16,5,TRUE)*J9 -> 9775 | L9: 7 | M9: =VLOOKUP($A$6:$A$15,Data!$A$6:$E$16,5,TRUE)*L9 -> 2975 | N9: 9 | O9: =VLOOKUP($A$6:$A$15,Data!$A$6:$E$16,5,TRUE)*N9 -> 3825 | P9: =J9+L9+N9 -> 39 | Q9: =K9+M9+O9 -> 16575 | R9: =H9+P9 -> 60 | S9: =I9+Q9 -> 27705
A10: 5. BigC Supercenter | B10: 0 | C10: =VLOOKUP($A$6:$A$15,Data!$A$6:$E$16,3,TRUE)*B10 -> 0 | D10: 0 | E10: =VLOOKUP($A$6:$A$15,Data!$A$6:$E$16,3,TRUE)*D10 -> 0 | F10: 0 | G10: =VLOOKUP($A$6:$A$15,Data!$A$6:$E$16,3,TRUE)*F10 -> 0 | H10: =B10+D10+F10 -> 0 | I10: =C10+E10+G10 -> 0 | J10: 0 | K10: =VLOOKUP($A$6:$A$15,Data!$A$6:$E$16,5,TRUE)*J10 -> 0 | L10: 0 | M10: =VLOOKUP($A$6:$A$15,Data!$A$6:$E$16,5,TRUE)*L10 -> 0 | N10: 0 | O10: =VLOOKUP($A$6:$A$15,Data!$A$6:$E$16,5,TRUE)*N10 -> 0 | P10: =J10+L10+N10 -> 0 | Q10: =K10+M10+O10 -> 0 | R10: =H10+P10 -> 0 | S10: =I10+Q10 -> 0
A11: 6. Aeon (Max Value) | B11: 0 | C11: =VLOOKUP($A$6:$A$15,Data!$A$6:$E$16,3,TRUE)*B11 -> 0 | D11: 0 | E11: =VLOOKUP($A$6:$A$15,Data!$A$6:$E$16,3,TRUE)*D11 -> 0 | F11: 0 | G11: =VLOOKUP($A$6:$A$15,Data!$A$6:$E$16,3,TRUE)*F11 -> 0 | H11: =B11+D11+F11 -> 0 | I11: =C11+E11+G11 -> 0 | J11: 0 | K11: =VLOOKUP($A$6:$A$15,Data!$A$6:$E$16,5,TRUE)*J11 -> 0 | L11: 0 | M11: =VLOOKUP($A$6:$A$15,Data!$A$6:$E$16,5,TRUE)*L11 -> 0 | N11: 0 | O11: =VLOOKUP($A$6:$A$15,Data!$A$6:$E$16,5,TRUE)*N11 -> 0 | P11: =J11+L11+N11 -> 0 | Q11: =K11+M11+O11 -> 0 | R11: =H11+P11 -> 0 | S11: =I11+Q11 -> 0
A12: 7. Foodland | B12: 1 | C12: =VLOOKUP($A$6:$A$15,Data!$A$6:$E$16,3,TRUE)*B12 -> 514.1 | D12: 0 | E12: =VLOOKUP($A$6:$A$15,Data!$A$6:$E$16,3,TRUE)*D12 -> 0 | F12: 1 | G12: =VLOOKUP($A$6:$A$15,Data!$A$6:$E$16,3,TRUE)*F12 -> 514.1 | H12: =B12+D12+F12 -> 2 | I12: =C12+E12+G12 -> 1028.2 | J12: 2 | K12: =VLOOKUP($A$6:$A$15,Data!$A$6:$E$16,5,TRUE)*J12 -> 873 | L12: 0 | M12: =VLOOKUP($A$6:$A$15,Data!$A$6:$E$16,5,TRUE)*L12 -> 0 | N12: 1 | O12: =VLOOKUP($A$6:$A$15,Data!$A$6:$E$16,5,TRUE)*N12 -> 436.5 | P12: =J12+L12+N12 -> 3 | Q12: =K12+M12+O12 -> 1309.5 | R12: =H12+P12 -> 5 | S12: =I12+Q12 -> 2337.7
A13: 8. Carrefour | B13: 0 | C13: =VLOOKUP($A$6:$A$15,Data!$A$6:$E$16,3,TRUE)*B13 -> 0 | D13: 0 | E13: =VLOOKUP($A$6:$A$15,Data!$A$6:$E$16,3,TRUE)*D13 -> 0 | F13: 0 | G13: =VLOOKUP($A$6:$A$15,Data!$A$6:$E$16,3,TRUE)*F13 -> 0 | H13: =B13+D13+F13 -> 0 | I13: =C13+E13+G13 -> 0 | J13: 0 | K13: =VLOOKUP($A$6:$A$15,Data!$A$6:$E$16,5,TRUE)*J13 -> 0 | L13: 0 | M13: =VLOOKUP($A$6:$A$15,Data!$A$6:$E$16,5,TRUE)*L13 -> 0 | N13: 0 | O13: =VLOOKUP($A$6:$A$15,Data!$A$6:$E$16,5,TRUE)*N13 -> 0 | P13: =J13+L13+N13 -> 0 | Q13: =K13+M13+O13 -> 0 | R13: =H13+P13 -> 0 | S13: =I13+Q13 -> 0
A14: 9. Top | B14: 0 | C14: =VLOOKUP($A$6:$A$15,Data!$A$6:$E$16,3,TRUE)*B14 -> 0 | D14: 0 | E14: =VLOOKUP($A$6:$A$15,Data!$A$6:$E$16,3,TRUE)*D14 -> 0 | F14: 0 | G14: =VLOOKUP($A$6:$A$15,Data!$A$6:$E$16,3,TRUE)*F14 -> 0 | H14: =B14+D14+F14 -> 0 | I14: =C14+E14+G14 -> 0 | J14: 0 | K14: =VLOOKUP($A$6:$A$15,Data!$A$6:$E$16,5,TRUE)*J14 -> 0 | L14: 0 | M14: =VLOOKUP($A$6:$A$15,Data!$A$6:$E$16,5,TRUE)*L14 -> 0 | N14: 0 | O14: =VLOOKUP($A$6:$A$15,Data!$A$6:$E$16,5,TRUE)*N14 -> 0 | P14: =J14+L14+N14 -> 0 | Q14: =K14+M14+O14 -> 0 | R14: =H14+P14 -> 0 | S14: =I14+Q14 -> 0
A15: 10. อื่นๆ | B15: 0 | C15: =VLOOKUP($A$6:$A$15,Data!$A$6:$E$16,3,TRUE)*B15 -> 0 | D15: 0 | E15: =VLOOKUP($A$6:$A$15,Data!$A$6:$E$16,3,TRUE)*D15 -> 0 | F15: 0 | G15: =VLOOKUP($A$6:$A$15,Data!$A$6:$E$16,3,TRUE)*F15 -> 0 | H15: =B15+D15+F15 -> 0 | I15: =C15+E15+G15 -> 0 | J15: 0 | K15: =VLOOKUP($A$6:$A$15,Data!$A$6:$E$16,5,TRUE)*J15 -> 0 | L15: 0 | M15: =VLOOKUP($A$6:$A$15,Data!$A$6:$E$16,5,TRUE)*L15 -> 0 | N15: 0 | O15: =VLOOKUP($A$6:$A$15,Data!$A$6:$E$16,5,TRUE)*N15 -> 0 | P15: =J15+L15+N15 -> 0 | Q15: =K15+M15+O15 -> 0 | R15: =H15+P15 -> 0 | S15: =I15+Q15 -> 0
B16: =SUM(B6:B13) -> 17 | C16: =SUM(C6:C15) -> 8994.1 | D16: =SUM(D6:D13) -> 3 | E16: =SUM(E6:E15) -> 1590 | F16: =SUM(F6:F15) -> 3 | G16: =SUM(G6:G15) -> 1574.1 | H16: =B16+D16+F16 -> 23 | I16: =C16+E16+G16 -> 12158.2 | J16: =SUM(J6:J15) -> 25 | K16: =SUM(K6:K15) -> 10648 | L16: =SUM(L6:L15) -> 7 | M16: =SUM(M6:M15) -> 2975 | N16: =SUM(N6:N15) -> 10 | O16: =SUM(O6:O15) -> 4261.5 | P16: =J16+L16+N16 -> 42 | Q16: =K16+M16+O16 -> 17884.5 | R16: =H16+P16 -> 65 | S16: =I16+Q16 -> 30042.7

Sheet 9
A1: OHO Daily Sales Report as of July 9, 2011
B3: OHO Jok (Sachet) | H3: Total | J3: OHO Jok (Cup) | P3: Total | R3: Total Market
A4: Customer | B4: Pork | D4: Chicken | F4: Seaweed | H4: Sachet | J4: Pork | L4: Chicken | N4: Seaweed | P4: Cup
B5: Cases | C5: Bht. | D5: Cases | E5: Bht. | F5: Cases | G5: Bht. | H5: Cases | I5: Bht. | J5: Cases | K5: Bht. | L5: Cases | M5: Bht. | N5: Cases | O5: Bht. | P5: Cases | Q5: Bht. | R5: Cases | S5: Bht.
A6: 1. The Mall Group | C6: =VLOOKUP($A$6:$A$13,Data!$A$6:$E$16,3,TRUE)*B6 -> 0 | E6: =VLOOKUP($A$6:$A$13,Data!$A$6:$E$16,3,TRUE)*D6 -> 0 | G6: =VLOOKUP($A$6:$A$13,Data!$A$6:$E$16,3,TRUE)*F6 -> 0 | H6: =B6+D6+F6 -> 0 | I6: =C6+E6+G6 -> 0 | K6: =VLOOKUP($A$6:$A$12,Data!$A$6:$E$16,5,TRUE)*J6 -> 0 | M6: =VLOOKUP($A$6:$A$12,Data!$A$6:$E$16,5,TRUE)*L6 -> 0 | O6: =VLOOKUP($A$6:$A$12,Data!$A$6:$E$16,5,TRUE)*N6 -> 0 | P6: =J6+L6+N6 -> 0 | Q6: =K6+M6+O6 -> 0 | R6: =H6+P6 -> 0 | S6: =I6+Q6 -> 0
A7: 2. Lotus Express | C7: =VLOOKUP($A$6:$A$13,Data!$A$6:$E$16,3,TRUE)*B7 -> 0 | E7: =VLOOKUP($A$6:$A$13,Data!$A$6:$E$16,3,TRUE)*D7 -> 0 | G7: =VLOOKUP($A$6:$A$13,Data!$A$6:$E$16,3,TRUE)*F7 -> 0 | H7: =B7+D7+F7 -> 0 | I7: =C7+E7+G7 -> 0 | K7: =VLOOKUP($A$6:$A$12,Data!$A$6:$E$16,5,TRUE)*J7 -> 0 | M7: =VLOOKUP($A$6:$A$12,Data!$A$6:$E$16,5,TRUE)*L7 -> 0 | O7: =VLOOKUP($A$6:$A$12,Data!$A$6:$E$16,5,TRUE)*N7 -> 0 | P7: =J7+L7+N7 -> 0 | Q7: =K7+M7+O7 -> 0 | R7: =H7+P7 -> 0 | S7: =I7+Q7 -> 0
A8: 3. Tesco Lotus | C8: =VLOOKUP($A$6:$A$13,Data!$A$6:$E$16,3,TRUE)*B8 -> 0 | E8: =VLOOKUP($A$6:$A$13,Data!$A$6:$E$16,3,TRUE)*D8 -> 0 | G8: =VLOOKUP($A$6:$A$13,Data!$A$6:$E$16,3,TRUE)*F8 -> 0 | H8: =B8+D8+F8 -> 0 | I8: =C8+E8+G8 -> 0 | K8: =VLOOKUP($A$6:$A$12,Data!$A$6:$E$16,5,TRUE)*J8 -> 0 | M8: =VLOOKUP($A$6:$A$12,Data!$A$6:$E$16,5,TRUE)*L8 -> 0 | O8: =VLOOKUP($A$6:$A$12,Data!$A$6:$E$16,5,TRUE)*N8 -> 0 | P8: =J8+L8+N8 -> 0 | Q8: =K8+M8+O8 -> 0 | R8: =H8+P8 -> 0 | S8: =I8+Q8 -> 0
A9: 4. Tarad Lotus | C9: =VLOOKUP($A$6:$A$13,Data!$A$6:$E$16,3,TRUE)*B9 -> 0 | E9: =VLOOKUP($A$6:$A$13,Data!$A$6:$E$16,3,TRUE)*D9 -> 0 | G9: =VLOOKUP($A$6:$A$13,Data!$A$6:$E$16,3,TRUE)*F9 -> 0 | H9: =B9+D9+F9 -> 0 | I9: =C9+E9+G9 -> 0 | K9: =VLOOKUP($A$6:$A$12,Data!$A$6:$E$16,5,TRUE)*J9 -> 0 | M9: =VLOOKUP($A$6:$A$12,Data!$A$6:$E$16,5,TRUE)*L9 -> 0 | O9: =VLOOKUP($A$6:$A$12,Data!$A$6:$E$16,5,TRUE)*N9 -> 0 | P9: =J9+L9+N9 -> 0 | Q9: =K9+M9+O9 -> 0 | R9: =H9+P9 -> 0 | S9: =I9+Q9 -> 0
A10: 5. BigC Supercenter | C10: =VLOOKUP($A$6:$A$13,Data!$A$6:$E$16,3,TRUE)*B10 -> 0 | E10: =VLOOKUP($A$6:$A$13,Data!$A$6:$E$16,3,TRUE)*D10 -> 0 | G10: =VLOOKUP($A$6:$A$13,Data!$A$6:$E$16,3,TRUE)*F10 -> 0 | H10: =B10+D10+F10 -> 0 | I10: =C10+E10+G10 -> 0 | K10: =VLOOKUP($A$6:$A$12,Data!$A$6:$E$16,5,TRUE)*J10 -> 0 | M10: =VLOOKUP($A$6:$A$12,Data!$A$6:$E$16,5,TRUE)*L10 -> 0 | O10: =VLOOKUP($A$6:$A$12,Data!$A$6:$E$16,5,TRUE)*N10 -> 0 | P10: =J10+L10+N10 -> 0 | Q10: =K10+M10+O10 -> 0 | R10: =H10+P10 -> 0 | S10: =I10+Q10 -> 0
A11: 6. Aeon (Max Value) | C11: =VLOOKUP($A$6:$A$13,Data!$A$6:$E$16,3,TRUE)*B11 -> 0 | E11: =VLOOKUP($A$6:$A$13,Data!$A$6:$E$16,3,TRUE)*D11 -> 0 | G11: =VLOOKUP($A$6:$A$13,Data!$A$6:$E$16,3,TRUE)*F11 -> 0 | H11: =B11+D11+F11 -> 0 | I11: =C11+E11+G11 -> 0 | K11: =VLOOKUP($A$6:$A$12,Data!$A$6:$E$16,5,TRUE)*J11 -> 0 | M11: =VLOOKUP($A$6:$A$12,Data!$A$6:$E$16,5,TRUE)*L11 -> 0 | O11: =VLOOKUP($A$6:$A$12,Data!$A$6:$E$16,5,TRUE)*N11 -> 0 | P11: =J11+L11+N11 -> 0 | Q11: =K11+M11+O11 -> 0 | R11: =H11+P11 -> 0 | S11: =I11+Q11 -> 0
A12: 7. Foodland | C12: =VLOOKUP($A$6:$A$13,Data!$A$6:$E$16,3,TRUE)*B12 -> 0 | E12: =VLOOKUP($A$6:$A$13,Data!$A$6:$E$16,3,TRUE)*D12 -> 0 | G12: =VLOOKUP($A$6:$A$13,Data!$A$6:$E$16,3,TRUE)*F12 -> 0 | H12: =B12+D12+F12 -> 0 | I12: =C12+E12+G12 -> 0 | K12: =VLOOKUP($A$6:$A$12,Data!$A$6:$E$16,5,TRUE)*J12 -> 0 | M12: =VLOOKUP($A$6:$A$12,Data!$A$6:$E$16,5,TRUE)*L12 -> 0 | O12: =VLOOKUP($A$6:$A$12,Data!$A$6:$E$16,5,TRUE)*N12 -> 0 | P12: =J12+L12+N12 -> 0 | Q12: =K12+M12+O12 -> 0 | R12: =H12+P12 -> 0 | S12: =I12+Q12 -> 0
A13: 8. Carrefour | C13: =VLOOKUP($A$6:$A$13,Data!$A$6:$E$16,3,TRUE)*B13 -> 0 | E13: =VLOOKUP($A$6:$A$13,Data!$A$6:$E$16,3,TRUE)*D13 -> 0 | G13: =VLOOKUP($A$6:$A$13,Data!$A$6:$E$16,3,TRUE)*F13 -> 0 | H13: =B13+D13+F13 -> 0 | I13: =C13+E13+G13 -> 0
A14: 9. Top
A15: 10. อื่นๆ
B16: =SUM(B6:B13) -> 0 | C16: =SUM(C6:C12) -> 0 | D16: =SUM(D6:D13) -> 0 | E16: =SUM(E6:E12) -> 0 | F16: =SUM(F6:F13) -> 0 | G16: =SUM(G6:G12) -> 0 | H16: =B16+D16+F16 -> 0 | I16: =C16+E16+G16 -> 0 | J16: =SUM(J6:J12) -> 0 | K16: =SUM(K6:K12) -> 0 | L16: =SUM(L6:L12) -> 0 | M16: =SUM(M6:M12) -> 0 | N16: =SUM(N6:N12) -> 0 | O16: =SUM(O6:O12) -> 0 | P16: =J16+L16+N16 -> 0 | Q16: =K16+M16+O16 -> 0 | R16: =H16+P16 -> 0 | S16: =I16+Q16 -> 0

Sheet 10
A1: OHO Daily Sales Report as of July 10, 2011
B3: OHO Jok (Sachet) | H3: Total | J3: OHO Jok (Cup) | P3: Total | R3: Total Market
A4: Customer | B4: Pork | D4: Chicken | F4: Seaweed | H4: Sachet | J4: Pork | L4: Chicken | N4: Seaweed | P4: Cup
B5: Cases | C5: Bht. | D5: Cases | E5: Bht. | F5: Cases | G5: Bht. | H5: Cases | I5: Bht. | J5: Cases | K5: Bht. | L5: Cases | M5: Bht. | N5: Cases | O5: Bht. | P5: Cases | Q5: Bht. | R5: Cases | S5: Bht.
A6: 1. The Mall Group | C6: =VLOOKUP($A$6:$A$12,Data!$A$6:$E$16,3,TRUE)*B6 -> 0 | E6: =VLOOKUP($A$6:$A$12,Data!$A$6:$E$16,3,TRUE)*D6 -> 0 | G6: =VLOOKUP($A$6:$A$12,Data!$A$6:$E$16,3,TRUE)*F6 -> 0 | H6: =B6+D6+F6 -> 0 | I6: =C6+E6+G6 -> 0 | K6: =VLOOKUP($A$6:$A$12,Data!$A$6:$E$16,5,TRUE)*J6 -> 0 | M6: =VLOOKUP($A$6:$A$12,Data!$A$6:$E$16,5,TRUE)*L6 -> 0 | O6: =VLOOKUP($A$6:$A$12,Data!$A$6:$E$16,5,TRUE)*N6 -> 0 | P6: =J6+L6+N6 -> 0 | Q6: =K6+M6+O6 -> 0 | R6: =H6+P6 -> 0 | S6: =I6+Q6 -> 0
A7: 2. Lotus Express | C7: =VLOOKUP($A$6:$A$12,Data!$A$6:$E$16,3,TRUE)*B7 -> 0 | E7: =VLOOKUP($A$6:$A$12,Data!$A$6:$E$16,3,TRUE)*D7 -> 0 | G7: =VLOOKUP($A$6:$A$12,Data!$A$6:$E$16,3,TRUE)*F7 -> 0 | H7: =B7+D7+F7 -> 0 | I7: =C7+E7+G7 -> 0 | K7: =VLOOKUP($A$6:$A$12,Data!$A$6:$E$16,5,TRUE)*J7 -> 0 | M7: =VLOOKUP($A$6:$A$12,Data!$A$6:$E$16,5,TRUE)*L7 -> 0 | O7: =VLOOKUP($A$6:$A$12,Data!$A$6:$E$16,5,TRUE)*N7 -> 0 | P7: =J7+L7+N7 -> 0 | Q7: =K7+M7+O7 -> 0 | R7: =H7+P7 -> 0 | S7: =I7+Q7 -> 0
A8: 3. Tesco Lotus | C8: =VLOOKUP($A$6:$A$12,Data!$A$6:$E$16,3,TRUE)*B8 -> 0 | E8: =VLOOKUP($A$6:$A$12,Data!$A$6:$E$16,3,TRUE)*D8 -> 0 | G8: =VLOOKUP($A$6:$A$12,Data!$A$6:$E$16,3,TRUE)*F8 -> 0 | H8: =B8+D8+F8 -> 0 | I8: =C8+E8+G8 -> 0 | K8: =VLOOKUP($A$6:$A$12,Data!$A$6:$E$16,5,TRUE)*J8 -> 0 | M8: =VLOOKUP($A$6:$A$12,Data!$A$6:$E$16,5,TRUE)*L8 -> 0 | O8: =VLOOKUP($A$6:$A$12,Data!$A$6:$E$16,5,TRUE)*N8 -> 0 | P8: =J8+L8+N8 -> 0 | Q8: =K8+M8+O8 -> 0 | R8: =H8+P8 -> 0 | S8: =I8+Q8 -> 0
A9: 4. Tarad Lotus | C9: =VLOOKUP($A$6:$A$12,Data!$A$6:$E$16,3,TRUE)*B9 -> 0 | E9: =VLOOKUP($A$6:$A$12,Data!$A$6:$E$16,3,TRUE)*D9 -> 0 | G9: =VLOOKUP($A$6:$A$12,Data!$A$6:$E$16,3,TRUE)*F9 -> 0 | H9: =B9+D9+F9 -> 0 | I9: =C9+E9+G9 -> 0 | K9: =VLOOKUP($A$6:$A$12,Data!$A$6:$E$16,5,TRUE)*J9 -> 0 | M9: =VLOOKUP($A$6:$A$12,Data!$A$6:$E$16,5,TRUE)*L9 -> 0 | O9: =VLOOKUP($A$6:$A$12,Data!$A$6:$E$16,5,TRUE)*N9 -> 0 | P9: =J9+L9+N9 -> 0 | Q9: =K9+M9+O9 -> 0 | R9: =H9+P9 -> 0 | S9: =I9+Q9 -> 0
A10: 5. BigC Supercenter | C10: =VLOOKUP($A$6:$A$12,Data!$A$6:$E$16,3,TRUE)*B10 -> 0 | E10: =VLOOKUP($A$6:$A$12,Data!$A$6:$E$16,3,TRUE)*D10 -> 0 | G10: =VLOOKUP($A$6:$A$12,Data!$A$6:$E$16,3,TRUE)*F10 -> 0 | H10: =B10+D10+F10 -> 0 | I10: =C10+E10+G10 -> 0 | K10: =VLOOKUP($A$6:$A$12,Data!$A$6:$E$16,5,TRUE)*J10 -> 0 | M10: =VLOOKUP($A$6:$A$12,Data!$A$6:$E$16,5,TRUE)*L10 -> 0 | O10: =VLOOKUP($A$6:$A$12,Data!$A$6:$E$16,5,TRUE)*N10 -> 0 | P10: =J10+L10+N10 -> 0 | Q10: =K10+M10+O10 -> 0 | R10: =H10+P10 -> 0 | S10: =I10+Q10 -> 0
A11: 6. Aeon (Max Value) | C11: =VLOOKUP($A$6:$A$12,Data!$A$6:$E$16,3,TRUE)*B11 -> 0 | E11: =VLOOKUP($A$6:$A$12,Data!$A$6:$E$16,3,TRUE)*D11 -> 0 | G11: =VLOOKUP($A$6:$A$12,Data!$A$6:$E$16,3,TRUE)*F11 -> 0 | H11: =B11+D11+F11 -> 0 | I11: =C11+E11+G11 -> 0 | K11: =VLOOKUP($A$6:$A$12,Data!$A$6:$E$16,5,TRUE)*J11 -> 0 | M11: =VLOOKUP($A$6:$A$12,Data!$A$6:$E$16,5,TRUE)*L11 -> 0 | O11: =VLOOKUP($A$6:$A$12,Data!$A$6:$E$16,5,TRUE)*N11 -> 0 | P11: =J11+L11+N11 -> 0 | Q11: =K11+M11+O11 -> 0 | R11: =H11+P11 -> 0 | S11: =I11+Q11 -> 0
A12: 7. Foodland | C12: =VLOOKUP($A$6:$A$12,Data!$A$6:$E$16,3,TRUE)*B12 -> 0 | E12: =VLOOKUP($A$6:$A$12,Data!$A$6:$E$16,3,TRUE)*D12 -> 0 | G12: =VLOOKUP($A$6:$A$12,Data!$A$6:$E$16,3,TRUE)*F12 -> 0 | H12: =B12+D12+F12 -> 0 | I12: =C12+E12+G12 -> 0 | K12: =VLOOKUP($A$6:$A$12,Data!$A$6:$E$16,5,TRUE)*J12 -> 0 | M12: =VLOOKUP($A$6:$A$12,Data!$A$6:$E$16,5,TRUE)*L12 -> 0 | O12: =VLOOKUP($A$6:$A$12,Data!$A$6:$E$16,5,TRUE)*N12 -> 0 | P12: =J12+L12+N12 -> 0 | Q12: =K12+M12+O12 -> 0 | R12: =H12+P12 -> 0 | S12: =I12+Q12 -> 0
A13: 8. Carrefour
A14: 9. Top
A15: 10. อื่นๆ
B16: =SUM(B6:B12) -> 0 | C16: =SUM(C6:C12) -> 0 | D16: =SUM(D6:D12) -> 0 | E16: =SUM(E6:E12) -> 0 | F16: =SUM(F6:F12) -> 0 | G16: =SUM(G6:G12) -> 0 | H16: =B16+D16+F16 -> 0 | I16: =C16+E16+G16 -> 0 | J16: =SUM(J6:J12) -> 0 | K16: =SUM(K6:K12) -> 0 | L16: =SUM(L6:L12) -> 0 | M16: =SUM(M6:M12) -> 0 | N16: =SUM(N6:N12) -> 0 | O16: =SUM(O6:O12) -> 0 | P16: =J16+L16+N16 -> 0 | Q16: =K16+M16+O16 -> 0 | R16: =H16+P16 -> 0 | S16: =I16+Q16 -> 0

Sheet 11
A1: OHO Daily Sales Report as of July 11, 2011
B3: OHO Jok (Sachet) | H3: Total | J3: OHO Jok (Cup) | P3: Total | R3: Total Market
A4: Customer | B4: Pork | D4: Chicken | F4: Seaweed | H4: Sachet | J4: Pork | L4: Chicken | N4: Seaweed | P4: Cup
B5: Cases | C5: Bht. | D5: Cases | E5: Bht. | F5: Cases | G5: Bht. | H5: Cases | I5: Bht. | J5: Cases | K5: Bht. | L5: Cases | M5: Bht. | N5: Cases | O5: Bht. | P5: Cases | Q5: Bht. | R5: Cases | S5: Bht.
A6: 1. The Mall Group | B6: 0 | C6: =VLOOKUP($A$6:$A$15,Data!$A$6:$E$16,3,TRUE)*B6 -> 0 | D6: 0 | E6: =VLOOKUP($A$6:$A$15,Data!$A$6:$E$16,3,TRUE)*D6 -> 0 | F6: 0 | G6: =VLOOKUP($A$6:$A$15,Data!$A$6:$E$16,3,TRUE)*F6 -> 0 | H6: =B6+D6+F6 -> 0 | I6: =C6+E6+G6 -> 0 | J6: 0 | K6: =VLOOKUP($A$6:$A$15,Data!$A$6:$E$16,5,TRUE)*J6 -> 0 | L6: 0 | M6: =VLOOKUP($A$6:$A$15,Data!$A$6:$E$16,5,TRUE)*L6 -> 0 | N6: 0 | O6: =VLOOKUP($A$6:$A$15,Data!$A$6:$E$16,5,TRUE)*N6 -> 0 | P6: =J6+L6+N6 -> 0 | Q6: =K6+M6+O6 -> 0 | R6: =H6+P6 -> 0 | S6: =I6+Q6 -> 0
A7: 2. Lotus Express | B7: 0 | C7: =VLOOKUP($A$6:$A$15,Data!$A$6:$E$16,3,TRUE)*B7 -> 0 | D7: 0 | E7: =VLOOKUP($A$6:$A$15,Data!$A$6:$E$16,3,TRUE)*D7 -> 0 | F7: 0 | G7: =VLOOKUP($A$6:$A$15,Data!$A$6:$E$16,3,TRUE)*F7 -> 0 | H7: =B7+D7+F7 -> 0 | I7: =C7+E7+G7 -> 0 | J7: 0 | K7: =VLOOKUP($A$6:$A$15,Data!$A$6:$E$16,5,TRUE)*J7 -> 0 | L7: 0 | M7: =VLOOKUP($A$6:$A$15,Data!$A$6:$E$16,5,TRUE)*L7 -> 0 | N7: 0 | O7: =VLOOKUP($A$6:$A$15,Data!$A$6:$E$16,5,TRUE)*N7 -> 0 | P7: =J7+L7+N7 -> 0 | Q7: =K7+M7+O7 -> 0 | R7: =H7+P7 -> 0 | S7: =I7+Q7 -> 0
A8: 3. Tesco Lotus | B8: 0 | C8: =VLOOKUP($A$6:$A$15,Data!$A$6:$E$16,3,TRUE)*B8 -> 0 | D8: 0 | E8: =VLOOKUP($A$6:$A$15,Data!$A$6:$E$16,3,TRUE)*D8 -> 0 | F8: 0 | G8: =VLOOKUP($A$6:$A$15,Data!$A$6:$E$16,3,TRUE)*F8 -> 0 | H8: =B8+D8+F8 -> 0 | I8: =C8+E8+G8 -> 0 | J8: 0 | K8: =VLOOKUP($A$6:$A$15,Data!$A$6:$E$16,5,TRUE)*J8 -> 0 | L8: 0 | M8: =VLOOKUP($A$6:$A$15,Data!$A$6:$E$16,5,TRUE)*L8 -> 0 | N8: 0 | O8: =VLOOKUP($A$6:$A$15,Data!$A$6:$E$16,5,TRUE)*N8 -> 0 | P8: =J8+L8+N8 -> 0 | Q8: =K8+M8+O8 -> 0 | R8: =H8+P8 -> 0 | S8: =I8+Q8 -> 0
A9: 4. Tarad Lotus | B9: 0 | C9: =VLOOKUP($A$6:$A$15,Data!$A$6:$E$16,3,TRUE)*B9 -> 0 | D9: 0 | E9: =VLOOKUP($A$6:$A$15,Data!$A$6:$E$16,3,TRUE)*D9 -> 0 | F9: 0 | G9: =VLOOKUP($A$6:$A$15,Data!$A$6:$E$16,3,TRUE)*F9 -> 0 | H9: =B9+D9+F9 -> 0 | I9: =C9+E9+G9 -> 0 | J9: 0 | K9: =VLOOKUP($A$6:$A$15,Data!$A$6:$E$16,5,TRUE)*J9 -> 0 | L9: 0 | M9: =VLOOKUP($A$6:$A$15,Data!$A$6:$E$16,5,TRUE)*L9 -> 0 | N9: 0 | O9: =VLOOKUP($A$6:$A$15,Data!$A$6:$E$16,5,TRUE)*N9 -> 0 | P9: =J9+L9+N9 -> 0 | Q9: =K9+M9+O9 -> 0 | R9: =H9+P9 -> 0 | S9: =I9+Q9 -> 0
