Workbook
Name DateSavingsBegin: 'chart 2561_2'!#REF!
Name DateSavingsBegin: #REF!
Name TotalMonthlyExpenses: SUM([1]!Expense[Amount])
Name TotalMonthlyIncome: SUM([1]!Income[Amount])
Name สังกัด: [2]รายละเอียด!$B$18:$B$21

Sheet Data
F2: เป้าหมายผลประหยัด (GWh) | I2: ผลประหยัด (GWh) | J2: รหัสผู้ | K2: แผนกผู้รับผิด | L2: ผู้รับผิดชอบ
A3: มาตรการ | B3: ประเภท | C3: ประเภท 1 | D3: รูปแบบงาน | E3: รูปแบบงาน/โครงการ | F3: พ.ศ.2561 | G3: พ.ศ.2562 | H3: พ.ศ.2563 | I3: ณ 24 ก.ย.61 | J3: รหัสผู้ | K3: แผนกผู้รับผิด | L3: ผู้รับผิดชอบ
A4: 1. มาตรการให้คำปรึกษา | B4: 1.1 งานส่งเสริมอนุรักษ์พลังงานในภาครัฐ | C4: 1.1.1 | D4: โครงการบริหารจัดการเพื่อการประหยัดพลังงานในมหาวิทยาลัยรามคำแหง | E4: 1.1.1 โครงการบริหารจัดการเพื่อการประหยัดพลังงานในมหาวิทยาลัยรามคำแหง | F4: 3.36 | G4: 7.93 | H4: 2.26 | I4: 3.36 | J4: =IF(L4="กฟน.",1,IF(L4="กฟผ.",0,-1)) -> -1 | K4: 0 | L4: กฟภ.
A5: 1. มาตรการให้คำปรึกษา | B5: 1.1 งานส่งเสริมอนุรักษ์พลังงานในภาครัฐ | C5: 1.1.2 | D5: โครงการบริหารจัดการเพื่อการประหยัดพลังงานในมหาวิทยาลัยวลัยลักษณ์ | E5: 1.1.2 โครงการบริหารจัดการเพื่อการประหยัดพลังงานในมหาวิทยาลัยวลัยลักษณ์ | F5: 0 | G5: 1.93 | H5: 0 | I5: 0 | J5: =IF(L5="กฟน.",1,IF(L5="กฟผ.",0,-1)) -> -1 | K5: 0 | L5: กฟภ.
A6: 1. มาตรการให้คำปรึกษา | B6: 1.1 งานส่งเสริมอนุรักษ์พลังงานในภาครัฐ | C6: 1.1.3 | D6: โครงการบริหารจัดการเพื่อการประหยัดพลังงานในองค์การค้าของ สกสค. | E6: 1.1.3 โครงการบริหารจัดการเพื่อการประหยัดพลังงานในองค์การค้าของ สกสค. | F6: 0 | G6: 2.04 | H6: 0 | I6: 0 | J6: =IF(L6="กฟน.",1,IF(L6="กฟผ.",0,-1)) -> -1 | K6: 0 | L6: กฟภ.
A7: 1. มาตรการให้คำปรึกษา | B7: 1.1 งานส่งเสริมอนุรักษ์พลังงานในภาครัฐ | C7: 1.1.4 | D7: โครงการที่ปรึกษาด้านการจัดการพลังงาน ไปรษณีย์สาขาสุวรรณภูมิ | E7: 1.1.4 โครงการที่ปรึกษาด้านการจัดการพลังงาน ไปรษณีย์สาขาสุวรรณภูมิ | F7: 0.078 | G7: 0 | H7: 0 | I7: 0.078 | J7: =IF(L7="กฟน.",1,IF(L7="กฟผ.",0,-1)) -> -1 | K7: 0 | L7: กฟภ.
A8: 1. มาตรการให้คำปรึกษา | B8: 1.1 งานส่งเสริมอนุรักษ์พลังงานในภาครัฐ | C8: 1.1.5 | D8: โครงการที่ปรึกษาด้านการจัดการพลังงานกรมการกงศุล | E8: 1.1.5 โครงการที่ปรึกษาด้านการจัดการพลังงานกรมการกงศุล | F8: 0 | G8: 0.472 | H8: 0 | I8: 0 | J8: =IF(L8="กฟน.",1,IF(L8="กฟผ.",0,-1)) -> 1 | K8: 0 | L8: กฟน.
A9: 1. มาตรการให้คำปรึกษา | B9: 1.1 งานส่งเสริมอนุรักษ์พลังงานในภาครัฐ | C9: 1.1.6 | D9: โครงการส่งเสริมประสิทธิพลังงานในสถานศึกษา ร่วมกับ สพฐ. (กสท-ย.) | E9: 1.1.6 โครงการส่งเสริมประสิทธิพลังงานในสถานศึกษา ร่วมกับ สพฐ. (กสท-ย.) | F9: 0.012 | G9: 0.012 | H9: 0.012 | I9: 0 | J9: =IF(L9="กฟน.",1,IF(L9="กฟผ.",0,-1)) -> 0 | K9: กสท-ย. | L9: กฟผ.
A10: 1. มาตรการให้คำปรึกษา | B10: 1.1 งานส่งเสริมอนุรักษ์พลังงานในภาครัฐ | C10: 1.1.7 | D10: โครงการที่ปรึกษาด้านการจัดการพลังงานกรมส่งเสริมคุณภาพสิ่งแวดล้อม (กสช-ย.) | E10: 1.1.7 โครงการที่ปรึกษาด้านการจัดการพลังงานกรมส่งเสริมคุณภาพสิ่งแวดล้อม (กสช-ย.) | F10: 0.216 | G10: 0 | H10: 0 | I10: 0.216 | J10: =IF(L10="กฟน.",1,IF(L10="กฟผ.",0,-1)) -> 0 | K10: หปภ-ย. | L10: กฟผ.
A11: 1. มาตรการให้คำปรึกษา | B11: 1.1 งานส่งเสริมอนุรักษ์พลังงานในภาครัฐ | C11: 1.1.8 | D11: โครงการที่ปรึกษาด้านพลังงาน บริษัท กสท โทรคมนาคม จำกัด (กสช-ย.) | E11: 1.1.8 โครงการที่ปรึกษาด้านพลังงาน บริษัท กสท โทรคมนาคม จำกัด (กสช-ย.) | F11: 0.065 | G11: 0 | H11: 0 | I11: 0.065 | J11: =IF(L11="กฟน.",1,IF(L11="กฟผ.",0,-1)) -> 0 | K11: หปภ-ย. | L11: กฟผ.
A12: 1. มาตรการให้คำปรึกษา | B12: 1.1 งานส่งเสริมอนุรักษ์พลังงานในภาครัฐ | C12: 1.1.9 | D12: โครงการที่ปรึกษาด้านการจัดการพลังงาน มหาวิทยาลัยมหาสารคาม (กสช-ย.) | E12: 1.1.9 โครงการที่ปรึกษาด้านการจัดการพลังงาน มหาวิทยาลัยมหาสารคาม (กสช-ย.) | F12: 0.374 | G12: 0 | H12: 0 | I12: 0 | J12: =IF(L12="กฟน.",1,IF(L12="กฟผ.",0,-1)) -> 0 | K12: หปภ-ย. | L12: กฟผ.
A13: 1. มาตรการให้คำปรึกษา | B13: 1.2 ภาคอุตสาหกรรม ธุรกิจ และครัวเรือน | C13: 1.2.1 | D13: โครงการภายใต้ความร่วมมือกับสถาบันเพื่อพัฒนาที่เป็นมิตรกับสิ่งแวดล้อม (Global Green Growth Institute : GGGI) | E13: 1.2.1 โครงการภายใต้ความร่วมมือกับสถาบันเพื่อพัฒนาที่เป็นมิตรกับสิ่งแวดล้อม (Global Green Growth Institute : GGGI) | F13: 0 | G13: 2 | H13: 2 | I13: 0 | J13: =IF(L13="กฟน.",1,IF(L13="กฟผ.",0,-1)) -> -1 | K13: 0 | L13: กฟภ.
A14: 1. มาตรการให้คำปรึกษา | B14: 1.2 ภาคอุตสาหกรรม ธุรกิจ และครัวเรือน | C14: 1.2.2 | D14: งานที่ปรึกษาการอนุรักษ์พลังงานในวิสาหกิจขนาดกลางและขนาดย่อม (SME) ในลักษณะ ESCO Facilitator (กสช-ย.) | E14: 1.2.2 งานที่ปรึกษาการอนุรักษ์พลังงานในวิสาหกิจขนาดกลางและขนาดย่อม (SME) ในลักษณะ ESCO Facilitator (กสช-ย.) | F14: 0 | G14: 1.74 | H14: 1.74 | I14: 0 | J14: =IF(L14="กฟน.",1,IF(L14="กฟผ.",0,-1)) -> 0 | K14: 0 | L14: กฟผ.
A15: 1. มาตรการให้คำปรึกษา | B15: 1.2 ภาคอุตสาหกรรม ธุรกิจ และครัวเรือน | C15: 1.2.3 | D15: งานที่ปรึกษาด้านพลังงาน บริษัท อุตสาหกรรมนมไทย จำกัด (กสช-ย.) | E15: 1.2.3 งานที่ปรึกษาด้านพลังงาน บริษัท อุตสาหกรรมนมไทย จำกัด (กสช-ย.) | F15: 0.623 | G15: 0 | H15: 0 | I15: 0.03 | J15: =IF(L15="กฟน.",1,IF(L15="กฟผ.",0,-1)) -> 0 | K15: หปธ-ย. | L15: กฟผ.
A16: 1. มาตรการให้คำปรึกษา | B16: 1.2 ภาคอุตสาหกรรม ธุรกิจ และครัวเรือน | C16: 1.2.4 | D16: งานที่ปรึกษาด้านพลังงาน บริษัท เจริญชัยหม้อแปลงไฟฟ้า จำกัด (กสช-ย.) | E16: 1.2.4 งานที่ปรึกษาด้านพลังงาน บริษัท เจริญชัยหม้อแปลงไฟฟ้า จำกัด (กสช-ย.) | F16: 0.116 | G16: 0 | H16: 0 | I16: 0.055 | J16: =IF(L16="กฟน.",1,IF(L16="กฟผ.",0,-1)) -> 0 | K16: หปธ-ย. | L16: กฟผ.
A17: 1. มาตรการให้คำปรึกษา | B17: 1.2 ภาคอุตสาหกรรม ธุรกิจ และครัวเรือน | C17: 1.2.5 | D17: งานที่ปรึกษาด้านพลังงาน โรงแรมดุสิตไอส์แลนด์ รีสอร์ท เชียงราย (กสช-ย.) | E17: 1.2.5 งานที่ปรึกษาด้านพลังงาน โรงแรมดุสิตไอส์แลนด์ รีสอร์ท เชียงราย (กสช-ย.) | F17: 0.465 | G17: 0 | H17: 0 | I17: 0 | J17: =IF(L17="กฟน.",1,IF(L17="กฟผ.",0,-1)) -> 0 | K17: หปธ-ย. | L17: กฟผ.
A18: 1. มาตรการให้คำปรึกษา | B18: 1.2 ภาคอุตสาหกรรม ธุรกิจ และครัวเรือน | C18: 1.2.6 | D18: งานที่ปรึกษาด้านพลังงาน โรงแรมทวินทาวเวอร์ (กสช-ย.) | E18: 1.2.6 งานที่ปรึกษาด้านพลังงาน โรงแรมทวินทาวเวอร์ (กสช-ย.) | F18: 0.826 | G18: 0 | H18: 0 | I18: 0 | J18: =IF(L18="กฟน.",1,IF(L18="กฟผ.",0,-1)) -> 0 | K18: หปธ-ย. | L18: กฟผ.
A19: 1. มาตรการให้คำปรึกษา | B19: 1.2 ภาคอุตสาหกรรม ธุรกิจ และครัวเรือน | C19: 1.2.7 | D19: งานที่ปรึกษาด้านพลังงาน บริษัท P.P. Package (กสช-ย.) | E19: 1.2.7 งานที่ปรึกษาด้านพลังงาน บริษัท P.P. Package (กสช-ย.) | F19: 0.256 | G19: 0 | H19: 0 | I19: 0.295 | J19: =IF(L19="กฟน.",1,IF(L19="กฟผ.",0,-1)) -> 0 | K19: หปธ-ย. | L19: กฟผ.
A20: 1. มาตรการให้คำปรึกษา | B20: 1.2 ภาคอุตสาหกรรม ธุรกิจ และครัวเรือน | C20: 1.2.8 | D20: ที่ปรึกษาพลังงานด้าน HVAC (กสช-ย.) | E20: 1.2.8 ที่ปรึกษาพลังงานด้าน HVAC (กสช-ย.) | F20: 0 | G20: 2.774 | H20: 2.774 | I20: 0 | J20: =IF(L20="กฟน.",1,IF(L20="กฟผ.",0,-1)) -> 0 | K20: 0 | L20: กฟผ.
A21: 1. มาตรการให้คำปรึกษา | B21: 1.3 โครงการที่ลูกค้าขอเงินสนับสนุนจาก พพ. | C21: 1.3.1 | D21: งานที่ปรึกษาด้านพลังงาน ศูนย์การแพทย์ โรงพยาบาลกรุงเทพ (กสช-ย.) | E21: 1.3.1 งานที่ปรึกษาด้านพลังงาน ศูนย์การแพทย์ โรงพยาบาลกรุงเทพ (กสช-ย.) | F21: 0.22 | G21: 0 | H21: 0 | I21: 0 | J21: =IF(L21="กฟน.",1,IF(L21="กฟผ.",0,-1)) -> 0 | K21: หปธ-ย. | L21: กฟผ.
A22: 1. มาตรการให้คำปรึกษา | B22: 1.3 โครงการที่ลูกค้าขอเงินสนับสนุนจาก พพ. | C22: 1.3.2 | D22: โครงการที่ปรึกษาด้านการจัดการพลังงานการท่าเรือแห่งประเทศไทย | E22: 1.3.2 โครงการที่ปรึกษาด้านการจัดการพลังงานการท่าเรือแห่งประเทศไทย | F22: 0.204 | G22: 0 | H22: 0 | I22: 0 | J22: =IF(L22="กฟน.",1,IF(L22="กฟผ.",0,-1)) -> 1 | K22: 0 | L22: กฟน.
A23: 1. มาตรการให้คำปรึกษา | B23: 1.3 โครงการที่ลูกค้าขอเงินสนับสนุนจาก พพ. | C23: 1.3.3 | D23: โครงการเพิ่มประสิทธิภาพการใช้พลังงานในสำนักงานใหญ่การประปาส่วนภูมิภาค | E23: 1.3.3 โครงการเพิ่มประสิทธิภาพการใช้พลังงานในสำนักงานใหญ่การประปาส่วนภูมิภาค | F23: 0.354 | G23: 0 | H23: 0 | I23: 0.354 | J23: =IF(L23="กฟน.",1,IF(L23="กฟผ.",0,-1)) -> -1 | K23: 0 | L23: กฟภ.
A24: 1. มาตรการให้คำปรึกษา | B24: 1.3 โครงการที่ลูกค้าขอเงินสนับสนุนจาก พพ. | C24: 1.3.4 | D24: โครงการที่ปรึกษาพลังงานมหาวิทยาลัยแม่ฟ้าหลวง | E24: 1.3.4 โครงการที่ปรึกษาพลังงานมหาวิทยาลัยแม่ฟ้าหลวง | F24: 0.2 | G24: 0 | H24: 0 | I24: 0 | J24: =IF(L24="กฟน.",1,IF(L24="กฟผ.",0,-1)) -> -1 | K24: 0 | L24: กฟภ.
A25: 2. มาตรการใช้แรงจูงใจทางการเงิน | B25: 2.1 ใช้เงินงบประมาณ 3 การไฟฟ้า | C25: 2.1.1 | D25: การดำเนินโครงการล้างเครื่องปรับอากาศ | E25: 2.1.1 การดำเนินโครงการล้างเครื่องปรับอากาศ | F25: 3.85 | G25: 3.85 | H25: 3.85 | I25: 0 | J25: =IF(L25="กฟน.",1,IF(L25="กฟผ.",0,-1)) -> 1 | K25: 0 | L25: กฟน.
A26: 2. มาตรการใช้แรงจูงใจทางการเงิน | B26: 2.1 ใช้เงินงบประมาณ 3 การไฟฟ้า | C26: 2.1.2 | D26: โครงการส่งเสริมการใช้สารทำความเย็นที่เป็นมิตรต่อสิ่งแวดล้อม (RAC NAMA) (กสอ-ย.) | E26: 2.1.2 โครงการส่งเสริมการใช้สารทำความเย็นที่เป็นมิตรต่อสิ่งแวดล้อม (RAC NAMA) (กสอ-ย.) | F26: 0.3 | G26: 0.3 | H26: 0.3 | I26: 0.8 | J26: =IF(L26="กฟน.",1,IF(L26="กฟผ.",0,-1)) -> 0 | K26: กสอ-ย. | L26: กฟผ.
A27: 2. มาตรการใช้แรงจูงใจทางการเงิน | B27: 2.1 ใช้เงินงบประมาณ 3 การไฟฟ้า | C27: 2.1.3 | D27: โครงการ Energy Mind Award | E27: 2.1.3 โครงการ Energy Mind Award | F27: 0 | G27: 4.5 | H27: 4.5 | I27: 0 | J27: =IF(L27="กฟน.",1,IF(L27="กฟผ.",0,-1)) -> 1 | K27: 0 | L27: กฟน.
A28: 2. มาตรการใช้แรงจูงใจทางการเงิน | B28: 2.1 ใช้เงินงบประมาณ 3 การไฟฟ้า | C28: 2.1.4 | D28: โครงการเพิ่มประสิทธิภาพพลังงานภาคการเกษตร (กอต-ย.) | E28: 2.1.4 โครงการเพิ่มประสิทธิภาพพลังงานภาคการเกษตร (กอต-ย.) | F28: 0 | G28: 0.675 | H28: 0 | I28: 0 | J28: =IF(L28="กฟน.",1,IF(L28="กฟผ.",0,-1)) -> 0 | K28: 0 | L28: กฟผ.
A29: 2. มาตรการใช้แรงจูงใจทางการเงิน | B29: 2.1 ใช้เงินงบประมาณ 3 การไฟฟ้า | C29: 2.1.5 | D29: โครงการนำร่องการใช้มาตรการ DR ในรูปแบบ Critical Peak Pricing สำหรับเดือนสิงหาคม 2561 | E29: 2.1.5 โครงการนำร่องการใช้มาตรการ DR ในรูปแบบ Critical Peak Pricing สำหรับเดือนสิงหาคม 2561 | F29: 0.1 | G29: 0.1 | H29: 0.1 | I29: 0.0405 | J29: =IF(L29="กฟน.",1,IF(L29="กฟผ.",0,-1)) -> -1 | K29: 0 | L29: กฟภ.
A30: 2. มาตรการใช้แรงจูงใจทางการเงิน | B30: 2.1 ใช้เงินงบประมาณ 3 การไฟฟ้า | C30: 2.1.5 | D30: โครงการนำร่องการใช้มาตรการ DR ในรูปแบบ Critical Peak Pricing สำหรับเดือนสิงหาคม 2561 | E30: 2.1.5 โครงการนำร่องการใช้มาตรการ DR ในรูปแบบ Critical Peak Pricing สำหรับเดือนสิงหาคม 2561 | F30: 0.1 | G30: 0.1 | H30: 0.1 | I30: 0.0405 | J30: =IF(L30="กฟน.",1,IF(L30="กฟผ.",0,-1)) -> 1 | K30: 0 | L30: กฟน.
A31: 2. มาตรการใช้แรงจูงใจทางการเงิน | B31: 2.1 ใช้เงินงบประมาณ 3 การไฟฟ้า | C31: 2.1.6 | D31: โครงการส่งเสริมการขายร่วมกับ บริษัท โฮม โปรดักส์ เซ็นเตอร์ จำกัด (มหาชน) | E31: 2.1.6 โครงการส่งเสริมการขายร่วมกับ บริษัท โฮม โปรดักส์ เซ็นเตอร์ จำกัด (มหาชน) | F31: 0 | G31: 2 | H31: 2 | I31: 0 | J31: =IF(L31="กฟน.",1,IF(L31="กฟผ.",0,-1)) -> 0 | K31: 0 | L31: กฟผ.
A32: 2. มาตรการใช้แรงจูงใจทางการเงิน | B32: 2.2 โครงการขอเงินสนับสนุนจากกองทุนฯ หรืองบประมาณ 3 การไฟฟ้าฯ | C32: 2.2.1 | D32: โครงการให้เงินอุดหนุนเพื่อชดเชยการประหยัดพลังงานที่สามารถตรวจพิสูจน์ได้ | E32: 2.2.1 โครงการให้เงินอุดหนุนเพื่อชดเชยการประหยัดพลังงานที่สามารถตรวจพิสูจน์ได้ | F32: 0 | G32: 1 | H32: 4 | I32: 0 | J32: =IF(L32="กฟน.",1,IF(L32="กฟผ.",0,-1)) -> 1 | K32: 0 | L32: กฟน.
A33: 2. มาตรการใช้แรงจูงใจทางการเงิน | B33: 2.2 โครงการขอเงินสนับสนุนจากกองทุนฯ หรืองบประมาณ 3 การไฟฟ้าฯ | C33: 2.2.2 | D33: โครงการปรับปรุงและเพิ่มประสิทธิภาพการใช้พลังงานระบบแสงสว่างและระบบปรับอากาศในโรงเรียน (กสท-ย.) | E33: 2.2.2 โครงการปรับปรุงและเพิ่มประสิทธิภาพการใช้พลังงานระบบแสงสว่างและระบบปรับอากาศในโรงเรียน (กสท-ย.) | F33: 0 | G33: 2.22 | H33: 2.22 | I33: 0 | J33: =IF(L33="กฟน.",1,IF(L33="กฟผ.",0,-1)) -> 0 | K33: 0 | L33: กฟผ.
A34: 2. มาตรการใช้แรงจูงใจทางการเงิน | B34: 2.2 โครงการขอเงินสนับสนุนจากกองทุนฯ หรืองบประมาณ 3 การไฟฟ้าฯ | C34: 2.2.3 | D34: โครงการปรับปรุงและเพิ่มประสิทธิภาพการใช้พลังงานเครื่องปรับอากาศในภาคที่อยู่อาศัย (กสช-ย.) | E34: 2.2.3 โครงการปรับปรุงและเพิ่มประสิทธิภาพการใช้พลังงานเครื่องปรับอากาศในภาคที่อยู่อาศัย (กสช-ย.) | F34: 0 | G34: 5.25 | H34: 5.25 | I34: 0 | J34: =IF(L34="กฟน.",1,IF(L34="กฟผ.",0,-1)) -> 0 | K34: 0 | L34: กฟผ.
A35: 3. มาตรการลักษณะภาพรวม (Mass) | B35: 3.1 โครงการฉลากประหยัดไฟประสิทธิภาพสูง | C35: 3.1.1 | D35: โครงการฉลากประหยัดไฟ เสื้อเบอร์ 5 (กสอ-ย.) | E35: 3.1.1 โครงการฉลากประหยัดไฟ เสื้อเบอร์ 5 (กสอ-ย.) | F35: 0 | G35: 0.142 | H35: 0.142 | I35: 0 | J35: =IF(L35="กฟน.",1,IF(L35="กฟผ.",0,-1)) -> 0 | K35: 0 | L35: กฟผ.
A36: 3. มาตรการลักษณะภาพรวม (Mass) | B36: 3.1 โครงการฉลากประหยัดไฟประสิทธิภาพสูง | C36: 3.1.2 | D36: โครงการฉลากประหยัดไฟประสิทธิภาพสูง Ranking (กสอ-ย.) | E36: 3.1.2 โครงการฉลากประหยัดไฟประสิทธิภาพสูง Ranking (กสอ-ย.) | F36: 0 | G36: 3 | H36: 5 | I36: 0 | J36: =IF(L36="กฟน.",1,IF(L36="กฟผ.",0,-1)) -> 0 | K36: 0 | L36: กฟผ.
A37: 3. มาตรการลักษณะภาพรวม (Mass) | B37: 3.2 จัดงานสัมมนาในรูปแบบ ESCO Matching | C37: 3.2.1 | D37: จัดงานสัมมนาในรูปแบบ ESCO Matching | E37: 3.2.1 จัดงานสัมมนาในรูปแบบ ESCO Matching | F37: 0 | G37: 5 | H37: 5 | I37: 0 | J37: =IF(L37="กฟน.",1,IF(L37="กฟผ.",0,-1)) -> -1 | K37: 0 | L37: กฟภ.
A38: 3. มาตรการลักษณะภาพรวม (Mass) | B38: 3.3 โครงการ Energy Alert | C38: 3.3.1 | D38: โครงการ Energy Alert | E38: 3.3.1 โครงการ Energy Alert | F38: 0 | G38: 1 | H38: 1 | I38: 0 | J38: =IF(L38="กฟน.",1,IF(L38="กฟผ.",0,-1)) -> 1 | K38: 0 | L38: กฟน.
A39: Total | F39: =SUBTOTAL(109,Data!$F$4:$F$38) -> 11.719 | G39: =SUBTOTAL(109,Data!$G$4:$G$38) -> 48.035 | H39: =SUBTOTAL(109,Data!$H$4:$H$38) -> 42.248 | I39: =SUBTOTAL(109,Data!$I$4:$I$38) -> 5.334 | J39: =SUBTOTAL(103,Data!$L$4:$L$38) -> 35 | K39: =SUBTOTAL(103,Data!$L$4:$L$38) -> 35 | L39: =SUBTOTAL(103,Data!$L$4:$L$38) -> 35

Sheet chart 2561_2
B1: โครงการนำร่องมาตรการบังคับใช้เกณฑ์มาตรฐานอนุรักษ์พลังงาน สำหรับผู้ผลิตและจำหน่ายพลังงาน
B2: (Energy Efficiency Resources Standards : EERS)
B4: ="ความก้าวหน้า : ผลประหยัดภาพรวมของการไฟฟ้าฝ่ายผลิตแห่งประเทศไทย "&D12&" GWh ณ วันที่ 24 กันยายน 2561" -> ความก้าวหน้า : ผลประหยัดภาพรวมของการไฟฟ้าฝ่ายผลิตแห่งประเทศไทย 1.461 GWh ณ วันที่ 24 กันยายน 2561
B6: ผลประหยัดพลังงานของ | C6: เป้าหมายปี 2561 | D6: ผลที่ได้ ณ 24 ก.ย.2561 | E6: อยู่ระหว่างดำเนินการ
B7: หปภ-ย. | C7: =SUMIF(Data!$K$4:$K$38,B7,Data!$F$4:$F$38) -> 0.655 | D7: =SUMIF(Data!$K$4:$K$38,B7,Data!$I$4:$I$38) -> 0.281 | E7: =C7-D7 -> 0.374
B8: หปธ-ย. | C8: =SUMIF(Data!$K$4:$K$38,B8,Data!$F$4:$F$38) -> 2.506 | D8: =SUMIF(Data!$K$4:$K$38,B8,Data!$I$4:$I$38) -> 0.38 | E8: =C8-D8 -> 2.126
B9: กสอ-ย. | C9: =SUMIF(Data!$K$4:$K$38,B9,Data!$F$4:$F$38) -> 0.3 | D9: =SUMIF(Data!$K$4:$K$38,B9,Data!$I$4:$I$38) -> 0.8 | E9: =C9-D9 -> -0.5
B10: กสท-ย. | C10: =SUMIF(Data!$K$4:$K$38,B10,Data!$F$4:$F$38) -> 0.012 | D10: =SUMIF(Data!$K$4:$K$38,B10,Data!$I$4:$I$38) -> 0 | E10: =C10-D10 -> 0.012
B12: ผลรวม | C12: =SUBTOTAL(109,C7:C11) -> 3.473 | D12: =SUBTOTAL(109,D7:D11) -> 1.461 | E12: =C12-D12 -> 2.012
C14: =B7&" "&TEXT(C7,"#,##0.0000")&" GWh" -> หปภ-ย. 0.6550 GWh | D14: =B7&" "&TEXT(D7,"#,##0.0000")&" GWh" -> หปภ-ย. 0.2810 GWh
C15: =B8&" "&TEXT(C8,"#,##0.0000")&" GWh" -> หปธ-ย. 2.5060 GWh | D15: =B8&" "&TEXT(D8,"#,##0.0000")&" GWh" -> หปธ-ย. 0.3800 GWh
C16: =B9&" "&TEXT(C9,"#,##0.0000")&" GWh" -> กสอ-ย. 0.3000 GWh | D16: =B9&" "&TEXT(D9,"#,##0.0000")&" GWh" -> กสอ-ย. 0.8000 GWh
C17: =B10&" "&TEXT(C10,"#,##0.0000")&" GWh" -> กสท-ย. 0.0120 GWh | D17: =B10&" "&TEXT(D10,"#,##0.0000")&" GWh" -> กสท-ย. 0.0000 GWh
B21: เป้าหมายของแต่ละหน่วยงานในปี 2561
E23: =C12 -> 3.473
B27: =" ความคืบหน้าการดำเนินการของแต่ละหน่วยงาน "&TEXT(D12,"0.0000")&" GWh"&" / "&TEXT(C12,"0.0000")&" GWh" -> ความคืบหน้าการดำเนินการของแต่ละหน่วยงาน 1.4610 GWh / 3.4730 GWh
E29: =C12 -> 3.473
B36: กราฟแสดงผลประหยัดพลังงานที่ได้เทียบกับผลประหยัดที่ยังไม่ได้ตามเป้าหมาย
B39: Start Saving On: | C39: Finish Saving By:
B40: 43101 | C40: 43367
B42: เป้าหมายผลประหยัดปี 2561 | C42: =C12 -> 3.473
B43: ผลประหยัดที่ได้ ณ 24 ก.ย.2561 | C43: =D12 -> 1.461
B44: ผลประหยัดที่ยังไม่ถึงเป้า | C44: =C42-C43 -> 2.012
B51: ผู้รับผิดชอบ | C51: กฟผ.
B52: แผนกผู้รับผิด | C52: (Multiple Items)
B54: Row Labels | C54: Sum of ณ 24 ก.ย.61
B55: 1.1.6 โครงการส่งเสริมประสิทธิพลังงานในสถานศึกษา ร่วมกับ สพฐ. (กสท-ย.) | C55: 0
B56: 1.1.7 โครงการที่ปรึกษาด้านการจัดการพลังงานกรมส่งเสริมคุณภาพสิ่งแวดล้อม (กสช-ย.) | C56: 0.216
B57: 1.1.8 โครงการที่ปรึกษาด้านพลังงาน บริษัท กสท โทรคมนาคม จำกัด (กสช-ย.) | C57: 0.065
B58: 1.1.9 โครงการที่ปรึกษาด้านการจัดการพลังงาน มหาวิทยาลัยมหาสารคาม (กสช-ย.) | C58: 0
B59: 1.2.3 งานที่ปรึกษาด้านพลังงาน บริษัท อุตสาหกรรมนมไทย จำกัด (กสช-ย.) | C59: 0.03
B60: 1.2.4 งานที่ปรึกษาด้านพลังงาน บริษัท เจริญชัยหม้อแปลงไฟฟ้า จำกัด (กสช-ย.) | C60: 0.055
B61: 1.2.5 งานที่ปรึกษาด้านพลังงาน โรงแรมดุสิตไอส์แลนด์ รีสอร์ท เชียงราย (กสช-ย.) | C61: 0
B62: 1.2.6 งานที่ปรึกษาด้านพลังงาน โรงแรมทวินทาวเวอร์ (กสช-ย.) | C62: 0
B63: 1.2.7 งานที่ปรึกษาด้านพลังงาน บริษัท P.P. Package (กสช-ย.) | C63: 0.295
B64: 1.3.1 งานที่ปรึกษาด้านพลังงาน ศูนย์การแพทย์ โรงพยาบาลกรุงเทพ (กสช-ย.) | C64: 0
B65: 2.1.2 โครงการส่งเสริมการใช้สารทำความเย็นที่เป็นมิตรต่อสิ่งแวดล้อม (RAC NAMA) (กสอ-ย.) | C65: 0.8
B66: Grand Total | C66: 1.461
B69: ปัญหาการใช้ Pivot ร่วมกับ ตาราง
B71: 1.แสดงข้อมูลไม่เต็ม
...

Sheet years_2
A1: โครงการนำร่องมาตรการบังคับใช้เกณฑ์มาตรฐานอนุรักษ์พลังงาน สำหรับผู้ผลิตและจำหน่ายพลังงาน (Energy Efficiency Resources Standards : EERS)
A2: ความก้าวหน้า : ผลประหยัดภาพรวม 3 การไฟฟ้าฯ 5.334 GWh ณ วันที่ 24 กันยายน 2561
A4: ผู้รับผิดชอบ | B4: (All)
B6: Values (GWh)
A7: เปรีบเทียบเป้าหมายกับผลการประหยัดที่ทำได้ | B7: เป้าหมาย พ.ศ.2561 | C7: ผล ณ 24 ก.ย.61
A8: 1. มาตรการให้คำปรึกษา | B8: 7.369 | C8: 4.453
A9: 2. มาตรการใช้แรงจูงใจทางการเงิน | B9: 4.35 | C9: 0.881
A10: 3. มาตรการลักษณะภาพรวม (Mass) | B10: 0 | C10: 0
A11: Grand Total | B11: 11.719 | C11: 5.334

Sheet years_2 (2)
A1: โครงการนำร่องมาตรการบังคับใช้เกณฑ์มาตรฐานอนุรักษ์พลังงาน สำหรับผู้ผลิตและจำหน่ายพลังงาน (Energy Efficiency Resources Standards : EERS)
A2: ความก้าวหน้า : ผลประหยัดภาพรวม 3 การไฟฟ้าฯ 5.334 GWh ณ วันที่ 24 กันยายน 2561
B6: Values (GWh)
A7: เปรีบเทียบเป้าหมายกับผลการประหยัดที่ทำได้ | B7: เป้าหมาย พ.ศ.2561 | C7: ผล ณ 24 ก.ย.61
A8: 1. มาตรการให้คำปรึกษา | B8: 7.369 | C8: 4.453
A9: 1.1 งานส่งเสริมอนุรักษ์พลังงานในภาครัฐ | B9: 4.105 | C9: 3.719
A10: 1.2 ภาคอุตสาหกรรม ธุรกิจ และครัวเรือน | B10: 2.286 | C10: 0.38
A11: 1.3 โครงการที่ลูกค้าขอเงินสนับสนุนจาก พพ. | B11: 0.978 | C11: 0.354
A12: 2. มาตรการใช้แรงจูงใจทางการเงิน | B12: 4.35 | C12: 0.881
A13: 2.1 ใช้เงินงบประมาณ 3 การไฟฟ้า | B13: 4.35 | C13: 0.881
A14: 2.2 โครงการขอเงินสนับสนุนจากกองทุนฯ หรืองบประมาณ 3 การไฟฟ้าฯ | B14: 0 | C14: 0
A15: 3. มาตรการลักษณะภาพรวม (Mass) | B15: 0 | C15: 0
A16: 3.1 โครงการฉลากประหยัดไฟประสิทธิภาพสูง | B16: 0 | C16: 0
A17: 3.2 จัดงานสัมมนาในรูปแบบ ESCO Matching | B17: 0 | C17: 0
A18: 3.3 โครงการ Energy Alert | B18: 0 | C18: 0
A19: Grand Total | B19: 11.719 | C19: 5.334

Sheet years_3
A1: โครงการนำร่องมาตรการบังคับใช้เกณฑ์มาตรฐานอนุรักษ์พลังงาน สำหรับผู้ผลิตและจำหน่ายพลังงาน (Energy Efficiency Resources Standards : EERS)
A2: ความก้าวหน้า : ผลประหยัดภาพรวม 3 การไฟฟ้าฯ 5.334 GWh ณ วันที่ 24 กันยายน 2561
B6: Values (GWh)
A7: เปรีบเทียบเป้าหมายกับผลการประหยัดที่ทำได้ | B7: เป้าหมาย พ.ศ.2561 | C7: ผล ณ 24 ก.ย.61
A8: 1. มาตรการให้คำปรึกษา | B8: 7.369 | C8: 4.453
A9: กฟน. | B9: 0.204 | C9: 0
A10: กฟผ. | B10: 3.173 | C10: 0.661
A11: กฟภ. | B11: 3.992 | C11: 3.792
A12: 2. มาตรการใช้แรงจูงใจทางการเงิน | B12: 4.35 | C12: 0.881
A13: กฟน. | B13: 3.95 | C13: 0.0405
A14: กฟผ. | B14: 0.3 | C14: 0.8
A15: กฟภ. | B15: 0.1 | C15: 0.0405
A16: 3. มาตรการลักษณะภาพรวม (Mass) | B16: 0 | C16: 0
A17: กฟน. | B17: 0 | C17: 0
A18: กฟผ. | B18: 0 | C18: 0
A19: กฟภ. | B19: 0 | C19: 0
A20: Grand Total | B20: 11.719 | C20: 5.334

Sheet years_3 (2)
A1: โครงการนำร่องมาตรการบังคับใช้เกณฑ์มาตรฐานอนุรักษ์พลังงาน สำหรับผู้ผลิตและจำหน่ายพลังงาน (Energy Efficiency Resources Standards : EERS)
A2: ความก้าวหน้า : ผลประหยัดภาพรวม 3 การไฟฟ้าฯ 5.334 GWh ณ วันที่ 24 กันยายน 2561
A4: มาตรการ | B4: (All)
B6: Values (GWh)
A7: เปรีบเทียบเป้าหมายกับผลการประหยัดที่ทำได้ | B7: เป้าหมาย พ.ศ.2561 | C7: ผล ณ 24 ก.ย.61
A8: กฟน. | B8: 4.154 | C8: 0.0405
A9: กฟผ. | B9: 3.473 | C9: 1.461
A10: กฟภ. | B10: 4.092 | C10: 3.8325
A11: Grand Total | B11: 11.719 | C11: 5.334
