Workbook

Sheet Sheet2
A3: Row Labels
A4: Holiday
A5: W
A6: Grand Total

Sheet Tabel energy

Sheet data
G12: พลังงานไฟฟ้าที่สถานีอัดประจุไฟฟ้าใช้ (หน่วย/วัน)
A17: Date | B17: End Time | C17: วัยหยุด/ทำงาน | D17: M01EV01 | E17: M02EV01 | F17: M02EV02 | G17: M02EV03 | H17: M02EV04 | I17: M03EV01 | J17: M04EV01 | K17: M05EV01 | L17: M06EV01 | M17: M06EV02
A18: we1 | B18: 0 | C18: =IF(LEFT($A18,2)="we","Holiday","Workday") -> Holiday | D18: 5 | E18: 0 | F18: 0.039 | G18: 0.019 | H18: 0.07 | I18: 0 | J18: 0.011 | K18: 0.011 | L18: 0.011 | M18: 0.012
A19: we1 | B19: 0.00069444444 | C19: Workday | D19: 2 | E19: 0 | F19: 0.039 | G19: 0.019 | H19: 0.07 | I19: 0 | J19: 0.011 | K19: 0.011 | L19: 0.011 | M19: 0.012
A20: we1 | B20: 0.0013888889 | C20: Workday | D20: 2 | E20: 0 | F20: 0.039 | G20: 0.019 | H20: 0.069 | I20: 0 | J20: 0.011 | K20: 0.011 | L20: 0.011 | M20: 0.012
A21: we1 | B21: 0.0020833333 | C21: =IF(LEFT($A21,2)="we","Holiday","Workday") -> Holiday | D21: 0.034 | E21: 0 | F21: 0.039 | G21: 0.019 | H21: 0.07 | I21: 0 | J21: 0.011 | K21: 0.011 | L21: 0.011 | M21: 0.013
A22: we1 | B22: 0.0027777778 | C22: =IF(LEFT($A22,2)="we","Holiday","Workday") -> Holiday | D22: 0.034 | E22: 0 | F22: 0.039 | G22: 0.019 | H22: 0.07 | I22: 0 | J22: 0.011 | K22: 0.011 | L22: 0.011 | M22: 0.013
A23: we1 | B23: 0.0034722222 | C23: =IF(LEFT($A23,2)="we","Holiday","Workday") -> Holiday | D23: 0.033 | E23: 0 | F23: 0.039 | G23: 0.019 | H23: 0.069 | I23: 2 | J23: 0.011 | K23: 0.011 | L23: 0.011 | M23: 0.013
A24: we1 | B24: 0.0041666667 | C24: =IF(LEFT($A24,2)="we","Holiday","Workday") -> Holiday | D24: 0.034 | E24: 0 | F24: 0.039 | G24: 0.019 | H24: 0.07 | I24: 2 | J24: 0.011 | K24: 0.011 | L24: 0.011 | M24: 0.013
A25: we1 | B25: 0.0048611111 | C25: =IF(LEFT($A25,2)="we","Holiday","Workday") -> Holiday | D25: 0.033 | E25: 0 | F25: 0.039 | G25: 0.019 | H25: 0.07 | I25: 0 | J25: 0.011 | K25: 0.011 | L25: 0.011 | M25: 0.013
A26: we1 | B26: 0.0055555556 | C26: Workday | D26: 0.034 | E26: 0 | F26: 0.039 | G26: 0.019 | H26: 0.069 | I26: 0 | J26: 0.011 | K26: 0.011 | L26: 0.011 | M26: 0.013
A27: we1 | B27: 0.00625 | C27: Workday | D27: 0.034 | E27: 0 | F27: 0.039 | G27: 0.019 | H27: 0.069 | I27: 0 | J27: 0.011 | K27: 0.011 | L27: 0.011 | M27: 0.013
A28: we1 | B28: 0.0069444444 | C28: Workday | D28: 0.034 | E28: 0 | F28: 0.039 | G28: 0.019 | H28: 0.07 | I28: 2 | J28: 0.011 | K28: 0.011 | L28: 0.011 | M28: 0.013
A29: we1 | B29: 0.0076388889 | C29: Workday | D29: 0.033 | E29: 0 | F29: 0.039 | G29: 0.019 | H29: 0.07 | I29: 0 | J29: 0.011 | K29: 0.011 | L29: 0.011 | M29: 0.013
A30: we1 | B30: 0.0083333333 | C30: =IF(LEFT($A30,2)="we","Holiday","Workday") -> Holiday | D30: 0.033 | E30: 0 | F30: 0.039 | G30: 0.019 | H30: 0.069 | I30: 2 | J30: 0.011 | K30: 0.011 | L30: 0 | M30: 0.013
A31: we1 | B31: 0.0090277778 | C31: =IF(LEFT($A31,2)="we","Holiday","Workday") -> Holiday | D31: 0.034 | E31: 2 | F31: 0.039 | G31: 0.019 | H31: 0.07 | I31: 2 | J31: 0.011 | K31: 0.011 | L31: 0 | M31: 0.013
A32: we1 | B32: 0.0097222222 | C32: =IF(LEFT($A32,2)="we","Holiday","Workday") -> Holiday | D32: 0.034 | E32: 2 | F32: 0.039 | G32: 0.019 | H32: 0.07 | I32: 2 | J32: 0.011 | K32: 0.011 | L32: 2 | M32: 0.013
A33: we1 | B33: 0.010416667 | C33: Workday | D33: 0.033 | E33: 0 | F33: 0.039 | G33: 0.019 | H33: 0.069 | I33: 5 | J33: 0.011 | K33: 0.011 | L33: 2 | M33: 0.013
A34: we1 | B34: 0.011111111 | C34: Workday | D34: 0.034 | E34: 0 | F34: 0.039 | G34: 0.019 | H34: 0.07 | I34: 1 | J34: 0.011 | K34: 0.011 | L34: 0 | M34: 0.013
A35: we1 | B35: 0.011805556 | C35: Workday | D35: 0.033 | E35: 0 | F35: 0.039 | G35: 0.019 | H35: 0.07 | I35: 0 | J35: 0.011 | K35: 0.011 | L35: 0 | M35: 0.013
A36: we1 | B36: 0.0125 | C36: Workday | D36: 0.033 | E36: 2 | F36: 0.039 | G36: 0.019 | H36: 0.07 | I36: 2 | J36: 0.011 | K36: 0.011 | L36: 0 | M36: 0.013
A37: we1 | B37: 0.013194444 | C37: Workday | D37: 0.034 | E37: 2 | F37: 0.039 | G37: 0.019 | H37: 0.07 | I37: 0 | J37: 0.011 | K37: 0.011 | L37: 2 | M37: 0.013
A38: we1 | B38: 0.013888889 | C38: Workday | D38: 0.034 | E38: 0 | F38: 0.039 | G38: 0.019 | H38: 0.07 | I38: 0 | J38: 0.011 | K38: 0.011 | L38: 0 | M38: 0.013
A39: we1 | B39: 0.014583333 | C39: =IF(LEFT($A39,2)="we","Holiday","Workday") -> Holiday | D39: 0.033 | E39: 0 | F39: 0.039 | G39: 0.019 | H39: 0.069 | I39: 0 | J39: 0.011 | K39: 0.011 | L39: 2 | M39: 0.013
A40: we1 | B40: 0.015277778 | C40: =IF(LEFT($A40,2)="we","Holiday","Workday") -> Holiday | D40: 0.033 | E40: 0 | F40: 0.039 | G40: 0.019 | H40: 0.07 | I40: 0 | J40: 0.011 | K40: 0.011 | L40: 2 | M40: 0.013
A41: we1 | B41: 0.015972222 | C41: =IF(LEFT($A41,2)="we","Holiday","Workday") -> Holiday | D41: 0.034 | E41: 2 | F41: 0.039 | G41: 0.019 | H41: 0.07 | I41: 0 | J41: 0.011 | K41: 0.011 | L41: 2 | M41: 0.013
A42: we1 | B42: 0.016666667 | C42: =IF(LEFT($A42,2)="we","Holiday","Workday") -> Holiday | D42: 0.033 | E42: 0 | F42: 0.039 | G42: 0.019 | H42: 0.069 | I42: 0 | J42: 0.011 | K42: 0.011 | L42: 5 | M42: 0.013
A43: we1 | B43: 0.017361111 | C43: =IF(LEFT($A43,2)="we","Holiday","Workday") -> Holiday | D43: 0.033 | E43: 2 | F43: 0.039 | G43: 0.019 | H43: 0.07 | I43: 0 | J43: 0.011 | K43: 0.011 | L43: 1 | M43: 0.013
A44: we1 | B44: 0.018055556 | C44: =IF(LEFT($A44,2)="we","Holiday","Workday") -> Holiday | D44: 0.034 | E44: 2 | F44: 0.039 | G44: 0.019 | H44: 0.07 | I44: 0 | J44: 0.011 | K44: 0.011 | L44: 0 | M44: 0.013
A45: we1 | B45: 0.01875 | C45: Workday | D45: 0.033 | E45: 2 | F45: 0.039 | G45: 0.019 | H45: 0.07 | I45: 0 | J45: 0.011 | K45: 0.011 | L45: 2 | M45: 0.013
A46: we1 | B46: 0.019444444 | C46: Workday | D46: 0.033 | E46: 5 | F46: 0.039 | G46: 0.019 | H46: 0.07 | I46: 0 | J46: 0.011 | K46: 0.011 | L46: 0 | M46: 0.013
A47: we1 | B47: 0.020138889 | C47: =IF(LEFT($A47,2)="we","Holiday","Workday") -> Holiday | D47: 0.034 | E47: 1 | F47: 0.039 | G47: 0.019 | H47: 0.07 | I47: 0 | J47: 0.011 | K47: 0.011 | L47: 0.011 | M47: 0.013
A48: we1 | B48: 0.020833333 | C48: Workday | D48: 0.034 | E48: 0 | F48: 0.039 | G48: 0.019 | H48: 2 | I48: 0 | J48: 0.011 | K48: 0.011 | L48: 0.011 | M48: 0.013
A49: we1 | B49: 0.021527778 | C49: Workday | D49: 0.033 | E49: 2 | F49: 0.039 | G49: 0.019 | H49: 2 | I49: 0 | J49: 2 | K49: 0.011 | L49: 0.011 | M49: 0.013
A50: we1 | B50: 0.022222222 | C50: Workday | D50: 0.033 | E50: 0 | F50: 0.039 | G50: 0.019 | H50: 2 | I50: 0 | J50: 2 | K50: 0.011 | L50: 0.011 | M50: 0.013
A51: we1 | B51: 0.022916667 | C51: Workday | D51: 0.034 | E51: 0 | F51: 0.039 | G51: 0.019 | H51: 0.07 | I51: 0 | J51: 2 | K51: 0.011 | L51: 0.011 | M51: 0.013
A52: we1 | B52: 0.023611111 | C52: Workday | D52: 0.033 | E52: 0 | F52: 0.039 | G52: 0.019 | H52: 0.069 | I52: 0 | J52: 2 | K52: 0.011 | L52: 0.011 | M52: 0.013
A53: we1 | B53: 0.024305556 | C53: Workday | D53: 0.033 | E53: 0 | F53: 0.039 | G53: 0.019 | H53: 0.07 | I53: 0 | J53: 0.011 | K53: 0.011 | L53: 0.011 | M53: 0.013
A54: we1 | B54: 0.025 | C54: =IF(LEFT($A54,2)="we","Holiday","Workday") -> Holiday | D54: 0.034 | E54: 0 | F54: 0.039 | G54: 0.019 | H54: 0.07 | I54: 0 | J54: 0.011 | K54: 0.011 | L54: 0.011 | M54: 0.013
A55: we1 | B55: 0.025694444 | C55: =IF(LEFT($A55,2)="we","Holiday","Workday") -> Holiday | D55: 0.034 | E55: 0 | F55: 0.039 | G55: 0.019 | H55: 0.07 | I55: 0 | J55: 0.011 | K55: 0.011 | L55: 0.011 | M55: 0.013
A56: we1 | B56: 0.026388889 | C56: =IF(LEFT($A56,2)="we","Holiday","Workday") -> Holiday | D56: 0.033 | E56: 0 | F56: 0.039 | G56: 0.019 | H56: 0.07 | I56: 0 | J56: 0.011 | K56: 0.011 | L56: 0.011 | M56: 0.013
A57: we1 | B57: 0.027083333 | C57: =IF(LEFT($A57,2)="we","Holiday","Workday") -> Holiday | D57: 0.033 | E57: 0 | F57: 0.039 | G57: 0.019 | H57: 0.07 | I57: 0 | J57: 0.011 | K57: 0.011 | L57: 0.011 | M57: 0.013

Sheet data (2)
D15: >=0.5
A17: Date | B17: End Time | C17: วัยหยุด/ทำงาน | D17: M01EV01 | E17: M02EV01 | F17: M02EV02 | G17: M02EV03 | H17: M02EV04 | I17: M03EV01 | J17: M04EV01 | K17: M05EV01 | L17: M06EV01 | M17: M06EV02
A18: we1 | B18: 0 | C18: =IF(LEFT($A18,2)="we","Holiday","Workday") -> Holiday | D18: =IF(data!D18=$D$15,data!D18,0) -> 0 | E18: =IF(data!E18=$D$15,data!E18,0) -> 0 | F18: =IF(data!F18=$D$15,data!F18,0) -> 0 | G18: =IF(data!G18=$D$15,data!G18,0) -> 0 | H18: =IF(data!H18=$D$15,data!H18,0) -> 0 | I18: =IF(data!I18=$D$15,data!I18,0) -> 0 | J18: =IF(data!J18=$D$15,data!J18,0) -> 0 | K18: =IF(data!K18=$D$15,data!K18,0) -> 0 | ... M18: =IF(data!M18=$D$15,data!M18,0) -> 0
A19: we1 | B19: 0.00069444444 | C19: Workday | D19: =IF(data!D19=$D$15,data!D19,0) -> 0 | E19: =IF(data!E19=$D$15,data!E19,0) -> 0 | F19: =IF(data!F19=$D$15,data!F19,0) -> 0 | G19: =IF(data!G19=$D$15,data!G19,0) -> 0 | H19: =IF(data!H19=$D$15,data!H19,0) -> 0 | I19: =IF(data!I19=$D$15,data!I19,0) -> 0 | J19: =IF(data!J19=$D$15,data!J19,0) -> 0 | K19: =IF(data!K19=$D$15,data!K19,0) -> 0 | ... M19: =IF(data!M19=$D$15,data!M19,0) -> 0
A20: we1 | B20: 0.0013888889 | C20: Workday | D20: =IF(data!D20=$D$15,data!D20,0) -> 0 | E20: =IF(data!E20=$D$15,data!E20,0) -> 0 | F20: =IF(data!F20=$D$15,data!F20,0) -> 0 | G20: =IF(data!G20=$D$15,data!G20,0) -> 0 | H20: =IF(data!H20=$D$15,data!H20,0) -> 0 | I20: =IF(data!I20=$D$15,data!I20,0) -> 0 | J20: =IF(data!J20=$D$15,data!J20,0) -> 0 | K20: =IF(data!K20=$D$15,data!K20,0) -> 0 | ... M20: =IF(data!M20=$D$15,data!M20,0) -> 0
A21: we1 | B21: 0.0020833333 | C21: =IF(LEFT($A21,2)="we","Holiday","Workday") -> Holiday | D21: =IF(data!D21=$D$15,data!D21,0) -> 0 | E21: =IF(data!E21=$D$15,data!E21,0) -> 0 | F21: =IF(data!F21=$D$15,data!F21,0) -> 0 | G21: =IF(data!G21=$D$15,data!G21,0) -> 0 | H21: =IF(data!H21=$D$15,data!H21,0) -> 0 | I21: =IF(data!I21=$D$15,data!I21,0) -> 0 | J21: =IF(data!J21=$D$15,data!J21,0) -> 0 | K21: =IF(data!K21=$D$15,data!K21,0) -> 0 | ... M21: =IF(data!M21=$D$15,data!M21,0) -> 0
A22: we1 | B22: 0.0027777778 | C22: =IF(LEFT($A22,2)="we","Holiday","Workday") -> Holiday | D22: =IF(data!D22=$D$15,data!D22,0) -> 0 | E22: =IF(data!E22=$D$15,data!E22,0) -> 0 | F22: =IF(data!F22=$D$15,data!F22,0) -> 0 | G22: =IF(data!G22=$D$15,data!G22,0) -> 0 | H22: =IF(data!H22=$D$15,data!H22,0) -> 0 | I22: =IF(data!I22=$D$15,data!I22,0) -> 0 | J22: =IF(data!J22=$D$15,data!J22,0) -> 0 | K22: =IF(data!K22=$D$15,data!K22,0) -> 0 | ... M22: =IF(data!M22=$D$15,data!M22,0) -> 0
A23: we1 | B23: 0.0034722222 | C23: =IF(LEFT($A23,2)="we","Holiday","Workday") -> Holiday | D23: =IF(data!D23=$D$15,data!D23,0) -> 0 | E23: =IF(data!E23=$D$15,data!E23,0) -> 0 | F23: =IF(data!F23=$D$15,data!F23,0) -> 0 | G23: =IF(data!G23=$D$15,data!G23,0) -> 0 | H23: =IF(data!H23=$D$15,data!H23,0) -> 0 | I23: =IF(data!I23=$D$15,data!I23,0) -> 0 | J23: =IF(data!J23=$D$15,data!J23,0) -> 0 | K23: =IF(data!K23=$D$15,data!K23,0) -> 0 | ... M23: =IF(data!M23=$D$15,data!M23,0) -> 0
A24: we1 | B24: 0.0041666667 | C24: =IF(LEFT($A24,2)="we","Holiday","Workday") -> Holiday | D24: =IF(data!D24=$D$15,data!D24,0) -> 0 | E24: =IF(data!E24=$D$15,data!E24,0) -> 0 | F24: =IF(data!F24=$D$15,data!F24,0) -> 0 | G24: =IF(data!G24=$D$15,data!G24,0) -> 0 | H24: =IF(data!H24=$D$15,data!H24,0) -> 0 | I24: =IF(data!I24=$D$15,data!I24,0) -> 0 | J24: =IF(data!J24=$D$15,data!J24,0) -> 0 | K24: =IF(data!K24=$D$15,data!K24,0) -> 0 | ... M24: =IF(data!M24=$D$15,data!M24,0) -> 0
A25: we1 | B25: 0.0048611111 | C25: =IF(LEFT($A25,2)="we","Holiday","Workday") -> Holiday | D25: =IF(data!D25=$D$15,data!D25,0) -> 0 | E25: =IF(data!E25=$D$15,data!E25,0) -> 0 | F25: =IF(data!F25=$D$15,data!F25,0) -> 0 | G25: =IF(data!G25=$D$15,data!G25,0) -> 0 | H25: =IF(data!H25=$D$15,data!H25,0) -> 0 | I25: =IF(data!I25=$D$15,data!I25,0) -> 0 | J25: =IF(data!J25=$D$15,data!J25,0) -> 0 | K25: =IF(data!K25=$D$15,data!K25,0) -> 0 | ... M25: =IF(data!M25=$D$15,data!M25,0) -> 0
A26: we1 | B26: 0.0055555556 | C26: Workday | D26: =IF(data!D26=$D$15,data!D26,0) -> 0 | E26: =IF(data!E26=$D$15,data!E26,0) -> 0 | F26: =IF(data!F26=$D$15,data!F26,0) -> 0 | G26: =IF(data!G26=$D$15,data!G26,0) -> 0 | H26: =IF(data!H26=$D$15,data!H26,0) -> 0 | I26: =IF(data!I26=$D$15,data!I26,0) -> 0 | J26: =IF(data!J26=$D$15,data!J26,0) -> 0 | K26: =IF(data!K26=$D$15,data!K26,0) -> 0 | ... M26: =IF(data!M26=$D$15,data!M26,0) -> 0
A27: we1 | B27: 0.00625 | C27: Workday | D27: =IF(data!D27=$D$15,data!D27,0) -> 0 | E27: =IF(data!E27=$D$15,data!E27,0) -> 0 | F27: =IF(data!F27=$D$15,data!F27,0) -> 0 | G27: =IF(data!G27=$D$15,data!G27,0) -> 0 | H27: =IF(data!H27=$D$15,data!H27,0) -> 0 | I27: =IF(data!I27=$D$15,data!I27,0) -> 0 | J27: =IF(data!J27=$D$15,data!J27,0) -> 0 | K27: =IF(data!K27=$D$15,data!K27,0) -> 0 | ... M27: =IF(data!M27=$D$15,data!M27,0) -> 0
A28: we1 | B28: 0.0069444444 | C28: Workday | D28: =IF(data!D28=$D$15,data!D28,0) -> 0 | E28: =IF(data!E28=$D$15,data!E28,0) -> 0 | F28: =IF(data!F28=$D$15,data!F28,0) -> 0 | G28: =IF(data!G28=$D$15,data!G28,0) -> 0 | H28: =IF(data!H28=$D$15,data!H28,0) -> 0 | I28: =IF(data!I28=$D$15,data!I28,0) -> 0 | J28: =IF(data!J28=$D$15,data!J28,0) -> 0 | K28: =IF(data!K28=$D$15,data!K28,0) -> 0 | ... M28: =IF(data!M28=$D$15,data!M28,0) -> 0
A29: we1 | B29: 0.0076388889 | C29: Workday | D29: =IF(data!D29=$D$15,data!D29,0) -> 0 | E29: =IF(data!E29=$D$15,data!E29,0) -> 0 | F29: =IF(data!F29=$D$15,data!F29,0) -> 0 | G29: =IF(data!G29=$D$15,data!G29,0) -> 0 | H29: =IF(data!H29=$D$15,data!H29,0) -> 0 | I29: =IF(data!I29=$D$15,data!I29,0) -> 0 | J29: =IF(data!J29=$D$15,data!J29,0) -> 0 | K29: =IF(data!K29=$D$15,data!K29,0) -> 0 | ... M29: =IF(data!M29=$D$15,data!M29,0) -> 0
A30: we1 | B30: 0.0083333333 | C30: =IF(LEFT($A30,2)="we","Holiday","Workday") -> Holiday | D30: =IF(data!D30=$D$15,data!D30,0) -> 0 | E30: =IF(data!E30=$D$15,data!E30,0) -> 0 | F30: =IF(data!F30=$D$15,data!F30,0) -> 0 | G30: =IF(data!G30=$D$15,data!G30,0) -> 0 | H30: =IF(data!H30=$D$15,data!H30,0) -> 0 | I30: =IF(data!I30=$D$15,data!I30,0) -> 0 | J30: =IF(data!J30=$D$15,data!J30,0) -> 0 | K30: =IF(data!K30=$D$15,data!K30,0) -> 0 | ... M30: =IF(data!M30=$D$15,data!M30,0) -> 0
A31: we1 | B31: 0.0090277778 | C31: =IF(LEFT($A31,2)="we","Holiday","Workday") -> Holiday | D31: =IF(data!D31=$D$15,data!D31,0) -> 0 | E31: =IF(data!E31=$D$15,data!E31,0) -> 0 | F31: =IF(data!F31=$D$15,data!F31,0) -> 0 | G31: =IF(data!G31=$D$15,data!G31,0) -> 0 | H31: =IF(data!H31=$D$15,data!H31,0) -> 0 | I31: =IF(data!I31=$D$15,data!I31,0) -> 0 | J31: =IF(data!J31=$D$15,data!J31,0) -> 0 | K31: =IF(data!K31=$D$15,data!K31,0) -> 0 | ... M31: =IF(data!M31=$D$15,data!M31,0) -> 0
A32: we1 | B32: 0.0097222222 | C32: =IF(LEFT($A32,2)="we","Holiday","Workday") -> Holiday | D32: =IF(data!D32=$D$15,data!D32,0) -> 0 | E32: =IF(data!E32=$D$15,data!E32,0) -> 0 | F32: =IF(data!F32=$D$15,data!F32,0) -> 0 | G32: =IF(data!G32=$D$15,data!G32,0) -> 0 | H32: =IF(data!H32=$D$15,data!H32,0) -> 0 | I32: =IF(data!I32=$D$15,data!I32,0) -> 0 | J32: =IF(data!J32=$D$15,data!J32,0) -> 0 | K32: =IF(data!K32=$D$15,data!K32,0) -> 0 | ... M32: =IF(data!M32=$D$15,data!M32,0) -> 0
A33: we1 | B33: 0.010416667 | C33: Workday | D33: =IF(data!D33=$D$15,data!D33,0) -> 0 | E33: =IF(data!E33=$D$15,data!E33,0) -> 0 | F33: =IF(data!F33=$D$15,data!F33,0) -> 0 | G33: =IF(data!G33=$D$15,data!G33,0) -> 0 | H33: =IF(data!H33=$D$15,data!H33,0) -> 0 | I33: =IF(data!I33=$D$15,data!I33,0) -> 0 | J33: =IF(data!J33=$D$15,data!J33,0) -> 0 | K33: =IF(data!K33=$D$15,data!K33,0) -> 0 | ... M33: =IF(data!M33=$D$15,data!M33,0) -> 0
A34: we1 | B34: 0.011111111 | C34: Workday | D34: =IF(data!D34=$D$15,data!D34,0) -> 0 | E34: =IF(data!E34=$D$15,data!E34,0) -> 0 | F34: =IF(data!F34=$D$15,data!F34,0) -> 0 | G34: =IF(data!G34=$D$15,data!G34,0) -> 0 | H34: =IF(data!H34=$D$15,data!H34,0) -> 0 | I34: =IF(data!I34=$D$15,data!I34,0) -> 0 | J34: =IF(data!J34=$D$15,data!J34,0) -> 0 | K34: =IF(data!K34=$D$15,data!K34,0) -> 0 | ... M34: =IF(data!M34=$D$15,data!M34,0) -> 0
A35: we1 | B35: 0.011805556 | C35: Workday | D35: =IF(data!D35=$D$15,data!D35,0) -> 0 | E35: =IF(data!E35=$D$15,data!E35,0) -> 0 | F35: =IF(data!F35=$D$15,data!F35,0) -> 0 | G35: =IF(data!G35=$D$15,data!G35,0) -> 0 | H35: =IF(data!H35=$D$15,data!H35,0) -> 0 | I35: =IF(data!I35=$D$15,data!I35,0) -> 0 | J35: =IF(data!J35=$D$15,data!J35,0) -> 0 | K35: =IF(data!K35=$D$15,data!K35,0) -> 0 | ... M35: =IF(data!M35=$D$15,data!M35,0) -> 0
A36: we1 | B36: 0.0125 | C36: Workday | D36: =IF(data!D36=$D$15,data!D36,0) -> 0 | E36: =IF(data!E36=$D$15,data!E36,0) -> 0 | F36: =IF(data!F36=$D$15,data!F36,0) -> 0 | G36: =IF(data!G36=$D$15,data!G36,0) -> 0 | H36: =IF(data!H36=$D$15,data!H36,0) -> 0 | I36: =IF(data!I36=$D$15,data!I36,0) -> 0 | J36: =IF(data!J36=$D$15,data!J36,0) -> 0 | K36: =IF(data!K36=$D$15,data!K36,0) -> 0 | ... M36: =IF(data!M36=$D$15,data!M36,0) -> 0
A37: we1 | B37: 0.013194444 | C37: Workday | D37: =IF(data!D37=$D$15,data!D37,0) -> 0 | E37: =IF(data!E37=$D$15,data!E37,0) -> 0 | F37: =IF(data!F37=$D$15,data!F37,0) -> 0 | G37: =IF(data!G37=$D$15,data!G37,0) -> 0 | H37: =IF(data!H37=$D$15,data!H37,0) -> 0 | I37: =IF(data!I37=$D$15,data!I37,0) -> 0 | J37: =IF(data!J37=$D$15,data!J37,0) -> 0 | K37: =IF(data!K37=$D$15,data!K37,0) -> 0 | ... M37: =IF(data!M37=$D$15,data!M37,0) -> 0
A38: we1 | B38: 0.013888889 | C38: Workday | D38: =IF(data!D38=$D$15,data!D38,0) -> 0 | E38: =IF(data!E38=$D$15,data!E38,0) -> 0 | F38: =IF(data!F38=$D$15,data!F38,0) -> 0 | G38: =IF(data!G38=$D$15,data!G38,0) -> 0 | H38: =IF(data!H38=$D$15,data!H38,0) -> 0 | I38: =IF(data!I38=$D$15,data!I38,0) -> 0 | J38: =IF(data!J38=$D$15,data!J38,0) -> 0 | K38: =IF(data!K38=$D$15,data!K38,0) -> 0 | ... M38: =IF(data!M38=$D$15,data!M38,0) -> 0
A39: we1 | B39: 0.014583333 | C39: =IF(LEFT($A39,2)="we","Holiday","Workday") -> Holiday | D39: =IF(data!D39=$D$15,data!D39,0) -> 0 | E39: =IF(data!E39=$D$15,data!E39,0) -> 0 | F39: =IF(data!F39=$D$15,data!F39,0) -> 0 | G39: =IF(data!G39=$D$15,data!G39,0) -> 0 | H39: =IF(data!H39=$D$15,data!H39,0) -> 0 | I39: =IF(data!I39=$D$15,data!I39,0) -> 0 | J39: =IF(data!J39=$D$15,data!J39,0) -> 0 | K39: =IF(data!K39=$D$15,data!K39,0) -> 0 | ... M39: =IF(data!M39=$D$15,data!M39,0) -> 0
A40: we1 | B40: 0.015277778 | C40: =IF(LEFT($A40,2)="we","Holiday","Workday") -> Holiday | D40: =IF(data!D40=$D$15,data!D40,0) -> 0 | E40: =IF(data!E40=$D$15,data!E40,0) -> 0 | F40: =IF(data!F40=$D$15,data!F40,0) -> 0 | G40: =IF(data!G40=$D$15,data!G40,0) -> 0 | H40: =IF(data!H40=$D$15,data!H40,0) -> 0 | I40: =IF(data!I40=$D$15,data!I40,0) -> 0 | J40: =IF(data!J40=$D$15,data!J40,0) -> 0 | K40: =IF(data!K40=$D$15,data!K40,0) -> 0 | ... M40: =IF(data!M40=$D$15,data!M40,0) -> 0
A41: we1 | B41: 0.015972222 | C41: =IF(LEFT($A41,2)="we","Holiday","Workday") -> Holiday | D41: =IF(data!D41=$D$15,data!D41,0) -> 0 | E41: =IF(data!E41=$D$15,data!E41,0) -> 0 | F41: =IF(data!F41=$D$15,data!F41,0) -> 0 | G41: =IF(data!G41=$D$15,data!G41,0) -> 0 | H41: =IF(data!H41=$D$15,data!H41,0) -> 0 | I41: =IF(data!I41=$D$15,data!I41,0) -> 0 | J41: =IF(data!J41=$D$15,data!J41,0) -> 0 | K41: =IF(data!K41=$D$15,data!K41,0) -> 0 | ... M41: =IF(data!M41=$D$15,data!M41,0) -> 0
A42: we1 | B42: 0.016666667 | C42: =IF(LEFT($A42,2)="we","Holiday","Workday") -> Holiday | D42: =IF(data!D42=$D$15,data!D42,0) -> 0 | E42: =IF(data!E42=$D$15,data!E42,0) -> 0 | F42: =IF(data!F42=$D$15,data!F42,0) -> 0 | G42: =IF(data!G42=$D$15,data!G42,0) -> 0 | H42: =IF(data!H42=$D$15,data!H42,0) -> 0 | I42: =IF(data!I42=$D$15,data!I42,0) -> 0 | J42: =IF(data!J42=$D$15,data!J42,0) -> 0 | K42: =IF(data!K42=$D$15,data!K42,0) -> 0 | ... M42: =IF(data!M42=$D$15,data!M42,0) -> 0
A43: we1 | B43: 0.017361111 | C43: =IF(LEFT($A43,2)="we","Holiday","Workday") -> Holiday | D43: =IF(data!D43=$D$15,data!D43,0) -> 0 | E43: =IF(data!E43=$D$15,data!E43,0) -> 0 | F43: =IF(data!F43=$D$15,data!F43,0) -> 0 | G43: =IF(data!G43=$D$15,data!G43,0) -> 0 | H43: =IF(data!H43=$D$15,data!H43,0) -> 0 | I43: =IF(data!I43=$D$15,data!I43,0) -> 0 | J43: =IF(data!J43=$D$15,data!J43,0) -> 0 | K43: =IF(data!K43=$D$15,data!K43,0) -> 0 | ... M43: =IF(data!M43=$D$15,data!M43,0) -> 0
A44: we1 | B44: 0.018055556 | C44: =IF(LEFT($A44,2)="we","Holiday","Workday") -> Holiday | D44: =IF(data!D44=$D$15,data!D44,0) -> 0 | E44: =IF(data!E44=$D$15,data!E44,0) -> 0 | F44: =IF(data!F44=$D$15,data!F44,0) -> 0 | G44: =IF(data!G44=$D$15,data!G44,0) -> 0 | H44: =IF(data!H44=$D$15,data!H44,0) -> 0 | I44: =IF(data!I44=$D$15,data!I44,0) -> 0 | J44: =IF(data!J44=$D$15,data!J44,0) -> 0 | K44: =IF(data!K44=$D$15,data!K44,0) -> 0 | ... M44: =IF(data!M44=$D$15,data!M44,0) -> 0
A45: we1 | B45: 0.01875 | C45: Workday | D45: =IF(data!D45=$D$15,data!D45,0) -> 0 | E45: =IF(data!E45=$D$15,data!E45,0) -> 0 | F45: =IF(data!F45=$D$15,data!F45,0) -> 0 | G45: =IF(data!G45=$D$15,data!G45,0) -> 0 | H45: =IF(data!H45=$D$15,data!H45,0) -> 0 | I45: =IF(data!I45=$D$15,data!I45,0) -> 0 | J45: =IF(data!J45=$D$15,data!J45,0) -> 0 | K45: =IF(data!K45=$D$15,data!K45,0) -> 0 | ... M45: =IF(data!M45=$D$15,data!M45,0) -> 0
A46: we1 | B46: 0.019444444 | C46: Workday | D46: =IF(data!D46=$D$15,data!D46,0) -> 0 | E46: =IF(data!E46=$D$15,data!E46,0) -> 0 | F46: =IF(data!F46=$D$15,data!F46,0) -> 0 | G46: =IF(data!G46=$D$15,data!G46,0) -> 0 | H46: =IF(data!H46=$D$15,data!H46,0) -> 0 | I46: =IF(data!I46=$D$15,data!I46,0) -> 0 | J46: =IF(data!J46=$D$15,data!J46,0) -> 0 | K46: =IF(data!K46=$D$15,data!K46,0) -> 0 | ... M46: =IF(data!M46=$D$15,data!M46,0) -> 0
A47: we1 | B47: 0.020138889 | C47: =IF(LEFT($A47,2)="we","Holiday","Workday") -> Holiday | D47: =IF(data!D47=$D$15,data!D47,0) -> 0 | E47: =IF(data!E47=$D$15,data!E47,0) -> 0 | F47: =IF(data!F47=$D$15,data!F47,0) -> 0 | G47: =IF(data!G47=$D$15,data!G47,0) -> 0 | H47: =IF(data!H47=$D$15,data!H47,0) -> 0 | I47: =IF(data!I47=$D$15,data!I47,0) -> 0 | J47: =IF(data!J47=$D$15,data!J47,0) -> 0 | K47: =IF(data!K47=$D$15,data!K47,0) -> 0 | ... M47: =IF(data!M47=$D$15,data!M47,0) -> 0
A48: we1 | B48: 0.020833333 | C48: Workday | D48: =IF(data!D48=$D$15,data!D48,0) -> 0 | E48: =IF(data!E48=$D$15,data!E48,0) -> 0 | F48: =IF(data!F48=$D$15,data!F48,0) -> 0 | G48: =IF(data!G48=$D$15,data!G48,0) -> 0 | H48: =IF(data!H48=$D$15,data!H48,0) -> 0 | I48: =IF(data!I48=$D$15,data!I48,0) -> 0 | J48: =IF(data!J48=$D$15,data!J48,0) -> 0 | K48: =IF(data!K48=$D$15,data!K48,0) -> 0 | ... M48: =IF(data!M48=$D$15,data!M48,0) -> 0
A49: we1 | B49: 0.021527778 | C49: Workday | D49: =IF(data!D49=$D$15,data!D49,0) -> 0 | E49: =IF(data!E49=$D$15,data!E49,0) -> 0 | F49: =IF(data!F49=$D$15,data!F49,0) -> 0 | G49: =IF(data!G49=$D$15,data!G49,0) -> 0 | H49: =IF(data!H49=$D$15,data!H49,0) -> 0 | I49: =IF(data!I49=$D$15,data!I49,0) -> 0 | J49: =IF(data!J49=$D$15,data!J49,0) -> 0 | K49: =IF(data!K49=$D$15,data!K49,0) -> 0 | ... M49: =IF(data!M49=$D$15,data!M49,0) -> 0
A50: we1 | B50: 0.022222222 | C50: Workday | D50: =IF(data!D50=$D$15,data!D50,0) -> 0 | E50: =IF(data!E50=$D$15,data!E50,0) -> 0 | F50: =IF(data!F50=$D$15,data!F50,0) -> 0 | G50: =IF(data!G50=$D$15,data!G50,0) -> 0 | H50: =IF(data!H50=$D$15,data!H50,0) -> 0 | I50: =IF(data!I50=$D$15,data!I50,0) -> 0 | J50: =IF(data!J50=$D$15,data!J50,0) -> 0 | K50: =IF(data!K50=$D$15,data!K50,0) -> 0 | ... M50: =IF(data!M50=$D$15,data!M50,0) -> 0
A51: we1 | B51: 0.022916667 | C51: Workday | D51: =IF(data!D51=$D$15,data!D51,0) -> 0 | E51: =IF(data!E51=$D$15,data!E51,0) -> 0 | F51: =IF(data!F51=$D$15,data!F51,0) -> 0 | G51: =IF(data!G51=$D$15,data!G51,0) -> 0 | H51: =IF(data!H51=$D$15,data!H51,0) -> 0 | I51: =IF(data!I51=$D$15,data!I51,0) -> 0 | J51: =IF(data!J51=$D$15,data!J51,0) -> 0 | K51: =IF(data!K51=$D$15,data!K51,0) -> 0 | ... M51: =IF(data!M51=$D$15,data!M51,0) -> 0
A52: we1 | B52: 0.023611111 | C52: Workday | D52: =IF(data!D52=$D$15,data!D52,0) -> 0 | E52: =IF(data!E52=$D$15,data!E52,0) -> 0 | F52: =IF(data!F52=$D$15,data!F52,0) -> 0 | G52: =IF(data!G52=$D$15,data!G52,0) -> 0 | H52: =IF(data!H52=$D$15,data!H52,0) -> 0 | I52: =IF(data!I52=$D$15,data!I52,0) -> 0 | J52: =IF(data!J52=$D$15,data!J52,0) -> 0 | K52: =IF(data!K52=$D$15,data!K52,0) -> 0 | ... M52: =IF(data!M52=$D$15,data!M52,0) -> 0
A53: we1 | B53: 0.024305556 | C53: Workday | D53: =IF(data!D53=$D$15,data!D53,0) -> 0 | E53: =IF(data!E53=$D$15,data!E53,0) -> 0 | F53: =IF(data!F53=$D$15,data!F53,0) -> 0 | G53: =IF(data!G53=$D$15,data!G53,0) -> 0 | H53: =IF(data!H53=$D$15,data!H53,0) -> 0 | I53: =IF(data!I53=$D$15,data!I53,0) -> 0 | J53: =IF(data!J53=$D$15,data!J53,0) -> 0 | K53: =IF(data!K53=$D$15,data!K53,0) -> 0 | ... M53: =IF(data!M53=$D$15,data!M53,0) -> 0
A54: we1 | B54: 0.025 | C54: =IF(LEFT($A54,2)="we","Holiday","Workday") -> Holiday | D54: =IF(data!D54=$D$15,data!D54,0) -> 0 | E54: =IF(data!E54=$D$15,data!E54,0) -> 0 | F54: =IF(data!F54=$D$15,data!F54,0) -> 0 | G54: =IF(data!G54=$D$15,data!G54,0) -> 0 | H54: =IF(data!H54=$D$15,data!H54,0) -> 0 | I54: =IF(data!I54=$D$15,data!I54,0) -> 0 | J54: =IF(data!J54=$D$15,data!J54,0) -> 0 | K54: =IF(data!K54=$D$15,data!K54,0) -> 0 | ... M54: =IF(data!M54=$D$15,data!M54,0) -> 0
A55: we1 | B55: 0.025694444 | C55: =IF(LEFT($A55,2)="we","Holiday","Workday") -> Holiday | D55: =IF(data!D55=$D$15,data!D55,0) -> 0 | E55: =IF(data!E55=$D$15,data!E55,0) -> 0 | F55: =IF(data!F55=$D$15,data!F55,0) -> 0 | G55: =IF(data!G55=$D$15,data!G55,0) -> 0 | H55: =IF(data!H55=$D$15,data!H55,0) -> 0 | I55: =IF(data!I55=$D$15,data!I55,0) -> 0 | J55: =IF(data!J55=$D$15,data!J55,0) -> 0 | K55: =IF(data!K55=$D$15,data!K55,0) -> 0 | ... M55: =IF(data!M55=$D$15,data!M55,0) -> 0
A56: we1 | B56: 0.026388889 | C56: =IF(LEFT($A56,2)="we","Holiday","Workday") -> Holiday | D56: =IF(data!D56=$D$15,data!D56,0) -> 0 | E56: =IF(data!E56=$D$15,data!E56,0) -> 0 | F56: =IF(data!F56=$D$15,data!F56,0) -> 0 | G56: =IF(data!G56=$D$15,data!G56,0) -> 0 | H56: =IF(data!H56=$D$15,data!H56,0) -> 0 | I56: =IF(data!I56=$D$15,data!I56,0) -> 0 | J56: =IF(data!J56=$D$15,data!J56,0) -> 0 | K56: =IF(data!K56=$D$15,data!K56,0) -> 0 | ... M56: =IF(data!M56=$D$15,data!M56,0) -> 0
A57: we1 | B57: 0.027083333 | C57: =IF(LEFT($A57,2)="we","Holiday","Workday") -> Holiday | D57: =IF(data!D57=$D$15,data!D57,0) -> 0 | E57: =IF(data!E57=$D$15,data!E57,0) -> 0 | F57: =IF(data!F57=$D$15,data!F57,0) -> 0 | G57: =IF(data!G57=$D$15,data!G57,0) -> 0 | H57: =IF(data!H57=$D$15,data!H57,0) -> 0 | I57: =IF(data!I57=$D$15,data!I57,0) -> 0 | J57: =IF(data!J57=$D$15,data!J57,0) -> 0 | K57: =IF(data!K57=$D$15,data!K57,0) -> 0 | ... M57: =IF(data!M57=$D$15,data!M57,0) -> 0
