Workbook

Sheet ผลที่ต้องการนำไปใช้งาน
A1: ช่วยแนะนำการทำสรุปรายการวัสดุที่ต้องใช้ในแต่ล่ะแผนกแบบอัตโนมัติให้หน่อยครับ
A2: Sheet order คือรายการ Model ที่สั่งซื้อ ป้อนข้อมูลรายการสั่งซื้อ
A3: Sheet BOM คือ รายละเอียดวัสดุที่ต้องใช้ในแต่Section ของแต่ล่ะ Model ที่ช่อง Order คือยอดสั่งซื้อจาก Sheet Order
A4: ทำรายงานผลรวมวัสดุแต่ละประเภทของแต่ล่ะแผนกที่ต้องใช้ทั้งหมดให้แสดงผลอัตโนมัติไปยัง Sheet ต่างๆตามแผนก
A5: -โดยแยกรายงานวัสดุที่ต้องใช้ในแต่ล่ะ Section ออกไปเป็น Sheet โดยแสดงเอาผลรวมหลักๆ คือ Section,Description,Unit และ Total Usage
A6: Sheet | B6: WOOD FRAME
A7: Sheet | B7: SEWING
A8: Sheet | B8: MATTRESS
A9: Sheet | B9: PRE-UP
A10: Sheet | B10: UPHOLSTERY
A11: Sheet | B11: LEG
A12: Sheet | B12: PACKING
B14: ตัวอย่างผลที่ต้องการครับ (ผลที่ได้จากการนำข้อมูลไปทำ Pivot ครับ) มีวิธีอื่นๆหรือคำสั่งอื่นๆที่สามารถนำไปแสดงผลได้เลยไหมครับ
B16: Section | C16: Description | D16: Unit | E16: Total usage
B17: WOOD FRAME | C17: BIRCH WOOD 2.3CM EPA | D17: m3 | E17: 0
B18: WOOD FRAME | C18: BIRCH WOOD EPA | D18: m3 | E18: 0.044025
B19: WOOD FRAME | C19: FRAME PB009-00 TURNER OTTOMAN | D19: SET | E19: 6
B20: WOOD FRAME | C20: FRAME PB009-00-ST REV#2 TUNER SQUARE ARM STORAGE OTTOMAN | D20: SET | E20: 3
B21: WOOD FRAME | C21: FRAME PB009-01 TURNER SMALL OTTOMAN | D21: SET | E21: 3
B22: WOOD FRAME | C22: FRAME PB009-10 TURNER SQUARE ARMCHAIR | D22: SET | E22: 5
B23: WOOD FRAME | C23: FRAME PB009-10-LF TURNER SQUARE SECTIONAL LEFT ARMCHAIR | D23: SET | E23: 1
B24: WOOD FRAME | C24: FRAME PB009-10-RF TURNER SQUARE SECTIONAL RIGHT ARMCHAIR | D24: SET | E24: 0
B25: WOOD FRAME | C25: FRAME PB009-125-LF TURNER SQUARE SECTIONAL LEFT ARM CHAISE | D25: SET | E25: 3
B26: WOOD FRAME | C26: FRAME PB009-20-LF TURNER SQUARE SECTIONAL LEFT ARM LOVESEAT | D26: SET | E26: 2
B27: WOOD FRAME | C27: FRAME PB009-20-RF TURNER SQUARE SECTIONAL RIGH ARM LOVESEAT | D27: SET | E27: 2
B28: WOOD FRAME | C28: FRAME PB009-30 TURNER SQUARE ARM GRAND SOFA | D28: SET | E28: 156
... B62: WOOD FRAME | C62: WOOD SCREW 5CM. (2") BLACK | D62: PCS | E62: 30

Sheet Order
A1: Model | B1: Q'ty
A2: PB009-00 | B2: 6
A3: PB009-00 Rev#3 | B3: 1
A4: PB009-00-ST Rev#2 | B4: 3
A5: PB009-00-ST Rev#3 | B5: 1
A6: PB009-01 | B6: 3
A7: PB009-10 | B7: 5
A8: PB009-10 Rev#2 | B8: 1
A9: PB009-10-LF | B9: 1
A10: PB009-10-RF-E | B10: 1
A11: PB009-125-LF | B11: 1
A12: PB009-125-RF | B12: 3
A13: PB009-20-LF | B13: 2
... A29: PB080XS-30 | B29: 5

Sheet ทำ Pivot
A3: ผลรวม ของ Total usage
A4: Section | B4: Description | C4: Unit | D4: ผลรวม
A5: WOOD FRAME | B5: BIRCH WOOD EPA | C5: m3 | D5: 0
B6: GLUE S.B. 138 (WHITE) (1 Gal = 100 Kg) | C6: KG | D6: 0
B7: KRAFT BOARD 244x122x0.18CM. (IA 2, OA 2, OB 1) /PAPER FOR FRAME | C7: PCS | D7: 0
B8: PLYWOOD 0.5CM /244x122x0.5CM PLYWOOD EPA | C8: PCS | D8: 0
B9: PLYWOOD 1.5CM /244x122x1.5CM PLYWOOD EPA | C9: PCS | D9: 0
B10: PLYWOOD 2.3CM /244x122x2.3CM PLYWOOD EPA | C10: PCS | D10: 0
B11: PLYWOOD EPA | C11: m3 | D11: 0
B12: STAPLE NO.1010 (5000 PCS:BOX /1 Box = 50 Row) | C12: ROW | D12: 0
B13: STAPLE NO.1013 (5000 PCS:BOX /1 Box = 50 Row) | C13: ROW | D13: 0
B14: STAPLE NO.845 (10,000 PCS/BOX ,70PCS:1ROW) | C14: ROW | D14: 0
B15: WOOD SCREW 2" BLACK | C15: PCS | D15: 0
A16: LEG | B16: PB009/PB080/PB089 sofa foot/PB135 rear foot/PB207/PB208XS sofa foot/PB204/PB119 foot/PB205-30-SBS LEG | C16: PCS | D16: 8
B17: DOME | C17: PCS | D17: 707
B18: FOR SECTIONAL | C18: PCS | D18: 4
B19: METAL ADJUSTMENT LEG NAIL 35*5/16*1-1/4 | C19: PCS | D19: 20
B20: PB009/080 COMBINATION SOFA LEG/ PB135-40 REAR FOOT ADJUSTMENT LEG NAIL | C20: PCS | D20: 0
B21: PLASTIC LEG / GLIDER | C21: PCS | D21: 331
B22: PLASTIC LEG /Glider H:5CM | C22: PCS | D22: 2
B23: WOODEN LEG | C23: PCS | D23: 632
B24: WOODEN LEG | C24: PCS | D24: 792
B25: WOODEN LEG FOR SECTIONAL | C25: PCS | D25: 36
B26: WOODEN LEG FOR SECTIONAL (METAL ADJUSTMENT LEG NAIL 35*5/16*1-1/4) | C26: PCS | D26: 24
B27: WOODEN LEG SECTIONAL LEGS (WITH GLIDER FOR SECTIONAL 35*5/16*1-1/4) | C27: PCS | D27: 4
B28: WOODEN LEG SOFA LEG (WITH GLIDER BLACK DIAMETER 23x6MM) | C28: PCS | D28: 12
B29: WOODEN LEG TURNER SLEEPER SOFA LEGS (WITH GLIDER BLACK DIAMETER 23x6MM) | C29: PCS | D29: 0
A30: MATTRESS | B30: BLACK FIBER | C30: METRE | D30: 2.1
B31: COFFEE TWILL LINING TO SEWN WITH LEATHER | C31: METRE | D31: 1432
B32: COFFEE TWILL LINING TO SEWN WITH LEATHER | C32: METRE | D32: 0
B33: COTTON INNER (BOX) | C33: METRE | D33: 6.3
B34: DOWN PROOF WHITE LINING / WIDTH 1.6m POLYESTER | C34: METRE | D34: 298.2
B35: DOWN PROOF WHITE LINING / WIDTH 1.6m POLYESTER / Duck Fabric | C35: METRE | D35: 1445.63
B36: FIBRE FILL 180g X 2m | C36: METRE | D36: 20.05
B37: FIBRE FILL 180g X 2m / 180g Cotton | C37: METRE | D37: 391.79
B38: FIBRE FILL 180g X 2M /180g COTTON | C38: METRE | D38: 4.4
B39: FIBRE FILL 300 G | C39: METRE | D39: 4.05
B40: FIBRE FILL 300g X 2M /300g COTTON | C40: METRE | D40: 0
B41: FIBRE FILL 300G. (FIBER 300G.) /300 G / DOOR WIDTH 2 M | C41: METRE | D41: 0
B42: FIBRE FILL 80g X 2m | C42: METRE | D42: 3.8
...

Sheet BOM
A1: Model | B1: Section | C1: Description | D1: Unit | E1: Usage | F1: Order | G1: Total usage
A2: PB009-00 | B2: WOOD FRAME | C2: FRAME PB009-00 TURNER OTTOMAN | D2: SET | E2: 1 | F2: =IFERROR(VLOOKUP(A2,Order!A:B,2,0),"-") -> 6 | G2: =IFERROR(E2*F2,"-") -> 6
A3: PB009-00 | B3: WOOD FRAME | C3: WOOD SCREW 2" BLACK (W 4.1-P1.8x50(2/3) F) | D3: PCS | E3: 2 | F3: =IFERROR(VLOOKUP(A3,Order!A:B,2,0),"-") -> 6 | G3: =IFERROR(E3*F3,"-") -> 12
A4: PB009-00 | B4: WOOD FRAME | C4: STAPLE NO.838T-GOLD (1 Box = 140 Row) | D4: ROW | E4: 3 | F4: =IFERROR(VLOOKUP(A4,Order!A:B,2,0),"-") -> 6 | G4: =IFERROR(E4*F4,"-") -> 18
A5: PB009-00 | B5: WOOD FRAME | C5: GLUE S.B. 138 (WHITE) (1 Gal = 100 Kg) | D5: KG | E5: 0.2 | F5: =IFERROR(VLOOKUP(A5,Order!A:B,2,0),"-") -> 6 | G5: =IFERROR(E5*F5,"-") -> 1.2
A6: PB009-00 | B6: SEWING | C6: ZIP ROW BLACK FOR SEAT & BACK CUSHION / BLACK ZIPPER | D6: METRE | E6: 1.26 | F6: =IFERROR(VLOOKUP(A6,Order!A:B,2,0),"-") -> 6 | G6: =IFERROR(E6*F6,"-") -> 7.56
A7: PB009-00 | B7: SEWING | C7: ZIP HEAD BLACK | D7: PCS | E7: 1 | F7: =IFERROR(VLOOKUP(A7,Order!A:B,2,0),"-") -> 6 | G7: =IFERROR(E7*F7,"-") -> 6
A8: PB009-00 | B8: SEWING | C8: ZIP ROW #5 WHITE BLEACH FOR SEAT CUSHION INTERIOR / WHITE ZIPPER | D8: METRE | E8: 0 | F8: =IFERROR(VLOOKUP(A8,Order!A:B,2,0),"-") -> 6 | G8: =IFERROR(E8*F8,"-") -> 0
A9: PB009-00 | B9: SEWING | C9: ZIP HEAD WHITE / WHITE ZIPPER HEAD | D9: PCS | E9: 0 | F9: =IFERROR(VLOOKUP(A9,Order!A:B,2,0),"-") -> 6 | G9: =IFERROR(E9*F9,"-") -> 0
A10: PB009-00 | B10: SEWING | C10: TAPE ROLL TO SEWN BEHIND THE SHOWING SEAM | D10: METRE | E10: 9.5 | F10: =IFERROR(VLOOKUP(A10,Order!A:B,2,0),"-") -> 6 | G10: =IFERROR(E10*F10,"-") -> 57
A11: PB009-00 | B11: SEWING | C11: WHITE THREAD 30/3WHITE THREAD /100pc/BOX, 0.13KG/pc / WHITE SEWING THREAD | D11: METRE | E11: 0.1 | F11: =IFERROR(VLOOKUP(A11,Order!A:B,2,0),"-") -> 6 | G11: =IFERROR(E11*F11,"-") -> 0.6
A12: PB009-00 | B12: SEWING | C12: SEWING THREAD (INVISIBLE) 300D (BROWN / GREY) | D12: ROLL | E12: 0.06 | F12: =IFERROR(VLOOKUP(A12,Order!A:B,2,0),"-") -> 6 | G12: =IFERROR(E12*F12,"-") -> 0.36
A13: PB009-00 | B13: SEWING | C13: SEWING THREAD (VISIBLE) 500D (BROWN / GREY) | D13: ROLL | E13: 0.04 | F13: =IFERROR(VLOOKUP(A13,Order!A:B,2,0),"-") -> 6 | G13: =IFERROR(E13*F13,"-") -> 0.24
... A144: PB009-01 | B144: MATTRESS | C144: SPUNBOND 30 G. FOR UNIT CASE | D144: METRE | E144: 1.95 | F144: =IFERROR(VLOOKUP(A144,Order!A:B,2,0),"-") -> 3 | G144: =IFERROR(E144*F144,"-") -> 5.85
A145: PB009-01 | B145: MATTRESS | C145: SPUNBOND 30 G. FOR SEAT / BACK COVER | D145: METRE | E145: - | F145: =IFERROR(VLOOKUP(A145,Order!A:B,2,0),"-") -> 3 | G145: =IFERROR(E145*F145,"-") -> -
A146: PB009-01 | B146: MATTRESS | C146: LINING TO COVER WEBBING (INBACK) | D146: METRE | E146: 0 | F146: =IFERROR(VLOOKUP(A146,Order!A:B,2,0),"-") -> 3 | G146: =IFERROR(E146*F146,"-") -> 0
A147: PB009-01 | B147: MATTRESS | C147: FIBRE FILL 300 G | D147: METRE | E147: 0.65 | F147: =IFERROR(VLOOKUP(A147,Order!A:B,2,0),"-") -> 3 | G147: =IFERROR(E147*F147,"-") -> 1.95
A148: PB009-01 | B148: MATTRESS | C148: FIBRE FILL 180g X 2m | D148: METRE | E148: 0.6 | F148: =IFERROR(VLOOKUP(A148,Order!A:B,2,0),"-") -> 3 | G148: =IFERROR(E148*F148,"-") -> 1.8
A149: PB009-01 | B149: MATTRESS | C149: INNER LINING BLACK | D149: METRE | E149: 0.65 | F149: =IFERROR(VLOOKUP(A149,Order!A:B,2,0),"-") -> 3 | G149: =IFERROR(E149*F149,"-") -> 1.95
A150: PB009-01 | B150: PRE-UP | C150: INSIDE ARM CARDBOARD | D150: PCS | E150: 0 | F150: =IFERROR(VLOOKUP(A150,Order!A:B,2,0),"-") -> 3 | G150: =IFERROR(E150*F150,"-") -> 0
A151: PB009-01 | B151: PRE-UP | C151: OUTSIDE ARM CARDBOARD | D151: PCS | E151: 0 | F151: =IFERROR(VLOOKUP(A151,Order!A:B,2,0),"-") -> 3 | G151: =IFERROR(E151*F151,"-") -> 0
A152: PB009-01 | B152: PRE-UP | C152: TOP OUTSIDE ARM CARDBOARD | D152: PCS | E152: 0 | F152: =IFERROR(VLOOKUP(A152,Order!A:B,2,0),"-") -> 3 | G152: =IFERROR(E152*F152,"-") -> 0
A153: PB009-01 | B153: PRE-UP | C153: WEBBING RUBBER BAND STRETCH:55% (35 METRE / ROLL) | D153: METRE | E153: 5.6 | F153: =IFERROR(VLOOKUP(A153,Order!A:B,2,0),"-") -> 3 | G153: =IFERROR(E153*F153,"-") -> 16.8
A154: PB009-01 | B154: PRE-UP | C154: STAPLE NO.1010 BLACK (1 Box = 50 Row) | D154: ROW | E154: 10 | F154: =IFERROR(VLOOKUP(A154,Order!A:B,2,0),"-") -> 3 | G154: =IFERROR(E154*F154,"-") -> 30
A155: PB009-01 | B155: PRE-UP | C155: NYLON STRING | D155: METRE | E155: 0 | F155: =IFERROR(VLOOKUP(A155,Order!A:B,2,0),"-") -> 3 | G155: =IFERROR(E155*F155,"-") -> 0
A156: PB009-01 | B156: PRE-UP | C156: PROFILE PLATFORM EDGE Ø2.5cm. | D156: METRE | E156: 2.6 | F156: =IFERROR(VLOOKUP(A156,Order!A:B,2,0),"-") -> 3 | G156: =IFERROR(E156*F156,"-") -> 7.8
A157: PB009-01 | B157: PRE-UP | C157: SILIGA GEL 80 G. | D157: PCS | E157: 1 | F157: =IFERROR(VLOOKUP(A157,Order!A:B,2,0),"-") -> 3 | G157: =IFERROR(E157*F157,"-") -> 3
... A215: PB009-01 Rev#2 | B215: PRE-UP | C215: WEBBING RUBBER BAND 6CM /WEBBING FOR SEAT | D215: METRE | E215: 5.6 | F215: =IFERROR(VLOOKUP(A215,Order!A:B,2,0),"-") -> - | G215: =IFERROR(E215*F215,"-") -> -
A216: PB009-01 Rev#2 | B216: PRE-UP | D216: ROW | E216: 1 | F216: =IFERROR(VLOOKUP(A216,Order!A:B,2,0),"-") -> - | G216: =IFERROR(E216*F216,"-") -> -
A217: PB009-01 Rev#2 | B217: PRE-UP | C217: WELT FOR SOFA Ø2.5CM | D217: METRE | E217: 2.6 | F217: =IFERROR(VLOOKUP(A217,Order!A:B,2,0),"-") -> - | G217: =IFERROR(E217*F217,"-") -> -
A218: PB009-01 Rev#2 | B218: PRE-UP | C218: SILIGA GEL 80G. (DESICCANT FOR SOFA) | D218: PCS | E218: 1 | F218: =IFERROR(VLOOKUP(A218,Order!A:B,2,0),"-") -> - | G218: =IFERROR(E218*F218,"-") -> -
A219: PB009-01 Rev#2 | B219: PRE-UP | C219: GLUE S.B.320A(INSTEAD #338) (N 7105 1 Gal= 160 Kg) | D219: KG | E219: 0.1 | F219: =IFERROR(VLOOKUP(A219,Order!A:B,2,0),"-") -> - | G219: =IFERROR(E219*F219,"-") -> -
A220: PB009-01 Rev#2 | B220: UPHOLSTERY | C220: STAPLE NO.1010 (5000 PCS:BOX /1 Box = 50 Row) | D220: ROW | E220: 5 | F220: =IFERROR(VLOOKUP(A220,Order!A:B,2,0),"-") -> - | G220: =IFERROR(E220*F220,"-") -> -
A221: PB009-01 Rev#2 | B221: UPHOLSTERY | C221: STAPLE NO.1010 BLACK (5000 PCS:BOX /1 Box = 50 Row) | D221: ROW | E221: 4 | F221: =IFERROR(VLOOKUP(A221,Order!A:B,2,0),"-") -> - | G221: =IFERROR(E221*F221,"-") -> -
A222: PB009-01 Rev#2 | B222: UPHOLSTERY | C222: WOOD SCREW 2" BLACK | D222: PCS | E222: 8 | F222: =IFERROR(VLOOKUP(A222,Order!A:B,2,0),"-") -> - | G222: =IFERROR(E222*F222,"-") -> -
A223: PB009-01 Rev#2 | B223: UPHOLSTERY | C223: BRASS NAIL #003 NAILHEAD Ø16MM | D223: PCS | E223: 146 | F223: =IFERROR(VLOOKUP(A223,Order!A:B,2,0),"-") -> - | G223: =IFERROR(E223*F223,"-") -> -
A224: PB009-01 Rev#2 | B224: LEG | C224: WOODEN LEG SOFA LEG (WITH GLIDER BLACK DIAMETER 23x6MM) | D224: PCS | E224: 4 | F224: =IFERROR(VLOOKUP(A224,Order!A:B,2,0),"-") -> - | G224: =IFERROR(E224*F224,"-") -> -
A225: PB009-01 Rev#2 | B225: PACKING | C225: BOX PB009-01 Rev#2 W81xD65xH49CM. (CARDBOARD TEST 275LBS) | D225: PCS | E225: 1 | F225: =IFERROR(VLOOKUP(A225,Order!A:B,2,0),"-") -> - | G225: =IFERROR(E225*F225,"-") -> -
A226: PB009-01 Rev#2 | B226: PACKING | C226: CORNER BOARD (non) 80 x 80 x 5 x 470 MM. | D226: PCS | E226: 4 | F226: =IFERROR(VLOOKUP(A226,Order!A:B,2,0),"-") -> - | G226: =IFERROR(E226*F226,"-") -> -
A227: PB009-01 Rev#2 | B227: PACKING | C227: EPS FOAM (WH) 0.8 lb/ft, T7.5 x W20 x L42 cm. | D227: SHEET | E227: 2 | F227: =IFERROR(VLOOKUP(A227,Order!A:B,2,0),"-") -> - | G227: =IFERROR(E227*F227,"-") -> -
...

Sheet Wood Frame
A1: Section | B1: Description | C1: Unit | D1: Total usage

Sheet Sewing
A1: Section | B1: Description | C1: Unit | D1: Total usage

Sheet Mattress
A1: Section | B1: Description | C1: Unit | D1: Total usage

Sheet Preup
A1: Section | B1: Description | C1: Unit | D1: Total usage

Sheet UPHOLSTERY
A1: Section | B1: Description | C1: Unit | D1: Total usage

Sheet LEG
A1: Section | B1: Description | C1: Unit | D1: Total usage

Sheet PACKING
A1: Section | B1: Description | C1: Unit | D1: Total usage
