Workbook

Sheet ผลที่ต้องการนำไปใช้งาน
A1: ช่วยแนะนำการทำสรุปรายการวัสดุที่ต้องใช้ในแต่ล่ะแผนกแบบอัตโนมัติให้หน่อยครับ
A2: Sheet order คือรายการ Model ที่สั่งซื้อ ป้อนข้อมูลรายการสั่งซื้อ
A3: Sheet BOM คือ รายละเอียดวัสดุที่ต้องใช้ในแต่Section ของแต่ล่ะ Model ที่ช่อง Order คือยอดสั่งซื้อจาก Sheet Order
A4: ทำรายงานผลรวมวัสดุแต่ละประเภทของแต่ล่ะแผนกที่ต้องใช้ทั้งหมดให้แสดงผลอัตโนมัติไปยัง Sheet ต่างๆตามแผนก
A5: -โดยแยกรายงานวัสดุที่ต้องใช้ในแต่ล่ะ Section ออกไปเป็น Sheet โดยแสดงเอาผลรวมหลักๆ คือ Section,Description,Unit และ Total Usage
A6: Sheet | B6: WOOD FRAME
A7: Sheet | B7: SEWING
A8: Sheet | B8: MATTRESS
A9: Sheet | B9: PRE-UP
A10: Sheet | B10: UPHOLSTERY
A11: Sheet | B11: LEG
A12: Sheet | B12: PACKING
B14: ตัวอย่างผลที่ต้องการครับ (ผลที่ได้จากการนำข้อมูลไปทำ Pivot ครับ) มีวิธีอื่นๆหรือคำสั่งอื่นๆที่สามารถนำไปแสดงผลได้เลยไหมครับ
B16: Section | C16: Description | D16: Unit | E16: Total usage
B17: WOOD FRAME | C17: BIRCH WOOD 2.3CM EPA | D17: m3 | E17: 0
B18: WOOD FRAME | C18: BIRCH WOOD EPA | D18: m3 | E18: 0.044025
B19: WOOD FRAME | C19: FRAME PB009-00 TURNER OTTOMAN | D19: SET | E19: 6
B20: WOOD FRAME | C20: FRAME PB009-00-ST REV#2 TUNER SQUARE ARM STORAGE OTTOMAN | D20: SET | E20: 3
B21: WOOD FRAME | C21: FRAME PB009-01 TURNER SMALL OTTOMAN | D21: SET | E21: 3
B22: WOOD FRAME | C22: FRAME PB009-10 TURNER SQUARE ARMCHAIR | D22: SET | E22: 5
B23: WOOD FRAME | C23: FRAME PB009-10-LF TURNER SQUARE SECTIONAL LEFT ARMCHAIR | D23: SET | E23: 1
B24: WOOD FRAME | C24: FRAME PB009-10-RF TURNER SQUARE SECTIONAL RIGHT ARMCHAIR | D24: SET | E24: 0
B25: WOOD FRAME | C25: FRAME PB009-125-LF TURNER SQUARE SECTIONAL LEFT ARM CHAISE | D25: SET | E25: 3
B26: WOOD FRAME | C26: FRAME PB009-20-LF TURNER SQUARE SECTIONAL LEFT ARM LOVESEAT | D26: SET | E26: 2
B27: WOOD FRAME | C27: FRAME PB009-20-RF TURNER SQUARE SECTIONAL RIGH ARM LOVESEAT | D27: SET | E27: 2
B28: WOOD FRAME | C28: FRAME PB009-30 TURNER SQUARE ARM GRAND SOFA | D28: SET | E28: 156
... B62: WOOD FRAME | C62: WOOD SCREW 5CM. (2") BLACK | D62: PCS | E62: 30

Sheet Order
A1: Model | B1: Q'ty
A2: PB009-00 | B2: 6
A3: PB009-00 Rev#3 | B3: 1
A4: PB009-00-ST Rev#2 | B4: 3
A5: PB009-00-ST Rev#3 | B5: 1
A6: PB009-01 | B6: 3
A7: PB009-10 | B7: 5
A8: PB009-10 Rev#2 | B8: 1
A9: PB009-10-LF | B9: 1
A10: PB009-10-RF-E | B10: 1
A11: PB009-125-LF | B11: 1
A12: PB009-125-RF | B12: 3
A13: PB009-20-LF | B13: 2
... A29: PB080XS-30 | B29: 5

Sheet ทำ Pivot
A3: ผลรวม ของ Total usage
A4: Section | B4: Description | C4: Unit | D4: ผลรวม
A5: WOOD FRAME | B5: BIRCH WOOD EPA | C5: m3 | D5: 0
B6: GLUE S.B. 138 (WHITE) (1 Gal = 100 Kg) | C6: KG | D6: 0
B7: KRAFT BOARD 244x122x0.18CM. (IA 2, OA 2, OB 1) /PAPER FOR FRAME | C7: PCS | D7: 0
B8: PLYWOOD 0.5CM /244x122x0.5CM PLYWOOD EPA | C8: PCS | D8: 0
B9: PLYWOOD 1.5CM /244x122x1.5CM PLYWOOD EPA | C9: PCS | D9: 0
B10: PLYWOOD 2.3CM /244x122x2.3CM PLYWOOD EPA | C10: PCS | D10: 0
B11: PLYWOOD EPA | C11: m3 | D11: 0
B12: STAPLE NO.1010 (5000 PCS:BOX /1 Box = 50 Row) | C12: ROW | D12: 0
B13: STAPLE NO.1013 (5000 PCS:BOX /1 Box = 50 Row) | C13: ROW | D13: 0
B14: STAPLE NO.845 (10,000 PCS/BOX ,70PCS:1ROW) | C14: ROW | D14: 0
B15: WOOD SCREW 2" BLACK | C15: PCS | D15: 0
A16: LEG | B16: PB009/PB080/PB089 sofa foot/PB135 rear foot/PB207/PB208XS sofa foot/PB204/PB119 foot/PB205-30-SBS LEG | C16: PCS | D16: 8
B17: DOME | C17: PCS | D17: 707
B18: FOR SECTIONAL | C18: PCS | D18: 4
B19: METAL ADJUSTMENT LEG NAIL 35*5/16*1-1/4 | C19: PCS | D19: 20
B20: PB009/080 COMBINATION SOFA LEG/ PB135-40 REAR FOOT ADJUSTMENT LEG NAIL | C20: PCS | D20: 0
B21: PLASTIC LEG / GLIDER | C21: PCS | D21: 331
B22: PLASTIC LEG /Glider H:5CM | C22: PCS | D22: 2
B23: WOODEN LEG | C23: PCS | D23: 632
B24: WOODEN LEG | C24: PCS | D24: 792
B25: WOODEN LEG FOR SECTIONAL | C25: PCS | D25: 36
B26: WOODEN LEG FOR SECTIONAL (METAL ADJUSTMENT LEG NAIL 35*5/16*1-1/4) | C26: PCS | D26: 24
B27: WOODEN LEG SECTIONAL LEGS (WITH GLIDER FOR SECTIONAL 35*5/16*1-1/4) | C27: PCS | D27: 4
B28: WOODEN LEG SOFA LEG (WITH GLIDER BLACK DIAMETER 23x6MM) | C28: PCS | D28: 12
B29: WOODEN LEG TURNER SLEEPER SOFA LEGS (WITH GLIDER BLACK DIAMETER 23x6MM) | C29: PCS | D29: 0
A30: MATTRESS | B30: BLACK FIBER | C30: METRE | D30: 2.1
B31: COFFEE TWILL LINING TO SEWN WITH LEATHER | C31: METRE | D31: 1432
B32: COFFEE TWILL LINING TO SEWN WITH LEATHER | C32: METRE | D32: 0
B33: COTTON INNER (BOX) | C33: METRE | D33: 6.3
B34: DOWN PROOF WHITE LINING / WIDTH 1.6m POLYESTER | C34: METRE | D34: 298.2
B35: DOWN PROOF WHITE LINING / WIDTH 1.6m POLYESTER / Duck Fabric | C35: METRE | D35: 1445.63
B36: FIBRE FILL 180g X 2m | C36: METRE | D36: 20.05
B37: FIBRE FILL 180g X 2m / 180g Cotton | C37: METRE | D37: 391.79
B38: FIBRE FILL 180g X 2M /180g COTTON | C38: METRE | D38: 4.4
B39: FIBRE FILL 300 G | C39: METRE | D39: 4.05
B40: FIBRE FILL 300g X 2M /300g COTTON | C40: METRE | D40: 0
B41: FIBRE FILL 300G. (FIBER 300G.) /300 G / DOOR WIDTH 2 M | C41: METRE | D41: 0
B42: FIBRE FILL 80g X 2m | C42: METRE | D42: 3.8
... B46: FOAM A353-OB3 : CUT TO SHAPE | C46: METRE | D46: 331
C47: PCS | D47: 1
B48: FOAM C431-G1 T20mm 50"X81" | C48: METRE | D48: 14
C49: SHEET | D49: 276.54
B50: FOAM C431-G1 T50mm 50"X81" | C50: METRE | D50: 2.24
C51: SHEET | D51: 34.76
B52: FOAM ER51-W1 T150mm 208 x 156CM ; PB009/PB080 TURNER | C52: SHEET | D52: 0
B53: FOAM ER51-W1 T150mm 50"X81" | C53: METRE | D53: 14
C54: SHEET | D54: 280.29
B55: FOAM ER51-W1 T40mm (REPLACE 50"X80") | C55: SHEET | D55: 0
B56: FOAM ER51-W1 T40mm 50"X81" | C56: METRE | D56: 0.99
B57: FOAM KM3 T10mm 50X80" | C57: METRE | D57: 26.75
C58: SHEET | D58: 197.58
B59: FOAM KM3 T20mm 50X80" | C59: METRE | D59: 11.75
C60: SHEET | D60: 251.16
B61: FOAM KM3 CUT TO SHAPE 65x185x1000mm | C61: PCS | D61: 0
B62: FOAM TFC-24 T10mm 250 x 143CM (REPLACE 50"X80") | C62: SHEET | D62: 207.48
B63: FOAM TFC-24 T10mm 250 x 143CM ; PB009/PB080 TURNER | C63: SHEET | D63: 1.33
B64: FOAM TFC-24 T20mm 230 x 132CM ; PB009/PB080 TURNER | C64: SHEET | D64: 1
B65: FOAM TFC-24 T20mm (REPLACE 50"X80") | C65: SHEET | D65: 0
B66: FOAM TFC-29 T20mm 233 x 157CM ; PB009/PB080 TURNER | C66: SHEET | D66: 0.5
B67: FOAM TFC-29 T20mm (REPLACE 50"X80") | C67: SHEET | D67: 0
B68: FOAM TFC-29 T25mm 233 x 157CM ; PB009-00-ST Rev#2 /#3 | C68: SHEET | D68: 0
B69: FOAM TFC-29 T50mm 233 x 157CM ; PB009/PB080 TURNER | C69: SHEET | D69: 0.02
B70: FOAM TFC-29 T50mm (REPLACE 50"X80") | C70: SHEET | D70: 0
B71: FOAM TFC-29H T65mm 220 x 134CM ; PB080/PT172400 ;TOP ARM | C71: SHEET | D71: 0.07
B72: FOAM TFC-35 T25mm 210 x 134CM ; PB009/PB080 TURNER | C72: SHEET | D72: 0
... B74: FOAM TK32 T25mm 50X80" | C74: METRE | D74: 26.96
C75: SHEET | D75: 2.56
B76: GLUED NYLON CLOTH WIDTH 2M /YELLOW NYLON FABRIC | C76: METRE | D76: 0.75
B77: INNER LINING BLACK | C77: METRE | D77: 125.15
C78: YARD | D78: 0.4
B79: INNER LINING BLACK / FABRIC PCB90 FR BLACK 58" | C79: METRE | D79: 0
B80: LINING TO COVER WEBBING (INBACK) | C80: METRE | D80: 96.55
B81: LINING TO COVER WEBBING (INBACK) / 30g Non-woven fabric (INNER KINING WHITE) | C81: METRE | D81: 1.6
B82: LINING TO COVER WEBBING (INBACK) / 30g Non-woven fabric (INNER LINING WHITE) | C82: METRE | D82: 8.4
B83: LINING TO COVER WEBBING (INBACK) 30 Non-Woven fabric (INNER LINING WHITE) | C83: METRE | D83: 0
B84: LINING TO COVER WEBBING (INBACK) INNER LINING WHITE | C84: METRE | D84: 3.8
B85: LINING TO COVER WEBBING (INBACK) YELLOW WOVEN FABRIC 1.74 m / 170g | C85: METRE | D85: 120.9
B86: LINING TO COVER WEBBING (INBACK) YELLOW WOVEN FABRIC 1.74 m / 2w | C86: METRE | D86: 7.6
B87: NPF FR 500g*2.2m | C87: METRE | D87: 11.82
B88: NPF FR 500g*2.2m / Fiber 500 g. | C88: METRE | D88: 373.66
B89: NPF FR 500g X 2.2M /PRICKLY COTTON | C89: METRE | D89: 9.14
B90: NPF FR 500g*2.2m /PRICKLY COTTON | C90: METRE | D90: 0.95
... B113: YELLOW NYLON FABRIC WIDTH 1.74M/170G. | C113: METRE | D113: 0
A114: PACKING | B114: BARCODE LABEL | C114: PCS | D114: 377
B115: BOTTOM BOARD PLYWOOD 9 mm. 113 x 20 cm. | C115: PCS | D115: 4
B116: BOTTOM BOARD PLYWOOD 9 mm. 64 x 20 cm. | C116: PCS | D116: 6
B117: Bottom Board Plywood 9 mm. 101 x 20 cm. | C117: PCS | D117: 322
B118: BOTTOM BOARD PLYWOOD 9 mm. 104 x 20 cm. | C118: PCS | D118: 2
B119: BOTTOM BOARD PLYWOOD 9 mm. 111 x 20 cm. | C119: PCS | D119: 0
B120: BOTTOM BOARD PLYWOOD 9 mm. 113 x 20 cm. | C120: PCS | D120: 376
B121: BOTTOM BOARD PLYWOOD 9 mm. 64 x 20 cm. | C121: PCS | D121: 0
B122: BOTTOM BOARD PLYWOOD 9 mm. 70 x 20 cm. | C122: PCS | D122: 8
B123: BOTTOM BOARD PLYWOOD 9 MM. 82 x 20 CM. | C123: PCS | D123: 2
B124: BOTTOM BOARD PLYWOOD 9 mm. 89 x 20 cm. | C124: PCS | D124: 12
B125: BOTTOM BOARD PLYWOOD 9 mm. 96 x 20 cm. | C125: PCS | D125: 6
B126: BOTTOM BOARD PLYWOOD 9 mm. 99 x 20 cm. | C126: PCS | D126: 18
... B269: TAPE BROWN 2" | C269: YARD | D269: 1996
A270: PRE-UP | B270: COIL SPRING 4*10*13 | C270: PCS | D270: 7209
...

Sheet BOM
A1: Model | B1: Section | C1: Description | D1: Unit | E1: Usage | F1: Order | G1: Total usage
A2: PB009-00 | B2: WOOD FRAME | C2: FRAME PB009-00 TURNER OTTOMAN | D2: SET | E2: 1 | F2: =IFERROR(VLOOKUP(A2,Order!A:B,2,0),"-") -> 6 | G2: =IFERROR(E2*F2,"-") -> 6
A3: PB009-00 | B3: WOOD FRAME | C3: WOOD SCREW 2" BLACK (W 4.1-P1.8x50(2/3) F) | D3: PCS | E3: 2 | F3: =IFERROR(VLOOKUP(A3,Order!A:B,2,0),"-") -> 6 | G3: =IFERROR(E3*F3,"-") -> 12
A4: PB009-00 | B4: WOOD FRAME | C4: STAPLE NO.838T-GOLD (1 Box = 140 Row) | D4: ROW | E4: 3 | F4: =IFERROR(VLOOKUP(A4,Order!A:B,2,0),"-") -> 6 | G4: =IFERROR(E4*F4,"-") -> 18
A5: PB009-00 | B5: WOOD FRAME | C5: GLUE S.B. 138 (WHITE) (1 Gal = 100 Kg) | D5: KG | E5: 0.2 | F5: =IFERROR(VLOOKUP(A5,Order!A:B,2,0),"-") -> 6 | G5: =IFERROR(E5*F5,"-") -> 1.2
A6: PB009-00 | B6: SEWING | C6: ZIP ROW BLACK FOR SEAT & BACK CUSHION / BLACK ZIPPER | D6: METRE | E6: 1.26 | F6: =IFERROR(VLOOKUP(A6,Order!A:B,2,0),"-") -> 6 | G6: =IFERROR(E6*F6,"-") -> 7.56
A7: PB009-00 | B7: SEWING | C7: ZIP HEAD BLACK | D7: PCS | E7: 1 | F7: =IFERROR(VLOOKUP(A7,Order!A:B,2,0),"-") -> 6 | G7: =IFERROR(E7*F7,"-") -> 6
A8: PB009-00 | B8: SEWING | C8: ZIP ROW #5 WHITE BLEACH FOR SEAT CUSHION INTERIOR / WHITE ZIPPER | D8: METRE | E8: 0 | F8: =IFERROR(VLOOKUP(A8,Order!A:B,2,0),"-") -> 6 | G8: =IFERROR(E8*F8,"-") -> 0
A9: PB009-00 | B9: SEWING | C9: ZIP HEAD WHITE / WHITE ZIPPER HEAD | D9: PCS | E9: 0 | F9: =IFERROR(VLOOKUP(A9,Order!A:B,2,0),"-") -> 6 | G9: =IFERROR(E9*F9,"-") -> 0
A10: PB009-00 | B10: SEWING | C10: TAPE ROLL TO SEWN BEHIND THE SHOWING SEAM | D10: METRE | E10: 9.5 | F10: =IFERROR(VLOOKUP(A10,Order!A:B,2,0),"-") -> 6 | G10: =IFERROR(E10*F10,"-") -> 57
A11: PB009-00 | B11: SEWING | C11: WHITE THREAD 30/3WHITE THREAD /100pc/BOX, 0.13KG/pc / WHITE SEWING THREAD | D11: METRE | E11: 0.1 | F11: =IFERROR(VLOOKUP(A11,Order!A:B,2,0),"-") -> 6 | G11: =IFERROR(E11*F11,"-") -> 0.6
A12: PB009-00 | B12: SEWING | C12: SEWING THREAD (INVISIBLE) 300D (BROWN / GREY) | D12: ROLL | E12: 0.06 | F12: =IFERROR(VLOOKUP(A12,Order!A:B,2,0),"-") -> 6 | G12: =IFERROR(E12*F12,"-") -> 0.36
A13: PB009-00 | B13: SEWING | C13: SEWING THREAD (VISIBLE) 500D (BROWN / GREY) | D13: ROLL | E13: 0.04 | F13: =IFERROR(VLOOKUP(A13,Order!A:B,2,0),"-") -> 6 | G13: =IFERROR(E13*F13,"-") -> 0.24
... A144: PB009-01 | B144: MATTRESS | C144: SPUNBOND 30 G. FOR UNIT CASE | D144: METRE | E144: 1.95 | F144: =IFERROR(VLOOKUP(A144,Order!A:B,2,0),"-") -> 3 | G144: =IFERROR(E144*F144,"-") -> 5.85
A145: PB009-01 | B145: MATTRESS | C145: SPUNBOND 30 G. FOR SEAT / BACK COVER | D145: METRE | E145: - | F145: =IFERROR(VLOOKUP(A145,Order!A:B,2,0),"-") -> 3 | G145: =IFERROR(E145*F145,"-") -> -
A146: PB009-01 | B146: MATTRESS | C146: LINING TO COVER WEBBING (INBACK) | D146: METRE | E146: 0 | F146: =IFERROR(VLOOKUP(A146,Order!A:B,2,0),"-") -> 3 | G146: =IFERROR(E146*F146,"-") -> 0
A147: PB009-01 | B147: MATTRESS | C147: FIBRE FILL 300 G | D147: METRE | E147: 0.65 | F147: =IFERROR(VLOOKUP(A147,Order!A:B,2,0),"-") -> 3 | G147: =IFERROR(E147*F147,"-") -> 1.95
A148: PB009-01 | B148: MATTRESS | C148: FIBRE FILL 180g X 2m | D148: METRE | E148: 0.6 | F148: =IFERROR(VLOOKUP(A148,Order!A:B,2,0),"-") -> 3 | G148: =IFERROR(E148*F148,"-") -> 1.8
A149: PB009-01 | B149: MATTRESS | C149: INNER LINING BLACK | D149: METRE | E149: 0.65 | F149: =IFERROR(VLOOKUP(A149,Order!A:B,2,0),"-") -> 3 | G149: =IFERROR(E149*F149,"-") -> 1.95
A150: PB009-01 | B150: PRE-UP | C150: INSIDE ARM CARDBOARD | D150: PCS | E150: 0 | F150: =IFERROR(VLOOKUP(A150,Order!A:B,2,0),"-") -> 3 | G150: =IFERROR(E150*F150,"-") -> 0
A151: PB009-01 | B151: PRE-UP | C151: OUTSIDE ARM CARDBOARD | D151: PCS | E151: 0 | F151: =IFERROR(VLOOKUP(A151,Order!A:B,2,0),"-") -> 3 | G151: =IFERROR(E151*F151,"-") -> 0
A152: PB009-01 | B152: PRE-UP | C152: TOP OUTSIDE ARM CARDBOARD | D152: PCS | E152: 0 | F152: =IFERROR(VLOOKUP(A152,Order!A:B,2,0),"-") -> 3 | G152: =IFERROR(E152*F152,"-") -> 0
A153: PB009-01 | B153: PRE-UP | C153: WEBBING RUBBER BAND STRETCH:55% (35 METRE / ROLL) | D153: METRE | E153: 5.6 | F153: =IFERROR(VLOOKUP(A153,Order!A:B,2,0),"-") -> 3 | G153: =IFERROR(E153*F153,"-") -> 16.8
A154: PB009-01 | B154: PRE-UP | C154: STAPLE NO.1010 BLACK (1 Box = 50 Row) | D154: ROW | E154: 10 | F154: =IFERROR(VLOOKUP(A154,Order!A:B,2,0),"-") -> 3 | G154: =IFERROR(E154*F154,"-") -> 30
A155: PB009-01 | B155: PRE-UP | C155: NYLON STRING | D155: METRE | E155: 0 | F155: =IFERROR(VLOOKUP(A155,Order!A:B,2,0),"-") -> 3 | G155: =IFERROR(E155*F155,"-") -> 0
A156: PB009-01 | B156: PRE-UP | C156: PROFILE PLATFORM EDGE Ø2.5cm. | D156: METRE | E156: 2.6 | F156: =IFERROR(VLOOKUP(A156,Order!A:B,2,0),"-") -> 3 | G156: =IFERROR(E156*F156,"-") -> 7.8
A157: PB009-01 | B157: PRE-UP | C157: SILIGA GEL 80 G. | D157: PCS | E157: 1 | F157: =IFERROR(VLOOKUP(A157,Order!A:B,2,0),"-") -> 3 | G157: =IFERROR(E157*F157,"-") -> 3
... A215: PB009-01 Rev#2 | B215: PRE-UP | C215: WEBBING RUBBER BAND 6CM /WEBBING FOR SEAT | D215: METRE | E215: 5.6 | F215: =IFERROR(VLOOKUP(A215,Order!A:B,2,0),"-") -> - | G215: =IFERROR(E215*F215,"-") -> -
A216: PB009-01 Rev#2 | B216: PRE-UP | D216: ROW | E216: 1 | F216: =IFERROR(VLOOKUP(A216,Order!A:B,2,0),"-") -> - | G216: =IFERROR(E216*F216,"-") -> -
A217: PB009-01 Rev#2 | B217: PRE-UP | C217: WELT FOR SOFA Ø2.5CM | D217: METRE | E217: 2.6 | F217: =IFERROR(VLOOKUP(A217,Order!A:B,2,0),"-") -> - | G217: =IFERROR(E217*F217,"-") -> -
A218: PB009-01 Rev#2 | B218: PRE-UP | C218: SILIGA GEL 80G. (DESICCANT FOR SOFA) | D218: PCS | E218: 1 | F218: =IFERROR(VLOOKUP(A218,Order!A:B,2,0),"-") -> - | G218: =IFERROR(E218*F218,"-") -> -
A219: PB009-01 Rev#2 | B219: PRE-UP | C219: GLUE S.B.320A(INSTEAD #338) (N 7105 1 Gal= 160 Kg) | D219: KG | E219: 0.1 | F219: =IFERROR(VLOOKUP(A219,Order!A:B,2,0),"-") -> - | G219: =IFERROR(E219*F219,"-") -> -
A220: PB009-01 Rev#2 | B220: UPHOLSTERY | C220: STAPLE NO.1010 (5000 PCS:BOX /1 Box = 50 Row) | D220: ROW | E220: 5 | F220: =IFERROR(VLOOKUP(A220,Order!A:B,2,0),"-") -> - | G220: =IFERROR(E220*F220,"-") -> -
A221: PB009-01 Rev#2 | B221: UPHOLSTERY | C221: STAPLE NO.1010 BLACK (5000 PCS:BOX /1 Box = 50 Row) | D221: ROW | E221: 4 | F221: =IFERROR(VLOOKUP(A221,Order!A:B,2,0),"-") -> - | G221: =IFERROR(E221*F221,"-") -> -
A222: PB009-01 Rev#2 | B222: UPHOLSTERY | C222: WOOD SCREW 2" BLACK | D222: PCS | E222: 8 | F222: =IFERROR(VLOOKUP(A222,Order!A:B,2,0),"-") -> - | G222: =IFERROR(E222*F222,"-") -> -
A223: PB009-01 Rev#2 | B223: UPHOLSTERY | C223: BRASS NAIL #003 NAILHEAD Ø16MM | D223: PCS | E223: 146 | F223: =IFERROR(VLOOKUP(A223,Order!A:B,2,0),"-") -> - | G223: =IFERROR(E223*F223,"-") -> -
A224: PB009-01 Rev#2 | B224: LEG | C224: WOODEN LEG SOFA LEG (WITH GLIDER BLACK DIAMETER 23x6MM) | D224: PCS | E224: 4 | F224: =IFERROR(VLOOKUP(A224,Order!A:B,2,0),"-") -> - | G224: =IFERROR(E224*F224,"-") -> -
A225: PB009-01 Rev#2 | B225: PACKING | C225: BOX PB009-01 Rev#2 W81xD65xH49CM. (CARDBOARD TEST 275LBS) | D225: PCS | E225: 1 | F225: =IFERROR(VLOOKUP(A225,Order!A:B,2,0),"-") -> - | G225: =IFERROR(E225*F225,"-") -> -
A226: PB009-01 Rev#2 | B226: PACKING | C226: CORNER BOARD (non) 80 x 80 x 5 x 470 MM. | D226: PCS | E226: 4 | F226: =IFERROR(VLOOKUP(A226,Order!A:B,2,0),"-") -> - | G226: =IFERROR(E226*F226,"-") -> -
A227: PB009-01 Rev#2 | B227: PACKING | C227: EPS FOAM (WH) 0.8 lb/ft, T7.5 x W20 x L42 cm. | D227: SHEET | E227: 2 | F227: =IFERROR(VLOOKUP(A227,Order!A:B,2,0),"-") -> - | G227: =IFERROR(E227*F227,"-") -> -
A228: PB009-01 Rev#2 | B228: PACKING | C228: BARCODE LABEL | D228: PCS | E228: 1 | F228: =IFERROR(VLOOKUP(A228,Order!A:B,2,0),"-") -> - | G228: =IFERROR(E228*F228,"-") -> -
... A1957: PB009-00-ST Rev#3 | B1957: UPHOLSTERY | C1957: NAIL 1 INCH | D1957: PCS | E1957: 4 | F1957: =IFERROR(VLOOKUP(A1957,Order!A:B,2,0),"-") -> 1 | G1957: =IFERROR(E1957*F1957,"-") -> 4
A1958: PB009-00-ST Rev#3 | B1958: UPHOLSTERY | C1958: RASS NAIL #003 NAILHEAD Ø16MM | D1958: PCS | E1958: - | F1958: =IFERROR(VLOOKUP(A1958,Order!A:B,2,0),"-") -> 1 | G1958: =IFERROR(E1958*F1958,"-") -> -
A1959: PB009-00-ST Rev#3 | B1959: UPHOLSTERY | C1959: HINGES 3" RIVET HEAD BRONZE (PB009) 76*42*1.5 | D1959: PCS | E1959: 2 | F1959: =IFERROR(VLOOKUP(A1959,Order!A:B,2,0),"-") -> 1 | G1959: =IFERROR(E1959*F1959,"-") -> 2
A1960: PB009-00-ST Rev#3 | B1960: UPHOLSTERY | C1960: PNEUMATIC BAR V0290/120 NEWTON | D1960: PCS | E1960: 2 | F1960: =IFERROR(VLOOKUP(A1960,Order!A:B,2,0),"-") -> 1 | G1960: =IFERROR(E1960*F1960,"-") -> 2
A1961: PB009-00-ST Rev#3 | B1961: LEG | C1961: WOODEN LEG SOFA LEG (WITH GLIDER BLACK DIAMETER 23x6MM) | D1961: PCS | E1961: 4 | F1961: =IFERROR(VLOOKUP(A1961,Order!A:B,2,0),"-") -> 1 | G1961: =IFERROR(E1961*F1961,"-") -> 4
A1962: PB009-00-ST Rev#3 | B1962: PACKING | C1962: BOX PB009-00-ST Rev#3 W91xD71xH48CM. (TEST 275LBS) | D1962: PCS | E1962: 1 | F1962: =IFERROR(VLOOKUP(A1962,Order!A:B,2,0),"-") -> 1 | G1962: =IFERROR(E1962*F1962,"-") -> 1
A1963: PB009-00-ST Rev#3 | B1963: PACKING | C1963: CORNER BOARD (non) 80 x 80 x 5 x 460 MM. | D1963: PCS | E1963: 4 | F1963: =IFERROR(VLOOKUP(A1963,Order!A:B,2,0),"-") -> 1 | G1963: =IFERROR(E1963*F1963,"-") -> 4
A1964: PB009-00-ST Rev#3 | B1964: PACKING | C1964: EPS FOAM (WH) 0.8 lb/ft, T7.5 x W20 x L41 cm. | D1964: SHEET | E1964: 2 | F1964: =IFERROR(VLOOKUP(A1964,Order!A:B,2,0),"-") -> 1 | G1964: =IFERROR(E1964*F1964,"-") -> 2
A1965: PB009-00-ST Rev#3 | B1965: PACKING | C1965: BARCODE LABEL | D1965: PCS | E1965: 1 | F1965: =IFERROR(VLOOKUP(A1965,Order!A:B,2,0),"-") -> 1 | G1965: =IFERROR(E1965*F1965,"-") -> 1
A1966: PB009-00-ST Rev#3 | B1966: PACKING | C1966: COUNTRY OF ORIGINAL LABEL | D1966: PCS | E1966: 1 | F1966: =IFERROR(VLOOKUP(A1966,Order!A:B,2,0),"-") -> 1 | G1966: =IFERROR(E1966*F1966,"-") -> 1
A1967: PB009-00-ST Rev#3 | B1967: PACKING | C1967: QUALITY CONTROL LABEL | D1967: PCS | E1967: 1 | F1967: =IFERROR(VLOOKUP(A1967,Order!A:B,2,0),"-") -> 1 | G1967: =IFERROR(E1967*F1967,"-") -> 1
A1968: PB009-00-ST Rev#3 | B1968: PACKING | C1968: LEATHER CARECARD | D1968: PCS | E1968: 1 | F1968: =IFERROR(VLOOKUP(A1968,Order!A:B,2,0),"-") -> 1 | G1968: =IFERROR(E1968*F1968,"-") -> 1
A1969: PB009-00-ST Rev#3 | B1969: PACKING | C1969: EPA LABEL | D1969: PCS | E1969: 3 | F1969: =IFERROR(VLOOKUP(A1969,Order!A:B,2,0),"-") -> 1 | G1969: =IFERROR(E1969*F1969,"-") -> 3
A1970: PB009-00-ST Rev#3 | B1970: PACKING | C1970: SKU LABEL | D1970: PCS | E1970: 3 | F1970: =IFERROR(VLOOKUP(A1970,Order!A:B,2,0),"-") -> 1 | G1970: =IFERROR(E1970*F1970,"-") -> 3
... A2160: PB009-125-LF | B2160: SEWING | C2160: PAPER MASKING TAPE 15 MM. x 40Y /TAPE FOR COVER | D2160: YARD | E2160: 4.55 | F2160: =IFERROR(VLOOKUP(A2160,Order!A:B,2,0),"-") -> 1 | G2160: =IFERROR(E2160*F2160,"-") -> 4.55
A2161: PB009-125-LF | B2161: MATTRESS | C2161: FOAM TFC-24 T10mm 250 x 143CM ; PB009/PB080 TURNER | D2161: SHEET | E2161: - | F2161: =IFERROR(VLOOKUP(A2161,Order!A:B,2,0),"-") -> 1 | G2161: =IFERROR(E2161*F2161,"-") -> -
A2162: PB009-125-LF | B2162: MATTRESS | C2162: FOAM TFC-24 T20mm 230 x 132CM ; PB009/PB080 TURNER | D2162: SHEET | E2162: 0 | F2162: =IFERROR(VLOOKUP(A2162,Order!A:B,2,0),"-") -> 1 | G2162: =IFERROR(E2162*F2162,"-") -> 0
A2163: PB009-125-LF | B2163: MATTRESS | C2163: FOAM TFC-29 T20mm 233 x 157CM ; PB009/PB080 TURNER | D2163: SHEET | E2163: 0 | F2163: =IFERROR(VLOOKUP(A2163,Order!A:B,2,0),"-") -> 1 | G2163: =IFERROR(E2163*F2163,"-") -> 0
A2164: PB009-125-LF | B2164: MATTRESS | C2164: FOAM TFC-29 T50mm 233 x 157CM ; PB009/PB080 TURNER | D2164: SHEET | E2164: 0 | F2164: =IFERROR(VLOOKUP(A2164,Order!A:B,2,0),"-") -> 1 | G2164: =IFERROR(E2164*F2164,"-") -> 0
A2165: PB009-125-LF | B2165: MATTRESS | C2165: FOAM TFC-35 T25mm 210 x 134CM ; PB009/PB080 TURNER | D2165: SHEET | E2165: 0 | F2165: =IFERROR(VLOOKUP(A2165,Order!A:B,2,0),"-") -> 1 | G2165: =IFERROR(E2165*F2165,"-") -> 0
A2166: PB009-125-LF | B2166: MATTRESS | C2166: FOAM ER51-W1 T150mm 208 x 156CM ; PB009/PB080 TURNER | D2166: SHEET | E2166: 0 | F2166: =IFERROR(VLOOKUP(A2166,Order!A:B,2,0),"-") -> 1 | G2166: =IFERROR(E2166*F2166,"-") -> 0
A2167: PB009-125-LF | B2167: MATTRESS | C2167: FIBRE FILL 80g X 2M /80g COTTON | D2167: METRE | E2167: 0.2 | F2167: =IFERROR(VLOOKUP(A2167,Order!A:B,2,0),"-") -> 1 | G2167: =IFERROR(E2167*F2167,"-") -> 0.2
A2168: PB009-125-LF | B2168: MATTRESS | C2168: FIBRE FILL 180g X 2M /180g COTTON | D2168: METRE | E2168: 0.8 | F2168: =IFERROR(VLOOKUP(A2168,Order!A:B,2,0),"-") -> 1 | G2168: =IFERROR(E2168*F2168,"-") -> 0.8
A2169: PB009-125-LF | B2169: MATTRESS | C2169: NPF FR 500g X 2.2M /PRICKLY COTTON | D2169: METRE | E2169: 1.6 | F2169: =IFERROR(VLOOKUP(A2169,Order!A:B,2,0),"-") -> 1 | G2169: =IFERROR(E2169*F2169,"-") -> 1.6
A2170: PB009-125-LF | B2170: MATTRESS | C2170: SPUNBOND WHITE 45 G. X 1.6 M. FR (500 M/ROLL) | D2170: METRE | E2170: 2.42 | F2170: =IFERROR(VLOOKUP(A2170,Order!A:B,2,0),"-") -> 1 | G2170: =IFERROR(E2170*F2170,"-") -> 2.42
A2171: PB009-125-LF | B2171: MATTRESS | C2171: SPUNBOND BLACK 60 G. X 1 M. FR (500 M/ROLL) | D2171: METRE | E2171: 1.65 | F2171: =IFERROR(VLOOKUP(A2171,Order!A:B,2,0),"-") -> 1 | G2171: =IFERROR(E2171*F2171,"-") -> 1.65
A2172: PB009-125-LF | B2172: MATTRESS | C2172: SPUNBOND WHITE 30 G. X 1.6 M. FR (1,000 M/ROLL) | D2172: METRE | E2172: 8.27 | F2172: =IFERROR(VLOOKUP(A2172,Order!A:B,2,0),"-") -> 1 | G2172: =IFERROR(E2172*F2172,"-") -> 8.27
A2173: PB009-125-LF | B2173: MATTRESS | C2173: WOVEN FABRIC /YELLOW NYLON FABRIC WIDTH 1.74M/170G. | D2173: METRE | E2173: 0.25 | F2173: =IFERROR(VLOOKUP(A2173,Order!A:B,2,0),"-") -> 1 | G2173: =IFERROR(E2173*F2173,"-") -> 0.25
... A2243: PB009-125-RF Rev#2 | B2243: SEWING | C2243: PAPER MASKING TAPE 15 MM. x 40Y /TAPE FOR COVER | D2243: YARD | E2243: 4.55 | F2243: =IFERROR(VLOOKUP(A2243,Order!A:B,2,0),"-") -> - | G2243: =IFERROR(E2243*F2243,"-") -> -
A2244: PB009-125-RF Rev#2 | B2244: MATTRESS | C2244: FOAM TFC-24 T10mm 250 x 143CM ; PB009/PB080 TURNER | D2244: SHEET | E2244: - | F2244: =IFERROR(VLOOKUP(A2244,Order!A:B,2,0),"-") -> - | G2244: =IFERROR(E2244*F2244,"-") -> -
A2245: PB009-125-RF Rev#2 | B2245: MATTRESS | C2245: FOAM TFC-24 T20mm 230 x 132CM ; PB009/PB080 TURNER | D2245: SHEET | E2245: 0 | F2245: =IFERROR(VLOOKUP(A2245,Order!A:B,2,0),"-") -> - | G2245: =IFERROR(E2245*F2245,"-") -> -
A2246: PB009-125-RF Rev#2 | B2246: MATTRESS | C2246: FOAM TFC-29 T20mm 233 x 157CM ; PB009/PB080 TURNER | D2246: SHEET | E2246: 0 | F2246: =IFERROR(VLOOKUP(A2246,Order!A:B,2,0),"-") -> - | G2246: =IFERROR(E2246*F2246,"-") -> -
A2247: PB009-125-RF Rev#2 | B2247: MATTRESS | C2247: FOAM TFC-29 T50mm 233 x 157CM ; PB009/PB080 TURNER | D2247: SHEET | E2247: 0 | F2247: =IFERROR(VLOOKUP(A2247,Order!A:B,2,0),"-") -> - | G2247: =IFERROR(E2247*F2247,"-") -> -
A2248: PB009-125-RF Rev#2 | B2248: MATTRESS | C2248: FOAM TFC-35 T25mm 210 x 134CM ; PB009/PB080 TURNER | D2248: SHEET | E2248: 0 | F2248: =IFERROR(VLOOKUP(A2248,Order!A:B,2,0),"-") -> - | G2248: =IFERROR(E2248*F2248,"-") -> -
A2249: PB009-125-RF Rev#2 | B2249: MATTRESS | C2249: FOAM ER51-W1 T150mm 208 x 156CM ; PB009/PB080 TURNER | D2249: SHEET | E2249: 0 | F2249: =IFERROR(VLOOKUP(A2249,Order!A:B,2,0),"-") -> - | G2249: =IFERROR(E2249*F2249,"-") -> -
A2250: PB009-125-RF Rev#2 | B2250: MATTRESS | C2250: FIBRE FILL 80g X 2M /80g COTTON | D2250: METRE | E2250: 0.2 | F2250: =IFERROR(VLOOKUP(A2250,Order!A:B,2,0),"-") -> - | G2250: =IFERROR(E2250*F2250,"-") -> -
A2251: PB009-125-RF Rev#2 | B2251: MATTRESS | C2251: FIBRE FILL 180g X 2M /180g COTTON | D2251: METRE | E2251: 0.8 | F2251: =IFERROR(VLOOKUP(A2251,Order!A:B,2,0),"-") -> - | G2251: =IFERROR(E2251*F2251,"-") -> -
A2252: PB009-125-RF Rev#2 | B2252: MATTRESS | C2252: NPF FR 500g X 2.2M /PRICKLY COTTON | D2252: METRE | E2252: 1.6 | F2252: =IFERROR(VLOOKUP(A2252,Order!A:B,2,0),"-") -> - | G2252: =IFERROR(E2252*F2252,"-") -> -
A2253: PB009-125-RF Rev#2 | B2253: MATTRESS | C2253: SPUNBOND WHITE 45 G. X 1.6 M. FR (500 M/ROLL) | D2253: METRE | E2253: 2.42 | F2253: =IFERROR(VLOOKUP(A2253,Order!A:B,2,0),"-") -> - | G2253: =IFERROR(E2253*F2253,"-") -> -
A2254: PB009-125-RF Rev#2 | B2254: MATTRESS | C2254: SPUNBOND BLACK 60 G. X 1 M. FR (500 M/ROLL) | D2254: METRE | E2254: 1.65 | F2254: =IFERROR(VLOOKUP(A2254,Order!A:B,2,0),"-") -> - | G2254: =IFERROR(E2254*F2254,"-") -> -
A2255: PB009-125-RF Rev#2 | B2255: MATTRESS | C2255: SPUNBOND WHITE 30 G. X 1.6 M. FR (1,000 M/ROLL) | D2255: METRE | E2255: 8.27 | F2255: =IFERROR(VLOOKUP(A2255,Order!A:B,2,0),"-") -> - | G2255: =IFERROR(E2255*F2255,"-") -> -
A2256: PB009-125-RF Rev#2 | B2256: MATTRESS | C2256: WOVEN FABRIC /YELLOW NYLON FABRIC WIDTH 1.74M/170G. | D2256: METRE | E2256: 0.25 | F2256: =IFERROR(VLOOKUP(A2256,Order!A:B,2,0),"-") -> - | G2256: =IFERROR(E2256*F2256,"-") -> -
... A2327: PB009-20-LF Rev#2 | B2327: SEWING | C2327: PAPER MASKING TAPE 15 MM. x 40Y /TAPE FOR COVER | D2327: YARD | E2327: 4.55 | F2327: =IFERROR(VLOOKUP(A2327,Order!A:B,2,0),"-") -> - | G2327: =IFERROR(E2327*F2327,"-") -> -
A2328: PB009-20-LF Rev#2 | B2328: MATTRESS | C2328: FOAM TFC-24 T10mm 250 x 143CM (REPLACE 50"X80") | D2328: SHEET | E2328: - | F2328: =IFERROR(VLOOKUP(A2328,Order!A:B,2,0),"-") -> - | G2328: =IFERROR(E2328*F2328,"-") -> -
A2329: PB009-20-LF Rev#2 | B2329: MATTRESS | C2329: FOAM TFC-24 T20mm (REPLACE 50"X80") | D2329: SHEET | E2329: 0 | F2329: =IFERROR(VLOOKUP(A2329,Order!A:B,2,0),"-") -> - | G2329: =IFERROR(E2329*F2329,"-") -> -
A2330: PB009-20-LF Rev#2 | B2330: MATTRESS | C2330: FOAM TFC-29 T20mm (REPLACE 50"X80") | D2330: SHEET | E2330: 0 | F2330: =IFERROR(VLOOKUP(A2330,Order!A:B,2,0),"-") -> - | G2330: =IFERROR(E2330*F2330,"-") -> -
A2331: PB009-20-LF Rev#2 | B2331: MATTRESS | C2331: FOAM TFC-29 T50mm (REPLACE 50"X80") | D2331: SHEET | E2331: 0 | F2331: =IFERROR(VLOOKUP(A2331,Order!A:B,2,0),"-") -> - | G2331: =IFERROR(E2331*F2331,"-") -> -
A2332: PB009-20-LF Rev#2 | B2332: MATTRESS | C2332: FOAM TFC-35 T25mm (REPLACE 50"X80") | D2332: SHEET | E2332: 0 | F2332: =IFERROR(VLOOKUP(A2332,Order!A:B,2,0),"-") -> - | G2332: =IFERROR(E2332*F2332,"-") -> -
A2333: PB009-20-LF Rev#2 | B2333: MATTRESS | C2333: FIBRE FILL 80g X 2M /80g COTTON | D2333: METRE | E2333: 0.2 | F2333: =IFERROR(VLOOKUP(A2333,Order!A:B,2,0),"-") -> - | G2333: =IFERROR(E2333*F2333,"-") -> -
A2334: PB009-20-LF Rev#2 | B2334: MATTRESS | C2334: FIBRE FILL 180g X 2M /180g COTTON | D2334: METRE | E2334: 1.05 | F2334: =IFERROR(VLOOKUP(A2334,Order!A:B,2,0),"-") -> - | G2334: =IFERROR(E2334*F2334,"-") -> -
A2335: PB009-20-LF Rev#2 | B2335: MATTRESS | C2335: NPF FR 500g X 2.2M /PRICKLY COTTON | D2335: METRE | E2335: 1.2 | F2335: =IFERROR(VLOOKUP(A2335,Order!A:B,2,0),"-") -> - | G2335: =IFERROR(E2335*F2335,"-") -> -
A2336: PB009-20-LF Rev#2 | B2336: MATTRESS | C2336: SPUNBOND WHITE 45 G. X 1.6 M. FR (500 M/ROLL) | D2336: METRE | E2336: 4.18 | F2336: =IFERROR(VLOOKUP(A2336,Order!A:B,2,0),"-") -> - | G2336: =IFERROR(E2336*F2336,"-") -> -
A2337: PB009-20-LF Rev#2 | B2337: MATTRESS | C2337: SPUNBOND BLACK 60 G. X 1 M. FR (500 M/ROLL) | D2337: METRE | E2337: 1.75 | F2337: =IFERROR(VLOOKUP(A2337,Order!A:B,2,0),"-") -> - | G2337: =IFERROR(E2337*F2337,"-") -> -
A2338: PB009-20-LF Rev#2 | B2338: MATTRESS | C2338: SPUNBOND WHITE 30 G. X 1.6 M. FR (1,000 M/ROLL) | D2338: METRE | E2338: 11 | F2338: =IFERROR(VLOOKUP(A2338,Order!A:B,2,0),"-") -> - | G2338: =IFERROR(E2338*F2338,"-") -> -
A2339: PB009-20-LF Rev#2 | B2339: MATTRESS | C2339: WOVEN FABRIC /YELLOW NYLON FABRIC WIDTH 1.74M/170G. | D2339: METRE | E2339: 0.55 | F2339: =IFERROR(VLOOKUP(A2339,Order!A:B,2,0),"-") -> - | G2339: =IFERROR(E2339*F2339,"-") -> -
A2340: PB009-20-LF Rev#2 | B2340: MATTRESS | C2340: DOWN PROOF WHITE LINING / WIDTH 1.6m POLYESTER / DUCK FABRIC | D2340: METRE | E2340: 7.3 | F2340: =IFERROR(VLOOKUP(A2340,Order!A:B,2,0),"-") -> - | G2340: =IFERROR(E2340*F2340,"-") -> -
... A2499: PB009-30 REV#3 | B2499: MATTRESS | C2499: FOAM TFC-35 T25mm 210 x 134CM ; PB009/PB080 TURNER | D2499: SHEET | E2499: 0.125 | F2499: =IFERROR(VLOOKUP(A2499,Order!A:B,2,0),"-") -> - | G2499: =IFERROR(E2499*F2499,"-") -> -
A2500: PB009-30 REV#3 | B2500: MATTRESS | C2500: FOAM ER51-W1 T150mm 208 x 156CM ; PB009/PB080 TURNER | D2500: SHEET | E2500: - | F2500: =IFERROR(VLOOKUP(A2500,Order!A:B,2,0),"-") -> - | G2500: =IFERROR(E2500*F2500,"-") -> -
A2501: PB009-30 REV#3 | B2501: MATTRESS | C2501: FIBRE FILL 80g X 2M /80g COTTON | D2501: METRE | E2501: 0.44 | F2501: =IFERROR(VLOOKUP(A2501,Order!A:B,2,0),"-") -> - | G2501: =IFERROR(E2501*F2501,"-") -> -
...

Sheet Wood Frame
A1: Section | B1: Description | C1: Unit | D1: Total usage

Sheet Sewing
A1: Section | B1: Description | C1: Unit | D1: Total usage

Sheet Mattress
A1: Section | B1: Description | C1: Unit | D1: Total usage

Sheet Preup
A1: Section | B1: Description | C1: Unit | D1: Total usage

Sheet UPHOLSTERY
A1: Section | B1: Description | C1: Unit | D1: Total usage

Sheet LEG
A1: Section | B1: Description | C1: Unit | D1: Total usage

Sheet PACKING
A1: Section | B1: Description | C1: Unit | D1: Total usage
