Workbook

Sheet Product&Price
A1: Model | B1: Price/pcs
B2: Grade A | C2: Grade B
A3: AAA | B3: 25 | C3: 20
A4: BBB | B4: 30 | C4: 28
A5: CCC | B5: 35 | C5: 32
A6: DDD | B6: 40 | C6: 35
A7: EEE | B7: 45 | C7: 40
A8: FFF | B8: 50 | C8: 45
A9: GGG | B9: 55 | C9: 50
A10: HHH | B10: 60 | C10: 55
A11: III | B11: 65 | C11: 60

Sheet Seles code
A1: Code | B1: Name
A2: S001 | B2: Mr.Donut
A3: S002 | B3: Mr.Toto
A4: S003 | B4: Ms.Oranush
A5: S004 | B5: Ms.Duangta
A6: S005 | B6: Ms.Wannapa
A7: S006 | B7: Mr.Prakob
A8: S007 | B8: Ms.Rungnapa

Sheet Record
A1: Seles Record | D1: Quantity
A2: Date | B2: Sale name | C2: Product | D2: Grade A | E2: Grade B
A3: 43891 | B3: S001 | C3: AAA | D3: 5 | E3: 10 | H3: -Sheet "Product&Price" เป็นข้อมูลผลิตภัณฑ์และราคาแต่ล่ะเกรด
A4: 43891 | B4: S001 | C4: BBB | E4: 10 | H4: -Sheet "Sales code" เป็นข้อมูลของพนักงานขาย
A5: 43891 | B5: S002 | C5: CCC | D5: 5 | E5: 5 | H5: -Sheet "Record" จะเป็น Sheet สำหรับคีย์เก็บข้อมูลการขายของพนักงานขายแต่ล่ะคนในแต่ล่ะวันโดยคีย์เก็บข้อมูลไปเรื่อยๆ
A6: 43891 | B6: S003 | C6: AAA | D6: 10 | E6: 5 | H6: -ผลลัพท์หรือข้อมูลที่ต้องการคือเมื่อทำการป้อนข้อมูลที่ Sheet "Record" แล้ว ที่ Sheet "S001-S007" อยากให้ข้อมูลแสดงผลตามตัวอย่างใน Sheet S001,S002,S003 ครับ
A7: 43891 | B7: S003 | C7: DDD | D7: 5 | H7: โดยจะแสดงผลจำนวนการขายและยอดการขายโดยเอาจำนวนการขายไปคูณกับราคาสินค้าใน Sheet "Product & Price' ครับ
A8: 43891 | B8: S004 | C8: FFF | D8: 12 | H8: และในแต่ล่ะ Sheetแสดงผลรวมยอดขายทั้งหมดตามตัวอย่างที่ป้อนไว้ครับ
A9: 43891 | B9: S005 | C9: FFF | E9: 10 | H9: -Sheet "Summarize" เป็นการนำยอดขายของ Sale แต่ล่ะคนมาสรุปยอดขายในแต่ล่ะวันครับ
A10: 43891 | B10: S005 | C10: AAA | D10: 10 | E10: 5
A11: 43891 | B11: S006 | C11: GGG | D11: 5 | E11: 8 | H11: *ใช้ Excel V.2007 ครับ*
A12: 43891 | B12: S007 | C12: DDD | D12: 10 | E12: 3 | H12: หรือมีรูปแบบการออกแบบการบันทึกหรือทำรายงานในลักษณะไหนที่จะได้ผลประมาณนี้อาจารยืและพี่ๆสมาชิกช่วยแนะนำและชี้แนะผมด้วยครับ*
A13: 43891 | B13: S007 | C13: EEE | D13: 5 | E13: 5 | H13: รายการ Poduct และ Sales จะมีจำนวนมากกว่าตัวอย่างที่ผมยกมาครับ
A14: 43892 | B14: S001 | C14: CCC | D14: 10 | E14: 5
A15: 43892 | B15: S001 | C15: FFF | D15: 5 | E15: 5
A16: 43892 | B16: S002 | C16: AAA | D16: 10 | E16: 5
A17: 43892 | B17: S003 | C17: EEE | D17: 10 | E17: 10
A18: 43892 | B18: S003 | C18: AAA | D18: 10 | E18: 10
A19: 43892 | B19: S004 | C19: FFF | D19: 10 | E19: 10
A20: 43892 | B20: S005 | C20: GGG | D20: 10 | E20: 10
A21: 43892 | B21: S005 | C21: BBB | D21: 10 | E21: 10
A22: 43892 | B22: S006 | C22: CCC | D22: 10 | E22: 10
A23: 43892 | B23: S006 | C23: FFF | D23: 10 | E23: 10
A24: 43892 | B24: S007 | C24: AAA | D24: 10 | E24: 10

Sheet Summarize
A1: Monthly Sales summary
A2: Date Sales . | B2: 43891 | C2: 43892 | D2: 43893 | E2: 43894 | F2: 43895 | G2: 43896 | H2: 43897 | I2: 43898 | J2: 43899 | K2: 43900 | L2: 43901 | M2: 43902 | N2: 43903 | O2: 43904 | P2: 43905 | Q2: 43906 | R2: 43907 | S2: 43908 | T2: 43909 | U2: 43910 | V2: 43911 | W2: 43912 | X2: 43913 | Y2: 43914 | Z2: 43915 | AA2: 43916 | AB2: 43917 | AC2: 43918 | AD2: 43919 | AE2: 43920 | AF2: 43921 | AG2: Total
A3: S001 | B3: 605 | C3: 985 | AG3: =SUM(B3:AF3) -> 1590
A4: S002 | B4: 335 | C4: 350 | AG4: =SUM(B4:AF4) -> 685
A5: S003 | B5: 550 | C5: 1300 | AG5: =SUM(B5:AF5) -> 1850
A6: S004 | AG6: =SUM(B6:AF6) -> 0
A7: S005 | AG7: =SUM(B7:AF7) -> 0
A8: S006 | AG8: =SUM(B8:AF8) -> 0
A9: S007 | AG9: =SUM(B9:AF9) -> 0
AG10: =SUM(B10:AF10) -> 0
AG11: =SUM(B11:AF11) -> 0
AG12: =SUM(B12:AF12) -> 0
AG13: =SUM(B13:AF13) -> 0
AG14: =SUM(B14:AF14) -> 0
AG15: =SUM(B15:AF15) -> 0
AG16: =SUM(B16:AF16) -> 0
AG17: =SUM(B17:AF17) -> 0
AG18: =SUM(B18:AF18) -> 0
AG19: =SUM(B19:AF19) -> 0
AG20: =SUM(B20:AF20) -> 0
AG21: =SUM(B21:AF21) -> 0
... AG52: =SUM(B52:AF52) -> 0

Sheet S001
A1: Sele Summarize
A2: S001 | B2: Mr.Donut
A3: Date | B3: Sale Code | C3: Product | D3: Quantity | E3: Total price | F3: Quantity | G3: Total price
D4: Grade A | E4: Grade A | F4: Grade B | G4: Grade B
A5: 43891 | B5: S001 | C5: AAA | D5: 5 | E5: =D5*'Product&Price'!B3 -> 125 | F5: 10 | G5: =F5*'Product&Price'!C3 -> 200
A6: 43891 | B6: S001 | C6: BBB | F6: 10 | G6: =F6*'Product&Price'!C4 -> 280
A7: 43892 | B7: S001 | C7: CCC | D7: 10 | E7: =D7*'Product&Price'!B5 -> 350 | F7: 5 | G7: =F7*'Product&Price'!C5 -> 160
A8: 43892 | B8: S001 | C8: FFF | D8: 5 | E8: =D8*'Product&Price'!B8 -> 250 | F8: 5 | G8: =F8*'Product&Price'!C8 -> 225
A11: Sum total | G11: =SUM(E5:E8,G5:G8) -> 1590

Sheet S002
A1: Sele Summarize
A2: S002 | B2: Mr.Toto
A3: Date | B3: Sale Code | C3: Product | D3: Quantity | E3: Total price | F3: Quantity | G3: Total price
D4: Grade A | E4: Grade A | F4: Grade B | G4: Grade B
A5: 43891 | B5: S002 | C5: CCC | D5: 5 | E5: =D5*'Product&Price'!B5 -> 175 | F5: 5 | G5: =F5*'Product&Price'!C5 -> 160
A6: 43892 | B6: S002 | C6: AAA | D6: 10 | E6: =D6*'Product&Price'!B3 -> 250 | F6: 5 | G6: =F6*'Product&Price'!C3 -> 100
A9: Sum total | G9: =SUM(E5:E6,G5:G6) -> 685

Sheet S003
A1: Sele Summarize
A2: S003 | B2: Ms.Oranush
A3: Date | B3: Sale Code | C3: Product | D3: Quantity | E3: Total price | F3: Quantity | G3: Total price
D4: Grade A | E4: Grade A | F4: Grade B | G4: Grade B
A5: 43891 | B5: S003 | C5: AAA | D5: 10 | E5: =D5*'Product&Price'!B3 -> 250 | F5: 5 | G5: =F5*'Product&Price'!C3 -> 100
A6: 43891 | B6: S003 | C6: DDD | D6: 5 | E6: =D6*'Product&Price'!B6 -> 200
A7: 43892 | B7: S003 | C7: EEE | D7: 10 | E7: =D7*'Product&Price'!B7 -> 450 | F7: 10 | G7: =F7*'Product&Price'!C7 -> 400
A8: 43892 | B8: S003 | C8: AAA | D8: 10 | E8: =D8*'Product&Price'!B3 -> 250 | F8: 10 | G8: =F8*'Product&Price'!C3 -> 200
A11: Sum total | G11: =SUM(E5:E8,G5:G8) -> 1850

Sheet S004
A1: Sele Summarize
A2: S004 | B2: Ms.Duangta
A3: Date | B3: Sale Code | C3: Product | D3: Quantity | E3: Total price | F3: Quantity | G3: Total price
D4: Grade A | E4: Grade A | F4: Grade B | G4: Grade B

Sheet S005
A1: Sele Summarize
A2: S005 | B2: Ms.Wannapa
A3: Date | B3: Sale Code | C3: Product | D3: Quantity | E3: Total price | F3: Quantity | G3: Total price
D4: Grade A | E4: Grade A | F4: Grade B | G4: Grade B

Sheet S006
A1: Sele Summarize
A2: S006 | B2: Mr.Prakob
A3: Date | B3: Sale Code | C3: Product | D3: Quantity | E3: Total price | F3: Quantity | G3: Total price
D4: Grade A | E4: Grade A | F4: Grade B | G4: Grade B

Sheet S007
A1: Sele Summarize
A2: S007 | B2: Ms.Rungnapa
A3: Date | B3: Sale Code | C3: Product | D3: Quantity | E3: Total price | F3: Quantity | G3: Total price
D4: Grade A | E4: Grade A | F4: Grade B | G4: Grade B
