Workbook

Sheet Product&Price
A1: Model | B1: Price/pcs
B2: Grade A | C2: Grade B
A3: AAA | B3: 25 | C3: 20
A4: BBB | B4: 30 | C4: 28
A5: CCC | B5: 35 | C5: 32
A6: DDD | B6: 40 | C6: 35
A7: EEE | B7: 45 | C7: 40
A8: FFF | B8: 50 | C8: 45
A9: GGG | B9: 55 | C9: 50
A10: HHH | B10: 60 | C10: 55
A11: III | B11: 65 | C11: 60

Sheet Seles code
A1: Code | B1: Name
A2: S001 | B2: Mr.Donut
A3: S002 | B3: Mr.Toto
A4: S003 | B4: Ms.Oranush
A5: S004 | B5: Ms.Duangta
A6: S005 | B6: Ms.Wannapa
A7: S006 | B7: Mr.Prakob
A8: S007 | B8: Ms.Rungnapa

Sheet S001
A1: Sale name | B1: S001
C3: Values
A4: Date | B4: Product | C4: Sum of Grade A | D4: Sum of Grade B | E4: Sum of Price A | F4: Sum of Price B
A5: 43891 | B5: AAA | C5: 5 | D5: 10 | E5: 125 | F5: 200
A6: 43891 | B6: BBB | D6: 10 | E6: 0 | F6: 280
A7: 43892 | B7: CCC | C7: 10 | D7: 5 | E7: 350 | F7: 160
A8: 43892 | B8: FFF | C8: 5 | D8: 5 | E8: 250 | F8: 225
A9: Grand Total | C9: 20 | D9: 30 | E9: 725 | F9: 865

Sheet S002
A1: Sale name | B1: S002
C3: Values
A4: Date | B4: Product | C4: Sum of Grade A | D4: Sum of Grade B | E4: Sum of Price A | F4: Sum of Price B
A5: 43891 | B5: CCC | C5: 5 | D5: 5 | E5: 175 | F5: 160
A6: 43892 | B6: AAA | C6: 10 | D6: 5 | E6: 250 | F6: 100
A7: Grand Total | C7: 15 | D7: 10 | E7: 425 | F7: 260

Sheet S003
A1: Sale name | B1: S003
C3: Values
A4: Date | B4: Product | C4: Sum of Grade A | D4: Sum of Grade B | E4: Sum of Price A | F4: Sum of Price B
A5: 43891 | B5: AAA | C5: 10 | D5: 5 | E5: 250 | F5: 100
A6: 43891 | B6: DDD | C6: 5 | E6: 200 | F6: 0
A7: 43892 | B7: AAA | C7: 10 | D7: 10 | E7: 250 | F7: 200
A8: 43892 | B8: EEE | C8: 10 | D8: 10 | E8: 450 | F8: 400
A9: Grand Total | C9: 35 | D9: 25 | E9: 1150 | F9: 700

Sheet S004
A1: Sale name | B1: S004
C3: Values
A4: Date | B4: Product | C4: Sum of Grade A | D4: Sum of Grade B | E4: Sum of Price A | F4: Sum of Price B
A5: 43891 | B5: FFF | C5: 12 | E5: 600 | F5: 0
A6: 43892 | B6: FFF | C6: 10 | D6: 10 | E6: 500 | F6: 450
A7: Grand Total | C7: 22 | D7: 10 | E7: 1100 | F7: 450

Sheet S005
A1: Sale name | B1: S005
C3: Values
A4: Date | B4: Product | C4: Sum of Grade A | D4: Sum of Grade B | E4: Sum of Price A | F4: Sum of Price B
A5: 43891 | B5: AAA | C5: 10 | D5: 5 | E5: 250 | F5: 100
A6: 43891 | B6: FFF | D6: 10 | E6: 0 | F6: 450
A7: 43892 | B7: BBB | C7: 10 | D7: 10 | E7: 300 | F7: 280
A8: 43892 | B8: GGG | C8: 10 | D8: 10 | E8: 550 | F8: 500
A9: Grand Total | C9: 30 | D9: 35 | E9: 1100 | F9: 1330

Sheet S006
A1: Sale name | B1: S006
C3: Values
A4: Date | B4: Product | C4: Sum of Grade A | D4: Sum of Grade B | E4: Sum of Price A | F4: Sum of Price B
A5: 43891 | B5: GGG | C5: 5 | D5: 8 | E5: 275 | F5: 400
A6: 43892 | B6: CCC | C6: 10 | D6: 10 | E6: 350 | F6: 320
A7: 43892 | B7: FFF | C7: 10 | D7: 10 | E7: 500 | F7: 450
A8: Grand Total | C8: 25 | D8: 28 | E8: 1125 | F8: 1170

Sheet S007
A1: Sale name | B1: S007
C3: Values
A4: Date | B4: Product | C4: Sum of Grade A | D4: Sum of Grade B | E4: Sum of Price A | F4: Sum of Price B
A5: 43891 | B5: DDD | C5: 10 | D5: 3 | E5: 400 | F5: 105
A6: 43891 | B6: EEE | C6: 5 | D6: 5 | E6: 225 | F6: 200
A7: 43892 | B7: AAA | C7: 10 | D7: 10 | E7: 250 | F7: 200
A8: Grand Total | C8: 25 | D8: 18 | E8: 875 | F8: 505

Sheet Sheet2
A1: Sale name | B1: (All)
C3: Values
A4: Date | B4: Product | C4: Sum of Grade A | D4: Sum of Grade B | E4: Sum of Price A | F4: Sum of Price B
A5: 43891 | B5: AAA | C5: 25 | D5: 20 | E5: 625 | F5: 400
A6: 43891 | B6: BBB | D6: 10 | E6: 0 | F6: 280
A7: 43891 | B7: CCC | C7: 5 | D7: 5 | E7: 175 | F7: 160
A8: 43891 | B8: DDD | C8: 15 | D8: 3 | E8: 600 | F8: 105
A9: 43891 | B9: EEE | C9: 5 | D9: 5 | E9: 225 | F9: 200
A10: 43891 | B10: FFF | C10: 12 | D10: 10 | E10: 600 | F10: 450
A11: 43891 | B11: GGG | C11: 5 | D11: 8 | E11: 275 | F11: 400
A12: 43892 | B12: AAA | C12: 30 | D12: 25 | E12: 750 | F12: 500
A13: 43892 | B13: BBB | C13: 10 | D13: 10 | E13: 300 | F13: 280
A14: 43892 | B14: CCC | C14: 20 | D14: 15 | E14: 700 | F14: 480
A15: 43892 | B15: EEE | C15: 10 | D15: 10 | E15: 450 | F15: 400
A16: 43892 | B16: FFF | C16: 25 | D16: 25 | E16: 1250 | F16: 1125
A17: 43892 | B17: GGG | C17: 10 | D17: 10 | E17: 550 | F17: 500
A18: Grand Total | C18: 172 | D18: 156 | E18: 6500 | F18: 5280

Sheet Record
A1: Seles Record | D1: Quantity
A2: Date | B2: Sale name | C2: Product | D2: Grade A | E2: Grade B | F2: Price A | G2: Price B
A3: 43891 | B3: S001 | C3: AAA | D3: 5 | E3: 10 | F3: {=VLOOKUP($C3,'Product&Price'!$A$3:$C$11,COLUMNS($F3:F3)+1,0)*D3} -> 125 | G3: {=VLOOKUP($C3,'Product&Price'!$A$3:$C$11,COLUMNS($F3:G3)+1,0)*E3} -> 200 | I3: -Sheet "Product&Price" เป็นข้อมูลผลิตภัณฑ์และราคาแต่ล่ะเกรด
A4: 43891 | B4: S001 | C4: BBB | E4: 10 | F4: {=VLOOKUP($C4,'Product&Price'!$A$3:$C$11,COLUMNS($F4:F4)+1,0)*D4} -> 0 | G4: {=VLOOKUP($C4,'Product&Price'!$A$3:$C$11,COLUMNS($F4:G4)+1,0)*E4} -> 280 | I4: -Sheet "Sales code" เป็นข้อมูลของพนักงานขาย
A5: 43891 | B5: S002 | C5: CCC | D5: 5 | E5: 5 | F5: {=VLOOKUP($C5,'Product&Price'!$A$3:$C$11,COLUMNS($F5:F5)+1,0)*D5} -> 175 | G5: {=VLOOKUP($C5,'Product&Price'!$A$3:$C$11,COLUMNS($F5:G5)+1,0)*E5} -> 160 | I5: -Sheet "Record" จะเป็น Sheet สำหรับคีย์เก็บข้อมูลการขายของพนักงานขายแต่ล่ะคนในแต่ล่ะวันโดยคีย์เก็บข้อมูลไปเรื่อยๆ
A6: 43891 | B6: S003 | C6: AAA | D6: 10 | E6: 5 | F6: {=VLOOKUP($C6,'Product&Price'!$A$3:$C$11,COLUMNS($F6:F6)+1,0)*D6} -> 250 | G6: {=VLOOKUP($C6,'Product&Price'!$A$3:$C$11,COLUMNS($F6:G6)+1,0)*E6} -> 100 | I6: -ผลลัพท์หรือข้อมูลที่ต้องการคือเมื่อทำการป้อนข้อมูลที่ Sheet "Record" แล้ว ที่ Sheet "S001-S007" อยากให้ข้อมูลแสดงผลตามตัวอย่างใน Sheet S001,S002,S003 ครับ
A7: 43891 | B7: S003 | C7: DDD | D7: 5 | F7: {=VLOOKUP($C7,'Product&Price'!$A$3:$C$11,COLUMNS($F7:F7)+1,0)*D7} -> 200 | G7: {=VLOOKUP($C7,'Product&Price'!$A$3:$C$11,COLUMNS($F7:G7)+1,0)*E7} -> 0 | I7: โดยจะแสดงผลจำนวนการขายและยอดการขายโดยเอาจำนวนการขายไปคูณกับราคาสินค้าใน Sheet "Product & Price' ครับ
A8: 43891 | B8: S004 | C8: FFF | D8: 12 | F8: {=VLOOKUP($C8,'Product&Price'!$A$3:$C$11,COLUMNS($F8:F8)+1,0)*D8} -> 600 | G8: {=VLOOKUP($C8,'Product&Price'!$A$3:$C$11,COLUMNS($F8:G8)+1,0)*E8} -> 0 | I8: และในแต่ล่ะ Sheetแสดงผลรวมยอดขายทั้งหมดตามตัวอย่างที่ป้อนไว้ครับ
A9: 43891 | B9: S005 | C9: FFF | E9: 10 | F9: {=VLOOKUP($C9,'Product&Price'!$A$3:$C$11,COLUMNS($F9:F9)+1,0)*D9} -> 0 | G9: {=VLOOKUP($C9,'Product&Price'!$A$3:$C$11,COLUMNS($F9:G9)+1,0)*E9} -> 450 | I9: -Sheet "Summarize" เป็นการนำยอดขายของ Sale แต่ล่ะคนมาสรุปยอดขายในแต่ล่ะวันครับ
A10: 43891 | B10: S005 | C10: AAA | D10: 10 | E10: 5 | F10: {=VLOOKUP($C10,'Product&Price'!$A$3:$C$11,COLUMNS($F10:F10)+1,0)*D10} -> 250 | G10: {=VLOOKUP($C10,'Product&Price'!$A$3:$C$11,COLUMNS($F10:G10)+1,0)*E10} -> 100
A11: 43891 | B11: S006 | C11: GGG | D11: 5 | E11: 8 | F11: {=VLOOKUP($C11,'Product&Price'!$A$3:$C$11,COLUMNS($F11:F11)+1,0)*D11} -> 275 | G11: {=VLOOKUP($C11,'Product&Price'!$A$3:$C$11,COLUMNS($F11:G11)+1,0)*E11} -> 400 | I11: *ใช้ Excel V.2007 ครับ*
A12: 43891 | B12: S007 | C12: DDD | D12: 10 | E12: 3 | F12: {=VLOOKUP($C12,'Product&Price'!$A$3:$C$11,COLUMNS($F12:F12)+1,0)*D12} -> 400 | G12: {=VLOOKUP($C12,'Product&Price'!$A$3:$C$11,COLUMNS($F12:G12)+1,0)*E12} -> 105 | I12: หรือมีรูปแบบการออกแบบการบันทึกหรือทำรายงานในลักษณะไหนที่จะได้ผลประมาณนี้อาจารยืและพี่ๆสมาชิกช่วยแนะนำและชี้แนะผมด้วยครับ*
A13: 43891 | B13: S007 | C13: EEE | D13: 5 | E13: 5 | F13: {=VLOOKUP($C13,'Product&Price'!$A$3:$C$11,COLUMNS($F13:F13)+1,0)*D13} -> 225 | G13: {=VLOOKUP($C13,'Product&Price'!$A$3:$C$11,COLUMNS($F13:G13)+1,0)*E13} -> 200 | I13: รายการ Poduct และ Sales จะมีจำนวนมากกว่าตัวอย่างที่ผมยกมาครับ
A14: 43892 | B14: S001 | C14: CCC | D14: 10 | E14: 5 | F14: {=VLOOKUP($C14,'Product&Price'!$A$3:$C$11,COLUMNS($F14:F14)+1,0)*D14} -> 350 | G14: {=VLOOKUP($C14,'Product&Price'!$A$3:$C$11,COLUMNS($F14:G14)+1,0)*E14} -> 160
A15: 43892 | B15: S001 | C15: FFF | D15: 5 | E15: 5 | F15: {=VLOOKUP($C15,'Product&Price'!$A$3:$C$11,COLUMNS($F15:F15)+1,0)*D15} -> 250 | G15: {=VLOOKUP($C15,'Product&Price'!$A$3:$C$11,COLUMNS($F15:G15)+1,0)*E15} -> 225
A16: 43892 | B16: S002 | C16: AAA | D16: 10 | E16: 5 | F16: {=VLOOKUP($C16,'Product&Price'!$A$3:$C$11,COLUMNS($F16:F16)+1,0)*D16} -> 250 | G16: {=VLOOKUP($C16,'Product&Price'!$A$3:$C$11,COLUMNS($F16:G16)+1,0)*E16} -> 100
A17: 43892 | B17: S003 | C17: EEE | D17: 10 | E17: 10 | F17: {=VLOOKUP($C17,'Product&Price'!$A$3:$C$11,COLUMNS($F17:F17)+1,0)*D17} -> 450 | G17: {=VLOOKUP($C17,'Product&Price'!$A$3:$C$11,COLUMNS($F17:G17)+1,0)*E17} -> 400
A18: 43892 | B18: S003 | C18: AAA | D18: 10 | E18: 10 | F18: {=VLOOKUP($C18,'Product&Price'!$A$3:$C$11,COLUMNS($F18:F18)+1,0)*D18} -> 250 | G18: {=VLOOKUP($C18,'Product&Price'!$A$3:$C$11,COLUMNS($F18:G18)+1,0)*E18} -> 200
A19: 43892 | B19: S004 | C19: FFF | D19: 10 | E19: 10 | F19: {=VLOOKUP($C19,'Product&Price'!$A$3:$C$11,COLUMNS($F19:F19)+1,0)*D19} -> 500 | G19: {=VLOOKUP($C19,'Product&Price'!$A$3:$C$11,COLUMNS($F19:G19)+1,0)*E19} -> 450
A20: 43892 | B20: S005 | C20: GGG | D20: 10 | E20: 10 | F20: {=VLOOKUP($C20,'Product&Price'!$A$3:$C$11,COLUMNS($F20:F20)+1,0)*D20} -> 550 | G20: {=VLOOKUP($C20,'Product&Price'!$A$3:$C$11,COLUMNS($F20:G20)+1,0)*E20} -> 500
A21: 43892 | B21: S005 | C21: BBB | D21: 10 | E21: 10 | F21: {=VLOOKUP($C21,'Product&Price'!$A$3:$C$11,COLUMNS($F21:F21)+1,0)*D21} -> 300 | G21: {=VLOOKUP($C21,'Product&Price'!$A$3:$C$11,COLUMNS($F21:G21)+1,0)*E21} -> 280
A22: 43892 | B22: S006 | C22: CCC | D22: 10 | E22: 10 | F22: {=VLOOKUP($C22,'Product&Price'!$A$3:$C$11,COLUMNS($F22:F22)+1,0)*D22} -> 350 | G22: {=VLOOKUP($C22,'Product&Price'!$A$3:$C$11,COLUMNS($F22:G22)+1,0)*E22} -> 320
A23: 43892 | B23: S006 | C23: FFF | D23: 10 | E23: 10 | F23: {=VLOOKUP($C23,'Product&Price'!$A$3:$C$11,COLUMNS($F23:F23)+1,0)*D23} -> 500 | G23: {=VLOOKUP($C23,'Product&Price'!$A$3:$C$11,COLUMNS($F23:G23)+1,0)*E23} -> 450
A24: 43892 | B24: S007 | C24: AAA | D24: 10 | E24: 10 | F24: {=VLOOKUP($C24,'Product&Price'!$A$3:$C$11,COLUMNS($F24:F24)+1,0)*D24} -> 250 | G24: {=VLOOKUP($C24,'Product&Price'!$A$3:$C$11,COLUMNS($F24:G24)+1,0)*E24} -> 200

Sheet Summarize
A1: Monthly Sales summary
A2: Date Sales . | B2: 43891 | C2: 43892 | D2: 43893 | E2: 43894 | F2: 43895 | G2: 43896 | H2: 43897 | I2: 43898 | J2: 43899 | K2: 43900 | L2: 43901 | M2: 43902 | N2: 43903 | O2: 43904 | P2: 43905 | Q2: 43906 | R2: 43907 | S2: 43908 | T2: 43909 | U2: 43910 | V2: 43911 | W2: 43912 | X2: 43913 | Y2: 43914 | Z2: 43915 | AA2: 43916 | AB2: 43917 | AC2: 43918 | AD2: 43919 | AE2: 43920 | AF2: 43921 | AG2: Total
A3: S001 | B3: 605 | C3: 985 | AG3: =SUM(B3:AF3) -> 1590
A4: S002 | B4: 335 | C4: 350 | AG4: =SUM(B4:AF4) -> 685
A5: S003 | B5: 550 | C5: 1300 | AG5: =SUM(B5:AF5) -> 1850
A6: S004 | AG6: =SUM(B6:AF6) -> 0
A7: S005 | AG7: =SUM(B7:AF7) -> 0
A8: S006 | AG8: =SUM(B8:AF8) -> 0
A9: S007 | AG9: =SUM(B9:AF9) -> 0
AG10: =SUM(B10:AF10) -> 0
AG11: =SUM(B11:AF11) -> 0
AG12: =SUM(B12:AF12) -> 0
AG13: =SUM(B13:AF13) -> 0
AG14: =SUM(B14:AF14) -> 0
AG15: =SUM(B15:AF15) -> 0
AG16: =SUM(B16:AF16) -> 0
AG17: =SUM(B17:AF17) -> 0
AG18: =SUM(B18:AF18) -> 0
AG19: =SUM(B19:AF19) -> 0
AG20: =SUM(B20:AF20) -> 0
AG21: =SUM(B21:AF21) -> 0
... AG52: =SUM(B52:AF52) -> 0
