Workbook
Name PrintArea: #REF!
Name การจัดส่ง: [1]!Table6[การจัดส่ง]
Name การจัดส่ง: #REF!
Name ชื่อสกุล: data!$K$2:$K$1041
Name ชื่อสกุล: #REF!
Name ที่อยู่สำหรับจัดส่งบัตร: [1]!Table7[ที่อยู่สำหรับจัดส่งบัตร]
Name ที่อยู่สำหรับจัดส่งบัตร: #REF!
Name ประเภทกลุ่ม: [1]!Table3[ประเภทกลุ่ม]
Name ประเภทกลุ่ม: #REF!
Name ประเภทรถยนต์ไฟฟ้า: [1]!Table5[ประเภทรถยนต์ไฟฟ้า]
Name ประเภทรถยนต์ไฟฟ้า: #REF!
Name ยี่ห้อรถยนต์ไฟฟ้า: [1]!Table4[ยี่ห้อรถยนต์ไฟฟ้า]
Name ยี่ห้อรถยนต์ไฟฟ้า: #REF!

Sheet data
A1: ลำดับที่ | B1: ชื่อ(ไทย) | C1: นามสกุล(ไทย) | D1: ชื่อ(ENG) | E1: นามสกุล(ENG) | F1: email | G1: ยี่ห้อรถยนต์ไฟฟ้า | H1: ปีที่ลง ทะเบียนบัตร | I1: EGAT EV Card | J1: สถานะบัตร รับบัตรแล้ว/ยังไม่ได้รับบัตร | K1: ชื่อสกุล
A2: =SUM(A1,1) -> 1 | B2: พิสิทธิ์ | C2: จันทรเสรีกุล | D2: Pisit | E2: Chantarasereekul | F2: pisit@krungthai.co.th | G2: Porshe | H2: 2563 | I2: EB664EAB | J2: =IF(I2<>"","รับบัตรแล้ว","ยังไม่ได้รับบัตร") -> รับบัตรแล้ว | K2: =data!$B2&" "&data!$C2 -> พิสิทธิ์ จันทรเสรีกุล
A3: =SUM(A2,1) -> 2 | B3: สมเกียรติ | C3: ทรงศิริ | D3: Somkiat | E3: Songsiri | F3: ssongsiri@hotmail.com | G3: Mercedes-Benz | H3: 2563 | I3: 2A504EAB | J3: =IF(I3<>"","รับบัตรแล้ว","ยังไม่ได้รับบัตร") -> รับบัตรแล้ว | K3: =data!$B3&" "&data!$C3 -> สมเกียรติ ทรงศิริ
A4: =SUM(A3,1) -> 3 | B4: เชษฐพงษ์ | C4: วงศ์วรเชษฐ์ | D4: Chadthapong | E4: Wongworachate | F4: Pongnijot@yahoo.com | G4: Volvo | H4: 2563 | I4: C70A4FAB | J4: =IF(I4<>"","รับบัตรแล้ว","ยังไม่ได้รับบัตร") -> รับบัตรแล้ว | K4: =data!$B4&" "&data!$C4 -> เชษฐพงษ์ วงศ์วรเชษฐ์
A5: =SUM(A4,1) -> 4 | B5: วาสิน | C5: พิชญสถิต | D5: Wasin | E5: Pichayasathit | F5: wasin.pich@gmail.com | G5: Nissan | H5: 2563 | I5: 4C094EAB | J5: =IF(I5<>"","รับบัตรแล้ว","ยังไม่ได้รับบัตร") -> รับบัตรแล้ว | K5: =data!$B5&" "&data!$C5 -> วาสิน พิชญสถิต
A6: =SUM(A5,1) -> 5 | B6: ไพรินทร์ | C6: วัฒนารมย์ | D6: Pairin | E6: watanarom | F6: pairin.mce@gmail.com | G6: Volvo | H6: 2563 | I6: 27154FAB | J6: =IF(I6<>"","รับบัตรแล้ว","ยังไม่ได้รับบัตร") -> รับบัตรแล้ว | K6: =data!$B6&" "&data!$C6 -> ไพรินทร์ วัฒนารมย์
A7: =SUM(A6,1) -> 6 | B7: ทรงยศ | C7: กิจประเสริฐ | D7: Songyos | E7: Kitprasert | F7: petropackaging@hotmail.com | G7: Mercedes-Benz | H7: 2563 | I7: ACDB4EAB | J7: =IF(I7<>"","รับบัตรแล้ว","ยังไม่ได้รับบัตร") -> รับบัตรแล้ว | K7: =data!$B7&" "&data!$C7 -> ทรงยศ กิจประเสริฐ
A8: =SUM(A7,1) -> 7 | B8: กิติยา | C8: เหล่าเศรษฐานันท์ | D8: Kitiya | E8: Laosettanun | F8: kitiya.laosettanun@gmail.com | G8: Mercedes-Benz | H8: 2563 | I8: E1514EAB | J8: =IF(I8<>"","รับบัตรแล้ว","ยังไม่ได้รับบัตร") -> รับบัตรแล้ว | K8: =data!$B8&" "&data!$C8 -> กิติยา เหล่าเศรษฐานันท์
A9: =SUM(A8,1) -> 8 | B9: สุภาภรณ์ | C9: ​แสงตระกูล​เจริญ​ | D9: Supaporn | E9: Saengtrakulcharoen | F9: supaporn@aether-energy.co.th | G9: BMW | H9: 2563 | I9: BC734EAB | J9: =IF(I9<>"","รับบัตรแล้ว","ยังไม่ได้รับบัตร") -> รับบัตรแล้ว | K9: =data!$B9&" "&data!$C9 -> สุภาภรณ์ ​แสงตระกูล​เจริญ​
A10: =SUM(A9,1) -> 9 | B10: ธนิตศักดิ์ | C10: รังคะวรเศรษฐ์ | D10: Thanitsak | E10: Rangkaworasate | F10: big.fox1@gmail.com | G10: Nissan | H10: 2563 | I10: 94334EAB | J10: =IF(I10<>"","รับบัตรแล้ว","ยังไม่ได้รับบัตร") -> รับบัตรแล้ว | K10: =data!$B10&" "&data!$C10 -> ธนิตศักดิ์ รังคะวรเศรษฐ์
A11: =SUM(A10,1) -> 10 | B11: อาริยทัศน์ | C11: ศุทธชัย | D11: Ariyatas | E11: Sutthachai | F11: ariyatas@hotmail.com | G11: Mercedes-Benz | H11: 2563 | I11: A4344FAB | J11: =IF(I11<>"","รับบัตรแล้ว","ยังไม่ได้รับบัตร") -> รับบัตรแล้ว | K11: =data!$B11&" "&data!$C11 -> อาริยทัศน์ ศุทธชัย
A12: =SUM(A11,1) -> 11 | B12: ณรัตน์ไชย | C12: หลีระพันธ์ | D12: Narratchai | E12: Leeraphante | F12: narratchai@Polytech.co.th | G12: BMW | H12: 2563 | I12: 2A9FFE63 | J12: =IF(I12<>"","รับบัตรแล้ว","ยังไม่ได้รับบัตร") -> รับบัตรแล้ว | K12: =data!$B12&" "&data!$C12 -> ณรัตน์ไชย หลีระพันธ์
A13: =SUM(A12,1) -> 12 | B13: คริษฐ์ | C13: เปรมประเสริฐ | D13: KRITS | E13: PREMPRASERT | F13: prin_onepoint@hotmail.com | G13: BMW | H13: 2563 | I13: E4D7FF63 | J13: =IF(I13<>"","รับบัตรแล้ว","ยังไม่ได้รับบัตร") -> รับบัตรแล้ว | K13: =data!$B13&" "&data!$C13 -> คริษฐ์ เปรมประเสริฐ
... A64: =SUM(A63,1) -> 63 | B64: วิทยา | C64: ประทีปกาญจนา | D64: Vittaya | E64: prateepkanjana | F64: pratee@hotmail.com | G64: Mercedes-Benz | H64: 2563 | I64: 7E337633 | J64: =IF(I64<>"","รับบัตรแล้ว","ยังไม่ได้รับบัตร") -> รับบัตรแล้ว | K64: =data!$B64&" "&data!$C64 -> วิทยา ประทีปกาญจนา
A65: =SUM(A64,1) -> 64 | B65: ชาญชัย | C65: ไชยเลิศ | D65: Chanchai | E65: Chailert | F65: cchailert@hotmail.com | G65: Mercedes-Benz | H65: 2563 | I65: 85527633 | J65: =IF(I65<>"","รับบัตรแล้ว","ยังไม่ได้รับบัตร") -> รับบัตรแล้ว | K65: =data!$B65&" "&data!$C65 -> ชาญชัย ไชยเลิศ
A66: =SUM(A65,1) -> 65 | B66: รัชต์ | C66: ตันติกุล | D66: Ratchata | E66: Tontikul | F66: ratchata_t@hotmail.com | G66: Mercedes-Benz | H66: 2563 | I66: 19307733 | J66: =IF(I66<>"","รับบัตรแล้ว","ยังไม่ได้รับบัตร") -> รับบัตรแล้ว | K66: =data!$B66&" "&data!$C66 -> รัชต์ ตันติกุล
A67: =SUM(A66,1) -> 66 | B67: บุรินทร์ | C67: โอภาสเศรษฐกุล | D67: Burint | E67: Opassetthakul | F67: burint_o@yahoo.com | G67: BMW | H67: 2563 | I67: B232D21A | J67: =IF(I67<>"","รับบัตรแล้ว","ยังไม่ได้รับบัตร") -> รับบัตรแล้ว | K67: =data!$B67&" "&data!$C67 -> บุรินทร์ โอภาสเศรษฐกุล
A68: =SUM(A67,1) -> 67 | B68: พาศักดิ์ | C68: เสนาวงษ์ | D68: Pasak | E68: Senawongse | F68: mrpasak@yahoo.com | G68: BMW | H68: 2563 | I68: 29927633 | J68: =IF(I68<>"","รับบัตรแล้ว","ยังไม่ได้รับบัตร") -> รับบัตรแล้ว | K68: =data!$B68&" "&data!$C68 -> พาศักดิ์ เสนาวงษ์
A69: =SUM(A68,1) -> 68 | B69: ชัยชรัตน์ | C69: อดิจารุพันธุ์ | D69: Chaicharat | E69: Adhijarruphan | F69: svgrid@gmail.com | G69: BYD | H69: 2563 | I69: F5C17633 | J69: =IF(I69<>"","รับบัตรแล้ว","ยังไม่ได้รับบัตร") -> รับบัตรแล้ว | K69: =data!$B69&" "&data!$C69 -> ชัยชรัตน์ อดิจารุพันธุ์
A70: =SUM(A69,1) -> 69 | B70: วัชรชัย | C70: วรรณสิทธิ์ | D70: Watcharachai | E70: Wannasit | F70: nat@smilehost.asia | G70: Mercedes-Benz | H70: 2563 | I70: 1E3B7733 | J70: =IF(I70<>"","รับบัตรแล้ว","ยังไม่ได้รับบัตร") -> รับบัตรแล้ว | K70: =data!$B70&" "&data!$C70 -> วัชรชัย วรรณสิทธิ์
A71: =SUM(A70,1) -> 70 | B71: ธนารักษ์ | C71: แสงรัตน์วัชรา | D71: Tanalux | E71: Sangratwatchara | F71: tanalux2011@hotmail.com | G71: BMW | H71: 2563 | I71: 82D07633 | J71: =IF(I71<>"","รับบัตรแล้ว","ยังไม่ได้รับบัตร") -> รับบัตรแล้ว | K71: =data!$B71&" "&data!$C71 -> ธนารักษ์ แสงรัตน์วัชรา
A72: =SUM(A71,1) -> 71 | B72: ชัยวัฒน์ | C72: ชลชาญ | D72: Chaiwat | E72: Chonchan | F72: chaiwat@erc.or.th | G72: MG | H72: 2563 | I72: EB5A7633 | J72: =IF(I72<>"","รับบัตรแล้ว","ยังไม่ได้รับบัตร") -> รับบัตรแล้ว | K72: =data!$B72&" "&data!$C72 -> ชัยวัฒน์ ชลชาญ
A73: =SUM(A72,1) -> 72 | B73: สกลวิช | C73: ธัญญกิตติกุล | D73: Sakonwit | E73: Thunyakittikul | F73: iljp55@hotmail.com | G73: Hyundai | H73: 2563 | I73: DDF37633 | J73: =IF(I73<>"","รับบัตรแล้ว","ยังไม่ได้รับบัตร") -> รับบัตรแล้ว | K73: =data!$B73&" "&data!$C73 -> สกลวิช ธัญญกิตติกุล
A74: =SUM(A73,1) -> 73 | B74: สุวิทย์ | C74: อรรถจารุสิทธิ์ | D74: Suwit | E74: Attajarusit | F74: korn9976@hotmail.com | G74: Mercedes-Benz | H74: 2563 | I74: 6A707733 | J74: =IF(I74<>"","รับบัตรแล้ว","ยังไม่ได้รับบัตร") -> รับบัตรแล้ว | K74: =data!$B74&" "&data!$C74 -> สุวิทย์ อรรถจารุสิทธิ์
A75: =SUM(A74,1) -> 74 | B75: สุภณัฐ | C75: บุญยิ่งสถิตย์ | D75: Supanut | E75: Boonyingsathit | F75: supanut_b@hotmail.com | G75: BMW | H75: 2563 | I75: 9A577633 | J75: =IF(I75<>"","รับบัตรแล้ว","ยังไม่ได้รับบัตร") -> รับบัตรแล้ว | K75: =data!$B75&" "&data!$C75 -> สุภณัฐ บุญยิ่งสถิตย์
A76: =SUM(A75,1) -> 75 | B76: ดานัย | C76: นิ่มนวล | D76: Danai | E76: Nimnaun | F76: danai999@hotmail.com | G76: รถมอเตอร์ไซค์ไฟฟ้า | H76: 2563 | I76: CE76B2D3 | J76: =IF(I76<>"","รับบัตรแล้ว","ยังไม่ได้รับบัตร") -> รับบัตรแล้ว | K76: =data!$B76&" "&data!$C76 -> ดานัย นิ่มนวล
A77: =SUM(A76,1) -> 76 | B77: ภาณุทัต | C77: สัชฌะไชย | D77: Panutat | E77: Satchachai | F77: panutat.satchachai@gmail.com | G77: Mercedes-Benz | H77: 2563 | I77: 2066B1D3 | J77: =IF(I77<>"","รับบัตรแล้ว","ยังไม่ได้รับบัตร") -> รับบัตรแล้ว | K77: =data!$B77&" "&data!$C77 -> ภาณุทัต สัชฌะไชย
A78: =SUM(A77,1) -> 77 | B78: สฤษศักดิ์ | C78: ปดิฐพร | D78: Saritsak | E78: Paditporn | F78: zaritsak@hotmail.com | G78: BMW | H78: 2563 | I78: 750F7733 | J78: =IF(I78<>"","รับบัตรแล้ว","ยังไม่ได้รับบัตร") -> รับบัตรแล้ว | K78: =data!$B78&" "&data!$C78 -> สฤษศักดิ์ ปดิฐพร
... A80: =SUM(A79,1) -> 79 | B80: จักรกฤษณ์ | C80: เวศย์วรุตม์ | D80: Chackrit | E80: Vesvarut | F80: huat99@me.com | G80: BYD | H80: 2563 | I80: A5627633 | J80: =IF(I80<>"","รับบัตรแล้ว","ยังไม่ได้รับบัตร") -> รับบัตรแล้ว | K80: =data!$B80&" "&data!$C80 -> จักรกฤษณ์ เวศย์วรุตม์
A81: =SUM(A80,1) -> 80 | B81: วีรพล | C81: ยิ้มสินสมบูรณ์ | D81: Veerapol | E81: Yimsinsomboon | F81: veerapol@blpower.co.th | G81: BMW | H81: 2563 | I81: 42517733 | J81: =IF(I81<>"","รับบัตรแล้ว","ยังไม่ได้รับบัตร") -> รับบัตรแล้ว | K81: =data!$B81&" "&data!$C81 -> วีรพล ยิ้มสินสมบูรณ์
A82: =SUM(A81,1) -> 81 | B82: ณรงค์ฤทธิ์ | C82: ชัยอนุชิตตระกูล | D82: Narongrit | E82: Chaianuchittrakul | F82: lhong_99@hotmail.com | G82: Mercedes-Benz | H82: 2563 | I82: 15FF7533 | J82: =IF(I82<>"","รับบัตรแล้ว","ยังไม่ได้รับบัตร") -> รับบัตรแล้ว | K82: =data!$B82&" "&data!$C82 -> ณรงค์ฤทธิ์ ชัยอนุชิตตระกูล
A83: =SUM(A82,1) -> 82 | B83: สมศักดิ์ | C83: สืบสาย | D83: Somsak | E83: Seubsai | F83: seubsaipost@gmail.com | G83: BMW | H83: 2563 | I83: 962E7633 | J83: =IF(I83<>"","รับบัตรแล้ว","ยังไม่ได้รับบัตร") -> รับบัตรแล้ว | K83: =data!$B83&" "&data!$C83 -> สมศักดิ์ สืบสาย
A84: =SUM(A83,1) -> 83 | B84: ศุภโชติ | C84: วังจินดา | D84: SUPACHOT | E84: WANGCHINDA | F84: supachot@hotmail.com | G84: Hyundai | H84: 2563 | I84: 95DF7633 | J84: =IF(I84<>"","รับบัตรแล้ว","ยังไม่ได้รับบัตร") -> รับบัตรแล้ว | K84: =data!$B84&" "&data!$C84 -> ศุภโชติ วังจินดา
A85: =SUM(A84,1) -> 84 | B85: นิธิวรรสน์ | C85: หลินภัทรชัย | D85: Nitiwass | E85: Linphatrachai | F85: nicesiamguy@gmail.com | G85: BMW | H85: 2563 | I85: AE457633 | J85: =IF(I85<>"","รับบัตรแล้ว","ยังไม่ได้รับบัตร") -> รับบัตรแล้ว | K85: =data!$B85&" "&data!$C85 -> นิธิวรรสน์ หลินภัทรชัย
A86: =SUM(A85,1) -> 85 | B86: วรวงษ์ | C86: อภิรักษ์ภูบาล | D86: worawong | E86: apirukpubal | F86: playboy77_7@hotmail.com | G86: BMW | H86: 2563 | I86: E559B1D3 | J86: =IF(I86<>"","รับบัตรแล้ว","ยังไม่ได้รับบัตร") -> รับบัตรแล้ว | K86: =data!$B86&" "&data!$C86 -> วรวงษ์ อภิรักษ์ภูบาล
A87: =SUM(A86,1) -> 86 | B87: โสฬส | C87: ชูเวทย์ | D87: Solos | E87: Chuwet | F87: solosnan@hotmail.com | G87: Mercedes-Benz | H87: 2563 | I87: 0505B2D3 | J87: =IF(I87<>"","รับบัตรแล้ว","ยังไม่ได้รับบัตร") -> รับบัตรแล้ว | K87: =data!$B87&" "&data!$C87 -> โสฬส ชูเวทย์
A88: =SUM(A87,1) -> 87 | B88: ธวัชชัย | C88: วงศ์กริช | D88: Tawatchai | E88: Wongkritch | F88: tcsercom@gmail.com | G88: Hyundai | H88: 2563 | I88: 8D3B7633 | J88: =IF(I88<>"","รับบัตรแล้ว","ยังไม่ได้รับบัตร") -> รับบัตรแล้ว | K88: =data!$B88&" "&data!$C88 -> ธวัชชัย วงศ์กริช
A89: =SUM(A88,1) -> 88 | B89: สุรชัย | C89: ศิริไพศาลโสภา | D89: Surachai | E89: Siripaisalsopa | F89: surachais@newtonmotor.com | G89: Nissan | H89: 2563 | I89: C9387633 | J89: =IF(I89<>"","รับบัตรแล้ว","ยังไม่ได้รับบัตร") -> รับบัตรแล้ว | K89: =data!$B89&" "&data!$C89 -> สุรชัย ศิริไพศาลโสภา
A90: =SUM(A89,1) -> 89 | B90: กิตติ​พงษ์​ | C90: ริม​ชัย​สิทธิ์​ | D90: Kittipong​ | E90: Rimchaisith | F90: ho.perpax@gmail.com | G90: Nissan | H90: 2563 | I90: 0A527733 | J90: =IF(I90<>"","รับบัตรแล้ว","ยังไม่ได้รับบัตร") -> รับบัตรแล้ว | K90: =data!$B90&" "&data!$C90 -> กิตติ​พงษ์​ ริม​ชัย​สิทธิ์​
A91: =SUM(A90,1) -> 90 | B91: นนท์ปวิธ | C91: แสงเทียนประไพ | D91: Nonpawit | E91: Sangtianprapai | F91: nonpawit@gmail.com | G91: Hyundai | H91: 2563 | I91: 54C1B1D3 | J91: =IF(I91<>"","รับบัตรแล้ว","ยังไม่ได้รับบัตร") -> รับบัตรแล้ว | K91: =data!$B91&" "&data!$C91 -> นนท์ปวิธ แสงเทียนประไพ
A92: =SUM(A91,1) -> 91 | B92: ธนวิน | C92: จงเจตน์ดี | D92: Thanawin | E92: Jongjetdee | F92: chaleejongjetdee@gmail.com | G92: BYD | H92: 2563 | I92: 346F7733 | J92: =IF(I92<>"","รับบัตรแล้ว","ยังไม่ได้รับบัตร") -> รับบัตรแล้ว | K92: =data!$B92&" "&data!$C92 -> ธนวิน จงเจตน์ดี
A93: =SUM(A92,1) -> 92 | B93: วโรดม | C93: บุญทวี | D93: Warodom | E93: Boontawee | F93: warodom.b@evsociety.co.th | G93: BYD | H93: 2563 | I93: 26DCB1D3 | J93: =IF(I93<>"","รับบัตรแล้ว","ยังไม่ได้รับบัตร") -> รับบัตรแล้ว | K93: =data!$B93&" "&data!$C93 -> วโรดม บุญทวี
... A95: =SUM(A94,1) -> 94 | B95: อุษณีย์ | C95: คงชาญศิริ | D95: Usanee | E95: Kongchansiri | F95: beelively22@gmail.com | G95: MG | H95: 2563 | I95: FA327633 | J95: =IF(I95<>"","รับบัตรแล้ว","ยังไม่ได้รับบัตร") -> รับบัตรแล้ว | K95: =data!$B95&" "&data!$C95 -> อุษณีย์ คงชาญศิริ
A96: =SUM(A95,1) -> 95 | B96: ประสิทธิ์​ | C96: วุฒิ​ศรุต​ | D96: Prasit | E96: Vuttisarut | F96: prasitvut@gmail.com | G96: MG | H96: 2563 | I96: 59247633 | J96: =IF(I96<>"","รับบัตรแล้ว","ยังไม่ได้รับบัตร") -> รับบัตรแล้ว | K96: =data!$B96&" "&data!$C96 -> ประสิทธิ์​ วุฒิ​ศรุต​
A97: =SUM(A96,1) -> 96 | B97: ธนิต | C97: วุฒิศรุต | D97: TANIT | E97: VUTTISARUT | F97: tonn1111@hotmail.com | G97: MG | H97: 2563 | I97: 1CEA7633 | J97: =IF(I97<>"","รับบัตรแล้ว","ยังไม่ได้รับบัตร") -> รับบัตรแล้ว | K97: =data!$B97&" "&data!$C97 -> ธนิต วุฒิศรุต
A98: =SUM(A97,1) -> 97 | B98: ทรงปกิต | C98: แก้วนิยมพาณิชย์ | D98: Songpakit | E98: Kaewniyompanit | F98: songpakit@hotmail.com | G98: MG | H98: 2563 | I98: 02F27633 | J98: =IF(I98<>"","รับบัตรแล้ว","ยังไม่ได้รับบัตร") -> รับบัตรแล้ว | K98: =data!$B98&" "&data!$C98 -> ทรงปกิต แก้วนิยมพาณิชย์
A99: =SUM(A98,1) -> 98 | B99: วรพันธุ์ | C99: อธิคมไตรรัตน์ | D99: Woraphan | E99: Atikomtrirat | F99: woraphan@atikomtrirat.com | G99: Mercedes-Benz | H99: 2563 | I99: 51AF7633 | J99: =IF(I99<>"","รับบัตรแล้ว","ยังไม่ได้รับบัตร") -> รับบัตรแล้ว | K99: =data!$B99&" "&data!$C99 -> วรพันธุ์ อธิคมไตรรัตน์
A100: =SUM(A99,1) -> 99 | B100: จุฑาทิพย์ | C100: ศรีมงคลชัย | D100: juthathip | E100: srimongkolchai | F100: anneconnection@outlook.com | G100: Hyundai | H100: 2563 | I100: AE9FB1D3 | J100: =IF(I100<>"","รับบัตรแล้ว","ยังไม่ได้รับบัตร") -> รับบัตรแล้ว | K100: =data!$B100&" "&data!$C100 -> จุฑาทิพย์ ศรีมงคลชัย
A101: =SUM(A100,1) -> 100 | B101: ธีรวิทย์ | C101: ฉายภมร | D101: Teeravit | E101: chaipamorn | F101: nov152@gmail.com | G101: Volvo | H101: 2563 | I101: 64E1FE63 | J101: =IF(I101<>"","รับบัตรแล้ว","ยังไม่ได้รับบัตร") -> รับบัตรแล้ว | K101: =data!$B101&" "&data!$C101 -> ธีรวิทย์ ฉายภมร
A102: =SUM(A101,1) -> 101 | B102: สิทธิสิน | C102: ปิยะอารมณ์รัตน์ | D102: Sittisin | E102: Piyaromrat | F102: sittisin@gmail.com | G102: MG | H102: 2563 | I102: F0FD0ED3 | J102: =IF(I102<>"","รับบัตรแล้ว","ยังไม่ได้รับบัตร") -> รับบัตรแล้ว | K102: =data!$B102&" "&data!$C102 -> สิทธิสิน ปิยะอารมณ์รัตน์
A103: =SUM(A102,1) -> 102 | B103: ธนันต์ | C103: สัตตะรุจาวงษ์ | D103: Tanun | E103: Sattarujawong | F103: tanun@live.com | G103: MG | H103: 2563 | I103: 799AFE63 | J103: =IF(I103<>"","รับบัตรแล้ว","ยังไม่ได้รับบัตร") -> รับบัตรแล้ว | K103: =data!$B103&" "&data!$C103 -> ธนันต์ สัตตะรุจาวงษ์
A104: =SUM(A103,1) -> 103 | B104: พงศ์วิทิต | C104: ธัญญกิตติกุล | D104: Phongwithit | E104: Thunyakittikul | F104: phongwithitt@hotmail.com | G104: MG | H104: 2563 | I104: 9718FF63 | J104: =IF(I104<>"","รับบัตรแล้ว","ยังไม่ได้รับบัตร") -> รับบัตรแล้ว | K104: =data!$B104&" "&data!$C104 -> พงศ์วิทิต ธัญญกิตติกุล
A105: =SUM(A104,1) -> 104 | B105: สมบัติ | C105: ทองเมฆ | D105: SOMBAT | E105: THONGMEK | F105: sthongmek@gmail.com | G105: MG | H105: 2563 | I105: 3BA1FE63 | J105: =IF(I105<>"","รับบัตรแล้ว","ยังไม่ได้รับบัตร") -> รับบัตรแล้ว | K105: =data!$B105&" "&data!$C105 -> สมบัติ ทองเมฆ
A106: =SUM(A105,1) -> 105 | B106: นิติกร | C106: ศรีอุทธา | D106: Nitikorn | E106: SriUttha | F106: nitkz@hotmail.com | G106: MG | H106: 2563 | I106: C7B2FF63 | J106: =IF(I106<>"","รับบัตรแล้ว","ยังไม่ได้รับบัตร") -> รับบัตรแล้ว | K106: =data!$B106&" "&data!$C106 -> นิติกร ศรีอุทธา
A107: =SUM(A106,1) -> 106 | B107: สุรศักดิ์ | C107: โกมลเมธา | D107: SURASAK | E107: KOMOLMATHA | F107: progsmtool@gmail.com | G107: MG | H107: 2563 | I107: 7B01FF63 | J107: =IF(I107<>"","รับบัตรแล้ว","ยังไม่ได้รับบัตร") -> รับบัตรแล้ว | K107: =data!$B107&" "&data!$C107 -> สุรศักดิ์ โกมลเมธา
A108: =SUM(A107,1) -> 107 | B108: ภูรินท์ | C108: คุรุรัตน์ | D108: Purin | E108: Gururatana | F108: guchuaub@hotmail.com | G108: MG | H108: 2563 | I108: E272FF63 | J108: =IF(I108<>"","รับบัตรแล้ว","ยังไม่ได้รับบัตร") -> รับบัตรแล้ว | K108: =data!$B108&" "&data!$C108 -> ภูรินท์ คุรุรัตน์
... A118: =SUM(A117,1) -> 117 | B118: กุลณรินทร์ | C118: เถกิงกร | D118: kunnarin | E118: takoengkorn | F118: nisaratyamdee.y@gmail.com | G118: MGZSEV | H118: 2563 | I118: 74FB0ED3 | J118: =IF(I118<>"","รับบัตรแล้ว","ยังไม่ได้รับบัตร") -> รับบัตรแล้ว | K118: =data!$B118&" "&data!$C118 -> กุลณรินทร์ เถกิงกร
A119: =SUM(A118,1) -> 118 | B119: ชัยสิทธิ์ | C119: รัตนเกียรติชัย | D119: Chaiyasith | E119: Ratanakiatichai | F119: numchai2507@gmail.com | H119: 2563 | I119: 8A870FD3 | J119: =IF(I119<>"","รับบัตรแล้ว","ยังไม่ได้รับบัตร") -> รับบัตรแล้ว | K119: =data!$B119&" "&data!$C119 -> ชัยสิทธิ์ รัตนเกียรติชัย
A120: =SUM(A119,1) -> 119 | B120: พันธุ์สยาม | C120: ห้วยแก้ว | D120: Phansayam | E120: Huaykaew | F120: phansayam@gmail.com | G120: MG | H120: 2563 | I120: 3CB60ED3 | J120: =IF(I120<>"","รับบัตรแล้ว","ยังไม่ได้รับบัตร") -> รับบัตรแล้ว | K120: =data!$B120&" "&data!$C120 -> พันธุ์สยาม ห้วยแก้ว
A121: =SUM(A120,1) -> 120 | B121: พีร์ | C121: ณลำพูน | D121: Phee | E121: NaLamphun | F121: p_tum@hotmail.com | G121: MG | H121: 2563 | I121: 57610FD3 | J121: =IF(I121<>"","รับบัตรแล้ว","ยังไม่ได้รับบัตร") -> รับบัตรแล้ว | K121: =data!$B121&" "&data!$C121 -> พีร์ ณลำพูน
A122: =SUM(A121,1) -> 121 | B122: ชายธีร์​ | C122: ตันธรรศกุล | D122: Chaitee | E122: Tandhanskul | F122: c.tandhanskul@gmail.com | G122: Volvo | H122: 2563 | I122: 12790ED3 | J122: =IF(I122<>"","รับบัตรแล้ว","ยังไม่ได้รับบัตร") -> รับบัตรแล้ว | K122: =data!$B122&" "&data!$C122 -> ชายธีร์​ ตันธรรศกุล
A123: =SUM(A122,1) -> 122 | B123: กีรติ | C123: นิติโชติ | D123: Kirati | E123: Nitichote | F123: kiratini@hotmail.com | G123: MG | H123: 2563 | I123: 6491B2D3 | J123: =IF(I123<>"","รับบัตรแล้ว","ยังไม่ได้รับบัตร") -> รับบัตรแล้ว | K123: =data!$B123&" "&data!$C123 -> กีรติ นิติโชติ
A124: =SUM(A123,1) -> 123 | B124: ศิระ | C124: ลีปิพัฒนวิทย์ | D124: Sira | E124: Leepipatnavit | F124: s.leevit@gmail.com | H124: 2563 | I124: EAAC0ED3 | J124: =IF(I124<>"","รับบัตรแล้ว","ยังไม่ได้รับบัตร") -> รับบัตรแล้ว | K124: =data!$B124&" "&data!$C124 -> ศิระ ลีปิพัฒนวิทย์
A125: =SUM(A124,1) -> 124 | B125: วาชินี​ | C125: อาศิรพงษ์พร | D125: Wachinee​ | E125: Arsirapongporn​ | F125: littlecyberpig@gmail.com | H125: 2563 | I125: 95B00FD3 | J125: =IF(I125<>"","รับบัตรแล้ว","ยังไม่ได้รับบัตร") -> รับบัตรแล้ว | K125: =data!$B125&" "&data!$C125 -> วาชินี​ อาศิรพงษ์พร
A126: =SUM(A125,1) -> 125 | B126: ชวินทร์ | C126: ศรีสดใส | D126: chawin | E126: srisodsai | F126: winmon1@gmail.com | G126: MG | H126: 2563 | I126: B7510FD3 | J126: =IF(I126<>"","รับบัตรแล้ว","ยังไม่ได้รับบัตร") -> รับบัตรแล้ว | K126: =data!$B126&" "&data!$C126 -> ชวินทร์ ศรีสดใส
A127: =SUM(A126,1) -> 126 | B127: ณรงค์ฤทธิ์ | C127: คูณสวัสดิ์ | D127: Narongrit | E127: Koonsawas | F127: hd_sat@hotmail.com | G127: Hyundai | H127: 2563 | I127: B1FCFE63 | J127: =IF(I127<>"","รับบัตรแล้ว","ยังไม่ได้รับบัตร") -> รับบัตรแล้ว | K127: =data!$B127&" "&data!$C127 -> ณรงค์ฤทธิ์ คูณสวัสดิ์
A128: =SUM(A127,1) -> 127 | B128: ธรรศพงศ์ | C128: สิริโชติวรกุล | D128: THASPONG | E128: SIRICHOTWORAGUL | F128: thaspong@hotmail.co.th | G128: FOMM | H128: 2563 | I128: 3CB1FF63 | J128: =IF(I128<>"","รับบัตรแล้ว","ยังไม่ได้รับบัตร") -> รับบัตรแล้ว | K128: =data!$B128&" "&data!$C128 -> ธรรศพงศ์ สิริโชติวรกุล
A129: =SUM(A128,1) -> 128 | B129: กรณ์พงศ์ | C129: สิทธิโชติวราสกุล | D129: Gornpong | E129: Sithichotwarasagul | F129: gornphong.s@gmail.com | G129: FOMM | H129: 2563 | I129: 3A80B1D3 | J129: =IF(I129<>"","รับบัตรแล้ว","ยังไม่ได้รับบัตร") -> รับบัตรแล้ว | K129: =data!$B129&" "&data!$C129 -> กรณ์พงศ์ สิทธิโชติวราสกุล
A130: =SUM(A129,1) -> 129 | B130: ปิยะ | C130: ศุขใจ | D130: Piya | E130: Sookjai | F130: piyas.724insure@gmail.com | G130: MG | H130: 2563 | I130: C584B2D3 | J130: =IF(I130<>"","รับบัตรแล้ว","ยังไม่ได้รับบัตร") -> รับบัตรแล้ว | K130: =data!$B130&" "&data!$C130 -> ปิยะ ศุขใจ
A131: =SUM(A130,1) -> 130 | B131: ภูมิพัฒน์ | C131: สัจพรพจนารถ | D131: Phoompat | E131: Satjapornpotjanart | F131: palmacist@hotmail.com | G131: MG | H131: 2563 | I131: 96EDB1D3 | J131: =IF(I131<>"","รับบัตรแล้ว","ยังไม่ได้รับบัตร") -> รับบัตรแล้ว | K131: =data!$B131&" "&data!$C131 -> ภูมิพัฒน์ สัจพรพจนารถ
A132: =SUM(A131,1) -> 131 | B132: พิชา | C132: ศรพรหม | D132: PICHA | E132: SORNPROM | F132: arm_picha@hotmail.com | G132: MG | H132: 2563 | I132: 8685B2D3 | J132: =IF(I132<>"","รับบัตรแล้ว","ยังไม่ได้รับบัตร") -> รับบัตรแล้ว | K132: =data!$B132&" "&data!$C132 -> พิชา ศรพรหม
A133: =SUM(A132,1) -> 132 | B133: ภาณุเดชา | C133: เจริยชยวัน | D133: PANUDECHA | E133: JAROENCHAYAWAN | F133: panudecha@yahoo.co.th | H133: 2563 | I133: 19787633 | J133: =IF(I133<>"","รับบัตรแล้ว","ยังไม่ได้รับบัตร") -> รับบัตรแล้ว | K133: =data!$B133&" "&data!$C133 -> ภาณุเดชา เจริยชยวัน
A134: =SUM(A133,1) -> 133 | B134: ศุภสิทธิ์ | C134: บุณยะตุลานนท์ | D134: Supasit | E134: Boonyatulanont | F134: igolfy@yahoo.com | G134: MG | H134: 2563 | I134: C9BEB1D3 | J134: =IF(I134<>"","รับบัตรแล้ว","ยังไม่ได้รับบัตร") -> รับบัตรแล้ว | K134: =data!$B134&" "&data!$C134 -> ศุภสิทธิ์ บุณยะตุลานนท์
A135: =SUM(A134,1) -> 134 | B135: อธิคม | C135: ศานติสรร | D135: Atikom | E135: Santisan | F135: atikom.santisan@gmail.com | G135: MG | H135: 2563 | I135: 4D4C7733 | J135: =IF(I135<>"","รับบัตรแล้ว","ยังไม่ได้รับบัตร") -> รับบัตรแล้ว | K135: =data!$B135&" "&data!$C135 -> อธิคม ศานติสรร
A136: =SUM(A135,1) -> 135 | B136: นพพงศ์ | C136: รัตนชัยพรพันธ์ | D136: Nopphong | E136: Ratanachaiphornphan | F136: captainnopphong@gmail.com | G136: MG | H136: 2563 | I136: 07DAB1D3 | J136: =IF(I136<>"","รับบัตรแล้ว","ยังไม่ได้รับบัตร") -> รับบัตรแล้ว | K136: =data!$B136&" "&data!$C136 -> นพพงศ์ รัตนชัยพรพันธ์
A137: =SUM(A136,1) -> 136 | B137: เกรียงไกร | C137: คล้ายพุฒ | D137: KRIENGKRAI | E137: KLAIPUTH | F137: tomm116@gmail.com | G137: Hyundai | H137: 2563 | I137: 9A160FD3 | J137: =IF(I137<>"","รับบัตรแล้ว","ยังไม่ได้รับบัตร") -> รับบัตรแล้ว | K137: =data!$B137&" "&data!$C137 -> เกรียงไกร คล้ายพุฒ
A138: =SUM(A137,1) -> 137 | B138: ชาญศิริ | C138: กองพัฒน์พาณิชย์ | D138: Chansiri | E138: Kongpatpanich | F138: ckongpatpanich@gmail.com | G138: Volvo | H138: 2563 | I138: BB69B1D3 | J138: =IF(I138<>"","รับบัตรแล้ว","ยังไม่ได้รับบัตร") -> รับบัตรแล้ว | K138: =data!$B138&" "&data!$C138 -> ชาญศิริ กองพัฒน์พาณิชย์
A139: =SUM(A138,1) -> 138 | B139: เกษม | C139: ทิพย์ธษราจันทร์ | D139: Kasem | E139: Thiptarajan | F139: kasem@tni.ac.th | G139: MG | H139: 2563 | I139: F1F8B1D3 | J139: =IF(I139<>"","รับบัตรแล้ว","ยังไม่ได้รับบัตร") -> รับบัตรแล้ว | K139: =data!$B139&" "&data!$C139 -> เกษม ทิพย์ธษราจันทร์
A140: =SUM(A139,1) -> 139 | B140: ประสิทธิ์​ | C140: วุฒิ​ศรุต​ | D140: Prasit​ | E140: Vuttisarut​ | F140: prasitvut@gmail.com | H140: 2563 | I140: 0598B2D3 | J140: =IF(I140<>"","รับบัตรแล้ว","ยังไม่ได้รับบัตร") -> รับบัตรแล้ว | K140: =data!$B140&" "&data!$C140 -> ประสิทธิ์​ วุฒิ​ศรุต​
A141: =SUM(A140,1) -> 140 | B141: กิตต์ | C141: พัฒนเตชะ | D141: Kit | E141: Pattanathecha | F141: kit.pattanathecha@gmail.com | G141: MG | H141: 2563 | I141: 629EB1D3 | J141: =IF(I141<>"","รับบัตรแล้ว","ยังไม่ได้รับบัตร") -> รับบัตรแล้ว | K141: =data!$B141&" "&data!$C141 -> กิตต์ พัฒนเตชะ
A142: =SUM(A141,1) -> 141 | B142: เบญจวรรณ | C142: ซื่อสัตย์ | D142: Benjawan | E142: Suesat | F142: plarty701@gmail.com | G142: Nissan | H142: 2563 | I142: 249CB2D3 | J142: =IF(I142<>"","รับบัตรแล้ว","ยังไม่ได้รับบัตร") -> รับบัตรแล้ว | K142: =data!$B142&" "&data!$C142 -> เบญจวรรณ ซื่อสัตย์
A143: =SUM(A142,1) -> 142 | B143: ฉัตรชัย | C143: ศรีวายะมา | D143: Chatchai | E143: Srivayama | F143: ccdear41@gmail.com | G143: MG | H143: 2563 | I143: 9E28B2D3 | J143: =IF(I143<>"","รับบัตรแล้ว","ยังไม่ได้รับบัตร") -> รับบัตรแล้ว | K143: =data!$B143&" "&data!$C143 -> ฉัตรชัย ศรีวายะมา
A144: =SUM(A143,1) -> 143 | B144: นฤเทพ | C144: สุรภักดี | D144: Narutep | E144: Surapakdi | F144: narutep.s@gmail.com | G144: MG | H144: 2563 | I144: 37D8B1D3 | J144: =IF(I144<>"","รับบัตรแล้ว","ยังไม่ได้รับบัตร") -> รับบัตรแล้ว | K144: =data!$B144&" "&data!$C144 -> นฤเทพ สุรภักดี
A145: =SUM(A144,1) -> 144 | B145: ศิระ | C145: ลีปิพัฒนวิทย์ | D145: Sira | E145: Leepipatnavit | F145: s.leevit@gmail.com | G145: MG | H145: 2563 | I145: 2169B2D3 | J145: =IF(I145<>"","รับบัตรแล้ว","ยังไม่ได้รับบัตร") -> รับบัตรแล้ว | K145: =data!$B145&" "&data!$C145 -> ศิระ ลีปิพัฒนวิทย์
A146: =SUM(A145,1) -> 145 | B146: เสกสรรค์ | C146: สระปัญญา | D146: Seaksun | E146: Sapunya | F146: seaksun.sapunya@gmail.com | G146: MG | H146: 2563 | I146: 8989B2D3 | J146: =IF(I146<>"","รับบัตรแล้ว","ยังไม่ได้รับบัตร") -> รับบัตรแล้ว | K146: =data!$B146&" "&data!$C146 -> เสกสรรค์ สระปัญญา
A147: =SUM(A146,1) -> 146 | B147: วิทิตา | C147: บุญสร้างสม | D147: Vitita | E147: Boonsangsom | F147: vitita.th@sansuisha.com | H147: 2563 | I147: 3A53B1D3 | J147: =IF(I147<>"","รับบัตรแล้ว","ยังไม่ได้รับบัตร") -> รับบัตรแล้ว | K147: =data!$B147&" "&data!$C147 -> วิทิตา บุญสร้างสม
A148: =SUM(A147,1) -> 147 | B148: กชกร | C148: เกิดโภคา | D148: Kotchakorn | E148: Kerdpoka | F148: sale2.th@sansuisha.com | H148: 2563 | I148: B630B2D3 | J148: =IF(I148<>"","รับบัตรแล้ว","ยังไม่ได้รับบัตร") -> รับบัตรแล้ว | K148: =data!$B148&" "&data!$C148 -> กชกร เกิดโภคา
A149: =SUM(A148,1) -> 148 | B149: ภูชิต | C149: พงษ์แสร์ | D149: Phuchit | E149: Phongsare | F149: icephuchit@hotmail.com | G149: MG | H149: 2563 | I149: 17ADB1D3 | J149: =IF(I149<>"","รับบัตรแล้ว","ยังไม่ได้รับบัตร") -> รับบัตรแล้ว | K149: =data!$B149&" "&data!$C149 -> ภูชิต พงษ์แสร์
A150: =SUM(A149,1) -> 149 | B150: สุภานันท์ | C150: โกสัย | D150: Supanun | E150: kosai | F150: gluay_9630@hotmail.com | G150: BMW | H150: 2563 | I150: 321AB2D3 | J150: =IF(I150<>"","รับบัตรแล้ว","ยังไม่ได้รับบัตร") -> รับบัตรแล้ว | K150: =data!$B150&" "&data!$C150 -> สุภานันท์ โกสัย
A151: =SUM(A150,1) -> 150 | B151: ณภัทร | C151: พลอยล้อมเพชร | D151: Napat | E151: Ploylompech | F151: ebimama@hotmail.com | G151: MG | H151: 2563 | I151: 82E9B1D3 | J151: =IF(I151<>"","รับบัตรแล้ว","ยังไม่ได้รับบัตร") -> รับบัตรแล้ว | K151: =data!$B151&" "&data!$C151 -> ณภัทร พลอยล้อมเพชร
A152: =SUM(A151,1) -> 151 | B152: เกรียงศักดิ์ | C152: สุภัทรธรรมคุณ | D152: Krengsak | E152: Supatthammakoon | F152: krengsak@gmail.com | G152: MG | H152: 2563 | I152: 7EBAB1D3 | J152: =IF(I152<>"","รับบัตรแล้ว","ยังไม่ได้รับบัตร") -> รับบัตรแล้ว | K152: =data!$B152&" "&data!$C152 -> เกรียงศักดิ์ สุภัทรธรรมคุณ
A153: =SUM(A152,1) -> 152 | B153: กำพล | C153: ศรีสุขวัฒนชัย | D153: Kampoln | E153: srisukwattanachai | F153: aum_aummm357@hotmail.com | G153: MG | H153: 2563 | I153: A6B5B1D3 | J153: =IF(I153<>"","รับบัตรแล้ว","ยังไม่ได้รับบัตร") -> รับบัตรแล้ว | K153: =data!$B153&" "&data!$C153 -> กำพล ศรีสุขวัฒนชัย
A154: =SUM(A153,1) -> 153 | B154: ณัฐวุฒิ | C154: สุวรรณภูมิ | D154: Nattawut | E154: Suwannapum | F154: fitvan@gmail.com | G154: MG | H154: 2563 | I154: 758DB1D3 | J154: =IF(I154<>"","รับบัตรแล้ว","ยังไม่ได้รับบัตร") -> รับบัตรแล้ว | K154: =data!$B154&" "&data!$C154 -> ณัฐวุฒิ สุวรรณภูมิ
A155: =SUM(A154,1) -> 154 | B155: พชร | C155: แก้วเจริญ | D155: Pachara | E155: Kaocharern | F155: pacharak@me.com | G155: MG | H155: 2563 | I155: 87A9B1D3 | J155: =IF(I155<>"","รับบัตรแล้ว","ยังไม่ได้รับบัตร") -> รับบัตรแล้ว | K155: =data!$B155&" "&data!$C155 -> พชร แก้วเจริญ
A156: =SUM(A155,1) -> 155 | B156: วราภรณ์ | C156: ศรีสุขวัฒนชัย | D156: Waraporn | E156: Srisukwattanachai | F156: atommm14@gmail.com | G156: MG | H156: 2563 | I156: D550B2D3 | J156: =IF(I156<>"","รับบัตรแล้ว","ยังไม่ได้รับบัตร") -> รับบัตรแล้ว | K156: =data!$B156&" "&data!$C156 -> วราภรณ์ ศรีสุขวัฒนชัย
A157: =SUM(A156,1) -> 156 | B157: สุรชิต | C157: วณิชย์วรนันต์ | D157: Surachit | E157: Wanitworanan | F157: infinitysynergies@gmail.com | G157: MG | H157: 2563 | I157: 1EA0B1D3 | J157: =IF(I157<>"","รับบัตรแล้ว","ยังไม่ได้รับบัตร") -> รับบัตรแล้ว | K157: =data!$B157&" "&data!$C157 -> สุรชิต วณิชย์วรนันต์
A158: =SUM(A157,1) -> 157 | B158: สุขิน | C158: ธรรมมงคลชัย | D158: Suchin | E158: Thammongkolchai | F158: suchintham@hotmail.com | H158: 2563 | I158: DAE9B1D3 | J158: =IF(I158<>"","รับบัตรแล้ว","ยังไม่ได้รับบัตร") -> รับบัตรแล้ว | K158: =data!$B158&" "&data!$C158 -> สุขิน ธรรมมงคลชัย
A159: =SUM(A158,1) -> 158 | B159: อาคม | C159: รุ่งโรจน์สารทิศ | D159: Arkom | E159: Rungrojsaratis | F159: pangyjungjing@hotmail.com | G159: MG | H159: 2563 | I159: 595DB2D3 | J159: =IF(I159<>"","รับบัตรแล้ว","ยังไม่ได้รับบัตร") -> รับบัตรแล้ว | K159: =data!$B159&" "&data!$C159 -> อาคม รุ่งโรจน์สารทิศ
A160: =SUM(A159,1) -> 159 | B160: บัณฑร | C160: แสงศรี | D160: Banthorn | E160: Sangsri | F160: banthorns@gmail.com | G160: MG | H160: 2563 | I160: 6540B1D3 | J160: =IF(I160<>"","รับบัตรแล้ว","ยังไม่ได้รับบัตร") -> รับบัตรแล้ว | K160: =data!$B160&" "&data!$C160 -> บัณฑร แสงศรี
A161: =SUM(A160,1) -> 160 | B161: นราธิป | C161: ฟักฤกษ์ | D161: Naratip | E161: Fakroek | F161: naratipf@hotmail.com | G161: MG | H161: 2563 | I161: 3BF9B1D3 | J161: =IF(I161<>"","รับบัตรแล้ว","ยังไม่ได้รับบัตร") -> รับบัตรแล้ว | K161: =data!$B161&" "&data!$C161 -> นราธิป ฟักฤกษ์
...

Sheet Energy
A1: id | B1: Location | C1: Charge Station Name | D1: Energy(kWh) | E1: EV Driver
A2: 1 | B2: EGAT Cha Na Power Plant | C2: EGAT QC90-04232 | D2: 0 | E2: Jittawat.w@egat.co.th
A3: 2 | B3: EGAT Cha Na Power Plant | C3: EGAT QC90-04232 | D3: 7.79 | E3: Jittawat.w@egat.co.th
A4: 3 | B4: EGAT Cha Na Power Plant | C4: EGAT PM7-08234 | D4: 3.99 | E4: Jittawat.w@egat.co.th
A5: 4 | B5: EGAT Cha Na Power Plant | C5: EGAT PM7-08234 | D5: 0 | E5: Jittawat.w@egat.co.th
A6: 5 | B6: EGAT Cha Na Power Plant | C6: EGAT QC90-04232 | D6: 26.15 | E6: Jittawat.w@egat.co.th
A7: 6 | B7: EGAT Cha Na Power Plant | C7: EGAT QC90-04232 | D7: 21.39 | E7: Jittawat.w@egat.co.th
A8: 7 | B8: EGAT Cha Na Power Plant | C8: EGAT QC90-04232 | D8: 21.21 | E8: Jittawat.w@egat.co.th
A9: 8 | B9: EGAT Cha Na Power Plant | C9: EGAT QC90-04232 | D9: 48.71 | E9: Jittawat.w@egat.co.th
A10: 9 | B10: EGAT Cha Na Power Plant | C10: EGAT QC90-04232 | D10: 53.52 | E10: Jittawat.w@egat.co.th
A11: 10 | B11: EGAT Cha Na Power Plant | C11: EGAT QC90-04232 | D11: 27.04 | E11: Jittawat.w@egat.co.th
A12: 11 | B12: EGAT Cha Na Power Plant | C12: EGAT QC90-04232 | D12: 18.5 | E12: Jittawat.w@egat.co.th
A13: 12 | B13: EGAT Cha Na Power Plant | C13: EGAT QC90-04232 | D13: 5.9 | E13: Jittawat.w@egat.co.th
... A1378: 1377 | B1378: EGAT Wang Noi Power Plant | C1378: EGAT PM7-08237 | D1378: 0.7 | E1378: prasitvut@gmail.com

Sheet tabel_persona
A1: ลำดับที่ | B1: ชื่อ(ไทย) | C1: นามสกุล(ไทย) | D1: ชื่อ(ENG) | E1: นามสกุล(ENG) | F1: email | G1: ยี่ห้อรถยนต์ไฟฟ้า | H1: ปีที่ลง ทะเบียนบัตร | I1: EGAT EV Card | J1: สถานะบัตร รับบัตรแล้ว/ยังไม่ได้รับบัตร | K1: ชื่อสกุล
A2: 1 | B2: พิสิทธิ์ | C2: จันทรเสรีกุล | D2: Pisit | E2: Chantarasereekul | F2: pisit@krungthai.co.th | G2: Porshe | H2: 2563 | I2: EB664EAB | J2: รับบัตรแล้ว | K2: พิสิทธิ์ จันทรเสรีกุล
A3: 2 | B3: สมเกียรติ | C3: ทรงศิริ | D3: Somkiat | E3: Songsiri | F3: ssongsiri@hotmail.com | G3: Mercedes-Benz | H3: 2563 | I3: 2A504EAB | J3: รับบัตรแล้ว | K3: สมเกียรติ ทรงศิริ
A4: 3 | B4: เชษฐพงษ์ | C4: วงศ์วรเชษฐ์ | D4: Chadthapong | E4: Wongworachate | F4: Pongnijot@yahoo.com | G4: Volvo | H4: 2563 | I4: C70A4FAB | J4: รับบัตรแล้ว | K4: เชษฐพงษ์ วงศ์วรเชษฐ์
A5: 4 | B5: วาสิน | C5: พิชญสถิต | D5: Wasin | E5: Pichayasathit | F5: wasin.pich@gmail.com | G5: Nissan | H5: 2563 | I5: 4C094EAB | J5: รับบัตรแล้ว | K5: วาสิน พิชญสถิต
A6: 5 | B6: ไพรินทร์ | C6: วัฒนารมย์ | D6: Pairin | E6: watanarom | F6: pairin.mce@gmail.com | G6: Volvo | H6: 2563 | I6: 27154FAB | J6: รับบัตรแล้ว | K6: ไพรินทร์ วัฒนารมย์
A7: 6 | B7: ทรงยศ | C7: กิจประเสริฐ | D7: Songyos | E7: Kitprasert | F7: petropackaging@hotmail.com | G7: Mercedes-Benz | H7: 2563 | I7: ACDB4EAB | J7: รับบัตรแล้ว | K7: ทรงยศ กิจประเสริฐ
A8: 7 | B8: กิติยา | C8: เหล่าเศรษฐานันท์ | D8: Kitiya | E8: Laosettanun | F8: kitiya.laosettanun@gmail.com | G8: Mercedes-Benz | H8: 2563 | I8: E1514EAB | J8: รับบัตรแล้ว | K8: กิติยา เหล่าเศรษฐานันท์
A9: 8 | B9: สุภาภรณ์ | C9: ​แสงตระกูล​เจริญ​ | D9: Supaporn | E9: Saengtrakulcharoen | F9: supaporn@aether-energy.co.th | G9: BMW | H9: 2563 | I9: BC734EAB | J9: รับบัตรแล้ว | K9: สุภาภรณ์ ​แสงตระกูล​เจริญ​
A10: 9 | B10: ธนิตศักดิ์ | C10: รังคะวรเศรษฐ์ | D10: Thanitsak | E10: Rangkaworasate | F10: big.fox1@gmail.com | G10: Nissan | H10: 2563 | I10: 94334EAB | J10: รับบัตรแล้ว | K10: ธนิตศักดิ์ รังคะวรเศรษฐ์
A11: 10 | B11: อาริยทัศน์ | C11: ศุทธชัย | D11: Ariyatas | E11: Sutthachai | F11: ariyatas@hotmail.com | G11: Mercedes-Benz | H11: 2563 | I11: A4344FAB | J11: รับบัตรแล้ว | K11: อาริยทัศน์ ศุทธชัย
A12: 11 | B12: ณรัตน์ไชย | C12: หลีระพันธ์ | D12: Narratchai | E12: Leeraphante | F12: narratchai@Polytech.co.th | G12: BMW | H12: 2563 | I12: 2A9FFE63 | J12: รับบัตรแล้ว | K12: ณรัตน์ไชย หลีระพันธ์
A13: 12 | B13: คริษฐ์ | C13: เปรมประเสริฐ | D13: KRITS | E13: PREMPRASERT | F13: prin_onepoint@hotmail.com | G13: BMW | H13: 2563 | I13: E4D7FF63 | J13: รับบัตรแล้ว | K13: คริษฐ์ เปรมประเสริฐ
... A64: 63 | B64: วิทยา | C64: ประทีปกาญจนา | D64: Vittaya | E64: prateepkanjana | F64: pratee@hotmail.com | G64: Mercedes-Benz | H64: 2563 | I64: 7E337633 | J64: รับบัตรแล้ว | K64: วิทยา ประทีปกาญจนา
A65: 64 | B65: ชาญชัย | C65: ไชยเลิศ | D65: Chanchai | E65: Chailert | F65: cchailert@hotmail.com | G65: Mercedes-Benz | H65: 2563 | I65: 85527633 | J65: รับบัตรแล้ว | K65: ชาญชัย ไชยเลิศ
A66: 65 | B66: รัชต์ | C66: ตันติกุล | D66: Ratchata | E66: Tontikul | F66: ratchata_t@hotmail.com | G66: Mercedes-Benz | H66: 2563 | I66: 19307733 | J66: รับบัตรแล้ว | K66: รัชต์ ตันติกุล
A67: 66 | B67: บุรินทร์ | C67: โอภาสเศรษฐกุล | D67: Burint | E67: Opassetthakul | F67: burint_o@yahoo.com | G67: BMW | H67: 2563 | I67: B232D21A | J67: รับบัตรแล้ว | K67: บุรินทร์ โอภาสเศรษฐกุล
A68: 67 | B68: พาศักดิ์ | C68: เสนาวงษ์ | D68: Pasak | E68: Senawongse | F68: mrpasak@yahoo.com | G68: BMW | H68: 2563 | I68: 29927633 | J68: รับบัตรแล้ว | K68: พาศักดิ์ เสนาวงษ์
A69: 68 | B69: ชัยชรัตน์ | C69: อดิจารุพันธุ์ | D69: Chaicharat | E69: Adhijarruphan | F69: svgrid@gmail.com | G69: BYD | H69: 2563 | I69: F5C17633 | J69: รับบัตรแล้ว | K69: ชัยชรัตน์ อดิจารุพันธุ์
A70: 69 | B70: วัชรชัย | C70: วรรณสิทธิ์ | D70: Watcharachai | E70: Wannasit | F70: nat@smilehost.asia | G70: Mercedes-Benz | H70: 2563 | I70: 1E3B7733 | J70: รับบัตรแล้ว | K70: วัชรชัย วรรณสิทธิ์
A71: 70 | B71: ธนารักษ์ | C71: แสงรัตน์วัชรา | D71: Tanalux | E71: Sangratwatchara | F71: tanalux2011@hotmail.com | G71: BMW | H71: 2563 | I71: 82D07633 | J71: รับบัตรแล้ว | K71: ธนารักษ์ แสงรัตน์วัชรา
A72: 71 | B72: ชัยวัฒน์ | C72: ชลชาญ | D72: Chaiwat | E72: Chonchan | F72: chaiwat@erc.or.th | G72: MG | H72: 2563 | I72: EB5A7633 | J72: รับบัตรแล้ว | K72: ชัยวัฒน์ ชลชาญ
A73: 72 | B73: สกลวิช | C73: ธัญญกิตติกุล | D73: Sakonwit | E73: Thunyakittikul | F73: iljp55@hotmail.com | G73: Hyundai | H73: 2563 | I73: DDF37633 | J73: รับบัตรแล้ว | K73: สกลวิช ธัญญกิตติกุล
A74: 73 | B74: สุวิทย์ | C74: อรรถจารุสิทธิ์ | D74: Suwit | E74: Attajarusit | F74: korn9976@hotmail.com | G74: Mercedes-Benz | H74: 2563 | I74: 6A707733 | J74: รับบัตรแล้ว | K74: สุวิทย์ อรรถจารุสิทธิ์
A75: 74 | B75: สุภณัฐ | C75: บุญยิ่งสถิตย์ | D75: Supanut | E75: Boonyingsathit | F75: supanut_b@hotmail.com | G75: BMW | H75: 2563 | I75: 9A577633 | J75: รับบัตรแล้ว | K75: สุภณัฐ บุญยิ่งสถิตย์
A76: 75 | B76: ดานัย | C76: นิ่มนวล | D76: Danai | E76: Nimnaun | F76: danai999@hotmail.com | G76: รถมอเตอร์ไซค์ไฟฟ้า | H76: 2563 | I76: CE76B2D3 | J76: รับบัตรแล้ว | K76: ดานัย นิ่มนวล
A77: 76 | B77: ภาณุทัต | C77: สัชฌะไชย | D77: Panutat | E77: Satchachai | F77: panutat.satchachai@gmail.com | G77: Mercedes-Benz | H77: 2563 | I77: 2066B1D3 | J77: รับบัตรแล้ว | K77: ภาณุทัต สัชฌะไชย
A78: 77 | B78: สฤษศักดิ์ | C78: ปดิฐพร | D78: Saritsak | E78: Paditporn | F78: zaritsak@hotmail.com | G78: BMW | H78: 2563 | I78: 750F7733 | J78: รับบัตรแล้ว | K78: สฤษศักดิ์ ปดิฐพร
... A80: 79 | B80: จักรกฤษณ์ | C80: เวศย์วรุตม์ | D80: Chackrit | E80: Vesvarut | F80: huat99@me.com | G80: BYD | H80: 2563 | I80: A5627633 | J80: รับบัตรแล้ว | K80: จักรกฤษณ์ เวศย์วรุตม์
A81: 80 | B81: วีรพล | C81: ยิ้มสินสมบูรณ์ | D81: Veerapol | E81: Yimsinsomboon | F81: veerapol@blpower.co.th | G81: BMW | H81: 2563 | I81: 42517733 | J81: รับบัตรแล้ว | K81: วีรพล ยิ้มสินสมบูรณ์
A82: 81 | B82: ณรงค์ฤทธิ์ | C82: ชัยอนุชิตตระกูล | D82: Narongrit | E82: Chaianuchittrakul | F82: lhong_99@hotmail.com | G82: Mercedes-Benz | H82: 2563 | I82: 15FF7533 | J82: รับบัตรแล้ว | K82: ณรงค์ฤทธิ์ ชัยอนุชิตตระกูล
A83: 82 | B83: สมศักดิ์ | C83: สืบสาย | D83: Somsak | E83: Seubsai | F83: seubsaipost@gmail.com | G83: BMW | H83: 2563 | I83: 962E7633 | J83: รับบัตรแล้ว | K83: สมศักดิ์ สืบสาย
A84: 83 | B84: ศุภโชติ | C84: วังจินดา | D84: SUPACHOT | E84: WANGCHINDA | F84: supachot@hotmail.com | G84: Hyundai | H84: 2563 | I84: 95DF7633 | J84: รับบัตรแล้ว | K84: ศุภโชติ วังจินดา
A85: 84 | B85: นิธิวรรสน์ | C85: หลินภัทรชัย | D85: Nitiwass | E85: Linphatrachai | F85: nicesiamguy@gmail.com | G85: BMW | H85: 2563 | I85: AE457633 | J85: รับบัตรแล้ว | K85: นิธิวรรสน์ หลินภัทรชัย
A86: 85 | B86: วรวงษ์ | C86: อภิรักษ์ภูบาล | D86: worawong | E86: apirukpubal | F86: playboy77_7@hotmail.com | G86: BMW | H86: 2563 | I86: E559B1D3 | J86: รับบัตรแล้ว | K86: วรวงษ์ อภิรักษ์ภูบาล
A87: 86 | B87: โสฬส | C87: ชูเวทย์ | D87: Solos | E87: Chuwet | F87: solosnan@hotmail.com | G87: Mercedes-Benz | H87: 2563 | I87: 0505B2D3 | J87: รับบัตรแล้ว | K87: โสฬส ชูเวทย์
A88: 87 | B88: ธวัชชัย | C88: วงศ์กริช | D88: Tawatchai | E88: Wongkritch | F88: tcsercom@gmail.com | G88: Hyundai | H88: 2563 | I88: 8D3B7633 | J88: รับบัตรแล้ว | K88: ธวัชชัย วงศ์กริช
A89: 88 | B89: สุรชัย | C89: ศิริไพศาลโสภา | D89: Surachai | E89: Siripaisalsopa | F89: surachais@newtonmotor.com | G89: Nissan | H89: 2563 | I89: C9387633 | J89: รับบัตรแล้ว | K89: สุรชัย ศิริไพศาลโสภา
A90: 89 | B90: กิตติ​พงษ์​ | C90: ริม​ชัย​สิทธิ์​ | D90: Kittipong​ | E90: Rimchaisith | F90: ho.perpax@gmail.com | G90: Nissan | H90: 2563 | I90: 0A527733 | J90: รับบัตรแล้ว | K90: กิตติ​พงษ์​ ริม​ชัย​สิทธิ์​
A91: 90 | B91: นนท์ปวิธ | C91: แสงเทียนประไพ | D91: Nonpawit | E91: Sangtianprapai | F91: nonpawit@gmail.com | G91: Hyundai | H91: 2563 | I91: 54C1B1D3 | J91: รับบัตรแล้ว | K91: นนท์ปวิธ แสงเทียนประไพ
A92: 91 | B92: ธนวิน | C92: จงเจตน์ดี | D92: Thanawin | E92: Jongjetdee | F92: chaleejongjetdee@gmail.com | G92: BYD | H92: 2563 | I92: 346F7733 | J92: รับบัตรแล้ว | K92: ธนวิน จงเจตน์ดี
A93: 92 | B93: วโรดม | C93: บุญทวี | D93: Warodom | E93: Boontawee | F93: warodom.b@evsociety.co.th | G93: BYD | H93: 2563 | I93: 26DCB1D3 | J93: รับบัตรแล้ว | K93: วโรดม บุญทวี
... A95: 94 | B95: อุษณีย์ | C95: คงชาญศิริ | D95: Usanee | E95: Kongchansiri | F95: beelively22@gmail.com | G95: MG | H95: 2563 | I95: FA327633 | J95: รับบัตรแล้ว | K95: อุษณีย์ คงชาญศิริ
A96: 95 | B96: ประสิทธิ์​ | C96: วุฒิ​ศรุต​ | D96: Prasit | E96: Vuttisarut | F96: prasitvut@gmail.com | G96: MG | H96: 2563 | I96: 59247633 | J96: รับบัตรแล้ว | K96: ประสิทธิ์​ วุฒิ​ศรุต​
A97: 96 | B97: ธนิต | C97: วุฒิศรุต | D97: TANIT | E97: VUTTISARUT | F97: tonn1111@hotmail.com | G97: MG | H97: 2563 | I97: 1CEA7633 | J97: รับบัตรแล้ว | K97: ธนิต วุฒิศรุต
A98: 97 | B98: ทรงปกิต | C98: แก้วนิยมพาณิชย์ | D98: Songpakit | E98: Kaewniyompanit | F98: songpakit@hotmail.com | G98: MG | H98: 2563 | I98: 02F27633 | J98: รับบัตรแล้ว | K98: ทรงปกิต แก้วนิยมพาณิชย์
A99: 98 | B99: วรพันธุ์ | C99: อธิคมไตรรัตน์ | D99: Woraphan | E99: Atikomtrirat | F99: woraphan@atikomtrirat.com | G99: Mercedes-Benz | H99: 2563 | I99: 51AF7633 | J99: รับบัตรแล้ว | K99: วรพันธุ์ อธิคมไตรรัตน์
A100: 99 | B100: จุฑาทิพย์ | C100: ศรีมงคลชัย | D100: juthathip | E100: srimongkolchai | F100: anneconnection@outlook.com | G100: Hyundai | H100: 2563 | I100: AE9FB1D3 | J100: รับบัตรแล้ว | K100: จุฑาทิพย์ ศรีมงคลชัย
A101: 100 | B101: ธีรวิทย์ | C101: ฉายภมร | D101: Teeravit | E101: chaipamorn | F101: nov152@gmail.com | G101: Volvo | H101: 2563 | I101: 64E1FE63 | J101: รับบัตรแล้ว | K101: ธีรวิทย์ ฉายภมร
A102: 101 | B102: สิทธิสิน | C102: ปิยะอารมณ์รัตน์ | D102: Sittisin | E102: Piyaromrat | F102: sittisin@gmail.com | G102: MG | H102: 2563 | I102: F0FD0ED3 | J102: รับบัตรแล้ว | K102: สิทธิสิน ปิยะอารมณ์รัตน์
A103: 102 | B103: ธนันต์ | C103: สัตตะรุจาวงษ์ | D103: Tanun | E103: Sattarujawong | F103: tanun@live.com | G103: MG | H103: 2563 | I103: 799AFE63 | J103: รับบัตรแล้ว | K103: ธนันต์ สัตตะรุจาวงษ์
A104: 103 | B104: พงศ์วิทิต | C104: ธัญญกิตติกุล | D104: Phongwithit | E104: Thunyakittikul | F104: phongwithitt@hotmail.com | G104: MG | H104: 2563 | I104: 9718FF63 | J104: รับบัตรแล้ว | K104: พงศ์วิทิต ธัญญกิตติกุล
A105: 104 | B105: สมบัติ | C105: ทองเมฆ | D105: SOMBAT | E105: THONGMEK | F105: sthongmek@gmail.com | G105: MG | H105: 2563 | I105: 3BA1FE63 | J105: รับบัตรแล้ว | K105: สมบัติ ทองเมฆ
A106: 105 | B106: นิติกร | C106: ศรีอุทธา | D106: Nitikorn | E106: SriUttha | F106: nitkz@hotmail.com | G106: MG | H106: 2563 | I106: C7B2FF63 | J106: รับบัตรแล้ว | K106: นิติกร ศรีอุทธา
A107: 106 | B107: สุรศักดิ์ | C107: โกมลเมธา | D107: SURASAK | E107: KOMOLMATHA | F107: progsmtool@gmail.com | G107: MG | H107: 2563 | I107: 7B01FF63 | J107: รับบัตรแล้ว | K107: สุรศักดิ์ โกมลเมธา
A108: 107 | B108: ภูรินท์ | C108: คุรุรัตน์ | D108: Purin | E108: Gururatana | F108: guchuaub@hotmail.com | G108: MG | H108: 2563 | I108: E272FF63 | J108: รับบัตรแล้ว | K108: ภูรินท์ คุรุรัตน์
... A118: 117 | B118: กุลณรินทร์ | C118: เถกิงกร | D118: kunnarin | E118: takoengkorn | F118: nisaratyamdee.y@gmail.com | G118: MGZSEV | H118: 2563 | I118: 74FB0ED3 | J118: รับบัตรแล้ว | K118: กุลณรินทร์ เถกิงกร
A119: 118 | B119: ชัยสิทธิ์ | C119: รัตนเกียรติชัย | D119: Chaiyasith | E119: Ratanakiatichai | F119: numchai2507@gmail.com | H119: 2563 | I119: 8A870FD3 | J119: รับบัตรแล้ว | K119: ชัยสิทธิ์ รัตนเกียรติชัย
A120: 119 | B120: พันธุ์สยาม | C120: ห้วยแก้ว | D120: Phansayam | E120: Huaykaew | F120: phansayam@gmail.com | G120: MG | H120: 2563 | I120: 3CB60ED3 | J120: รับบัตรแล้ว | K120: พันธุ์สยาม ห้วยแก้ว
A121: 120 | B121: พีร์ | C121: ณลำพูน | D121: Phee | E121: NaLamphun | F121: p_tum@hotmail.com | G121: MG | H121: 2563 | I121: 57610FD3 | J121: รับบัตรแล้ว | K121: พีร์ ณลำพูน
A122: 121 | B122: ชายธีร์​ | C122: ตันธรรศกุล | D122: Chaitee | E122: Tandhanskul | F122: c.tandhanskul@gmail.com | G122: Volvo | H122: 2563 | I122: 12790ED3 | J122: รับบัตรแล้ว | K122: ชายธีร์​ ตันธรรศกุล
A123: 122 | B123: กีรติ | C123: นิติโชติ | D123: Kirati | E123: Nitichote | F123: kiratini@hotmail.com | G123: MG | H123: 2563 | I123: 6491B2D3 | J123: รับบัตรแล้ว | K123: กีรติ นิติโชติ
A124: 123 | B124: ศิระ | C124: ลีปิพัฒนวิทย์ | D124: Sira | E124: Leepipatnavit | F124: s.leevit@gmail.com | H124: 2563 | I124: EAAC0ED3 | J124: รับบัตรแล้ว | K124: ศิระ ลีปิพัฒนวิทย์
A125: 124 | B125: วาชินี​ | C125: อาศิรพงษ์พร | D125: Wachinee​ | E125: Arsirapongporn​ | F125: littlecyberpig@gmail.com | H125: 2563 | I125: 95B00FD3 | J125: รับบัตรแล้ว | K125: วาชินี​ อาศิรพงษ์พร
A126: 125 | B126: ชวินทร์ | C126: ศรีสดใส | D126: chawin | E126: srisodsai | F126: winmon1@gmail.com | G126: MG | H126: 2563 | I126: B7510FD3 | J126: รับบัตรแล้ว | K126: ชวินทร์ ศรีสดใส
A127: 126 | B127: ณรงค์ฤทธิ์ | C127: คูณสวัสดิ์ | D127: Narongrit | E127: Koonsawas | F127: hd_sat@hotmail.com | G127: Hyundai | H127: 2563 | I127: B1FCFE63 | J127: รับบัตรแล้ว | K127: ณรงค์ฤทธิ์ คูณสวัสดิ์
A128: 127 | B128: ธรรศพงศ์ | C128: สิริโชติวรกุล | D128: THASPONG | E128: SIRICHOTWORAGUL | F128: thaspong@hotmail.co.th | G128: FOMM | H128: 2563 | I128: 3CB1FF63 | J128: รับบัตรแล้ว | K128: ธรรศพงศ์ สิริโชติวรกุล
A129: 128 | B129: กรณ์พงศ์ | C129: สิทธิโชติวราสกุล | D129: Gornpong | E129: Sithichotwarasagul | F129: gornphong.s@gmail.com | G129: FOMM | H129: 2563 | I129: 3A80B1D3 | J129: รับบัตรแล้ว | K129: กรณ์พงศ์ สิทธิโชติวราสกุล
A130: 129 | B130: ปิยะ | C130: ศุขใจ | D130: Piya | E130: Sookjai | F130: piyas.724insure@gmail.com | G130: MG | H130: 2563 | I130: C584B2D3 | J130: รับบัตรแล้ว | K130: ปิยะ ศุขใจ
A131: 130 | B131: ภูมิพัฒน์ | C131: สัจพรพจนารถ | D131: Phoompat | E131: Satjapornpotjanart | F131: palmacist@hotmail.com | G131: MG | H131: 2563 | I131: 96EDB1D3 | J131: รับบัตรแล้ว | K131: ภูมิพัฒน์ สัจพรพจนารถ
A132: 131 | B132: พิชา | C132: ศรพรหม | D132: PICHA | E132: SORNPROM | F132: arm_picha@hotmail.com | G132: MG | H132: 2563 | I132: 8685B2D3 | J132: รับบัตรแล้ว | K132: พิชา ศรพรหม
A133: 132 | B133: ภาณุเดชา | C133: เจริยชยวัน | D133: PANUDECHA | E133: JAROENCHAYAWAN | F133: panudecha@yahoo.co.th | H133: 2563 | I133: 19787633 | J133: รับบัตรแล้ว | K133: ภาณุเดชา เจริยชยวัน
A134: 133 | B134: ศุภสิทธิ์ | C134: บุณยะตุลานนท์ | D134: Supasit | E134: Boonyatulanont | F134: igolfy@yahoo.com | G134: MG | H134: 2563 | I134: C9BEB1D3 | J134: รับบัตรแล้ว | K134: ศุภสิทธิ์ บุณยะตุลานนท์
A135: 134 | B135: อธิคม | C135: ศานติสรร | D135: Atikom | E135: Santisan | F135: atikom.santisan@gmail.com | G135: MG | H135: 2563 | I135: 4D4C7733 | J135: รับบัตรแล้ว | K135: อธิคม ศานติสรร
A136: 135 | B136: นพพงศ์ | C136: รัตนชัยพรพันธ์ | D136: Nopphong | E136: Ratanachaiphornphan | F136: captainnopphong@gmail.com | G136: MG | H136: 2563 | I136: 07DAB1D3 | J136: รับบัตรแล้ว | K136: นพพงศ์ รัตนชัยพรพันธ์
A137: 136 | B137: เกรียงไกร | C137: คล้ายพุฒ | D137: KRIENGKRAI | E137: KLAIPUTH | F137: tomm116@gmail.com | G137: Hyundai | H137: 2563 | I137: 9A160FD3 | J137: รับบัตรแล้ว | K137: เกรียงไกร คล้ายพุฒ
A138: 137 | B138: ชาญศิริ | C138: กองพัฒน์พาณิชย์ | D138: Chansiri | E138: Kongpatpanich | F138: ckongpatpanich@gmail.com | G138: Volvo | H138: 2563 | I138: BB69B1D3 | J138: รับบัตรแล้ว | K138: ชาญศิริ กองพัฒน์พาณิชย์
A139: 138 | B139: เกษม | C139: ทิพย์ธษราจันทร์ | D139: Kasem | E139: Thiptarajan | F139: kasem@tni.ac.th | G139: MG | H139: 2563 | I139: F1F8B1D3 | J139: รับบัตรแล้ว | K139: เกษม ทิพย์ธษราจันทร์
A140: 139 | B140: ประสิทธิ์​ | C140: วุฒิ​ศรุต​ | D140: Prasit​ | E140: Vuttisarut​ | F140: prasitvut@gmail.com | H140: 2563 | I140: 0598B2D3 | J140: รับบัตรแล้ว | K140: ประสิทธิ์​ วุฒิ​ศรุต​
A141: 140 | B141: กิตต์ | C141: พัฒนเตชะ | D141: Kit | E141: Pattanathecha | F141: kit.pattanathecha@gmail.com | G141: MG | H141: 2563 | I141: 629EB1D3 | J141: รับบัตรแล้ว | K141: กิตต์ พัฒนเตชะ
A142: 141 | B142: เบญจวรรณ | C142: ซื่อสัตย์ | D142: Benjawan | E142: Suesat | F142: plarty701@gmail.com | G142: Nissan | H142: 2563 | I142: 249CB2D3 | J142: รับบัตรแล้ว | K142: เบญจวรรณ ซื่อสัตย์
A143: 142 | B143: ฉัตรชัย | C143: ศรีวายะมา | D143: Chatchai | E143: Srivayama | F143: ccdear41@gmail.com | G143: MG | H143: 2563 | I143: 9E28B2D3 | J143: รับบัตรแล้ว | K143: ฉัตรชัย ศรีวายะมา
A144: 143 | B144: นฤเทพ | C144: สุรภักดี | D144: Narutep | E144: Surapakdi | F144: narutep.s@gmail.com | G144: MG | H144: 2563 | I144: 37D8B1D3 | J144: รับบัตรแล้ว | K144: นฤเทพ สุรภักดี
A145: 144 | B145: ศิระ | C145: ลีปิพัฒนวิทย์ | D145: Sira | E145: Leepipatnavit | F145: s.leevit@gmail.com | G145: MG | H145: 2563 | I145: 2169B2D3 | J145: รับบัตรแล้ว | K145: ศิระ ลีปิพัฒนวิทย์
A146: 145 | B146: เสกสรรค์ | C146: สระปัญญา | D146: Seaksun | E146: Sapunya | F146: seaksun.sapunya@gmail.com | G146: MG | H146: 2563 | I146: 8989B2D3 | J146: รับบัตรแล้ว | K146: เสกสรรค์ สระปัญญา
A147: 146 | B147: วิทิตา | C147: บุญสร้างสม | D147: Vitita | E147: Boonsangsom | F147: vitita.th@sansuisha.com | H147: 2563 | I147: 3A53B1D3 | J147: รับบัตรแล้ว | K147: วิทิตา บุญสร้างสม
A148: 147 | B148: กชกร | C148: เกิดโภคา | D148: Kotchakorn | E148: Kerdpoka | F148: sale2.th@sansuisha.com | H148: 2563 | I148: B630B2D3 | J148: รับบัตรแล้ว | K148: กชกร เกิดโภคา
A149: 148 | B149: ภูชิต | C149: พงษ์แสร์ | D149: Phuchit | E149: Phongsare | F149: icephuchit@hotmail.com | G149: MG | H149: 2563 | I149: 17ADB1D3 | J149: รับบัตรแล้ว | K149: ภูชิต พงษ์แสร์
A150: 149 | B150: สุภานันท์ | C150: โกสัย | D150: Supanun | E150: kosai | F150: gluay_9630@hotmail.com | G150: BMW | H150: 2563 | I150: 321AB2D3 | J150: รับบัตรแล้ว | K150: สุภานันท์ โกสัย
A151: 150 | B151: ณภัทร | C151: พลอยล้อมเพชร | D151: Napat | E151: Ploylompech | F151: ebimama@hotmail.com | G151: MG | H151: 2563 | I151: 82E9B1D3 | J151: รับบัตรแล้ว | K151: ณภัทร พลอยล้อมเพชร
A152: 151 | B152: เกรียงศักดิ์ | C152: สุภัทรธรรมคุณ | D152: Krengsak | E152: Supatthammakoon | F152: krengsak@gmail.com | G152: MG | H152: 2563 | I152: 7EBAB1D3 | J152: รับบัตรแล้ว | K152: เกรียงศักดิ์ สุภัทรธรรมคุณ
A153: 152 | B153: กำพล | C153: ศรีสุขวัฒนชัย | D153: Kampoln | E153: srisukwattanachai | F153: aum_aummm357@hotmail.com | G153: MG | H153: 2563 | I153: A6B5B1D3 | J153: รับบัตรแล้ว | K153: กำพล ศรีสุขวัฒนชัย
A154: 153 | B154: ณัฐวุฒิ | C154: สุวรรณภูมิ | D154: Nattawut | E154: Suwannapum | F154: fitvan@gmail.com | G154: MG | H154: 2563 | I154: 758DB1D3 | J154: รับบัตรแล้ว | K154: ณัฐวุฒิ สุวรรณภูมิ
A155: 154 | B155: พชร | C155: แก้วเจริญ | D155: Pachara | E155: Kaocharern | F155: pacharak@me.com | G155: MG | H155: 2563 | I155: 87A9B1D3 | J155: รับบัตรแล้ว | K155: พชร แก้วเจริญ
A156: 155 | B156: วราภรณ์ | C156: ศรีสุขวัฒนชัย | D156: Waraporn | E156: Srisukwattanachai | F156: atommm14@gmail.com | G156: MG | H156: 2563 | I156: D550B2D3 | J156: รับบัตรแล้ว | K156: วราภรณ์ ศรีสุขวัฒนชัย
A157: 156 | B157: สุรชิต | C157: วณิชย์วรนันต์ | D157: Surachit | E157: Wanitworanan | F157: infinitysynergies@gmail.com | G157: MG | H157: 2563 | I157: 1EA0B1D3 | J157: รับบัตรแล้ว | K157: สุรชิต วณิชย์วรนันต์
A158: 157 | B158: สุขิน | C158: ธรรมมงคลชัย | D158: Suchin | E158: Thammongkolchai | F158: suchintham@hotmail.com | H158: 2563 | I158: DAE9B1D3 | J158: รับบัตรแล้ว | K158: สุขิน ธรรมมงคลชัย
A159: 158 | B159: อาคม | C159: รุ่งโรจน์สารทิศ | D159: Arkom | E159: Rungrojsaratis | F159: pangyjungjing@hotmail.com | G159: MG | H159: 2563 | I159: 595DB2D3 | J159: รับบัตรแล้ว | K159: อาคม รุ่งโรจน์สารทิศ
A160: 159 | B160: บัณฑร | C160: แสงศรี | D160: Banthorn | E160: Sangsri | F160: banthorns@gmail.com | G160: MG | H160: 2563 | I160: 6540B1D3 | J160: รับบัตรแล้ว | K160: บัณฑร แสงศรี
A161: 160 | B161: นราธิป | C161: ฟักฤกษ์ | D161: Naratip | E161: Fakroek | F161: naratipf@hotmail.com | G161: MG | H161: 2563 | I161: 3BF9B1D3 | J161: รับบัตรแล้ว | K161: นราธิป ฟักฤกษ์
...

Sheet tabel_energy
A1: id | B1: Location | C1: Charge Station Name | D1: Energy(kWh) | E1: EV Driver
A2: 1 | B2: EGAT Cha Na Power Plant | C2: EGAT QC90-04232 | D2: 0 | E2: Jittawat.w@egat.co.th
A3: 2 | B3: EGAT Cha Na Power Plant | C3: EGAT QC90-04232 | D3: 7.79 | E3: Jittawat.w@egat.co.th
A4: 3 | B4: EGAT Cha Na Power Plant | C4: EGAT PM7-08234 | D4: 3.99 | E4: Jittawat.w@egat.co.th
A5: 4 | B5: EGAT Cha Na Power Plant | C5: EGAT PM7-08234 | D5: 0 | E5: Jittawat.w@egat.co.th
A6: 5 | B6: EGAT Cha Na Power Plant | C6: EGAT QC90-04232 | D6: 26.15 | E6: Jittawat.w@egat.co.th
A7: 6 | B7: EGAT Cha Na Power Plant | C7: EGAT QC90-04232 | D7: 21.39 | E7: Jittawat.w@egat.co.th
A8: 7 | B8: EGAT Cha Na Power Plant | C8: EGAT QC90-04232 | D8: 21.21 | E8: Jittawat.w@egat.co.th
A9: 8 | B9: EGAT Cha Na Power Plant | C9: EGAT QC90-04232 | D9: 48.71 | E9: Jittawat.w@egat.co.th
A10: 9 | B10: EGAT Cha Na Power Plant | C10: EGAT QC90-04232 | D10: 53.52 | E10: Jittawat.w@egat.co.th
A11: 10 | B11: EGAT Cha Na Power Plant | C11: EGAT QC90-04232 | D11: 27.04 | E11: Jittawat.w@egat.co.th
A12: 11 | B12: EGAT Cha Na Power Plant | C12: EGAT QC90-04232 | D12: 18.5 | E12: Jittawat.w@egat.co.th
A13: 12 | B13: EGAT Cha Na Power Plant | C13: EGAT QC90-04232 | D13: 5.9 | E13: Jittawat.w@egat.co.th
... A1378: 1377 | B1378: EGAT Wang Noi Power Plant | C1378: EGAT PM7-08237 | D1378: 0.7 | E1378: prasitvut@gmail.com

Sheet tabel_Merge
A1: id | B1: Location | C1: Charge Station Name | D1: Energy(kWh) | E1: EV Driver | F1: T_Q_persona.email | G1: T_Q_persona.ยี่ห้อรถยนต์ไฟฟ้า
A2: 1 | B2: EGAT Cha Na Power Plant | C2: EGAT QC90-04232 | D2: 0 | E2: Jittawat.w@egat.co.th | F2: Jittawat.w@egat.co.th | G2: รถบัส
A3: 2 | B3: EGAT Cha Na Power Plant | C3: EGAT QC90-04232 | D3: 7.79 | E3: Jittawat.w@egat.co.th | F3: Jittawat.w@egat.co.th | G3: รถบัส
A4: 3 | B4: EGAT Cha Na Power Plant | C4: EGAT PM7-08234 | D4: 3.99 | E4: Jittawat.w@egat.co.th | F4: Jittawat.w@egat.co.th | G4: รถบัส
A5: 4 | B5: EGAT Cha Na Power Plant | C5: EGAT PM7-08234 | D5: 0 | E5: Jittawat.w@egat.co.th | F5: Jittawat.w@egat.co.th | G5: รถบัส
A6: 5 | B6: EGAT Cha Na Power Plant | C6: EGAT QC90-04232 | D6: 26.15 | E6: Jittawat.w@egat.co.th | F6: Jittawat.w@egat.co.th | G6: รถบัส
A7: 6 | B7: EGAT Cha Na Power Plant | C7: EGAT QC90-04232 | D7: 21.39 | E7: Jittawat.w@egat.co.th | F7: Jittawat.w@egat.co.th | G7: รถบัส
A8: 7 | B8: EGAT Cha Na Power Plant | C8: EGAT QC90-04232 | D8: 21.21 | E8: Jittawat.w@egat.co.th | F8: Jittawat.w@egat.co.th | G8: รถบัส
A9: 8 | B9: EGAT Cha Na Power Plant | C9: EGAT QC90-04232 | D9: 48.71 | E9: Jittawat.w@egat.co.th | F9: Jittawat.w@egat.co.th | G9: รถบัส
A10: 9 | B10: EGAT Cha Na Power Plant | C10: EGAT QC90-04232 | D10: 53.52 | E10: Jittawat.w@egat.co.th | F10: Jittawat.w@egat.co.th | G10: รถบัส
A11: 10 | B11: EGAT Cha Na Power Plant | C11: EGAT QC90-04232 | D11: 27.04 | E11: Jittawat.w@egat.co.th | F11: Jittawat.w@egat.co.th | G11: รถบัส
A12: 11 | B12: EGAT Cha Na Power Plant | C12: EGAT QC90-04232 | D12: 18.5 | E12: Jittawat.w@egat.co.th | F12: Jittawat.w@egat.co.th | G12: รถบัส
A13: 12 | B13: EGAT Cha Na Power Plant | C13: EGAT QC90-04232 | D13: 5.9 | E13: Jittawat.w@egat.co.th | F13: Jittawat.w@egat.co.th | G13: รถบัส
... A42: 39 | B42: EGAT Bangpakong Power Plant | C42: EGAT QC90-04228 | D42: 52.07 | E42: chaiya.su@egat.co.th | F42: chaiya.su@egat.co.th | G42: รถบัส
A43: 40 | B43: EGAT Bangpakong Power Plant | C43: EGAT PM7-08230 | D43: 0.21 | E43: suksawan2516@gmail.com
A44: 41 | B44: EGAT Bangpakong Power Plant | C44: EGAT PM7-08230 | D44: 0.47 | E44: suksawan2516@gmail.com
A45: 42 | B45: EGAT Bangpakong Power Plant | C45: EGAT PM7-08230 | D45: 0.79 | E45: suksawan2516@gmail.com
A46: 43 | B46: EGAT Bangpakong Power Plant | C46: EGAT PM7-08230 | D46: 0.03 | E46: verasist2516@gmail.com
A47: 44 | B47: EGAT Bangpakong Power Plant | C47: EGAT QC90-04228 | D47: 22.71 | E47: verasist2516@gmail.com
A48: 45 | B48: EGAT Bangpakong Power Plant | C48: EGAT QC90-04228 | D48: 24.72 | E48: zomkanae.amata@gmail.com | F48: zomkanae.amata@gmail.com | G48: MG
A49: 46 | B49: EGAT Bangpakong Power Plant | C49: EGAT QC90-04228 | D49: 14.87 | E49: warakit.t@gmail.com | F49: warakit.t@gmail.com | G49: MG
A50: 47 | B50: EGAT Bangpakong Power Plant | C50: EGAT QC90-04228 | D50: 31.46 | E50: chaiya.su@egat.co.th | F50: chaiya.su@egat.co.th | G50: รถบัส
A51: 48 | B51: EGAT Bangpakong Power Plant | C51: EGAT QC90-04228 | D51: 0 | E51: somsak.san@egat.co.th | F51: somsak.san@egat.co.th | G51: รถบัส
A52: 49 | B52: EGAT Bangpakong Power Plant | C52: EGAT QC90-04228 | D52: 26.47 | E52: somsak.san@egat.co.th | F52: somsak.san@egat.co.th | G52: รถบัส
A53: 50 | B53: EGAT Bangpakong Power Plant | C53: EGAT QC90-04228 | D53: 0 | E53: suksawan2516@gmail.com
A54: 51 | B54: EGAT Bangpakong Power Plant | C54: EGAT QC90-04228 | D54: 30.23 | E54: suksawan2516@gmail.com
A55: 52 | B55: EGAT Bangpakong Power Plant | C55: EGAT QC90-04228 | D55: 51.75 | E55: chaiya.su@egat.co.th | F55: chaiya.su@egat.co.th | G55: รถบัส
A56: 53 | B56: EGAT Bangpakong Power Plant | C56: EGAT QC90-04228 | D56: 49.65 | E56: chaiya.su@egat.co.th | F56: chaiya.su@egat.co.th | G56: รถบัส
A57: 54 | B57: EGAT Bangpakong Power Plant | C57: EGAT QC90-04228 | D57: 24.67 | E57: verasist2516@gmail.com
A58: 55 | B58: EGAT Bangpakong Power Plant | C58: EGAT QC90-04228 | D58: 53.01 | E58: somsak.san@egat.co.th | F58: somsak.san@egat.co.th | G58: รถบัส
A59: 56 | B59: EGAT Bangpakong Power Plant | C59: EGAT QC90-04228 | D59: 29.38 | E59: verasist2516@gmail.com
A60: 57 | B60: EGAT Bangpakong Power Plant | C60: EGAT QC90-04228 | D60: 20.13 | E60: arthorn@upbasale.com | F60: arthorn@upbasale.com | G60: MG
A61: 58 | B61: EGAT Bangpakong Power Plant | C61: EGAT QC90-04228 | D61: 51.66 | E61: somsak.san@egat.co.th | F61: somsak.san@egat.co.th | G61: รถบัส
A62: 59 | B62: EGAT Bangpakong Power Plant | C62: EGAT QC90-04228 | D62: 25.59 | E62: verasist2516@gmail.com
A63: 60 | B63: EGAT Bangpakong Power Plant | C63: EGAT QC90-04228 | D63: 0 | E63: somsak.san@egat.co.th | F63: somsak.san@egat.co.th | G63: รถบัส
A64: 61 | B64: EGAT Bangpakong Power Plant | C64: EGAT QC90-04228 | D64: 50.57 | E64: somsak.san@egat.co.th | F64: somsak.san@egat.co.th | G64: รถบัส
A65: 62 | B65: EGAT Bangpakong Power Plant | C65: EGAT QC90-04228 | D65: 18.81 | E65: ch.tanatat@gmail.com | F65: ch.tanatat@gmail.com | G65: MG
A66: 62 | B66: EGAT Bangpakong Power Plant | C66: EGAT QC90-04228 | D66: 18.81 | E66: ch.tanatat@gmail.com | F66: ch.tanatat@gmail.com | G66: MG
A67: 63 | B67: EGAT Bangpakong Power Plant | C67: EGAT QC90-04228 | D67: 34.68 | E67: somsak.san@egat.co.th | F67: somsak.san@egat.co.th | G67: รถบัส
A68: 64 | B68: EGAT Bangpakong Power Plant | C68: EGAT QC90-04228 | D68: 77.21 | E68: somsak.san@egat.co.th | F68: somsak.san@egat.co.th | G68: รถบัส
A69: 65 | B69: EGAT Bangpakong Power Plant | C69: EGAT QC90-04228 | D69: 12.28 | E69: zomkanae.amata@gmail.com | F69: zomkanae.amata@gmail.com | G69: MG
A70: 66 | B70: EGAT Bangpakong Power Plant | C70: EGAT QC90-04228 | D70: 9.5 | E70: zomkanae.amata@gmail.com | F70: zomkanae.amata@gmail.com | G70: MG
A71: 67 | B71: EGAT Bangpakong Power Plant | C71: EGAT QC90-04228 | D71: 0.48 | E71: somsak.san@egat.co.th | F71: somsak.san@egat.co.th | G71: รถบัส
A72: 68 | B72: EGAT Bangpakong Power Plant | C72: EGAT QC90-04228 | D72: 24.42 | E72: verasist2516@gmail.com
A73: 69 | B73: EGAT Bangpakong Power Plant | C73: EGAT QC90-04228 | D73: 68.17 | E73: somsak.san@egat.co.th | F73: somsak.san@egat.co.th | G73: รถบัส
A74: 70 | B74: EGAT Bangpakong Power Plant | C74: EGAT QC90-04228 | D74: 25.59 | E74: suksawan2516@gmail.com
A75: 71 | B75: EGAT Bangpakong Power Plant | C75: EGAT QC90-04228 | D75: 52.82 | E75: somsak.san@egat.co.th | F75: somsak.san@egat.co.th | G75: รถบัส
A76: 72 | B76: EGAT Bangpakong Power Plant | C76: EGAT QC90-04228 | D76: 27.34 | E76: verasist2516@gmail.com
A77: 73 | B77: EGAT Head Office | C77: EGAT AC22 | D77: 3.28 | E77: rangson.ko@egat.co.th | F77: rangson.ko@egat.co.th
A78: 74 | B78: EGAT Head Office | C78: EGAT AC22 | D78: 5.61 | E78: rangson.ko@egat.co.th | F78: rangson.ko@egat.co.th
A79: 75 | B79: EGAT Head Office | C79: EGAT AC22 | D79: 10.54 | E79: thitipong.s@egat.co.th | F79: thitipong.s@egat.co.th | G79: รถดัดแปลง
A80: 76 | B80: EGAT Head Office | C80: EGAT AC22 | D80: 7.94 | E80: Pongnijot@yahoo.com | F80: Pongnijot@yahoo.com | G80: Volvo
A81: 77 | B81: EGAT Head Office | C81: EGAT AC22 | D81: 2.71 | E81: rangson.ko@egat.co.th | F81: rangson.ko@egat.co.th
A82: 78 | B82: EGAT Head Office | C82: EGAT AC22 | D82: 5.62 | E82: rangson.ko@egat.co.th | F82: rangson.ko@egat.co.th
A83: 79 | B83: EGAT Head Office | C83: EGAT AC22 | D83: 17.08 | E83: thitipong.s@egat.co.th | F83: thitipong.s@egat.co.th | G83: รถดัดแปลง
A84: 80 | B84: EGAT Head Office | C84: EGAT ABB Terra53 | D84: 4.19 | E84: thamnoon.s@egat.co.th | F84: thamnoon.s@egat.co.th | G84: รถดัดแปลง
A85: 81 | B85: EGAT Head Office | C85: EGAT AC22 | D85: 0.77 | E85: thitipong.s@egat.co.th | F85: thitipong.s@egat.co.th | G85: รถดัดแปลง
A86: 82 | B86: EGAT Head Office | C86: EGAT AC22 | D86: 5.57 | E86: rangson.ko@egat.co.th | F86: rangson.ko@egat.co.th
A87: 83 | B87: EGAT Head Office | C87: EGAT AC22 | D87: 4.07 | E87: Pongnijot@yahoo.com | F87: Pongnijot@yahoo.com | G87: Volvo
A88: 84 | B88: EGAT Head Office | C88: EGAT AC22 | D88: 11.17 | E88: matinon.m@egat.co.th | F88: matinon.m@egat.co.th
A89: 85 | B89: EGAT Head Office | C89: EGAT AC22 | D89: 3.48 | E89: Pongnijot@yahoo.com | F89: Pongnijot@yahoo.com | G89: Volvo
A90: 86 | B90: EGAT Head Office | C90: EGAT AC22 | D90: 7.67 | E90: Pongnijot@yahoo.com | F90: Pongnijot@yahoo.com | G90: Volvo
A91: 87 | B91: EGAT Head Office | C91: EGAT ABB Terra53 | D91: 0.07 | E91: thamnoon.s@egat.co.th | F91: thamnoon.s@egat.co.th | G91: รถดัดแปลง
A92: 88 | B92: EGAT Head Office | C92: EGAT ABB Terra53 | D92: 2.56 | E92: thamnoon.s@egat.co.th | F92: thamnoon.s@egat.co.th | G92: รถดัดแปลง
A93: 89 | B93: EGAT Head Office | C93: EGAT AC22 | D93: 12.67 | E93: matinon.m@egat.co.th | F93: matinon.m@egat.co.th
A94: 90 | B94: EGAT Head Office | C94: EGAT AC22 | D94: 4.18 | E94: rangson.ko@egat.co.th | F94: rangson.ko@egat.co.th
A95: 91 | B95: EGAT Head Office | C95: EGAT AC22 | D95: 19.85 | E95: matinon.m@egat.co.th | F95: matinon.m@egat.co.th
A96: 92 | B96: EGAT Head Office | C96: EGAT AC22 | D96: 5.72 | E96: rangson.ko@egat.co.th | F96: rangson.ko@egat.co.th
A97: 93 | B97: EGAT Head Office | C97: EGAT AC22 | D97: 3.33 | E97: titiporn.s@egat.co.th
A98: 94 | B98: EGAT Head Office | C98: EGAT AC22 | D98: 5.5 | E98: rangson.ko@egat.co.th | F98: rangson.ko@egat.co.th
A99: 95 | B99: EGAT Head Office | C99: EGAT AC22 | D99: 3.74 | E99: matinon.m@egat.co.th | F99: matinon.m@egat.co.th
A100: 96 | B100: EGAT Head Office | C100: EGAT AC22 | D100: 4.49 | E100: Pongnijot@yahoo.com | F100: Pongnijot@yahoo.com | G100: Volvo
A101: 97 | B101: EGAT Head Office | C101: EGAT AC22 | D101: 7.38 | E101: Pongnijot@yahoo.com | F101: Pongnijot@yahoo.com | G101: Volvo
A102: 98 | B102: EGAT Head Office | C102: EGAT AC22 | D102: 5.68 | E102: rangson.ko@egat.co.th | F102: rangson.ko@egat.co.th
A103: 99 | B103: EGAT Head Office | C103: EGAT AC22 | D103: 0.01 | E103: matinon.m@egat.co.th | F103: matinon.m@egat.co.th
A104: 100 | B104: EGAT Head Office | C104: EGAT AC22 | D104: 0.65 | E104: matinon.m@egat.co.th | F104: matinon.m@egat.co.th
A105: 101 | B105: EGAT Head Office | C105: EGAT AC22 | D105: 7.88 | E105: Pongnijot@yahoo.com | F105: Pongnijot@yahoo.com | G105: Volvo
A106: 102 | B106: EGAT Head Office | C106: EGAT AC22 | D106: 3.81 | E106: rangson.ko@egat.co.th | F106: rangson.ko@egat.co.th
A107: 103 | B107: EGAT Head Office | C107: EGAT AC22 | D107: 7.8 | E107: Pongnijot@yahoo.com | F107: Pongnijot@yahoo.com | G107: Volvo
A108: 104 | B108: EGAT Head Office | C108: EGAT AC22 | D108: 2.61 | E108: rangson.ko@egat.co.th | F108: rangson.ko@egat.co.th
A109: 105 | B109: EGAT Head Office | C109: SG-Lakelife EC | D109: 0 | E109: jong@greenlots.com
A110: 106 | B110: EGAT Head Office | C110: EGAT AC22 | D110: 1.27 | E110: matinon.m@egat.co.th | F110: matinon.m@egat.co.th
A111: 107 | B111: EGAT Head Office | C111: EGAT AC22 | D111: 19.45 | E111: matinon.m@egat.co.th | F111: matinon.m@egat.co.th
A112: 108 | B112: EGAT Head Office | C112: EGAT AC22 | D112: 5.6 | E112: rangson.ko@egat.co.th | F112: rangson.ko@egat.co.th
A113: 109 | B113: EGAT Head Office | C113: EGAT AC22 | D113: 7.6 | E113: Pongnijot@yahoo.com | F113: Pongnijot@yahoo.com | G113: Volvo
A114: 110 | B114: EGAT Head Office | C114: EGAT AC22 | D114: 5.59 | E114: rangson.ko@egat.co.th | F114: rangson.ko@egat.co.th
A115: 111 | B115: EGAT Head Office | C115: EGAT AC22 | D115: 7.92 | E115: matinon.m@egat.co.th | F115: matinon.m@egat.co.th
A116: 112 | B116: EGAT Head Office | C116: EGAT AC22 | D116: 0.05 | E116: thamnoon.s@egat.co.th | F116: thamnoon.s@egat.co.th | G116: รถดัดแปลง
A117: 113 | B117: EGAT Head Office | C117: EGAT AC22 | D117: 13.21 | E117: thamnoon.s@egat.co.th | F117: thamnoon.s@egat.co.th | G117: รถดัดแปลง
A118: 114 | B118: EGAT Head Office | C118: EGAT AC22 | D118: 5.55 | E118: rangson.ko@egat.co.th | F118: rangson.ko@egat.co.th
A119: 115 | B119: EGAT Head Office | C119: EGAT AC22 | D119: 7.93 | E119: Pongnijot@yahoo.com | F119: Pongnijot@yahoo.com | G119: Volvo
A120: 116 | B120: EGAT Head Office | C120: EGAT AC22 | D120: 5.57 | E120: rangson.ko@egat.co.th | F120: rangson.ko@egat.co.th
A121: 117 | B121: EGAT Head Office | C121: EGAT AC22 | D121: 2.66 | E121: paweenwat.surin@gmail.com
A122: 118 | B122: EGAT Head Office | C122: EGAT AC22 | D122: 20.69 | E122: matinon.m@egat.co.th | F122: matinon.m@egat.co.th
A123: 119 | B123: EGAT Head Office | C123: EGAT AC22 | D123: 3.55 | E123: rangson.ko@egat.co.th | F123: rangson.ko@egat.co.th
A124: 120 | B124: EGAT Head Office | C124: EGAT AC22 | D124: 7.68 | E124: Pongnijot@yahoo.com | F124: Pongnijot@yahoo.com | G124: Volvo
A125: 121 | B125: EGAT Head Office | C125: EGAT AC22 | D125: 5.57 | E125: rangson.ko@egat.co.th | F125: rangson.ko@egat.co.th
A126: 122 | B126: EGAT Head Office | C126: EGAT AC22 | D126: 7.72 | E126: Pongnijot@yahoo.com | F126: Pongnijot@yahoo.com | G126: Volvo
A127: 123 | B127: EGAT Head Office | C127: EGAT AC22 | D127: 6.14 | E127: prasertsak.c@egat.co.th | F127: prasertsak.c@egat.co.th
A128: 123 | B128: EGAT Head Office | C128: EGAT AC22 | D128: 6.14 | E128: prasertsak.c@egat.co.th | F128: prasertsak.c@egat.co.th
...

Sheet Pivottable
C4: ตารางตรวจสอบลำดับที่ซ้ำกัน
C7: Row Labels | D7: Count of EV Driver | H7: Row Labels | I7: Sum of Energy(kWh)
C8: ajarn.pracha@gmail.com | D8: 1 | H8: BMW | I8: 9.98
C9: 935 | D9: 1 | H9: BYD | I9: 14.91
C10: Amares.babe@gmail.com | D10: 5 | H10: FOMM | I10: 29.92
C11: 568 | D11: 1 | H11: Hyundai | I11: 260.7
C12: 569 | D12: 1 | H12: MG | I12: 6490.43
C13: 570 | D13: 1 | H13: Tesla | I13: 259.34
C14: 1194 | D14: 1 | H14: Volvo | I14: 224.76
C15: 1195 | D15: 1 | H15: รถดัดแปลง | I15: 286.23
C16: ampun.p@egat.co.th | D16: 4 | H16: รถบัส | I16: 23336.58
C17: 409 | D17: 1 | H17: (blank) | I17: 15851.76
C18: 410 | D18: 1 | H18: Grand Total | I18: 46764.61
C19: 411 | D19: 1
C20: 412 | D20: 1
C21: anuwat140@hotmail.com | D21: 4
C22: 634 | D22: 1
C23: 638 | D23: 1
C24: 639 | D24: 1
C25: 657 | D25: 1
C26: apsp555@gmail.com | D26: 3
C27: 198 | D27: 1
C28: 199 | D28: 1
C29: 1207 | D29: 1
C30: arthorn@upbasale.com | D30: 2
C31: 57 | D31: 1
C32: 632 | D32: 1
C33: atippakorn.s@gmail.com | D33: 16
C34: 15 | D34: 2
C35: 16 | D35: 2
C36: 590 | D36: 2
C37: 591 | D37: 2
C38: 594 | D38: 2
C39: 596 | D39: 2
C40: 597 | D40: 2
C41: 598 | D41: 2
C42: awisut6@gmail.com | D42: 2
C43: 767 | D43: 1
C44: 815 | D44: 1
C45: Banturng@hotmail.com | D45: 1
C46: 576 | D46: 1
C47: busarakum0p@gmail.com | D47: 7
C48: 181 | D48: 1
C49: 182 | D49: 1
C50: 183 | D50: 1
C51: 187 | D51: 1
C52: 799 | D52: 1
C53: 800 | D53: 1
C54: 1076 | D54: 1
C55: Captainnopphong@gmail.com | D55: 4
C56: 1196 | D56: 1
C57: 1197 | D57: 1
C58: 1198 | D58: 1
C59: 1199 | D59: 1
C60: ch.tanatat@gmail.com | D60: 6
C61: 62 | D61: 2
C62: 615 | D62: 2
C63: 794 | D63: 2
C64: chaiwatchara@gmail.com | D64: 6
C65: 896 | D65: 1
C66: 906 | D66: 1
C67: 922 | D67: 1
C68: 940 | D68: 1
C69: 943 | D69: 1
C70: 955 | D70: 1
C71: chaiya.su@egat.co.th | D71: 30
C72: 24 | D72: 1
C73: 27 | D73: 1
C74: 28 | D74: 1
C75: 31 | D75: 1
C76: 32 | D76: 1
C77: 33 | D77: 1
C78: 34 | D78: 1
C79: 35 | D79: 1
C80: 36 | D80: 1
C81: 38 | D81: 1
C82: 39 | D82: 1
C83: 47 | D83: 1
... C101: 1107 | D101: 1
C102: Chanchaipol@hotmail.com | D102: 13
C103: 306 | D103: 1
C104: 308 | D104: 1
C105: 309 | D105: 1
C106: 310 | D106: 1
C107: 311 | D107: 1
C108: 382 | D108: 1
C109: 383 | D109: 1
C110: 384 | D110: 1
C111: 396 | D111: 1
C112: 858 | D112: 1
C113: 859 | D113: 1
C114: 1286 | D114: 1
C115: 1297 | D115: 1
C116: Chargenow@hotmail.com | D116: 22
C117: 236 | D117: 1
C118: 305 | D118: 1
C119: 482 | D119: 1
C120: 491 | D120: 1
C121: 505 | D121: 1
C122: 506 | D122: 1
...
