Workbook
Name PrintArea: #REF!
Name การจัดส่ง: [1]!Table6[การจัดส่ง]
Name การจัดส่ง: #REF!
Name ชื่อสกุล: data!$K$2:$K$1041
Name ชื่อสกุล: #REF!
Name ที่อยู่สำหรับจัดส่งบัตร: [1]!Table7[ที่อยู่สำหรับจัดส่งบัตร]
Name ที่อยู่สำหรับจัดส่งบัตร: #REF!
Name ประเภทกลุ่ม: [1]!Table3[ประเภทกลุ่ม]
Name ประเภทกลุ่ม: #REF!
Name ประเภทรถยนต์ไฟฟ้า: [1]!Table5[ประเภทรถยนต์ไฟฟ้า]
Name ประเภทรถยนต์ไฟฟ้า: #REF!
Name ยี่ห้อรถยนต์ไฟฟ้า: [1]!Table4[ยี่ห้อรถยนต์ไฟฟ้า]
Name ยี่ห้อรถยนต์ไฟฟ้า: #REF!

Sheet data
A1: ลำดับที่ | B1: ชื่อ(ไทย) | C1: นามสกุล(ไทย) | D1: ชื่อ(ENG) | E1: นามสกุล(ENG) | F1: email | G1: ยี่ห้อรถยนต์ไฟฟ้า | H1: ปีที่ลง ทะเบียนบัตร | I1: EGAT EV Card | J1: สถานะบัตร รับบัตรแล้ว/ยังไม่ได้รับบัตร | K1: ชื่อสกุล
A2: =SUM(A1,1) -> 1 | B2: พิสิทธิ์ | C2: จันทรเสรีกุล | D2: Pisit | E2: Chantarasereekul | F2: pisit@krungthai.co.th | G2: Porshe | H2: 2563 | I2: EB664EAB | J2: =IF(I2<>"","รับบัตรแล้ว","ยังไม่ได้รับบัตร") -> รับบัตรแล้ว | K2: =data!$B2&" "&data!$C2 -> พิสิทธิ์ จันทรเสรีกุล
A3: =SUM(A2,1) -> 2 | B3: สมเกียรติ | C3: ทรงศิริ | D3: Somkiat | E3: Songsiri | F3: ssongsiri@hotmail.com | G3: Mercedes-Benz | H3: 2563 | I3: 2A504EAB | J3: =IF(I3<>"","รับบัตรแล้ว","ยังไม่ได้รับบัตร") -> รับบัตรแล้ว | K3: =data!$B3&" "&data!$C3 -> สมเกียรติ ทรงศิริ
A4: =SUM(A3,1) -> 3 | B4: เชษฐพงษ์ | C4: วงศ์วรเชษฐ์ | D4: Chadthapong | E4: Wongworachate | F4: Pongnijot@yahoo.com | G4: Volvo | H4: 2563 | I4: C70A4FAB | J4: =IF(I4<>"","รับบัตรแล้ว","ยังไม่ได้รับบัตร") -> รับบัตรแล้ว | K4: =data!$B4&" "&data!$C4 -> เชษฐพงษ์ วงศ์วรเชษฐ์
A5: =SUM(A4,1) -> 4 | B5: วาสิน | C5: พิชญสถิต | D5: Wasin | E5: Pichayasathit | F5: wasin.pich@gmail.com | G5: Nissan | H5: 2563 | I5: 4C094EAB | J5: =IF(I5<>"","รับบัตรแล้ว","ยังไม่ได้รับบัตร") -> รับบัตรแล้ว | K5: =data!$B5&" "&data!$C5 -> วาสิน พิชญสถิต
A6: =SUM(A5,1) -> 5 | B6: ไพรินทร์ | C6: วัฒนารมย์ | D6: Pairin | E6: watanarom | F6: pairin.mce@gmail.com | G6: Volvo | H6: 2563 | I6: 27154FAB | J6: =IF(I6<>"","รับบัตรแล้ว","ยังไม่ได้รับบัตร") -> รับบัตรแล้ว | K6: =data!$B6&" "&data!$C6 -> ไพรินทร์ วัฒนารมย์
A7: =SUM(A6,1) -> 6 | B7: ทรงยศ | C7: กิจประเสริฐ | D7: Songyos | E7: Kitprasert | F7: petropackaging@hotmail.com | G7: Mercedes-Benz | H7: 2563 | I7: ACDB4EAB | J7: =IF(I7<>"","รับบัตรแล้ว","ยังไม่ได้รับบัตร") -> รับบัตรแล้ว | K7: =data!$B7&" "&data!$C7 -> ทรงยศ กิจประเสริฐ
A8: =SUM(A7,1) -> 7 | B8: กิติยา | C8: เหล่าเศรษฐานันท์ | D8: Kitiya | E8: Laosettanun | F8: kitiya.laosettanun@gmail.com | G8: Mercedes-Benz | H8: 2563 | I8: E1514EAB | J8: =IF(I8<>"","รับบัตรแล้ว","ยังไม่ได้รับบัตร") -> รับบัตรแล้ว | K8: =data!$B8&" "&data!$C8 -> กิติยา เหล่าเศรษฐานันท์
A9: =SUM(A8,1) -> 8 | B9: สุภาภรณ์ | C9: ​แสงตระกูล​เจริญ​ | D9: Supaporn | E9: Saengtrakulcharoen | F9: supaporn@aether-energy.co.th | G9: BMW | H9: 2563 | I9: BC734EAB | J9: =IF(I9<>"","รับบัตรแล้ว","ยังไม่ได้รับบัตร") -> รับบัตรแล้ว | K9: =data!$B9&" "&data!$C9 -> สุภาภรณ์ ​แสงตระกูล​เจริญ​
A10: =SUM(A9,1) -> 9 | B10: ธนิตศักดิ์ | C10: รังคะวรเศรษฐ์ | D10: Thanitsak | E10: Rangkaworasate | F10: big.fox1@gmail.com | G10: Nissan | H10: 2563 | I10: 94334EAB | J10: =IF(I10<>"","รับบัตรแล้ว","ยังไม่ได้รับบัตร") -> รับบัตรแล้ว | K10: =data!$B10&" "&data!$C10 -> ธนิตศักดิ์ รังคะวรเศรษฐ์
A11: =SUM(A10,1) -> 10 | B11: อาริยทัศน์ | C11: ศุทธชัย | D11: Ariyatas | E11: Sutthachai | F11: ariyatas@hotmail.com | G11: Mercedes-Benz | H11: 2563 | I11: A4344FAB | J11: =IF(I11<>"","รับบัตรแล้ว","ยังไม่ได้รับบัตร") -> รับบัตรแล้ว | K11: =data!$B11&" "&data!$C11 -> อาริยทัศน์ ศุทธชัย
A12: =SUM(A11,1) -> 11 | B12: ณรัตน์ไชย | C12: หลีระพันธ์ | D12: Narratchai | E12: Leeraphante | F12: narratchai@Polytech.co.th | G12: BMW | H12: 2563 | I12: 2A9FFE63 | J12: =IF(I12<>"","รับบัตรแล้ว","ยังไม่ได้รับบัตร") -> รับบัตรแล้ว | K12: =data!$B12&" "&data!$C12 -> ณรัตน์ไชย หลีระพันธ์
A13: =SUM(A12,1) -> 12 | B13: คริษฐ์ | C13: เปรมประเสริฐ | D13: KRITS | E13: PREMPRASERT | F13: prin_onepoint@hotmail.com | G13: BMW | H13: 2563 | I13: E4D7FF63 | J13: =IF(I13<>"","รับบัตรแล้ว","ยังไม่ได้รับบัตร") -> รับบัตรแล้ว | K13: =data!$B13&" "&data!$C13 -> คริษฐ์ เปรมประเสริฐ
... A64: =SUM(A63,1) -> 63 | B64: วิทยา | C64: ประทีปกาญจนา | D64: Vittaya | E64: prateepkanjana | F64: pratee@hotmail.com | G64: Mercedes-Benz | H64: 2563 | I64: 7E337633 | J64: =IF(I64<>"","รับบัตรแล้ว","ยังไม่ได้รับบัตร") -> รับบัตรแล้ว | K64: =data!$B64&" "&data!$C64 -> วิทยา ประทีปกาญจนา
A65: =SUM(A64,1) -> 64 | B65: ชาญชัย | C65: ไชยเลิศ | D65: Chanchai | E65: Chailert | F65: cchailert@hotmail.com | G65: Mercedes-Benz | H65: 2563 | I65: 85527633 | J65: =IF(I65<>"","รับบัตรแล้ว","ยังไม่ได้รับบัตร") -> รับบัตรแล้ว | K65: =data!$B65&" "&data!$C65 -> ชาญชัย ไชยเลิศ
A66: =SUM(A65,1) -> 65 | B66: รัชต์ | C66: ตันติกุล | D66: Ratchata | E66: Tontikul | F66: ratchata_t@hotmail.com | G66: Mercedes-Benz | H66: 2563 | I66: 19307733 | J66: =IF(I66<>"","รับบัตรแล้ว","ยังไม่ได้รับบัตร") -> รับบัตรแล้ว | K66: =data!$B66&" "&data!$C66 -> รัชต์ ตันติกุล
A67: =SUM(A66,1) -> 66 | B67: บุรินทร์ | C67: โอภาสเศรษฐกุล | D67: Burint | E67: Opassetthakul | F67: burint_o@yahoo.com | G67: BMW | H67: 2563 | I67: B232D21A | J67: =IF(I67<>"","รับบัตรแล้ว","ยังไม่ได้รับบัตร") -> รับบัตรแล้ว | K67: =data!$B67&" "&data!$C67 -> บุรินทร์ โอภาสเศรษฐกุล
A68: =SUM(A67,1) -> 67 | B68: พาศักดิ์ | C68: เสนาวงษ์ | D68: Pasak | E68: Senawongse | F68: mrpasak@yahoo.com | G68: BMW | H68: 2563 | I68: 29927633 | J68: =IF(I68<>"","รับบัตรแล้ว","ยังไม่ได้รับบัตร") -> รับบัตรแล้ว | K68: =data!$B68&" "&data!$C68 -> พาศักดิ์ เสนาวงษ์
A69: =SUM(A68,1) -> 68 | B69: ชัยชรัตน์ | C69: อดิจารุพันธุ์ | D69: Chaicharat | E69: Adhijarruphan | F69: svgrid@gmail.com | G69: BYD | H69: 2563 | I69: F5C17633 | J69: =IF(I69<>"","รับบัตรแล้ว","ยังไม่ได้รับบัตร") -> รับบัตรแล้ว | K69: =data!$B69&" "&data!$C69 -> ชัยชรัตน์ อดิจารุพันธุ์
A70: =SUM(A69,1) -> 69 | B70: วัชรชัย | C70: วรรณสิทธิ์ | D70: Watcharachai | E70: Wannasit | F70: nat@smilehost.asia | G70: Mercedes-Benz | H70: 2563 | I70: 1E3B7733 | J70: =IF(I70<>"","รับบัตรแล้ว","ยังไม่ได้รับบัตร") -> รับบัตรแล้ว | K70: =data!$B70&" "&data!$C70 -> วัชรชัย วรรณสิทธิ์
A71: =SUM(A70,1) -> 70 | B71: ธนารักษ์ | C71: แสงรัตน์วัชรา | D71: Tanalux | E71: Sangratwatchara | F71: tanalux2011@hotmail.com | G71: BMW | H71: 2563 | I71: 82D07633 | J71: =IF(I71<>"","รับบัตรแล้ว","ยังไม่ได้รับบัตร") -> รับบัตรแล้ว | K71: =data!$B71&" "&data!$C71 -> ธนารักษ์ แสงรัตน์วัชรา
A72: =SUM(A71,1) -> 71 | B72: ชัยวัฒน์ | C72: ชลชาญ | D72: Chaiwat | E72: Chonchan | F72: chaiwat@erc.or.th | G72: MG | H72: 2563 | I72: EB5A7633 | J72: =IF(I72<>"","รับบัตรแล้ว","ยังไม่ได้รับบัตร") -> รับบัตรแล้ว | K72: =data!$B72&" "&data!$C72 -> ชัยวัฒน์ ชลชาญ
A73: =SUM(A72,1) -> 72 | B73: สกลวิช | C73: ธัญญกิตติกุล | D73: Sakonwit | E73: Thunyakittikul | F73: iljp55@hotmail.com | G73: Hyundai | H73: 2563 | I73: DDF37633 | J73: =IF(I73<>"","รับบัตรแล้ว","ยังไม่ได้รับบัตร") -> รับบัตรแล้ว | K73: =data!$B73&" "&data!$C73 -> สกลวิช ธัญญกิตติกุล
A74: =SUM(A73,1) -> 73 | B74: สุวิทย์ | C74: อรรถจารุสิทธิ์ | D74: Suwit | E74: Attajarusit | F74: korn9976@hotmail.com | G74: Mercedes-Benz | H74: 2563 | I74: 6A707733 | J74: =IF(I74<>"","รับบัตรแล้ว","ยังไม่ได้รับบัตร") -> รับบัตรแล้ว | K74: =data!$B74&" "&data!$C74 -> สุวิทย์ อรรถจารุสิทธิ์
A75: =SUM(A74,1) -> 74 | B75: สุภณัฐ | C75: บุญยิ่งสถิตย์ | D75: Supanut | E75: Boonyingsathit | F75: supanut_b@hotmail.com | G75: BMW | H75: 2563 | I75: 9A577633 | J75: =IF(I75<>"","รับบัตรแล้ว","ยังไม่ได้รับบัตร") -> รับบัตรแล้ว | K75: =data!$B75&" "&data!$C75 -> สุภณัฐ บุญยิ่งสถิตย์
A76: =SUM(A75,1) -> 75 | B76: ดานัย | C76: นิ่มนวล | D76: Danai | E76: Nimnaun | F76: danai999@hotmail.com | G76: รถมอเตอร์ไซค์ไฟฟ้า | H76: 2563 | I76: CE76B2D3 | J76: =IF(I76<>"","รับบัตรแล้ว","ยังไม่ได้รับบัตร") -> รับบัตรแล้ว | K76: =data!$B76&" "&data!$C76 -> ดานัย นิ่มนวล
A77: =SUM(A76,1) -> 76 | B77: ภาณุทัต | C77: สัชฌะไชย | D77: Panutat | E77: Satchachai | F77: panutat.satchachai@gmail.com | G77: Mercedes-Benz | H77: 2563 | I77: 2066B1D3 | J77: =IF(I77<>"","รับบัตรแล้ว","ยังไม่ได้รับบัตร") -> รับบัตรแล้ว | K77: =data!$B77&" "&data!$C77 -> ภาณุทัต สัชฌะไชย
A78: =SUM(A77,1) -> 77 | B78: สฤษศักดิ์ | C78: ปดิฐพร | D78: Saritsak | E78: Paditporn | F78: zaritsak@hotmail.com | G78: BMW | H78: 2563 | I78: 750F7733 | J78: =IF(I78<>"","รับบัตรแล้ว","ยังไม่ได้รับบัตร") -> รับบัตรแล้ว | K78: =data!$B78&" "&data!$C78 -> สฤษศักดิ์ ปดิฐพร
... A80: =SUM(A79,1) -> 79 | B80: จักรกฤษณ์ | C80: เวศย์วรุตม์ | D80: Chackrit | E80: Vesvarut | F80: huat99@me.com | G80: BYD | H80: 2563 | I80: A5627633 | J80: =IF(I80<>"","รับบัตรแล้ว","ยังไม่ได้รับบัตร") -> รับบัตรแล้ว | K80: =data!$B80&" "&data!$C80 -> จักรกฤษณ์ เวศย์วรุตม์
A81: =SUM(A80,1) -> 80 | B81: วีรพล | C81: ยิ้มสินสมบูรณ์ | D81: Veerapol | E81: Yimsinsomboon | F81: veerapol@blpower.co.th | G81: BMW | H81: 2563 | I81: 42517733 | J81: =IF(I81<>"","รับบัตรแล้ว","ยังไม่ได้รับบัตร") -> รับบัตรแล้ว | K81: =data!$B81&" "&data!$C81 -> วีรพล ยิ้มสินสมบูรณ์
A82: =SUM(A81,1) -> 81 | B82: ณรงค์ฤทธิ์ | C82: ชัยอนุชิตตระกูล | D82: Narongrit | E82: Chaianuchittrakul | F82: lhong_99@hotmail.com | G82: Mercedes-Benz | H82: 2563 | I82: 15FF7533 | J82: =IF(I82<>"","รับบัตรแล้ว","ยังไม่ได้รับบัตร") -> รับบัตรแล้ว | K82: =data!$B82&" "&data!$C82 -> ณรงค์ฤทธิ์ ชัยอนุชิตตระกูล
A83: =SUM(A82,1) -> 82 | B83: สมศักดิ์ | C83: สืบสาย | D83: Somsak | E83: Seubsai | F83: seubsaipost@gmail.com | G83: BMW | H83: 2563 | I83: 962E7633 | J83: =IF(I83<>"","รับบัตรแล้ว","ยังไม่ได้รับบัตร") -> รับบัตรแล้ว | K83: =data!$B83&" "&data!$C83 -> สมศักดิ์ สืบสาย
A84: =SUM(A83,1) -> 83 | B84: ศุภโชติ | C84: วังจินดา | D84: SUPACHOT | E84: WANGCHINDA | F84: supachot@hotmail.com | G84: Hyundai | H84: 2563 | I84: 95DF7633 | J84: =IF(I84<>"","รับบัตรแล้ว","ยังไม่ได้รับบัตร") -> รับบัตรแล้ว | K84: =data!$B84&" "&data!$C84 -> ศุภโชติ วังจินดา
A85: =SUM(A84,1) -> 84 | B85: นิธิวรรสน์ | C85: หลินภัทรชัย | D85: Nitiwass | E85: Linphatrachai | F85: nicesiamguy@gmail.com | G85: BMW | H85: 2563 | I85: AE457633 | J85: =IF(I85<>"","รับบัตรแล้ว","ยังไม่ได้รับบัตร") -> รับบัตรแล้ว | K85: =data!$B85&" "&data!$C85 -> นิธิวรรสน์ หลินภัทรชัย
A86: =SUM(A85,1) -> 85 | B86: วรวงษ์ | C86: อภิรักษ์ภูบาล | D86: worawong | E86: apirukpubal | F86: playboy77_7@hotmail.com | G86: BMW | H86: 2563 | I86: E559B1D3 | J86: =IF(I86<>"","รับบัตรแล้ว","ยังไม่ได้รับบัตร") -> รับบัตรแล้ว | K86: =data!$B86&" "&data!$C86 -> วรวงษ์ อภิรักษ์ภูบาล
A87: =SUM(A86,1) -> 86 | B87: โสฬส | C87: ชูเวทย์ | D87: Solos | E87: Chuwet | F87: solosnan@hotmail.com | G87: Mercedes-Benz | H87: 2563 | I87: 0505B2D3 | J87: =IF(I87<>"","รับบัตรแล้ว","ยังไม่ได้รับบัตร") -> รับบัตรแล้ว | K87: =data!$B87&" "&data!$C87 -> โสฬส ชูเวทย์
A88: =SUM(A87,1) -> 87 | B88: ธวัชชัย | C88: วงศ์กริช | D88: Tawatchai | E88: Wongkritch | F88: tcsercom@gmail.com | G88: Hyundai | H88: 2563 | I88: 8D3B7633 | J88: =IF(I88<>"","รับบัตรแล้ว","ยังไม่ได้รับบัตร") -> รับบัตรแล้ว | K88: =data!$B88&" "&data!$C88 -> ธวัชชัย วงศ์กริช
A89: =SUM(A88,1) -> 88 | B89: สุรชัย | C89: ศิริไพศาลโสภา | D89: Surachai | E89: Siripaisalsopa | F89: surachais@newtonmotor.com | G89: Nissan | H89: 2563 | I89: C9387633 | J89: =IF(I89<>"","รับบัตรแล้ว","ยังไม่ได้รับบัตร") -> รับบัตรแล้ว | K89: =data!$B89&" "&data!$C89 -> สุรชัย ศิริไพศาลโสภา
A90: =SUM(A89,1) -> 89 | B90: กิตติ​พงษ์​ | C90: ริม​ชัย​สิทธิ์​ | D90: Kittipong​ | E90: Rimchaisith | F90: ho.perpax@gmail.com | G90: Nissan | H90: 2563 | I90: 0A527733 | J90: =IF(I90<>"","รับบัตรแล้ว","ยังไม่ได้รับบัตร") -> รับบัตรแล้ว | K90: =data!$B90&" "&data!$C90 -> กิตติ​พงษ์​ ริม​ชัย​สิทธิ์​
A91: =SUM(A90,1) -> 90 | B91: นนท์ปวิธ | C91: แสงเทียนประไพ | D91: Nonpawit | E91: Sangtianprapai | F91: nonpawit@gmail.com | G91: Hyundai | H91: 2563 | I91: 54C1B1D3 | J91: =IF(I91<>"","รับบัตรแล้ว","ยังไม่ได้รับบัตร") -> รับบัตรแล้ว | K91: =data!$B91&" "&data!$C91 -> นนท์ปวิธ แสงเทียนประไพ
...

Sheet Energy
A1: id | B1: Location | C1: Charge Station Name | D1: Energy(kWh) | E1: EV Driver
A2: 1 | B2: EGAT Cha Na Power Plant | C2: EGAT QC90-04232 | D2: 0 | E2: Jittawat.w@egat.co.th
A3: 2 | B3: EGAT Cha Na Power Plant | C3: EGAT QC90-04232 | D3: 7.79 | E3: Jittawat.w@egat.co.th
A4: 3 | B4: EGAT Cha Na Power Plant | C4: EGAT PM7-08234 | D4: 3.99 | E4: Jittawat.w@egat.co.th
A5: 4 | B5: EGAT Cha Na Power Plant | C5: EGAT PM7-08234 | D5: 0 | E5: Jittawat.w@egat.co.th
A6: 5 | B6: EGAT Cha Na Power Plant | C6: EGAT QC90-04232 | D6: 26.15 | E6: Jittawat.w@egat.co.th
A7: 6 | B7: EGAT Cha Na Power Plant | C7: EGAT QC90-04232 | D7: 21.39 | E7: Jittawat.w@egat.co.th
A8: 7 | B8: EGAT Cha Na Power Plant | C8: EGAT QC90-04232 | D8: 21.21 | E8: Jittawat.w@egat.co.th
A9: 8 | B9: EGAT Cha Na Power Plant | C9: EGAT QC90-04232 | D9: 48.71 | E9: Jittawat.w@egat.co.th
A10: 9 | B10: EGAT Cha Na Power Plant | C10: EGAT QC90-04232 | D10: 53.52 | E10: Jittawat.w@egat.co.th
A11: 10 | B11: EGAT Cha Na Power Plant | C11: EGAT QC90-04232 | D11: 27.04 | E11: Jittawat.w@egat.co.th
A12: 11 | B12: EGAT Cha Na Power Plant | C12: EGAT QC90-04232 | D12: 18.5 | E12: Jittawat.w@egat.co.th
A13: 12 | B13: EGAT Cha Na Power Plant | C13: EGAT QC90-04232 | D13: 5.9 | E13: Jittawat.w@egat.co.th
... A1378: 1377 | B1378: EGAT Wang Noi Power Plant | C1378: EGAT PM7-08237 | D1378: 0.7 | E1378: prasitvut@gmail.com

Sheet tabel_persona
A1: ลำดับที่ | B1: ชื่อ(ไทย) | C1: นามสกุล(ไทย) | D1: ชื่อ(ENG) | E1: นามสกุล(ENG) | F1: email | G1: ยี่ห้อรถยนต์ไฟฟ้า | H1: ปีที่ลง ทะเบียนบัตร | I1: EGAT EV Card | J1: สถานะบัตร รับบัตรแล้ว/ยังไม่ได้รับบัตร | K1: ชื่อสกุล
A2: 1 | B2: พิสิทธิ์ | C2: จันทรเสรีกุล | D2: Pisit | E2: Chantarasereekul | F2: pisit@krungthai.co.th | G2: Porshe | H2: 2563 | I2: EB664EAB | J2: รับบัตรแล้ว | K2: พิสิทธิ์ จันทรเสรีกุล
A3: 2 | B3: สมเกียรติ | C3: ทรงศิริ | D3: Somkiat | E3: Songsiri | F3: ssongsiri@hotmail.com | G3: Mercedes-Benz | H3: 2563 | I3: 2A504EAB | J3: รับบัตรแล้ว | K3: สมเกียรติ ทรงศิริ
A4: 3 | B4: เชษฐพงษ์ | C4: วงศ์วรเชษฐ์ | D4: Chadthapong | E4: Wongworachate | F4: Pongnijot@yahoo.com | G4: Volvo | H4: 2563 | I4: C70A4FAB | J4: รับบัตรแล้ว | K4: เชษฐพงษ์ วงศ์วรเชษฐ์
A5: 4 | B5: วาสิน | C5: พิชญสถิต | D5: Wasin | E5: Pichayasathit | F5: wasin.pich@gmail.com | G5: Nissan | H5: 2563 | I5: 4C094EAB | J5: รับบัตรแล้ว | K5: วาสิน พิชญสถิต
A6: 5 | B6: ไพรินทร์ | C6: วัฒนารมย์ | D6: Pairin | E6: watanarom | F6: pairin.mce@gmail.com | G6: Volvo | H6: 2563 | I6: 27154FAB | J6: รับบัตรแล้ว | K6: ไพรินทร์ วัฒนารมย์
A7: 6 | B7: ทรงยศ | C7: กิจประเสริฐ | D7: Songyos | E7: Kitprasert | F7: petropackaging@hotmail.com | G7: Mercedes-Benz | H7: 2563 | I7: ACDB4EAB | J7: รับบัตรแล้ว | K7: ทรงยศ กิจประเสริฐ
A8: 7 | B8: กิติยา | C8: เหล่าเศรษฐานันท์ | D8: Kitiya | E8: Laosettanun | F8: kitiya.laosettanun@gmail.com | G8: Mercedes-Benz | H8: 2563 | I8: E1514EAB | J8: รับบัตรแล้ว | K8: กิติยา เหล่าเศรษฐานันท์
A9: 8 | B9: สุภาภรณ์ | C9: ​แสงตระกูล​เจริญ​ | D9: Supaporn | E9: Saengtrakulcharoen | F9: supaporn@aether-energy.co.th | G9: BMW | H9: 2563 | I9: BC734EAB | J9: รับบัตรแล้ว | K9: สุภาภรณ์ ​แสงตระกูล​เจริญ​
A10: 9 | B10: ธนิตศักดิ์ | C10: รังคะวรเศรษฐ์ | D10: Thanitsak | E10: Rangkaworasate | F10: big.fox1@gmail.com | G10: Nissan | H10: 2563 | I10: 94334EAB | J10: รับบัตรแล้ว | K10: ธนิตศักดิ์ รังคะวรเศรษฐ์
A11: 10 | B11: อาริยทัศน์ | C11: ศุทธชัย | D11: Ariyatas | E11: Sutthachai | F11: ariyatas@hotmail.com | G11: Mercedes-Benz | H11: 2563 | I11: A4344FAB | J11: รับบัตรแล้ว | K11: อาริยทัศน์ ศุทธชัย
A12: 11 | B12: ณรัตน์ไชย | C12: หลีระพันธ์ | D12: Narratchai | E12: Leeraphante | F12: narratchai@Polytech.co.th | G12: BMW | H12: 2563 | I12: 2A9FFE63 | J12: รับบัตรแล้ว | K12: ณรัตน์ไชย หลีระพันธ์
A13: 12 | B13: คริษฐ์ | C13: เปรมประเสริฐ | D13: KRITS | E13: PREMPRASERT | F13: prin_onepoint@hotmail.com | G13: BMW | H13: 2563 | I13: E4D7FF63 | J13: รับบัตรแล้ว | K13: คริษฐ์ เปรมประเสริฐ
... A64: 63 | B64: วิทยา | C64: ประทีปกาญจนา | D64: Vittaya | E64: prateepkanjana | F64: pratee@hotmail.com | G64: Mercedes-Benz | H64: 2563 | I64: 7E337633 | J64: รับบัตรแล้ว | K64: วิทยา ประทีปกาญจนา
A65: 64 | B65: ชาญชัย | C65: ไชยเลิศ | D65: Chanchai | E65: Chailert | F65: cchailert@hotmail.com | G65: Mercedes-Benz | H65: 2563 | I65: 85527633 | J65: รับบัตรแล้ว | K65: ชาญชัย ไชยเลิศ
A66: 65 | B66: รัชต์ | C66: ตันติกุล | D66: Ratchata | E66: Tontikul | F66: ratchata_t@hotmail.com | G66: Mercedes-Benz | H66: 2563 | I66: 19307733 | J66: รับบัตรแล้ว | K66: รัชต์ ตันติกุล
A67: 66 | B67: บุรินทร์ | C67: โอภาสเศรษฐกุล | D67: Burint | E67: Opassetthakul | F67: burint_o@yahoo.com | G67: BMW | H67: 2563 | I67: B232D21A | J67: รับบัตรแล้ว | K67: บุรินทร์ โอภาสเศรษฐกุล
A68: 67 | B68: พาศักดิ์ | C68: เสนาวงษ์ | D68: Pasak | E68: Senawongse | F68: mrpasak@yahoo.com | G68: BMW | H68: 2563 | I68: 29927633 | J68: รับบัตรแล้ว | K68: พาศักดิ์ เสนาวงษ์
A69: 68 | B69: ชัยชรัตน์ | C69: อดิจารุพันธุ์ | D69: Chaicharat | E69: Adhijarruphan | F69: svgrid@gmail.com | G69: BYD | H69: 2563 | I69: F5C17633 | J69: รับบัตรแล้ว | K69: ชัยชรัตน์ อดิจารุพันธุ์
A70: 69 | B70: วัชรชัย | C70: วรรณสิทธิ์ | D70: Watcharachai | E70: Wannasit | F70: nat@smilehost.asia | G70: Mercedes-Benz | H70: 2563 | I70: 1E3B7733 | J70: รับบัตรแล้ว | K70: วัชรชัย วรรณสิทธิ์
A71: 70 | B71: ธนารักษ์ | C71: แสงรัตน์วัชรา | D71: Tanalux | E71: Sangratwatchara | F71: tanalux2011@hotmail.com | G71: BMW | H71: 2563 | I71: 82D07633 | J71: รับบัตรแล้ว | K71: ธนารักษ์ แสงรัตน์วัชรา
A72: 71 | B72: ชัยวัฒน์ | C72: ชลชาญ | D72: Chaiwat | E72: Chonchan | F72: chaiwat@erc.or.th | G72: MG | H72: 2563 | I72: EB5A7633 | J72: รับบัตรแล้ว | K72: ชัยวัฒน์ ชลชาญ
A73: 72 | B73: สกลวิช | C73: ธัญญกิตติกุล | D73: Sakonwit | E73: Thunyakittikul | F73: iljp55@hotmail.com | G73: Hyundai | H73: 2563 | I73: DDF37633 | J73: รับบัตรแล้ว | K73: สกลวิช ธัญญกิตติกุล
A74: 73 | B74: สุวิทย์ | C74: อรรถจารุสิทธิ์ | D74: Suwit | E74: Attajarusit | F74: korn9976@hotmail.com | G74: Mercedes-Benz | H74: 2563 | I74: 6A707733 | J74: รับบัตรแล้ว | K74: สุวิทย์ อรรถจารุสิทธิ์
A75: 74 | B75: สุภณัฐ | C75: บุญยิ่งสถิตย์ | D75: Supanut | E75: Boonyingsathit | F75: supanut_b@hotmail.com | G75: BMW | H75: 2563 | I75: 9A577633 | J75: รับบัตรแล้ว | K75: สุภณัฐ บุญยิ่งสถิตย์
A76: 75 | B76: ดานัย | C76: นิ่มนวล | D76: Danai | E76: Nimnaun | F76: danai999@hotmail.com | G76: รถมอเตอร์ไซค์ไฟฟ้า | H76: 2563 | I76: CE76B2D3 | J76: รับบัตรแล้ว | K76: ดานัย นิ่มนวล
A77: 76 | B77: ภาณุทัต | C77: สัชฌะไชย | D77: Panutat | E77: Satchachai | F77: panutat.satchachai@gmail.com | G77: Mercedes-Benz | H77: 2563 | I77: 2066B1D3 | J77: รับบัตรแล้ว | K77: ภาณุทัต สัชฌะไชย
A78: 77 | B78: สฤษศักดิ์ | C78: ปดิฐพร | D78: Saritsak | E78: Paditporn | F78: zaritsak@hotmail.com | G78: BMW | H78: 2563 | I78: 750F7733 | J78: รับบัตรแล้ว | K78: สฤษศักดิ์ ปดิฐพร
... A80: 79 | B80: จักรกฤษณ์ | C80: เวศย์วรุตม์ | D80: Chackrit | E80: Vesvarut | F80: huat99@me.com | G80: BYD | H80: 2563 | I80: A5627633 | J80: รับบัตรแล้ว | K80: จักรกฤษณ์ เวศย์วรุตม์
A81: 80 | B81: วีรพล | C81: ยิ้มสินสมบูรณ์ | D81: Veerapol | E81: Yimsinsomboon | F81: veerapol@blpower.co.th | G81: BMW | H81: 2563 | I81: 42517733 | J81: รับบัตรแล้ว | K81: วีรพล ยิ้มสินสมบูรณ์
A82: 81 | B82: ณรงค์ฤทธิ์ | C82: ชัยอนุชิตตระกูล | D82: Narongrit | E82: Chaianuchittrakul | F82: lhong_99@hotmail.com | G82: Mercedes-Benz | H82: 2563 | I82: 15FF7533 | J82: รับบัตรแล้ว | K82: ณรงค์ฤทธิ์ ชัยอนุชิตตระกูล
A83: 82 | B83: สมศักดิ์ | C83: สืบสาย | D83: Somsak | E83: Seubsai | F83: seubsaipost@gmail.com | G83: BMW | H83: 2563 | I83: 962E7633 | J83: รับบัตรแล้ว | K83: สมศักดิ์ สืบสาย
A84: 83 | B84: ศุภโชติ | C84: วังจินดา | D84: SUPACHOT | E84: WANGCHINDA | F84: supachot@hotmail.com | G84: Hyundai | H84: 2563 | I84: 95DF7633 | J84: รับบัตรแล้ว | K84: ศุภโชติ วังจินดา
A85: 84 | B85: นิธิวรรสน์ | C85: หลินภัทรชัย | D85: Nitiwass | E85: Linphatrachai | F85: nicesiamguy@gmail.com | G85: BMW | H85: 2563 | I85: AE457633 | J85: รับบัตรแล้ว | K85: นิธิวรรสน์ หลินภัทรชัย
A86: 85 | B86: วรวงษ์ | C86: อภิรักษ์ภูบาล | D86: worawong | E86: apirukpubal | F86: playboy77_7@hotmail.com | G86: BMW | H86: 2563 | I86: E559B1D3 | J86: รับบัตรแล้ว | K86: วรวงษ์ อภิรักษ์ภูบาล
A87: 86 | B87: โสฬส | C87: ชูเวทย์ | D87: Solos | E87: Chuwet | F87: solosnan@hotmail.com | G87: Mercedes-Benz | H87: 2563 | I87: 0505B2D3 | J87: รับบัตรแล้ว | K87: โสฬส ชูเวทย์
A88: 87 | B88: ธวัชชัย | C88: วงศ์กริช | D88: Tawatchai | E88: Wongkritch | F88: tcsercom@gmail.com | G88: Hyundai | H88: 2563 | I88: 8D3B7633 | J88: รับบัตรแล้ว | K88: ธวัชชัย วงศ์กริช
A89: 88 | B89: สุรชัย | C89: ศิริไพศาลโสภา | D89: Surachai | E89: Siripaisalsopa | F89: surachais@newtonmotor.com | G89: Nissan | H89: 2563 | I89: C9387633 | J89: รับบัตรแล้ว | K89: สุรชัย ศิริไพศาลโสภา
A90: 89 | B90: กิตติ​พงษ์​ | C90: ริม​ชัย​สิทธิ์​ | D90: Kittipong​ | E90: Rimchaisith | F90: ho.perpax@gmail.com | G90: Nissan | H90: 2563 | I90: 0A527733 | J90: รับบัตรแล้ว | K90: กิตติ​พงษ์​ ริม​ชัย​สิทธิ์​
A91: 90 | B91: นนท์ปวิธ | C91: แสงเทียนประไพ | D91: Nonpawit | E91: Sangtianprapai | F91: nonpawit@gmail.com | G91: Hyundai | H91: 2563 | I91: 54C1B1D3 | J91: รับบัตรแล้ว | K91: นนท์ปวิธ แสงเทียนประไพ
...

Sheet tabel_energy
A1: id | B1: Location | C1: Charge Station Name | D1: Energy(kWh) | E1: EV Driver
A2: 1 | B2: EGAT Cha Na Power Plant | C2: EGAT QC90-04232 | D2: 0 | E2: Jittawat.w@egat.co.th
A3: 2 | B3: EGAT Cha Na Power Plant | C3: EGAT QC90-04232 | D3: 7.79 | E3: Jittawat.w@egat.co.th
A4: 3 | B4: EGAT Cha Na Power Plant | C4: EGAT PM7-08234 | D4: 3.99 | E4: Jittawat.w@egat.co.th
A5: 4 | B5: EGAT Cha Na Power Plant | C5: EGAT PM7-08234 | D5: 0 | E5: Jittawat.w@egat.co.th
A6: 5 | B6: EGAT Cha Na Power Plant | C6: EGAT QC90-04232 | D6: 26.15 | E6: Jittawat.w@egat.co.th
A7: 6 | B7: EGAT Cha Na Power Plant | C7: EGAT QC90-04232 | D7: 21.39 | E7: Jittawat.w@egat.co.th
A8: 7 | B8: EGAT Cha Na Power Plant | C8: EGAT QC90-04232 | D8: 21.21 | E8: Jittawat.w@egat.co.th
A9: 8 | B9: EGAT Cha Na Power Plant | C9: EGAT QC90-04232 | D9: 48.71 | E9: Jittawat.w@egat.co.th
A10: 9 | B10: EGAT Cha Na Power Plant | C10: EGAT QC90-04232 | D10: 53.52 | E10: Jittawat.w@egat.co.th
A11: 10 | B11: EGAT Cha Na Power Plant | C11: EGAT QC90-04232 | D11: 27.04 | E11: Jittawat.w@egat.co.th
A12: 11 | B12: EGAT Cha Na Power Plant | C12: EGAT QC90-04232 | D12: 18.5 | E12: Jittawat.w@egat.co.th
A13: 12 | B13: EGAT Cha Na Power Plant | C13: EGAT QC90-04232 | D13: 5.9 | E13: Jittawat.w@egat.co.th
... A1378: 1377 | B1378: EGAT Wang Noi Power Plant | C1378: EGAT PM7-08237 | D1378: 0.7 | E1378: prasitvut@gmail.com

Sheet tabel_Merge
A1: id | B1: Location | C1: Charge Station Name | D1: Energy(kWh) | E1: EV Driver | F1: T_Q_persona.email | G1: T_Q_persona.ยี่ห้อรถยนต์ไฟฟ้า
A2: 1 | B2: EGAT Cha Na Power Plant | C2: EGAT QC90-04232 | D2: 0 | E2: Jittawat.w@egat.co.th | F2: Jittawat.w@egat.co.th | G2: รถบัส
A3: 2 | B3: EGAT Cha Na Power Plant | C3: EGAT QC90-04232 | D3: 7.79 | E3: Jittawat.w@egat.co.th | F3: Jittawat.w@egat.co.th | G3: รถบัส
A4: 3 | B4: EGAT Cha Na Power Plant | C4: EGAT PM7-08234 | D4: 3.99 | E4: Jittawat.w@egat.co.th | F4: Jittawat.w@egat.co.th | G4: รถบัส
A5: 4 | B5: EGAT Cha Na Power Plant | C5: EGAT PM7-08234 | D5: 0 | E5: Jittawat.w@egat.co.th | F5: Jittawat.w@egat.co.th | G5: รถบัส
A6: 5 | B6: EGAT Cha Na Power Plant | C6: EGAT QC90-04232 | D6: 26.15 | E6: Jittawat.w@egat.co.th | F6: Jittawat.w@egat.co.th | G6: รถบัส
A7: 6 | B7: EGAT Cha Na Power Plant | C7: EGAT QC90-04232 | D7: 21.39 | E7: Jittawat.w@egat.co.th | F7: Jittawat.w@egat.co.th | G7: รถบัส
A8: 7 | B8: EGAT Cha Na Power Plant | C8: EGAT QC90-04232 | D8: 21.21 | E8: Jittawat.w@egat.co.th | F8: Jittawat.w@egat.co.th | G8: รถบัส
A9: 8 | B9: EGAT Cha Na Power Plant | C9: EGAT QC90-04232 | D9: 48.71 | E9: Jittawat.w@egat.co.th | F9: Jittawat.w@egat.co.th | G9: รถบัส
A10: 9 | B10: EGAT Cha Na Power Plant | C10: EGAT QC90-04232 | D10: 53.52 | E10: Jittawat.w@egat.co.th | F10: Jittawat.w@egat.co.th | G10: รถบัส
A11: 10 | B11: EGAT Cha Na Power Plant | C11: EGAT QC90-04232 | D11: 27.04 | E11: Jittawat.w@egat.co.th | F11: Jittawat.w@egat.co.th | G11: รถบัส
A12: 11 | B12: EGAT Cha Na Power Plant | C12: EGAT QC90-04232 | D12: 18.5 | E12: Jittawat.w@egat.co.th | F12: Jittawat.w@egat.co.th | G12: รถบัส
A13: 12 | B13: EGAT Cha Na Power Plant | C13: EGAT QC90-04232 | D13: 5.9 | E13: Jittawat.w@egat.co.th | F13: Jittawat.w@egat.co.th | G13: รถบัส
... A42: 39 | B42: EGAT Bangpakong Power Plant | C42: EGAT QC90-04228 | D42: 52.07 | E42: chaiya.su@egat.co.th | F42: chaiya.su@egat.co.th | G42: รถบัส
A43: 40 | B43: EGAT Bangpakong Power Plant | C43: EGAT PM7-08230 | D43: 0.21 | E43: suksawan2516@gmail.com
A44: 41 | B44: EGAT Bangpakong Power Plant | C44: EGAT PM7-08230 | D44: 0.47 | E44: suksawan2516@gmail.com
A45: 42 | B45: EGAT Bangpakong Power Plant | C45: EGAT PM7-08230 | D45: 0.79 | E45: suksawan2516@gmail.com
A46: 43 | B46: EGAT Bangpakong Power Plant | C46: EGAT PM7-08230 | D46: 0.03 | E46: verasist2516@gmail.com
A47: 44 | B47: EGAT Bangpakong Power Plant | C47: EGAT QC90-04228 | D47: 22.71 | E47: verasist2516@gmail.com
A48: 45 | B48: EGAT Bangpakong Power Plant | C48: EGAT QC90-04228 | D48: 24.72 | E48: zomkanae.amata@gmail.com | F48: zomkanae.amata@gmail.com | G48: MG
A49: 46 | B49: EGAT Bangpakong Power Plant | C49: EGAT QC90-04228 | D49: 14.87 | E49: warakit.t@gmail.com | F49: warakit.t@gmail.com | G49: MG
A50: 47 | B50: EGAT Bangpakong Power Plant | C50: EGAT QC90-04228 | D50: 31.46 | E50: chaiya.su@egat.co.th | F50: chaiya.su@egat.co.th | G50: รถบัส
A51: 48 | B51: EGAT Bangpakong Power Plant | C51: EGAT QC90-04228 | D51: 0 | E51: somsak.san@egat.co.th | F51: somsak.san@egat.co.th | G51: รถบัส
A52: 49 | B52: EGAT Bangpakong Power Plant | C52: EGAT QC90-04228 | D52: 26.47 | E52: somsak.san@egat.co.th | F52: somsak.san@egat.co.th | G52: รถบัส
A53: 50 | B53: EGAT Bangpakong Power Plant | C53: EGAT QC90-04228 | D53: 0 | E53: suksawan2516@gmail.com
A54: 51 | B54: EGAT Bangpakong Power Plant | C54: EGAT QC90-04228 | D54: 30.23 | E54: suksawan2516@gmail.com
A55: 52 | B55: EGAT Bangpakong Power Plant | C55: EGAT QC90-04228 | D55: 51.75 | E55: chaiya.su@egat.co.th | F55: chaiya.su@egat.co.th | G55: รถบัส
A56: 53 | B56: EGAT Bangpakong Power Plant | C56: EGAT QC90-04228 | D56: 49.65 | E56: chaiya.su@egat.co.th | F56: chaiya.su@egat.co.th | G56: รถบัส
A57: 54 | B57: EGAT Bangpakong Power Plant | C57: EGAT QC90-04228 | D57: 24.67 | E57: verasist2516@gmail.com
A58: 55 | B58: EGAT Bangpakong Power Plant | C58: EGAT QC90-04228 | D58: 53.01 | E58: somsak.san@egat.co.th | F58: somsak.san@egat.co.th | G58: รถบัส
A59: 56 | B59: EGAT Bangpakong Power Plant | C59: EGAT QC90-04228 | D59: 29.38 | E59: verasist2516@gmail.com
A60: 57 | B60: EGAT Bangpakong Power Plant | C60: EGAT QC90-04228 | D60: 20.13 | E60: arthorn@upbasale.com | F60: arthorn@upbasale.com | G60: MG
A61: 58 | B61: EGAT Bangpakong Power Plant | C61: EGAT QC90-04228 | D61: 51.66 | E61: somsak.san@egat.co.th | F61: somsak.san@egat.co.th | G61: รถบัส
A62: 59 | B62: EGAT Bangpakong Power Plant | C62: EGAT QC90-04228 | D62: 25.59 | E62: verasist2516@gmail.com
A63: 60 | B63: EGAT Bangpakong Power Plant | C63: EGAT QC90-04228 | D63: 0 | E63: somsak.san@egat.co.th | F63: somsak.san@egat.co.th | G63: รถบัส
A64: 61 | B64: EGAT Bangpakong Power Plant | C64: EGAT QC90-04228 | D64: 50.57 | E64: somsak.san@egat.co.th | F64: somsak.san@egat.co.th | G64: รถบัส
A65: 62 | B65: EGAT Bangpakong Power Plant | C65: EGAT QC90-04228 | D65: 18.81 | E65: ch.tanatat@gmail.com | F65: ch.tanatat@gmail.com | G65: MG
A66: 62 | B66: EGAT Bangpakong Power Plant | C66: EGAT QC90-04228 | D66: 18.81 | E66: ch.tanatat@gmail.com | F66: ch.tanatat@gmail.com | G66: MG
A67: 63 | B67: EGAT Bangpakong Power Plant | C67: EGAT QC90-04228 | D67: 34.68 | E67: somsak.san@egat.co.th | F67: somsak.san@egat.co.th | G67: รถบัส
A68: 64 | B68: EGAT Bangpakong Power Plant | C68: EGAT QC90-04228 | D68: 77.21 | E68: somsak.san@egat.co.th | F68: somsak.san@egat.co.th | G68: รถบัส
...

Sheet Pivottable
C4: ตารางตรวจสอบลำดับที่ซ้ำกัน
C7: Row Labels | D7: Count of EV Driver | H7: Row Labels | I7: Sum of Energy(kWh)
C8: ajarn.pracha@gmail.com | D8: 1 | H8: BMW | I8: 9.98
C9: 935 | D9: 1 | H9: BYD | I9: 14.91
C10: Amares.babe@gmail.com | D10: 5 | H10: FOMM | I10: 29.92
C11: 568 | D11: 1 | H11: Hyundai | I11: 260.7
C12: 569 | D12: 1 | H12: MG | I12: 6490.43
C13: 570 | D13: 1 | H13: Tesla | I13: 259.34
C14: 1194 | D14: 1 | H14: Volvo | I14: 224.76
C15: 1195 | D15: 1 | H15: รถดัดแปลง | I15: 286.23
C16: ampun.p@egat.co.th | D16: 4 | H16: รถบัส | I16: 23336.58
C17: 409 | D17: 1 | H17: (blank) | I17: 15851.76
C18: 410 | D18: 1 | H18: Grand Total | I18: 46764.61
C19: 411 | D19: 1
C20: 412 | D20: 1
C21: anuwat140@hotmail.com | D21: 4
C22: 634 | D22: 1
C23: 638 | D23: 1
C24: 639 | D24: 1
C25: 657 | D25: 1
C26: apsp555@gmail.com | D26: 3
C27: 198 | D27: 1
C28: 199 | D28: 1
C29: 1207 | D29: 1
C30: arthorn@upbasale.com | D30: 2
C31: 57 | D31: 1
C32: 632 | D32: 1
C33: atippakorn.s@gmail.com | D33: 16
C34: 15 | D34: 2
C35: 16 | D35: 2
C36: 590 | D36: 2
C37: 591 | D37: 2
C38: 594 | D38: 2
C39: 596 | D39: 2
C40: 597 | D40: 2
C41: 598 | D41: 2
C42: awisut6@gmail.com | D42: 2
C43: 767 | D43: 1
C44: 815 | D44: 1
C45: Banturng@hotmail.com | D45: 1
...
