Workbook

Sheet Sheet1
D2: 2010 | E2: Jan | F2: Feb | G2: Mar | H2: Apr | I2: May | J2: Jun | K2: Jul | L2: Aug | M2: Sep | N2: Oct | O2: Nov | P2: Dec
D3: Drug | E3: ยอดต่อเดือน สำหรับ D
D4: Herb | E4: ยอดต่อเดือน สำหรับ H
D5: sum | E5: ยอดต่อเดือน รวม
A6: Report
D7: Date | E7: Whole | F7: Desc | G7: Bill no. | H7: Amount | I7: Remark | J7: Acc | K7: Month
D8: 40182 | E8: วรมิตร | F8: D | G8: 2010-000116 | H8: 3644 | J8: =SUMPRODUCT(--(MONTH($D$8:D8)=MONTH(D8)),$H$8:H8) -> 3644 | K8: =MONTH('[1]Pur ''10'!$D8) -> 1
D9: 40184 | E9: บุญสิน | F9: D | G9: R2010/01.0382 | H9: 3367.35 | J9: =SUMPRODUCT(--(MONTH($D$8:D9)=MONTH(D9)),$H$8:H9) -> 7011.35 | K9: =MONTH('[1]Pur ''10'!$D9) -> 1
D10: 40184 | E10: บุญสิน | F10: D | G10: R2010/01.0398 | H10: 978.8 | J10: =SUMPRODUCT(--(MONTH($D$8:D10)=MONTH(D10)),$H$8:H10) -> 7990.15 | K10: =MONTH('[1]Pur ''10'!$D10) -> 1
D11: 40184 | E11: ยู่ล้ง | F11: D | G11: A04784 | H11: 2143 | J11: =SUMPRODUCT(--(MONTH($D$8:D11)=MONTH(D11)),$H$8:H11) -> 10133.15 | K11: =MONTH('[1]Pur ''10'!$D11) -> 1
D12: 40185 | E12: วรมิตร | F12: D | G12: 2010-000640 | H12: 2669 | J12: =SUMPRODUCT(--(MONTH($D$8:D12)=MONTH(D12)),$H$8:H12) -> 12802.15 | K12: =MONTH('[1]Pur ''10'!$D12) -> 1
D13: 40186 | E13: TO | F13: D | G13: T5211/00397 | H13: 516 | J13: =SUMPRODUCT(--(MONTH($D$8:D13)=MONTH(D13)),$H$8:H13) -> 13318.15 | K13: =MONTH('[1]Pur ''10'!$D13) -> 1
D14: 40186 | E14: Central | F14: D | G14: T0000402 | H14: 382 | J14: =SUMPRODUCT(--(MONTH($D$8:D14)=MONTH(D14)),$H$8:H14) -> 13700.15 | K14: =MONTH('[1]Pur ''10'!$D14) -> 1
D15: 40189 | E15: Central | F15: D | G15: M0000150 | H15: 3000 | J15: =SUMPRODUCT(--(MONTH($D$8:D15)=MONTH(D15)),$H$8:H15) -> 16700.15 | K15: =MONTH('[1]Pur ''10'!$D15) -> 1
D16: 40189 | E16: วรมิตร | F16: D | G16: 2020-001021 | H16: 2602 | J16: =SUMPRODUCT(--(MONTH($D$8:D16)=MONTH(D16)),$H$8:H16) -> 19302.15 | K16: =MONTH('[1]Pur ''10'!$D16) -> 1
D17: 40191 | E17: บุญสิน | F17: D | G17: R2010/01/1450 | H17: 3164.25 | J17: =SUMPRODUCT(--(MONTH($D$8:D17)=MONTH(D17)),$H$8:H17) -> 22466.4 | K17: =MONTH('[1]Pur ''10'!$D17) -> 1
D18: 40191 | E18: ยู่ล้ง | F18: D | G18: A05074 | H18: 1712 | J18: =SUMPRODUCT(--(MONTH($D$8:D18)=MONTH(D18)),$H$8:H18) -> 24178.4 | K18: =MONTH('[1]Pur ''10'!$D18) -> 1
D19: 40192 | E19: วรมิตร | F19: D | G19: 2010-001509 | H19: 872 | J19: =SUMPRODUCT(--(MONTH($D$8:D19)=MONTH(D19)),$H$8:H19) -> 25050.4 | K19: =MONTH('[1]Pur ''10'!$D19) -> 1
... D30: 40210 | E30: วรมิตร | F30: D | G30: 2010-003876 | H30: 6565 | J30: =SUMPRODUCT(--(MONTH($D$8:D30)=MONTH(D30)),$H$8:H30) -> 6565 | K30: =MONTH('[1]Pur ''10'!$D30) -> 2
D31: 40211 | E31: ชุนฮวด | F31: D | G31: 40211 | H31: 12405 | J31: =SUMPRODUCT(--(MONTH($D$8:D31)=MONTH(D31)),$H$8:H31) -> 18970 | K31: =MONTH('[1]Pur ''10'!$D31) -> 2
D32: 40211 | E32: ชุนฮวด | F32: H | G32: 40211 | H32: =19198-12405 -> 6793 | J32: =SUMPRODUCT(--(MONTH($D$8:D32)=MONTH(D32)),$H$8:H32) -> 25763 | K32: =MONTH('[1]Pur ''10'!$D32) -> 2
D33: 40212 | E33: บุญสิน | F33: D | G33: R2010/02.0343 | H33: 1163 | J33: =SUMPRODUCT(--(MONTH($D$8:D33)=MONTH(D33)),$H$8:H33) -> 26926 | K33: =MONTH('[1]Pur ''10'!$D33) -> 2
D34: 40212 | E34: Osotspa | F34: D | G34: 15014 | H34: 6390 | J34: =SUMPRODUCT(--(MONTH($D$8:D34)=MONTH(D34)),$H$8:H34) -> 33316 | K34: =MONTH('[1]Pur ''10'!$D34) -> 2
D35: 40212 | E35: Central | F35: D | G35: T0003543 | H35: 1337 | J35: =SUMPRODUCT(--(MONTH($D$8:D35)=MONTH(D35)),$H$8:H35) -> 34653 | K35: =MONTH('[1]Pur ''10'!$D35) -> 2
D36: 40213 | E36: ยู่ล้ง | F36: D | G36: A05818 | H36: 4888 | J36: =SUMPRODUCT(--(MONTH($D$8:D36)=MONTH(D36)),$H$8:H36) -> 39541 | K36: =MONTH('[1]Pur ''10'!$D36) -> 2
D37: 40213 | E37: วรมิตร | F37: D | G37: 2010-0004378 | H37: 1794 | J37: =SUMPRODUCT(--(MONTH($D$8:D37)=MONTH(D37)),$H$8:H37) -> 41335 | K37: =MONTH('[1]Pur ''10'!$D37) -> 2
D38: 40214 | E38: TO | F38: D | G38: T5302/00197 | H38: 1203 | J38: =SUMPRODUCT(--(MONTH($D$8:D38)=MONTH(D38)),$H$8:H38) -> 42538 | K38: =MONTH('[1]Pur ''10'!$D38) -> 2
D39: 40215 | E39: Central | F39: D | G39: T0004097 | H39: 1463 | J39: =SUMPRODUCT(--(MONTH($D$8:D39)=MONTH(D39)),$H$8:H39) -> 44001 | K39: =MONTH('[1]Pur ''10'!$D39) -> 2
D40: 40217 | E40: วรมิตร | F40: D | G40: 2010-004824 | H40: 5846 | J40: =SUMPRODUCT(--(MONTH($D$8:D40)=MONTH(D40)),$H$8:H40) -> 49847 | K40: =MONTH('[1]Pur ''10'!$D40) -> 2
D41: 40219 | E41: บุญสิน | F41: D | G41: R2010/02.1415 | H41: 2658 | J41: =SUMPRODUCT(--(MONTH($D$8:D41)=MONTH(D41)),$H$8:H41) -> 52505 | K41: =MONTH('[1]Pur ''10'!$D41) -> 2
D42: 40219 | E42: ยู่ล้ง | F42: D | G42: 10-2-53 | H42: 1511 | J42: =SUMPRODUCT(--(MONTH($D$8:D42)=MONTH(D42)),$H$8:H42) -> 54016 | K42: =MONTH('[1]Pur ''10'!$D42) -> 2
D43: 40221 | E43: TO | F43: D | G43: T5302/01191 | H43: 1750 | J43: =SUMPRODUCT(--(MONTH($D$8:D43)=MONTH(D43)),$H$8:H43) -> 55766 | K43: =MONTH('[1]Pur ''10'!$D43) -> 2
D44: 40226 | E44: บุญสิน | F44: D | G44: R2010/02.2269 | H44: 1378 | J44: =SUMPRODUCT(--(MONTH($D$8:D44)=MONTH(D44)),$H$8:H44) -> 57144 | K44: =MONTH('[1]Pur ''10'!$D44) -> 2
D45: 40227 | E45: วรมิตร | F45: D | G45: 2010-005990 | H45: 4774 | J45: =SUMPRODUCT(--(MONTH($D$8:D45)=MONTH(D45)),$H$8:H45) -> 61918 | K45: =MONTH('[1]Pur ''10'!$D45) -> 2
D46: 40231 | E46: วรมิตร | F46: D | G46: 2010-006581 | H46: 6541 | J46: =SUMPRODUCT(--(MONTH($D$8:D46)=MONTH(D46)),$H$8:H46) -> 68459 | K46: =MONTH('[1]Pur ''10'!$D46) -> 2
D47: 40232 | E47: ยู่ล้ง | F47: D | G47: 17-2-53 | H47: 938 | J47: =SUMPRODUCT(--(MONTH($D$8:D47)=MONTH(D47)),$H$8:H47) -> 69397 | K47: =MONTH('[1]Pur ''10'!$D47) -> 2
D48: 40232 | E48: DPF | F48: D | G48: 894 | H48: 3034 | J48: =SUMPRODUCT(--(MONTH($D$8:D48)=MONTH(D48)),$H$8:H48) -> 72431 | K48: =MONTH('[1]Pur ''10'!$D48) -> 2
D49: 40233 | E49: ยู่ล้ง | F49: D | G49: A06523 | H49: 1577 | J49: =SUMPRODUCT(--(MONTH($D$8:D49)=MONTH(D49)),$H$8:H49) -> 74008 | K49: =MONTH('[1]Pur ''10'!$D49) -> 2
D50: 40233 | E50: บุญสิน | F50: D | G50: R2010/02.3228 | H50: 1845 | J50: =SUMPRODUCT(--(MONTH($D$8:D50)=MONTH(D50)),$H$8:H50) -> 75853 | K50: =MONTH('[1]Pur ''10'!$D50) -> 2
D51: 40234 | E51: Zui:GED | F51: D | G51: 13107302 | H51: 1118.15 | J51: =SUMPRODUCT(--(MONTH($D$8:D51)=MONTH(D51)),$H$8:H51) -> 76971.15 | K51: =MONTH('[1]Pur ''10'!$D51) -> 2
D52: 40234 | E52: Central | F52: D | G52: T0006759 | H52: 382 | J52: =SUMPRODUCT(--(MONTH($D$8:D52)=MONTH(D52)),$H$8:H52) -> 77353.15 | K52: =MONTH('[1]Pur ''10'!$D52) -> 2
D53: 40234 | E53: วรมิตร | F53: D | G53: 2010-007006 | H53: 4273 | J53: =SUMPRODUCT(--(MONTH($D$8:D53)=MONTH(D53)),$H$8:H53) -> 81626.15 | K53: =MONTH('[1]Pur ''10'!$D53) -> 2
D54: 40238 | E54: วรมิตร | F54: D | G54: 2010-007436 | H54: 3161 | J54: =SUMPRODUCT(--(MONTH($D$8:D54)=MONTH(D54)),$H$8:H54) -> 3161 | K54: =MONTH('[1]Pur ''10'!$D54) -> 3
D55: 40240 | E55: บุญสิน | F55: D | G55: R2010/03.0299 | H55: 1975 | J55: =SUMPRODUCT(--(MONTH($D$8:D55)=MONTH(D55)),$H$8:H55) -> 5136 | K55: =MONTH('[1]Pur ''10'!$D55) -> 3
D56: 40241 | E56: วรมิตร | F56: D | G56: 2010-007924 | H56: 2917.5 | J56: =SUMPRODUCT(--(MONTH($D$8:D56)=MONTH(D56)),$H$8:H56) -> 8053.5 | K56: =MONTH('[1]Pur ''10'!$D56) -> 3
D57: 40242 | E57: ใมเดิร์น | F57: D | G57: INV-L-IV\2010030318 | H57: 4904 | J57: =SUMPRODUCT(--(MONTH($D$8:D57)=MONTH(D57)),$H$8:H57) -> 12957.5 | K57: =MONTH('[1]Pur ''10'!$D57) -> 3
D58: 40245 | E58: THAI KK | F58: D | G58: 1536580 | H58: 1502 | J58: =SUMPRODUCT(--(MONTH($D$8:D58)=MONTH(D58)),$H$8:H58) -> 14459.5 | K58: =MONTH('[1]Pur ''10'!$D58) -> 3
D59: 40245 | E59: วรมิตร | F59: D | G59: 2010-008388 | H59: 5197 | J59: =SUMPRODUCT(--(MONTH($D$8:D59)=MONTH(D59)),$H$8:H59) -> 19656.5 | K59: =MONTH('[1]Pur ''10'!$D59) -> 3
D60: 40247 | E60: บุญสิน | F60: D | G60: R2010/03.1351 | H60: 3031 | J60: =SUMPRODUCT(--(MONTH($D$8:D60)=MONTH(D60)),$H$8:H60) -> 22687.5 | K60: =MONTH('[1]Pur ''10'!$D60) -> 3
D61: 40247 | E61: ยู่ล้ง | F61: D | G61: A07034 | H61: 2331 | J61: =SUMPRODUCT(--(MONTH($D$8:D61)=MONTH(D61)),$H$8:H61) -> 25018.5 | K61: =MONTH('[1]Pur ''10'!$D61) -> 3
D62: 40248 | E62: วรมิตร | F62: D | G62: 2010-008835 | H62: 1005 | J62: =SUMPRODUCT(--(MONTH($D$8:D62)=MONTH(D62)),$H$8:H62) -> 26023.5 | K62: =MONTH('[1]Pur ''10'!$D62) -> 3
D63: 40252 | E63: วรมิตร | F63: D | G63: 2010-009237 | H63: 2718 | J63: =SUMPRODUCT(--(MONTH($D$8:D63)=MONTH(D63)),$H$8:H63) -> 28741.5 | K63: =MONTH('[1]Pur ''10'!$D63) -> 3
D64: 40254 | E64: บุญสิน | F64: D | G64: R2010/03.2157 | H64: 1037 | J64: =SUMPRODUCT(--(MONTH($D$8:D64)=MONTH(D64)),$H$8:H64) -> 29778.5 | K64: =MONTH('[1]Pur ''10'!$D64) -> 3
D65: 40254 | E65: ยู่ล้ง | F65: D | G65: 16-3-53 | H65: 5905 | J65: =SUMPRODUCT(--(MONTH($D$8:D65)=MONTH(D65)),$H$8:H65) -> 35683.5 | K65: =MONTH('[1]Pur ''10'!$D65) -> 3
D66: 40259 | E66: วรมิตร | F66: D | G66: 2010-010130 | H66: 4544 | J66: =SUMPRODUCT(--(MONTH($D$8:D66)=MONTH(D66)),$H$8:H66) -> 40227.5 | K66: =MONTH('[1]Pur ''10'!$D66) -> 3
D67: 40261 | E67: บุญสิน | F67: D | G67: R2010/03.3229 | H67: 1360 | J67: =SUMPRODUCT(--(MONTH($D$8:D67)=MONTH(D67)),$H$8:H67) -> 41587.5 | K67: =MONTH('[1]Pur ''10'!$D67) -> 3
D68: 40261 | E68: ยู่ล้ง | F68: D | G68: A07478 | H68: 2542 | J68: =SUMPRODUCT(--(MONTH($D$8:D68)=MONTH(D68)),$H$8:H68) -> 44129.5 | K68: =MONTH('[1]Pur ''10'!$D68) -> 3
D69: 40266 | E69: รุ่งโรจน์ | F69: D | G69: INV-Rungroj-001 | H69: 2396 | J69: =SUMPRODUCT(--(MONTH($D$8:D69)=MONTH(D69)),$H$8:H69) -> 46525.5 | K69: =MONTH('[1]Pur ''10'!$D69) -> 3
D70: 40266 | E70: วรมิตร | F70: D | G70: 2010-011009 | H70: 4110 | J70: =SUMPRODUCT(--(MONTH($D$8:D70)=MONTH(D70)),$H$8:H70) -> 50635.5 | K70: =MONTH('[1]Pur ''10'!$D70) -> 3
... D73: 40269 | E73: วรมิตร | F73: D | G73: 2010-011402 | H73: 1067 | J73: =SUMPRODUCT(--(MONTH($D$8:D73)=MONTH(D73)),$H$8:H73) -> 4918 | K73: =MONTH('[1]Pur ''10'!$D73) -> 4
D74: 40273 | E74: Zui:GED | F74: D | G74: 13235093 | H74: 1361 | J74: =SUMPRODUCT(--(MONTH($D$8:D74)=MONTH(D74)),$H$8:H74) -> 6279 | K74: =MONTH('[1]Pur ''10'!$D74) -> 4
D75: 40273 | E75: วรมิตร | F75: D | G75: 2010-011839 | H75: 14996 | J75: =SUMPRODUCT(--(MONTH($D$8:D75)=MONTH(D75)),$H$8:H75) -> 21275 | K75: =MONTH('[1]Pur ''10'!$D75) -> 4
D76: 40275 | E76: T-Man | F76: D | G76: IV3015893 | H76: 760 | J76: =SUMPRODUCT(--(MONTH($D$8:D76)=MONTH(D76)),$H$8:H76) -> 22035 | K76: =MONTH('[1]Pur ''10'!$D76) -> 4
D77: 40275 | E77: T-Man | F77: D | G77: IV3015894 | H77: 807.5 | J77: =SUMPRODUCT(--(MONTH($D$8:D77)=MONTH(D77)),$H$8:H77) -> 22842.5 | K77: =MONTH('[1]Pur ''10'!$D77) -> 4
D78: 40275 | E78: บุญสิน | F78: D | G78: R2010/4.0773 | H78: 5694 | J78: =SUMPRODUCT(--(MONTH($D$8:D78)=MONTH(D78)),$H$8:H78) -> 28536.5 | K78: =MONTH('[1]Pur ''10'!$D78) -> 4
D79: 40275 | E79: ยู่ล้ง | F79: D | G79: A07973 | H79: 3704 | J79: =SUMPRODUCT(--(MONTH($D$8:D79)=MONTH(D79)),$H$8:H79) -> 32240.5 | K79: =MONTH('[1]Pur ''10'!$D79) -> 4
D80: 40276 | E80: Central | F80: D | G80: T0011506 | H80: 1337 | J80: =SUMPRODUCT(--(MONTH($D$8:D80)=MONTH(D80)),$H$8:H80) -> 33577.5 | K80: =MONTH('[1]Pur ''10'!$D80) -> 4
D81: 40276 | E81: วรมิตร | F81: D | G81: 2010-012400 | H81: 3527 | J81: =SUMPRODUCT(--(MONTH($D$8:D81)=MONTH(D81)),$H$8:H81) -> 37104.5 | K81: =MONTH('[1]Pur ''10'!$D81) -> 4
D82: 40277 | E82: T-Man | F82: D | G82: IV3016482 | H82: 1140 | I82: INV | J82: =SUMPRODUCT(--(MONTH($D$8:D82)=MONTH(D82)),$H$8:H82) -> 38244.5 | K82: =MONTH('[1]Pur ''10'!$D82) -> 4
D83: 40277 | E83: SC | F83: D | G83: 10SN06175 | H83: 860 | J83: =SUMPRODUCT(--(MONTH($D$8:D83)=MONTH(D83)),$H$8:H83) -> 39104.5 | K83: =MONTH('[1]Pur ''10'!$D83) -> 4
D84: 40284 | E84: TO | F84: D | G84: T5304/00597 | H84: 8500 | J84: =SUMPRODUCT(--(MONTH($D$8:D84)=MONTH(D84)),$H$8:H84) -> 47604.5 | K84: =MONTH('[1]Pur ''10'!$D84) -> 4
D85: 40284 | E85: TO | F85: D | G85: T5304/00601 | H85: 480 | J85: =SUMPRODUCT(--(MONTH($D$8:D85)=MONTH(D85)),$H$8:H85) -> 48084.5 | K85: =MONTH('[1]Pur ''10'!$D85) -> 4
D86: 40287 | E86: วรมิตร | F86: D | G86: 2010-013227 | H86: 11846 | J86: =SUMPRODUCT(--(MONTH($D$8:D86)=MONTH(D86)),$H$8:H86) -> 59930.5 | K86: =MONTH('[1]Pur ''10'!$D86) -> 4
D87: 40288 | E87: Central | F87: D | G87: T0012252 | H87: 573 | J87: =SUMPRODUCT(--(MONTH($D$8:D87)=MONTH(D87)),$H$8:H87) -> 60503.5 | K87: =MONTH('[1]Pur ''10'!$D87) -> 4
D88: 40289 | E88: ยู่ล้ง | F88: D | G88: A08353 | H88: 6806 | J88: =SUMPRODUCT(--(MONTH($D$8:D88)=MONTH(D88)),$H$8:H88) -> 67309.5 | K88: =MONTH('[1]Pur ''10'!$D88) -> 4
D89: 40289 | E89: บุญสิน | F89: D | G89: R2010/04.1973 | H89: 5596 | J89: =SUMPRODUCT(--(MONTH($D$8:D89)=MONTH(D89)),$H$8:H89) -> 72905.5 | K89: =MONTH('[1]Pur ''10'!$D89) -> 4
D90: 40291 | E90: Orex | F90: D | G90: IV53041226 | H90: 1191 | I90: INV | J90: =SUMPRODUCT(--(MONTH($D$8:D90)=MONTH(D90)),$H$8:H90) -> 74096.5 | K90: =MONTH('[1]Pur ''10'!$D90) -> 4
D91: 40294 | E91: วรมิตร | F91: D | G91: 2010-014313 | H91: 5752 | J91: =SUMPRODUCT(--(MONTH($D$8:D91)=MONTH(D91)),$H$8:H91) -> 79848.5 | K91: =MONTH('[1]Pur ''10'!$D91) -> 4
D92: 40295 | E92: TO | F92: D | G92: T5304/02123 | H92: 665 | I92: INV | J92: =SUMPRODUCT(--(MONTH($D$8:D92)=MONTH(D92)),$H$8:H92) -> 80513.5 | K92: =MONTH('[1]Pur ''10'!$D92) -> 4
D93: 40295 | E93: Central | F93: D | G93: M0002531 | H93: 3200 | J93: =SUMPRODUCT(--(MONTH($D$8:D93)=MONTH(D93)),$H$8:H93) -> 83713.5 | K93: =MONTH('[1]Pur ''10'!$D93) -> 4
D94: 40295 | E94: Central | F94: D | G94: T0013099 | H94: 210 | J94: =SUMPRODUCT(--(MONTH($D$8:D94)=MONTH(D94)),$H$8:H94) -> 83923.5 | K94: =MONTH('[1]Pur ''10'!$D94) -> 4
D95: 40296 | E95: ยู่ล้ง | F95: D | G95: 27-04-53 | H95: 454 | J95: =SUMPRODUCT(--(MONTH($D$8:D95)=MONTH(D95)),$H$8:H95) -> 84377.5 | K95: =MONTH('[1]Pur ''10'!$D95) -> 4
D96: 40296 | E96: บุญสิน | F96: D | G96: R2010/04.2891 | H96: 1059 | J96: =SUMPRODUCT(--(MONTH($D$8:D96)=MONTH(D96)),$H$8:H96) -> 85436.5 | K96: =MONTH('[1]Pur ''10'!$D96) -> 4
D97: 40296 | E97: บุญสิน | F97: D | G97: R2010/04.2952 | H97: 711 | J97: =SUMPRODUCT(--(MONTH($D$8:D97)=MONTH(D97)),$H$8:H97) -> 86147.5 | K97: =MONTH('[1]Pur ''10'!$D97) -> 4
D98: 40297 | E98: Ouayun | F98: D | G98: I072772 | H98: 2160 | J98: =SUMPRODUCT(--(MONTH($D$8:D98)=MONTH(D98)),$H$8:H98) -> 88307.5 | K98: =MONTH('[1]Pur ''10'!$D98) -> 4
D99: 40297 | E99: วรมิตร | F99: D | G99: 2010-014797 | H99: 3880 | J99: =SUMPRODUCT(--(MONTH($D$8:D99)=MONTH(D99)),$H$8:H99) -> 92187.5 | K99: =MONTH('[1]Pur ''10'!$D99) -> 4
D100: 40301 | E100: วรมิตร | F100: D | G100: 2010-015202 | H100: 7536 | J100: =SUMPRODUCT(--(MONTH($D$8:D100)=MONTH(D100)),$H$8:H100) -> 7536 | K100: =MONTH('[1]Pur ''10'!$D100) -> 5
D101: 40302 | E101: ชุนฮวด | F101: H | G101: 31-3-53 | H101: 16500 | J101: =SUMPRODUCT(--(MONTH($D$8:D101)=MONTH(D101)),$H$8:H101) -> 24036 | K101: =MONTH('[1]Pur ''10'!$D101) -> 5
D102: 40302 | E102: บุญสิน | F102: D | G102: R2010/05.0449 | H102: 1958 | J102: =SUMPRODUCT(--(MONTH($D$8:D102)=MONTH(D102)),$H$8:H102) -> 25994 | K102: =MONTH('[1]Pur ''10'!$D102) -> 5
D103: 40302 | E103: ยู่ล้ง | F103: D | G103: A08808 | H103: 4914 | J103: =SUMPRODUCT(--(MONTH($D$8:D103)=MONTH(D103)),$H$8:H103) -> 30908 | K103: =MONTH('[1]Pur ''10'!$D103) -> 5
D104: 40304 | E104: วรมิตร | F104: D | G104: 2010-015693 | H104: 1861.75 | J104: =SUMPRODUCT(--(MONTH($D$8:D104)=MONTH(D104)),$H$8:H104) -> 32769.75 | K104: =MONTH('[1]Pur ''10'!$D104) -> 5
D105: 40305 | E105: DPF | F105: D | G105: 17/53 | H105: 1044 | I105: INV | J105: =SUMPRODUCT(--(MONTH($D$8:D105)=MONTH(D105)),$H$8:H105) -> 33813.75 | K105: =MONTH('[1]Pur ''10'!$D105) -> 5
D106: 40305 | E106: TO | F106: D | G106: T5305/00525 | H106: 932 | J106: =SUMPRODUCT(--(MONTH($D$8:D106)=MONTH(D106)),$H$8:H106) -> 34745.75 | K106: =MONTH('[1]Pur ''10'!$D106) -> 5
D107: 40305 | E107: TO | F107: D | G107: T5305/00519 | H107: 8500 | J107: =SUMPRODUCT(--(MONTH($D$8:D107)=MONTH(D107)),$H$8:H107) -> 43245.75 | K107: =MONTH('[1]Pur ''10'!$D107) -> 5
D108: 40307 | E108: วรมิตร | F108: D | G108: 2010-016116 | H108: 2442 | J108: =SUMPRODUCT(--(MONTH($D$8:D108)=MONTH(D108)),$H$8:H108) -> 45687.75 | K108: =MONTH('[1]Pur ''10'!$D108) -> 5
D109: 40309 | E109: ยู่ล้ง | F109: D | G109: A09056 | H109: 4228 | J109: =SUMPRODUCT(--(MONTH($D$8:D109)=MONTH(D109)),$H$8:H109) -> 49915.75 | K109: =MONTH('[1]Pur ''10'!$D109) -> 5
D110: 40309 | E110: บุญสิน | F110: D | G110: R2010/05.1355 | H110: 4211 | J110: =SUMPRODUCT(--(MONTH($D$8:D110)=MONTH(D110)),$H$8:H110) -> 54126.75 | K110: =MONTH('[1]Pur ''10'!$D110) -> 5
D111: 40315 | E111: Zui:GED | F111: D | G111: 13357074 | H111: 1595 | J111: =SUMPRODUCT(--(MONTH($D$8:D111)=MONTH(D111)),$H$8:H111) -> 55721.75 | K111: =MONTH('[1]Pur ''10'!$D111) -> 5
D112: 40315 | E112: วรมิตร | F112: D | G112: 2010-017096 | H112: 3946 | J112: =SUMPRODUCT(--(MONTH($D$8:D112)=MONTH(D112)),$H$8:H112) -> 59667.75 | K112: =MONTH('[1]Pur ''10'!$D112) -> 5
D113: 40316 | E113: Seno | F113: D | G113: 6023 | H113: 1847 | J113: =SUMPRODUCT(--(MONTH($D$8:D113)=MONTH(D113)),$H$8:H113) -> 61514.75 | K113: =MONTH('[1]Pur ''10'!$D113) -> 5
...
