Workbook

Sheet Sheet1
D2: 2010 | E2: Jan | F2: Feb | G2: Mar | H2: Apr | I2: May | J2: Jun | K2: Jul | L2: Aug | M2: Sep | N2: Oct | O2: Nov | P2: Dec
D3: Drug | E3: ยอดต่อเดือน สำหรับ D
D4: Herb | E4: ยอดต่อเดือน สำหรับ H
D5: sum | E5: ยอดต่อเดือน รวม
A6: Report
D7: Date | E7: Whole | F7: Desc | G7: Bill no. | H7: Amount | I7: Remark | J7: Acc | K7: Month
D8: 40182 | E8: วรมิตร | F8: D | G8: 2010-000116 | H8: 3644 | J8: =SUMPRODUCT(--(MONTH($D$8:D8)=MONTH(D8)),$H$8:H8) -> 3644 | K8: =MONTH('[1]Pur ''10'!$D8) -> 1
D9: 40184 | E9: บุญสิน | F9: D | G9: R2010/01.0382 | H9: 3367.35 | J9: =SUMPRODUCT(--(MONTH($D$8:D9)=MONTH(D9)),$H$8:H9) -> 7011.35 | K9: =MONTH('[1]Pur ''10'!$D9) -> 1
D10: 40184 | E10: บุญสิน | F10: D | G10: R2010/01.0398 | H10: 978.8 | J10: =SUMPRODUCT(--(MONTH($D$8:D10)=MONTH(D10)),$H$8:H10) -> 7990.15 | K10: =MONTH('[1]Pur ''10'!$D10) -> 1
D11: 40184 | E11: ยู่ล้ง | F11: D | G11: A04784 | H11: 2143 | J11: =SUMPRODUCT(--(MONTH($D$8:D11)=MONTH(D11)),$H$8:H11) -> 10133.15 | K11: =MONTH('[1]Pur ''10'!$D11) -> 1
D12: 40185 | E12: วรมิตร | F12: D | G12: 2010-000640 | H12: 2669 | J12: =SUMPRODUCT(--(MONTH($D$8:D12)=MONTH(D12)),$H$8:H12) -> 12802.15 | K12: =MONTH('[1]Pur ''10'!$D12) -> 1
D13: 40186 | E13: TO | F13: D | G13: T5211/00397 | H13: 516 | J13: =SUMPRODUCT(--(MONTH($D$8:D13)=MONTH(D13)),$H$8:H13) -> 13318.15 | K13: =MONTH('[1]Pur ''10'!$D13) -> 1
D14: 40186 | E14: Central | F14: D | G14: T0000402 | H14: 382 | J14: =SUMPRODUCT(--(MONTH($D$8:D14)=MONTH(D14)),$H$8:H14) -> 13700.15 | K14: =MONTH('[1]Pur ''10'!$D14) -> 1
D15: 40189 | E15: Central | F15: D | G15: M0000150 | H15: 3000 | J15: =SUMPRODUCT(--(MONTH($D$8:D15)=MONTH(D15)),$H$8:H15) -> 16700.15 | K15: =MONTH('[1]Pur ''10'!$D15) -> 1
D16: 40189 | E16: วรมิตร | F16: D | G16: 2020-001021 | H16: 2602 | J16: =SUMPRODUCT(--(MONTH($D$8:D16)=MONTH(D16)),$H$8:H16) -> 19302.15 | K16: =MONTH('[1]Pur ''10'!$D16) -> 1
D17: 40191 | E17: บุญสิน | F17: D | G17: R2010/01/1450 | H17: 3164.25 | J17: =SUMPRODUCT(--(MONTH($D$8:D17)=MONTH(D17)),$H$8:H17) -> 22466.4 | K17: =MONTH('[1]Pur ''10'!$D17) -> 1
D18: 40191 | E18: ยู่ล้ง | F18: D | G18: A05074 | H18: 1712 | J18: =SUMPRODUCT(--(MONTH($D$8:D18)=MONTH(D18)),$H$8:H18) -> 24178.4 | K18: =MONTH('[1]Pur ''10'!$D18) -> 1
D19: 40192 | E19: วรมิตร | F19: D | G19: 2010-001509 | H19: 872 | J19: =SUMPRODUCT(--(MONTH($D$8:D19)=MONTH(D19)),$H$8:H19) -> 25050.4 | K19: =MONTH('[1]Pur ''10'!$D19) -> 1
... D30: 40210 | E30: วรมิตร | F30: D | G30: 2010-003876 | H30: 6565 | J30: =SUMPRODUCT(--(MONTH($D$8:D30)=MONTH(D30)),$H$8:H30) -> 6565 | K30: =MONTH('[1]Pur ''10'!$D30) -> 2
D31: 40211 | E31: ชุนฮวด | F31: D | G31: 40211 | H31: 12405 | J31: =SUMPRODUCT(--(MONTH($D$8:D31)=MONTH(D31)),$H$8:H31) -> 18970 | K31: =MONTH('[1]Pur ''10'!$D31) -> 2
D32: 40211 | E32: ชุนฮวด | F32: H | G32: 40211 | H32: =19198-12405 -> 6793 | J32: =SUMPRODUCT(--(MONTH($D$8:D32)=MONTH(D32)),$H$8:H32) -> 25763 | K32: =MONTH('[1]Pur ''10'!$D32) -> 2
D33: 40212 | E33: บุญสิน | F33: D | G33: R2010/02.0343 | H33: 1163 | J33: =SUMPRODUCT(--(MONTH($D$8:D33)=MONTH(D33)),$H$8:H33) -> 26926 | K33: =MONTH('[1]Pur ''10'!$D33) -> 2
D34: 40212 | E34: Osotspa | F34: D | G34: 15014 | H34: 6390 | J34: =SUMPRODUCT(--(MONTH($D$8:D34)=MONTH(D34)),$H$8:H34) -> 33316 | K34: =MONTH('[1]Pur ''10'!$D34) -> 2
D35: 40212 | E35: Central | F35: D | G35: T0003543 | H35: 1337 | J35: =SUMPRODUCT(--(MONTH($D$8:D35)=MONTH(D35)),$H$8:H35) -> 34653 | K35: =MONTH('[1]Pur ''10'!$D35) -> 2
D36: 40213 | E36: ยู่ล้ง | F36: D | G36: A05818 | H36: 4888 | J36: =SUMPRODUCT(--(MONTH($D$8:D36)=MONTH(D36)),$H$8:H36) -> 39541 | K36: =MONTH('[1]Pur ''10'!$D36) -> 2
D37: 40213 | E37: วรมิตร | F37: D | G37: 2010-0004378 | H37: 1794 | J37: =SUMPRODUCT(--(MONTH($D$8:D37)=MONTH(D37)),$H$8:H37) -> 41335 | K37: =MONTH('[1]Pur ''10'!$D37) -> 2
D38: 40214 | E38: TO | F38: D | G38: T5302/00197 | H38: 1203 | J38: =SUMPRODUCT(--(MONTH($D$8:D38)=MONTH(D38)),$H$8:H38) -> 42538 | K38: =MONTH('[1]Pur ''10'!$D38) -> 2
D39: 40215 | E39: Central | F39: D | G39: T0004097 | H39: 1463 | J39: =SUMPRODUCT(--(MONTH($D$8:D39)=MONTH(D39)),$H$8:H39) -> 44001 | K39: =MONTH('[1]Pur ''10'!$D39) -> 2
D40: 40217 | E40: วรมิตร | F40: D | G40: 2010-004824 | H40: 5846 | J40: =SUMPRODUCT(--(MONTH($D$8:D40)=MONTH(D40)),$H$8:H40) -> 49847 | K40: =MONTH('[1]Pur ''10'!$D40) -> 2
D41: 40219 | E41: บุญสิน | F41: D | G41: R2010/02.1415 | H41: 2658 | J41: =SUMPRODUCT(--(MONTH($D$8:D41)=MONTH(D41)),$H$8:H41) -> 52505 | K41: =MONTH('[1]Pur ''10'!$D41) -> 2
D42: 40219 | E42: ยู่ล้ง | F42: D | G42: 10-2-53 | H42: 1511 | J42: =SUMPRODUCT(--(MONTH($D$8:D42)=MONTH(D42)),$H$8:H42) -> 54016 | K42: =MONTH('[1]Pur ''10'!$D42) -> 2
D43: 40221 | E43: TO | F43: D | G43: T5302/01191 | H43: 1750 | J43: =SUMPRODUCT(--(MONTH($D$8:D43)=MONTH(D43)),$H$8:H43) -> 55766 | K43: =MONTH('[1]Pur ''10'!$D43) -> 2
D44: 40226 | E44: บุญสิน | F44: D | G44: R2010/02.2269 | H44: 1378 | J44: =SUMPRODUCT(--(MONTH($D$8:D44)=MONTH(D44)),$H$8:H44) -> 57144 | K44: =MONTH('[1]Pur ''10'!$D44) -> 2
D45: 40227 | E45: วรมิตร | F45: D | G45: 2010-005990 | H45: 4774 | J45: =SUMPRODUCT(--(MONTH($D$8:D45)=MONTH(D45)),$H$8:H45) -> 61918 | K45: =MONTH('[1]Pur ''10'!$D45) -> 2
D46: 40231 | E46: วรมิตร | F46: D | G46: 2010-006581 | H46: 6541 | J46: =SUMPRODUCT(--(MONTH($D$8:D46)=MONTH(D46)),$H$8:H46) -> 68459 | K46: =MONTH('[1]Pur ''10'!$D46) -> 2
D47: 40232 | E47: ยู่ล้ง | F47: D | G47: 17-2-53 | H47: 938 | J47: =SUMPRODUCT(--(MONTH($D$8:D47)=MONTH(D47)),$H$8:H47) -> 69397 | K47: =MONTH('[1]Pur ''10'!$D47) -> 2
D48: 40232 | E48: DPF | F48: D | G48: 894 | H48: 3034 | J48: =SUMPRODUCT(--(MONTH($D$8:D48)=MONTH(D48)),$H$8:H48) -> 72431 | K48: =MONTH('[1]Pur ''10'!$D48) -> 2
D49: 40233 | E49: ยู่ล้ง | F49: D | G49: A06523 | H49: 1577 | J49: =SUMPRODUCT(--(MONTH($D$8:D49)=MONTH(D49)),$H$8:H49) -> 74008 | K49: =MONTH('[1]Pur ''10'!$D49) -> 2
D50: 40233 | E50: บุญสิน | F50: D | G50: R2010/02.3228 | H50: 1845 | J50: =SUMPRODUCT(--(MONTH($D$8:D50)=MONTH(D50)),$H$8:H50) -> 75853 | K50: =MONTH('[1]Pur ''10'!$D50) -> 2
D51: 40234 | E51: Zui:GED | F51: D | G51: 13107302 | H51: 1118.15 | J51: =SUMPRODUCT(--(MONTH($D$8:D51)=MONTH(D51)),$H$8:H51) -> 76971.15 | K51: =MONTH('[1]Pur ''10'!$D51) -> 2
...
