Workbook

Sheet Total
A1: Source.Name | B1: Name | C1: Access | D1: Branch | E1: First Login Time | F1: First Call Morning | G1: Last Logout Time | H1: No. of Login | I1: Total Login Time | J1: Product
A2: Login Logout DATA 1.xls | B2: WASAMONC | C2: CN | D2: HQ1 | E2: 44382.34 | F2: 44382.36 | G2: 44382.73 | H2: 2 | I2: 9 hr(s) 4 min(s) | J2: A
A3: Login Logout DATA 1.xls | B3: PENPRAPAP | C3: Team Leader | D3: HQ1 | E3: 44382.34 | F3: 44382.375 | G3: 44382.779 | H3: 4 | I3: 10 hr(s) 25 min(s) | J3: A
A4: Login Logout DATA 1.xls | B4: SURATM | C4: senior | D4: HQ1 | E4: 44382.34 | F4: 44382.353 | G4: 44382.733 | H4: 11 | I4: 7 hr(s) 57 min(s) | J4: A
A5: Login Logout DATA 1.xls | B5: KANYARATK | C5: CN | D5: HQ1 | E5: 44382.35 | F5: 44382.354 | G5: 44382.732 | H5: 1 | I5: 9 hr(s) 10 min(s) | J5: A
A6: Login Logout DATA 1.xls | B6: WANWISAK | C6: CN | D6: HQ1 | E6: 44382.351 | F6: 44382.353 | G6: 44382.732 | H6: 2 | I6: 9 hr(s) 7 min(s) | J6: A
A7: Login Logout DATA 1.xls | B7: PRIYADAA | C7: Team Leader | D7: HQ1 | E7: 44382.351 | H7: 1 | I7: 0 min(s) 0 sec(s) | J7: A
A8: Login Logout DATA 1.xls | B8: SUPAWADEEM | C8: Team Leader | D8: HQ1 | E8: 44382.352 | F8: 44382.367 | G8: 44382.731 | H8: 1 | I8: 9 hr(s) 6 min(s) | J8: A
A9: Login Logout DATA 1.xls | B9: WASAMONC | C9: CN | D9: HQ1 | E9: 44383.34 | F9: 44383.36 | G9: 44383.73 | H9: 2 | I9: 9 hr(s) 4 min(s) | J9: A
A10: Login Logout DATA 1.xls | B10: PENPRAPAP | C10: Team Leader | D10: HQ1 | E10: 44383.34 | F10: 44383.375 | G10: 44383.779 | H10: 4 | I10: 10 hr(s) 25 min(s) | J10: A
A11: Login Logout DATA 1.xls | B11: SURATM | C11: senior | D11: HQ1 | E11: 44383.34 | F11: 44383.353 | G11: 44383.733 | H11: 11 | I11: 7 hr(s) 57 min(s) | J11: A
A12: Login Logout DATA 1.xls | B12: KANYARATK | C12: CN | D12: HQ1 | E12: 44383.35 | F12: 44383.354 | G12: 44383.732 | H12: 1 | I12: 9 hr(s) 10 min(s) | J12: A
A13: Login Logout DATA 1.xls | B13: WANWISAK | C13: CN | D13: HQ1 | E13: 44383.351 | F13: 44383.353 | G13: 44383.732 | H13: 2 | I13: 9 hr(s) 7 min(s) | J13: A
A14: Login Logout DATA 1.xls | B14: PRIYADAA | C14: Team Leader | D14: HQ1 | E14: 44383.351 | H14: 1 | I14: 0 min(s) 0 sec(s) | J14: A
A15: Login Logout DATA 1.xls | B15: SUPAWADEEM | C15: Team Leader | D15: HQ1 | E15: 44383.352 | F15: 44383.367 | G15: 44383.731 | H15: 1 | I15: 9 hr(s) 6 min(s) | J15: A
A16: Login Logout DATA 1.xls | B16: WASAMONC | C16: CN | D16: HQ1 | E16: 44384.34 | F16: 44384.36 | G16: 44384.73 | H16: 2 | I16: 9 hr(s) 4 min(s) | J16: A
A17: Login Logout DATA 1.xls | B17: PENPRAPAP | C17: Team Leader | D17: HQ1 | E17: 44384.34 | F17: 44384.375 | G17: 44384.779 | H17: 4 | I17: 10 hr(s) 25 min(s) | J17: A
A18: Login Logout DATA 1.xls | B18: SURATM | C18: senior | D18: HQ1 | E18: 44384.34 | F18: 44384.353 | G18: 44384.733 | H18: 11 | I18: 7 hr(s) 57 min(s) | J18: A
A19: Login Logout DATA 1.xls | B19: KANYARATK | C19: CN | D19: HQ1 | E19: 44384.35 | F19: 44384.354 | G19: 44384.732 | H19: 1 | I19: 9 hr(s) 10 min(s) | J19: A
A20: Login Logout DATA 1.xls | B20: WANWISAK | C20: CN | D20: HQ1 | E20: 44384.351 | F20: 44384.353 | G20: 44384.732 | H20: 2 | I20: 9 hr(s) 7 min(s) | J20: A
A21: Login Logout DATA 1.xls | B21: PRIYADAA | C21: Team Leader | D21: HQ1 | E21: 44384.351 | H21: 1 | I21: 0 min(s) 0 sec(s) | J21: A
A22: Login Logout DATA 1.xls | B22: SUPAWADEEM | C22: Team Leader | D22: HQ1 | E22: 44384.352 | F22: 44384.367 | G22: 44384.731 | H22: 1 | I22: 9 hr(s) 6 min(s) | J22: A
A23: Login Logout DATA 1.xls | B23: WASAMONC | C23: CN | D23: HQ1 | E23: 44385.34 | F23: 44385.36 | G23: 44385.73 | H23: 2 | I23: 9 hr(s) 4 min(s) | J23: A
A24: Login Logout DATA 1.xls | B24: PENPRAPAP | C24: Team Leader | D24: HQ1 | E24: 44385.34 | F24: 44385.375 | G24: 44385.779 | H24: 4 | I24: 10 hr(s) 25 min(s) | J24: A
A25: Login Logout DATA 1.xls | B25: SURATM | C25: senior | D25: HQ1 | E25: 44385.34 | F25: 44385.353 | G25: 44385.733 | H25: 11 | I25: 7 hr(s) 57 min(s) | J25: A
A26: Login Logout DATA 1.xls | B26: KANYARATK | C26: CN | D26: HQ1 | E26: 44385.35 | F26: 44385.354 | G26: 44385.732 | H26: 1 | I26: 9 hr(s) 10 min(s) | J26: A
A27: Login Logout DATA 1.xls | B27: WANWISAK | C27: CN | D27: HQ1 | E27: 44385.351 | F27: 44385.353 | G27: 44385.732 | H27: 2 | I27: 9 hr(s) 7 min(s) | J27: A
A28: Login Logout DATA 1.xls | B28: PRIYADAA | C28: Team Leader | D28: HQ1 | E28: 44385.351 | H28: 1 | I28: 0 min(s) 0 sec(s) | J28: A
A29: Login Logout DATA 1.xls | B29: SUPAWADEEM | C29: Team Leader | D29: HQ1 | E29: 44385.352 | F29: 44385.367 | G29: 44385.731 | H29: 1 | I29: 9 hr(s) 6 min(s) | J29: A
A30: Login Logout DATA 2.xls | B30: KORRKOT.P | C30: CW | D30: HQ1 | E30: 44382.356 | F30: 44382.36 | G30: 44382.728 | H30: 1 | I30: 8 hr(s) 56 min(s) | J30: C
A31: Login Logout DATA 2.xls | B31: AREEYA.P | C31: CW | D31: HQ1 | E31: 44382.356 | F31: 44382.36 | G31: 44382.73 | H31: 2 | I31: 8 hr(s) 57 min(s) | J31: C
A32: Login Logout DATA 2.xls | B32: NANTIKA.K | C32: CW | D32: HQ1 | E32: 44382.359 | F32: 44382.366 | G32: 44382.731 | H32: 4 | I32: 8 hr(s) 40 min(s) | J32: C
A33: Login Logout DATA 2.xls | B33: THEETAWADEE.T | C33: CW | D33: HQ1 | E33: 44382.359 | F33: 44382.362 | G33: 44382.731 | H33: 2 | I33: 8 hr(s) 41 min(s) | J33: C
A34: Login Logout DATA 2.xls | B34: WANWISA.R | C34: CW | D34: HQ1 | E34: 44382.36 | F34: 44382.363 | G34: 44382.731 | H34: 2 | I34: 8 hr(s) 51 min(s) | J34: C
A35: Login Logout DATA 2.xls | B35: SONGKROT.P | C35: CW | D35: HQ1 | E35: 44382.36 | F35: 44382.367 | G35: 44382.728 | H35: 2 | I35: 8 hr(s) 46 min(s) | J35: C
A36: Login Logout DATA 2.xls | B36: THACHAKARN.C | C36: CW | D36: HQ1 | E36: 44382.362 | F36: 44382.366 | G36: 44382.729 | H36: 2 | I36: 8 hr(s) 39 min(s) | J36: C
A37: Login Logout DATA 2.xls | B37: ARAYA.S | C37: CW | D37: HQ1 | E37: 44382.363 | F37: 44382.364 | G37: 44382.731 | H37: 2 | I37: 8 hr(s) 45 min(s) | J37: C
A38: Login Logout DATA 2.xls | B38: WIMOL.M | C38: Team Leader | D38: HQ1 | E38: 44382.366 | G38: 44382.734 | H38: 1 | I38: 8 hr(s) 49 min(s) | J38: C
A39: Login Logout DATA 2.xls | B39: RATTHAVIT.J | C39: SW | D39: HQ1 | E39: 44382.458 | G39: 44382.819 | H39: 1 | I39: 8 hr(s) 39 min(s) | J39: C
A40: Login Logout DATA 2.xls | B40: KORRKOT.P | C40: CW | D40: HQ1 | E40: 44383.356 | F40: 44383.36 | G40: 44383.728 | H40: 1 | I40: 8 hr(s) 56 min(s) | J40: C
...

Sheet Pivot
A1: Product | B1: (ทั้งหมด)
A3: สูงสุด ของ First Login Time | B3: ป้ายชื่อคอลัมน์ | P3: ป้ายชื่อแถว | Q3: Name | R3: Access
B4: <05/07/2021 | C4: 05-ก.ค. | D4: 06-ก.ค. | E4: 07-ก.ค. | F4: 08-ก.ค. | G4: 09-ก.ค. | H4: ผลรวมทั้งหมด | P4: A | Q4: KANYARATK | R4: CN
A5: ป้ายชื่อแถว | P5: A | Q5: PENPRAPAP | R5: Team Leader
A6: ANANAYA.KP | C6: 44382.474 | D6: 44383.474 | E6: 44384.474 | F6: 44385.474 | H6: 44385.474 | P6: A | Q6: PRIYADAA | R6: Team Leader
A7: ANANYA.K | C7: 44382.367 | D7: 44383.367 | E7: 44384.367 | F7: 44385.367 | H7: 44385.367 | P7: A | Q7: SUPAWADEEM | R7: Team Leader
A8: ANUSORN.B | C8: 44382.36 | D8: 44383.36 | E8: 44384.36 | F8: 44385.36 | H8: 44385.36 | P8: A | Q8: SURATM | R8: senior
A9: ARAYA.S | C9: 44382.363 | D9: 44383.363 | E9: 44384.363 | F9: 44385.363 | H9: 44385.363 | P9: A | Q9: WANWISAK | R9: CN
A10: AREEYA.P | C10: 44382.356 | D10: 44383.356 | E10: 44384.356 | F10: 44385.356 | H10: 44385.356 | P10: A | Q10: WASAMONC | R10: CN
A11: CHORPAKA.S | C11: 44382.357 | D11: 44383.357 | E11: 44384.357 | F11: 44385.357 | H11: 44385.357 | P11: C | Q11: ARAYA.S | R11: CW
A12: DUANGSUPORN.S | C12: 44382.354 | D12: 44383.354 | E12: 44384.354 | F12: 44385.354 | H12: 44385.354 | P12: C | Q12: AREEYA.P | R12: CW
A13: JINDA.C | C13: 44382.358 | D13: 44383.358 | E13: 44384.358 | F13: 44385.358 | H13: 44385.358 | P13: C | Q13: KORRKOT.P | R13: CW
A14: KANYARATK | C14: 44382.35 | D14: 44383.35 | E14: 44384.35 | F14: 44385.35 | H14: 44385.35 | P14: C | Q14: NANTIKA.K | R14: CW
A15: KORRKOT.P | C15: 44382.356 | D15: 44383.356 | E15: 44384.356 | F15: 44385.356 | H15: 44385.356 | P15: C | Q15: RATTHAVIT.J | R15: SW
A16: KOTCHAKORN.T | C16: 44382.385 | D16: 44383.385 | E16: 44384.385 | F16: 44385.385 | H16: 44385.385 | P16: C | Q16: SONGKROT.P | R16: CW
A17: NANTIKA.K | C17: 44382.359 | D17: 44383.359 | E17: 44384.359 | F17: 44385.359 | H17: 44385.359 | P17: C | Q17: THACHAKARN.C | R17: CW
A18: NATDANAI.B | D18: 44383.331 | E18: 44384.331 | F18: 44385.331 | G18: 44386.331 | H18: 44386.331 | P18: C | Q18: THEETAWADEE.T | R18: CW
A19: ORAPHAN.D | C19: 44382.342 | D19: 44383.342 | E19: 44384.342 | F19: 44385.342 | H19: 44385.342 | P19: C | Q19: WANWISA.R | R19: CW
A20: PANNAWIT.P | D20: 44383.356 | E20: 44384.356 | F20: 44385.356 | G20: 44386.356 | H20: 44386.356 | P20: C | Q20: WIMOL.M | R20: Team Leader
A21: PENPRAPAP | C21: 44382.34 | D21: 44383.34 | E21: 44384.34 | F21: 44385.34 | H21: 44385.34 | P21: E | Q21: NATDANAI.B | R21: CW
A22: PILAIWAN.KP | C22: 44382.354 | D22: 44383.354 | E22: 44384.354 | F22: 44385.354 | H22: 44385.354 | P22: E | Q22: PANNAWIT.P | R22: CW
A23: PILAIWAN.R | C23: 44382.478 | D23: 44383.478 | E23: 44384.478 | F23: 44385.478 | H23: 44385.478 | P23: E | Q23: RATTHAVIT.JE | R23: SW
A24: PRASITPONG.K | C24: 44382.359 | D24: 44383.359 | E24: 44384.359 | F24: 44385.359 | H24: 44385.359 | P24: E | Q24: TEERAWAT.KE | R24: Team Leader
A25: PRIYADAA | C25: 44382.351 | D25: 44383.351 | E25: 44384.351 | F25: 44385.351 | H25: 44385.351 | P25: E | Q25: WATCHAREEPORN.S | R25: CW
A26: RATTHAVIT.J | C26: 44382.458 | D26: 44383.458 | E26: 44384.458 | F26: 44385.458 | H26: 44385.458 | P26: K | Q26: ANANAYA.KP | R26: CW
A27: RATTHAVIT.JE | D27: 44383.561 | E27: 44384.561 | F27: 44385.561 | G27: 44386.561 | H27: 44386.561 | P27: K | Q27: KOTCHAKORN.T | R27: SBB
A28: SAISAMPHAN.O | C28: 44382.361 | D28: 44383.361 | E28: 44384.361 | F28: 44385.361 | H28: 44385.361 | P28: K | Q28: PILAIWAN.KP | R28: CW
A29: SONGKROT.P | C29: 44382.36 | D29: 44383.36 | E29: 44384.36 | F29: 44385.36 | H29: 44385.36 | P29: K | Q29: SUPPACHAI.T | R29: CW
A30: SUPAWADEEM | C30: 44382.352 | D30: 44383.352 | E30: 44384.352 | F30: 44385.352 | H30: 44385.352 | P30: KL | Q30: VEERAVIT.S | R30: CW
A31: SUPPACHAI.T | C31: 44382.348 | D31: 44383.348 | E31: 44384.348 | F31: 44385.348 | H31: 44385.348 | P31: KL | Q31: WITTAYA.B | R31: CW
A32: SURATM | C32: 44382.34 | D32: 44383.34 | E32: 44384.34 | F32: 44385.34 | H32: 44385.34 | P32: S | Q32: ANANYA.K | R32: SW
A33: TEERAWAT.KE | D33: 44383.362 | E33: 44384.362 | F33: 44385.362 | G33: 44386.362 | H33: 44386.362 | P33: S | Q33: CHORPAKA.S | R33: CW
A34: THACHAKARN.C | C34: 44382.362 | D34: 44383.362 | E34: 44384.362 | F34: 44385.362 | H34: 44385.362 | P34: S | Q34: DUANGSUPORN.S | R34: CW
A35: THEETAWADEE.T | C35: 44382.359 | D35: 44383.359 | E35: 44384.359 | F35: 44385.359 | H35: 44385.359 | P35: S | Q35: JINDA.C | R35: Team Leader
A36: VEERAVIT.S | C36: 44382.36 | D36: 44383.36 | E36: 44384.36 | F36: 44385.36 | H36: 44385.36 | P36: S | Q36: ORAPHAN.D | R36: Super
A37: WANWISA.R | C37: 44382.36 | D37: 44383.36 | E37: 44384.36 | F37: 44385.36 | H37: 44385.36 | P37: S | Q37: PILAIWAN.R | R37: Team Leader
A38: WANWISAK | C38: 44382.351 | D38: 44383.351 | E38: 44384.351 | F38: 44385.351 | H38: 44385.351 | P38: S | Q38: PRASITPONG.K | R38: CW
A39: WASAMONC | C39: 44382.34 | D39: 44383.34 | E39: 44384.34 | F39: 44385.34 | H39: 44385.34 | P39: S | Q39: SAISAMPHAN.O | R39: CW
A40: WATCHAREEPORN.S | D40: 44383.363 | E40: 44384.363 | F40: 44385.363 | G40: 44386.363 | H40: 44386.363 | P40: Y | Q40: ANUSORN.B | R40: Team Leader
A41: WIMOL.M | C41: 44382.366 | D41: 44383.366 | E41: 44384.366 | F41: 44385.366 | H41: 44385.366 | P41: (ว่าง) | Q41: (ว่าง) | R41: (ว่าง)
...

Sheet Report 1
A2: Team | B2: Status
A3: K | B3: First Login Time
A6: Name | B6: Access | C6: 44378 | D6: 44379 | E6: 44380 | F6: 44381 | G6: 44382 | H6: 44383 | I6: 44384 | J6: 44385 | K6: 44386 | L6: 44387 | M6: 44388 | N6: 44389 | O6: 44390 | P6: 44391 | Q6: 44392 | R6: 44393 | S6: 44394 | T6: 44395 | U6: 44396 | V6: 44397 | W6: 44398 | X6: 44399 | Y6: 44400 | Z6: 44401 | AA6: 44402 | AB6: 44403 | AC6: 44404 | AD6: 44405 | AE6: 44406 | AF6: 44407 | AG6: 44408
A7: =IFERROR(INDEX(Pivot!Q:Q,_xlfn.AGGREGATE(15,6,ROW(Pivot!$Q$5:$Q$99999)/(Pivot!$P$5:$P$99999=$A$3),ROWS(A$7:A7))),"") -> ANANAYA.KP | B7: =IFERROR(INDEX(Pivot!R:R,_xlfn.AGGREGATE(15,6,ROW(Pivot!$Q$5:$Q$99999)/(Pivot!$P$5:$P$99999=$A$3),ROWS(B$7:B7))),"") -> CW | C7: =IFERROR(LOOKUP(2,1/(Total!$J$2:$J$149=$A$3)/(Total!$B$2:$B$149=$A7)/(INT(INDEX(Total!$E$2:$G$149,0,MATCH($B$3,Total!$E$1:$G$1,0)))=C$6),INDEX(Total!$E$2:$I$149,0,MATCH($B$3,Total!$E$1:$I$1,0)))-C$6,"") | D7: =IFERROR(LOOKUP(2,1/(Total!$J$2:$J$149=$A$3)/(Total!$B$2:$B$149=$A7)/(INT(INDEX(Total!$E$2:$G$149,0,MATCH($B$3,Total!$E$1:$G$1,0)))=D$6),INDEX(Total!$E$2:$I$149,0,MATCH($B$3,Total!$E$1:$I$1,0)))-D$6,"") | E7: =IFERROR(LOOKUP(2,1/(Total!$J$2:$J$149=$A$3)/(Total!$B$2:$B$149=$A7)/(INT(INDEX(Total!$E$2:$G$149,0,MATCH($B$3,Total!$E$1:$G$1,0)))=E$6),INDEX(Total!$E$2:$I$149,0,MATCH($B$3,Total!$E$1:$I$1,0)))-E$6,"") | F7: =IFERROR(LOOKUP(2,1/(Total!$J$2:$J$149=$A$3)/(Total!$B$2:$B$149=$A7)/(INT(INDEX(Total!$E$2:$G$149,0,MATCH($B$3,Total!$E$1:$G$1,0)))=F$6),INDEX(Total!$E$2:$I$149,0,MATCH($B$3,Total!$E$1:$I$1,0)))-F$6,"") | G7: =IFERROR(LOOKUP(2,1/(Total!$J$2:$J$149=$A$3)/(Total!$B$2:$B$149=$A7)/(INT(INDEX(Total!$E$2:$G$149,0,MATCH($B$3,Total!$E$1:$G$1,0)))=G$6),INDEX(Total!$E$2:$I$149,0,MATCH($B$3,Total!$E$1:$I$1,0)))-G$6,"") -> 0.47361111 | H7: =IFERROR(LOOKUP(2,1/(Total!$J$2:$J$149=$A$3)/(Total!$B$2:$B$149=$A7)/(INT(INDEX(Total!$E$2:$G$149,0,MATCH($B$3,Total!$E$1:$G$1,0)))=H$6),INDEX(Total!$E$2:$I$149,0,MATCH($B$3,Total!$E$1:$I$1,0)))-H$6,"") -> 0.47361111 | I7: =IFERROR(LOOKUP(2,1/(Total!$J$2:$J$149=$A$3)/(Total!$B$2:$B$149=$A7)/(INT(INDEX(Total!$E$2:$G$149,0,MATCH($B$3,Total!$E$1:$G$1,0)))=I$6),INDEX(Total!$E$2:$I$149,0,MATCH($B$3,Total!$E$1:$I$1,0)))-I$6,"") -> 0.47361111 | J7: =IFERROR(LOOKUP(2,1/(Total!$J$2:$J$149=$A$3)/(Total!$B$2:$B$149=$A7)/(INT(INDEX(Total!$E$2:$G$149,0,MATCH($B$3,Total!$E$1:$G$1,0)))=J$6),INDEX(Total!$E$2:$I$149,0,MATCH($B$3,Total!$E$1:$I$1,0)))-J$6,"") -> 0.47361111 | ... AC7: =IFERROR(LOOKUP(2,1/(Total!$J$2:$J$149=$A$3)/(Total!$B$2:$B$149=$A7)/(INT(INDEX(Total!$E$2:$G$149,0,MATCH($B$3,Total!$E$1:$G$1,0)))=AC$6),INDEX(Total!$E$2:$I$149,0,MATCH($B$3,Total!$E$1:$I$1,0)))-AC$6,"")
A8: =IFERROR(INDEX(Pivot!Q:Q,_xlfn.AGGREGATE(15,6,ROW(Pivot!$Q$5:$Q$99999)/(Pivot!$P$5:$P$99999=$A$3),ROWS(A$7:A8))),"") -> KOTCHAKORN.T | B8: =IFERROR(INDEX(Pivot!R:R,_xlfn.AGGREGATE(15,6,ROW(Pivot!$Q$5:$Q$99999)/(Pivot!$P$5:$P$99999=$A$3),ROWS(B$7:B8))),"") -> SBB | D8: =IFERROR(LOOKUP(2,1/(Total!$J$2:$J$149=$A$3)/(Total!$B$2:$B$149=$A8)/(INT(INDEX(Total!$E$2:$G$149,0,MATCH($B$3,Total!$E$1:$G$1,0)))=D$6),INDEX(Total!$E$2:$I$149,0,MATCH($B$3,Total!$E$1:$I$1,0)))-D$6,"") | E8: =IFERROR(LOOKUP(2,1/(Total!$J$2:$J$149=$A$3)/(Total!$B$2:$B$149=$A8)/(INT(INDEX(Total!$E$2:$G$149,0,MATCH($B$3,Total!$E$1:$G$1,0)))=E$6),INDEX(Total!$E$2:$I$149,0,MATCH($B$3,Total!$E$1:$I$1,0)))-E$6,"") | F8: =IFERROR(LOOKUP(2,1/(Total!$J$2:$J$149=$A$3)/(Total!$B$2:$B$149=$A8)/(INT(INDEX(Total!$E$2:$G$149,0,MATCH($B$3,Total!$E$1:$G$1,0)))=F$6),INDEX(Total!$E$2:$I$149,0,MATCH($B$3,Total!$E$1:$I$1,0)))-F$6,"") | G8: =IFERROR(LOOKUP(2,1/(Total!$J$2:$J$149=$A$3)/(Total!$B$2:$B$149=$A8)/(INT(INDEX(Total!$E$2:$G$149,0,MATCH($B$3,Total!$E$1:$G$1,0)))=G$6),INDEX(Total!$E$2:$I$149,0,MATCH($B$3,Total!$E$1:$I$1,0)))-G$6,"") -> 0.38541667 | H8: =IFERROR(LOOKUP(2,1/(Total!$J$2:$J$149=$A$3)/(Total!$B$2:$B$149=$A8)/(INT(INDEX(Total!$E$2:$G$149,0,MATCH($B$3,Total!$E$1:$G$1,0)))=H$6),INDEX(Total!$E$2:$I$149,0,MATCH($B$3,Total!$E$1:$I$1,0)))-H$6,"") -> 0.38541667 | I8: =IFERROR(LOOKUP(2,1/(Total!$J$2:$J$149=$A$3)/(Total!$B$2:$B$149=$A8)/(INT(INDEX(Total!$E$2:$G$149,0,MATCH($B$3,Total!$E$1:$G$1,0)))=I$6),INDEX(Total!$E$2:$I$149,0,MATCH($B$3,Total!$E$1:$I$1,0)))-I$6,"") -> 0.38541667 | J8: =IFERROR(LOOKUP(2,1/(Total!$J$2:$J$149=$A$3)/(Total!$B$2:$B$149=$A8)/(INT(INDEX(Total!$E$2:$G$149,0,MATCH($B$3,Total!$E$1:$G$1,0)))=J$6),INDEX(Total!$E$2:$I$149,0,MATCH($B$3,Total!$E$1:$I$1,0)))-J$6,"") -> 0.38541667 | K8: =IFERROR(LOOKUP(2,1/(Total!$J$2:$J$149=$A$3)/(Total!$B$2:$B$149=$A8)/(INT(INDEX(Total!$E$2:$G$149,0,MATCH($B$3,Total!$E$1:$G$1,0)))=K$6),INDEX(Total!$E$2:$I$149,0,MATCH($B$3,Total!$E$1:$I$1,0)))-K$6,"") | ... AC8: =IFERROR(LOOKUP(2,1/(Total!$J$2:$J$149=$A$3)/(Total!$B$2:$B$149=$A8)/(INT(INDEX(Total!$E$2:$G$149,0,MATCH($B$3,Total!$E$1:$G$1,0)))=AC$6),INDEX(Total!$E$2:$I$149,0,MATCH($B$3,Total!$E$1:$I$1,0)))-AC$6,"")
A9: =IFERROR(INDEX(Pivot!Q:Q,_xlfn.AGGREGATE(15,6,ROW(Pivot!$Q$5:$Q$99999)/(Pivot!$P$5:$P$99999=$A$3),ROWS(A$7:A9))),"") -> PILAIWAN.KP | B9: =IFERROR(INDEX(Pivot!R:R,_xlfn.AGGREGATE(15,6,ROW(Pivot!$Q$5:$Q$99999)/(Pivot!$P$5:$P$99999=$A$3),ROWS(B$7:B9))),"") -> CW | D9: =IFERROR(LOOKUP(2,1/(Total!$J$2:$J$149=$A$3)/(Total!$B$2:$B$149=$A9)/(INT(INDEX(Total!$E$2:$G$149,0,MATCH($B$3,Total!$E$1:$G$1,0)))=D$6),INDEX(Total!$E$2:$I$149,0,MATCH($B$3,Total!$E$1:$I$1,0)))-D$6,"") | E9: =IFERROR(LOOKUP(2,1/(Total!$J$2:$J$149=$A$3)/(Total!$B$2:$B$149=$A9)/(INT(INDEX(Total!$E$2:$G$149,0,MATCH($B$3,Total!$E$1:$G$1,0)))=E$6),INDEX(Total!$E$2:$I$149,0,MATCH($B$3,Total!$E$1:$I$1,0)))-E$6,"") | F9: =IFERROR(LOOKUP(2,1/(Total!$J$2:$J$149=$A$3)/(Total!$B$2:$B$149=$A9)/(INT(INDEX(Total!$E$2:$G$149,0,MATCH($B$3,Total!$E$1:$G$1,0)))=F$6),INDEX(Total!$E$2:$I$149,0,MATCH($B$3,Total!$E$1:$I$1,0)))-F$6,"") | G9: =IFERROR(LOOKUP(2,1/(Total!$J$2:$J$149=$A$3)/(Total!$B$2:$B$149=$A9)/(INT(INDEX(Total!$E$2:$G$149,0,MATCH($B$3,Total!$E$1:$G$1,0)))=G$6),INDEX(Total!$E$2:$I$149,0,MATCH($B$3,Total!$E$1:$I$1,0)))-G$6,"") -> 0.35416667 | H9: =IFERROR(LOOKUP(2,1/(Total!$J$2:$J$149=$A$3)/(Total!$B$2:$B$149=$A9)/(INT(INDEX(Total!$E$2:$G$149,0,MATCH($B$3,Total!$E$1:$G$1,0)))=H$6),INDEX(Total!$E$2:$I$149,0,MATCH($B$3,Total!$E$1:$I$1,0)))-H$6,"") -> 0.35416667 | I9: =IFERROR(LOOKUP(2,1/(Total!$J$2:$J$149=$A$3)/(Total!$B$2:$B$149=$A9)/(INT(INDEX(Total!$E$2:$G$149,0,MATCH($B$3,Total!$E$1:$G$1,0)))=I$6),INDEX(Total!$E$2:$I$149,0,MATCH($B$3,Total!$E$1:$I$1,0)))-I$6,"") -> 0.35416667 | J9: =IFERROR(LOOKUP(2,1/(Total!$J$2:$J$149=$A$3)/(Total!$B$2:$B$149=$A9)/(INT(INDEX(Total!$E$2:$G$149,0,MATCH($B$3,Total!$E$1:$G$1,0)))=J$6),INDEX(Total!$E$2:$I$149,0,MATCH($B$3,Total!$E$1:$I$1,0)))-J$6,"") -> 0.35416667 | K9: =IFERROR(LOOKUP(2,1/(Total!$J$2:$J$149=$A$3)/(Total!$B$2:$B$149=$A9)/(INT(INDEX(Total!$E$2:$G$149,0,MATCH($B$3,Total!$E$1:$G$1,0)))=K$6),INDEX(Total!$E$2:$I$149,0,MATCH($B$3,Total!$E$1:$I$1,0)))-K$6,"") | ... AC9: =IFERROR(LOOKUP(2,1/(Total!$J$2:$J$149=$A$3)/(Total!$B$2:$B$149=$A9)/(INT(INDEX(Total!$E$2:$G$149,0,MATCH($B$3,Total!$E$1:$G$1,0)))=AC$6),INDEX(Total!$E$2:$I$149,0,MATCH($B$3,Total!$E$1:$I$1,0)))-AC$6,"")
A10: =IFERROR(INDEX(Pivot!Q:Q,_xlfn.AGGREGATE(15,6,ROW(Pivot!$Q$5:$Q$99999)/(Pivot!$P$5:$P$99999=$A$3),ROWS(A$7:A10))),"") -> SUPPACHAI.T | B10: =IFERROR(INDEX(Pivot!R:R,_xlfn.AGGREGATE(15,6,ROW(Pivot!$Q$5:$Q$99999)/(Pivot!$P$5:$P$99999=$A$3),ROWS(B$7:B10))),"") -> CW | D10: =IFERROR(LOOKUP(2,1/(Total!$J$2:$J$149=$A$3)/(Total!$B$2:$B$149=$A10)/(INT(INDEX(Total!$E$2:$G$149,0,MATCH($B$3,Total!$E$1:$G$1,0)))=D$6),INDEX(Total!$E$2:$I$149,0,MATCH($B$3,Total!$E$1:$I$1,0)))-D$6,"") | E10: =IFERROR(LOOKUP(2,1/(Total!$J$2:$J$149=$A$3)/(Total!$B$2:$B$149=$A10)/(INT(INDEX(Total!$E$2:$G$149,0,MATCH($B$3,Total!$E$1:$G$1,0)))=E$6),INDEX(Total!$E$2:$I$149,0,MATCH($B$3,Total!$E$1:$I$1,0)))-E$6,"") | F10: =IFERROR(LOOKUP(2,1/(Total!$J$2:$J$149=$A$3)/(Total!$B$2:$B$149=$A10)/(INT(INDEX(Total!$E$2:$G$149,0,MATCH($B$3,Total!$E$1:$G$1,0)))=F$6),INDEX(Total!$E$2:$I$149,0,MATCH($B$3,Total!$E$1:$I$1,0)))-F$6,"") | G10: =IFERROR(LOOKUP(2,1/(Total!$J$2:$J$149=$A$3)/(Total!$B$2:$B$149=$A10)/(INT(INDEX(Total!$E$2:$G$149,0,MATCH($B$3,Total!$E$1:$G$1,0)))=G$6),INDEX(Total!$E$2:$I$149,0,MATCH($B$3,Total!$E$1:$I$1,0)))-G$6,"") -> 0.34791667 | H10: =IFERROR(LOOKUP(2,1/(Total!$J$2:$J$149=$A$3)/(Total!$B$2:$B$149=$A10)/(INT(INDEX(Total!$E$2:$G$149,0,MATCH($B$3,Total!$E$1:$G$1,0)))=H$6),INDEX(Total!$E$2:$I$149,0,MATCH($B$3,Total!$E$1:$I$1,0)))-H$6,"") -> 0.34791667 | I10: =IFERROR(LOOKUP(2,1/(Total!$J$2:$J$149=$A$3)/(Total!$B$2:$B$149=$A10)/(INT(INDEX(Total!$E$2:$G$149,0,MATCH($B$3,Total!$E$1:$G$1,0)))=I$6),INDEX(Total!$E$2:$I$149,0,MATCH($B$3,Total!$E$1:$I$1,0)))-I$6,"") -> 0.34791667 | J10: =IFERROR(LOOKUP(2,1/(Total!$J$2:$J$149=$A$3)/(Total!$B$2:$B$149=$A10)/(INT(INDEX(Total!$E$2:$G$149,0,MATCH($B$3,Total!$E$1:$G$1,0)))=J$6),INDEX(Total!$E$2:$I$149,0,MATCH($B$3,Total!$E$1:$I$1,0)))-J$6,"") -> 0.34791667 | K10: =IFERROR(LOOKUP(2,1/(Total!$J$2:$J$149=$A$3)/(Total!$B$2:$B$149=$A10)/(INT(INDEX(Total!$E$2:$G$149,0,MATCH($B$3,Total!$E$1:$G$1,0)))=K$6),INDEX(Total!$E$2:$I$149,0,MATCH($B$3,Total!$E$1:$I$1,0)))-K$6,"") | ... AC10: =IFERROR(LOOKUP(2,1/(Total!$J$2:$J$149=$A$3)/(Total!$B$2:$B$149=$A10)/(INT(INDEX(Total!$E$2:$G$149,0,MATCH($B$3,Total!$E$1:$G$1,0)))=AC$6),INDEX(Total!$E$2:$I$149,0,MATCH($B$3,Total!$E$1:$I$1,0)))-AC$6,"")
A11: =IFERROR(INDEX(Pivot!Q:Q,_xlfn.AGGREGATE(15,6,ROW(Pivot!$Q$5:$Q$99999)/(Pivot!$P$5:$P$99999=$A$3),ROWS(A$7:A11))),"") | B11: =IFERROR(INDEX(Pivot!R:R,_xlfn.AGGREGATE(15,6,ROW(Pivot!$Q$5:$Q$99999)/(Pivot!$P$5:$P$99999=$A$3),ROWS(B$7:B11))),"") | D11: =IFERROR(LOOKUP(2,1/(Total!$J$2:$J$149=$A$3)/(Total!$B$2:$B$149=$A11)/(INT(INDEX(Total!$E$2:$G$149,0,MATCH($B$3,Total!$E$1:$G$1,0)))=D$6),INDEX(Total!$E$2:$I$149,0,MATCH($B$3,Total!$E$1:$I$1,0)))-D$6,"") | E11: =IFERROR(LOOKUP(2,1/(Total!$J$2:$J$149=$A$3)/(Total!$B$2:$B$149=$A11)/(INT(INDEX(Total!$E$2:$G$149,0,MATCH($B$3,Total!$E$1:$G$1,0)))=E$6),INDEX(Total!$E$2:$I$149,0,MATCH($B$3,Total!$E$1:$I$1,0)))-E$6,"") | F11: =IFERROR(LOOKUP(2,1/(Total!$J$2:$J$149=$A$3)/(Total!$B$2:$B$149=$A11)/(INT(INDEX(Total!$E$2:$G$149,0,MATCH($B$3,Total!$E$1:$G$1,0)))=F$6),INDEX(Total!$E$2:$I$149,0,MATCH($B$3,Total!$E$1:$I$1,0)))-F$6,"") | G11: =IFERROR(LOOKUP(2,1/(Total!$J$2:$J$149=$A$3)/(Total!$B$2:$B$149=$A11)/(INT(INDEX(Total!$E$2:$G$149,0,MATCH($B$3,Total!$E$1:$G$1,0)))=G$6),INDEX(Total!$E$2:$I$149,0,MATCH($B$3,Total!$E$1:$I$1,0)))-G$6,"") | H11: =IFERROR(LOOKUP(2,1/(Total!$J$2:$J$149=$A$3)/(Total!$B$2:$B$149=$A11)/(INT(INDEX(Total!$E$2:$G$149,0,MATCH($B$3,Total!$E$1:$G$1,0)))=H$6),INDEX(Total!$E$2:$I$149,0,MATCH($B$3,Total!$E$1:$I$1,0)))-H$6,"") | I11: =IFERROR(LOOKUP(2,1/(Total!$J$2:$J$149=$A$3)/(Total!$B$2:$B$149=$A11)/(INT(INDEX(Total!$E$2:$G$149,0,MATCH($B$3,Total!$E$1:$G$1,0)))=I$6),INDEX(Total!$E$2:$I$149,0,MATCH($B$3,Total!$E$1:$I$1,0)))-I$6,"") | J11: =IFERROR(LOOKUP(2,1/(Total!$J$2:$J$149=$A$3)/(Total!$B$2:$B$149=$A11)/(INT(INDEX(Total!$E$2:$G$149,0,MATCH($B$3,Total!$E$1:$G$1,0)))=J$6),INDEX(Total!$E$2:$I$149,0,MATCH($B$3,Total!$E$1:$I$1,0)))-J$6,"") | K11: =IFERROR(LOOKUP(2,1/(Total!$J$2:$J$149=$A$3)/(Total!$B$2:$B$149=$A11)/(INT(INDEX(Total!$E$2:$G$149,0,MATCH($B$3,Total!$E$1:$G$1,0)))=K$6),INDEX(Total!$E$2:$I$149,0,MATCH($B$3,Total!$E$1:$I$1,0)))-K$6,"") | ... AC11: =IFERROR(LOOKUP(2,1/(Total!$J$2:$J$149=$A$3)/(Total!$B$2:$B$149=$A11)/(INT(INDEX(Total!$E$2:$G$149,0,MATCH($B$3,Total!$E$1:$G$1,0)))=AC$6),INDEX(Total!$E$2:$I$149,0,MATCH($B$3,Total!$E$1:$I$1,0)))-AC$6,"")
A12: =IFERROR(INDEX(Pivot!Q:Q,_xlfn.AGGREGATE(15,6,ROW(Pivot!$Q$5:$Q$99999)/(Pivot!$P$5:$P$99999=$A$3),ROWS(A$7:A12))),"") | B12: =IFERROR(INDEX(Pivot!R:R,_xlfn.AGGREGATE(15,6,ROW(Pivot!$Q$5:$Q$99999)/(Pivot!$P$5:$P$99999=$A$3),ROWS(B$7:B12))),"") | D12: =IFERROR(LOOKUP(2,1/(Total!$J$2:$J$149=$A$3)/(Total!$B$2:$B$149=$A12)/(INT(INDEX(Total!$E$2:$G$149,0,MATCH($B$3,Total!$E$1:$G$1,0)))=D$6),INDEX(Total!$E$2:$I$149,0,MATCH($B$3,Total!$E$1:$I$1,0)))-D$6,"") | E12: =IFERROR(LOOKUP(2,1/(Total!$J$2:$J$149=$A$3)/(Total!$B$2:$B$149=$A12)/(INT(INDEX(Total!$E$2:$G$149,0,MATCH($B$3,Total!$E$1:$G$1,0)))=E$6),INDEX(Total!$E$2:$I$149,0,MATCH($B$3,Total!$E$1:$I$1,0)))-E$6,"") | F12: =IFERROR(LOOKUP(2,1/(Total!$J$2:$J$149=$A$3)/(Total!$B$2:$B$149=$A12)/(INT(INDEX(Total!$E$2:$G$149,0,MATCH($B$3,Total!$E$1:$G$1,0)))=F$6),INDEX(Total!$E$2:$I$149,0,MATCH($B$3,Total!$E$1:$I$1,0)))-F$6,"") | G12: =IFERROR(LOOKUP(2,1/(Total!$J$2:$J$149=$A$3)/(Total!$B$2:$B$149=$A12)/(INT(INDEX(Total!$E$2:$G$149,0,MATCH($B$3,Total!$E$1:$G$1,0)))=G$6),INDEX(Total!$E$2:$I$149,0,MATCH($B$3,Total!$E$1:$I$1,0)))-G$6,"") | H12: =IFERROR(LOOKUP(2,1/(Total!$J$2:$J$149=$A$3)/(Total!$B$2:$B$149=$A12)/(INT(INDEX(Total!$E$2:$G$149,0,MATCH($B$3,Total!$E$1:$G$1,0)))=H$6),INDEX(Total!$E$2:$I$149,0,MATCH($B$3,Total!$E$1:$I$1,0)))-H$6,"") | I12: =IFERROR(LOOKUP(2,1/(Total!$J$2:$J$149=$A$3)/(Total!$B$2:$B$149=$A12)/(INT(INDEX(Total!$E$2:$G$149,0,MATCH($B$3,Total!$E$1:$G$1,0)))=I$6),INDEX(Total!$E$2:$I$149,0,MATCH($B$3,Total!$E$1:$I$1,0)))-I$6,"") | J12: =IFERROR(LOOKUP(2,1/(Total!$J$2:$J$149=$A$3)/(Total!$B$2:$B$149=$A12)/(INT(INDEX(Total!$E$2:$G$149,0,MATCH($B$3,Total!$E$1:$G$1,0)))=J$6),INDEX(Total!$E$2:$I$149,0,MATCH($B$3,Total!$E$1:$I$1,0)))-J$6,"") | K12: =IFERROR(LOOKUP(2,1/(Total!$J$2:$J$149=$A$3)/(Total!$B$2:$B$149=$A12)/(INT(INDEX(Total!$E$2:$G$149,0,MATCH($B$3,Total!$E$1:$G$1,0)))=K$6),INDEX(Total!$E$2:$I$149,0,MATCH($B$3,Total!$E$1:$I$1,0)))-K$6,"") | ... AC12: =IFERROR(LOOKUP(2,1/(Total!$J$2:$J$149=$A$3)/(Total!$B$2:$B$149=$A12)/(INT(INDEX(Total!$E$2:$G$149,0,MATCH($B$3,Total!$E$1:$G$1,0)))=AC$6),INDEX(Total!$E$2:$I$149,0,MATCH($B$3,Total!$E$1:$I$1,0)))-AC$6,"")
A13: =IFERROR(INDEX(Pivot!Q:Q,_xlfn.AGGREGATE(15,6,ROW(Pivot!$Q$5:$Q$99999)/(Pivot!$P$5:$P$99999=$A$3),ROWS(A$7:A13))),"") | B13: =IFERROR(INDEX(Pivot!R:R,_xlfn.AGGREGATE(15,6,ROW(Pivot!$Q$5:$Q$99999)/(Pivot!$P$5:$P$99999=$A$3),ROWS(B$7:B13))),"") | D13: =IFERROR(LOOKUP(2,1/(Total!$J$2:$J$149=$A$3)/(Total!$B$2:$B$149=$A13)/(INT(INDEX(Total!$E$2:$G$149,0,MATCH($B$3,Total!$E$1:$G$1,0)))=D$6),INDEX(Total!$E$2:$I$149,0,MATCH($B$3,Total!$E$1:$I$1,0)))-D$6,"") | E13: =IFERROR(LOOKUP(2,1/(Total!$J$2:$J$149=$A$3)/(Total!$B$2:$B$149=$A13)/(INT(INDEX(Total!$E$2:$G$149,0,MATCH($B$3,Total!$E$1:$G$1,0)))=E$6),INDEX(Total!$E$2:$I$149,0,MATCH($B$3,Total!$E$1:$I$1,0)))-E$6,"") | F13: =IFERROR(LOOKUP(2,1/(Total!$J$2:$J$149=$A$3)/(Total!$B$2:$B$149=$A13)/(INT(INDEX(Total!$E$2:$G$149,0,MATCH($B$3,Total!$E$1:$G$1,0)))=F$6),INDEX(Total!$E$2:$I$149,0,MATCH($B$3,Total!$E$1:$I$1,0)))-F$6,"") | G13: =IFERROR(LOOKUP(2,1/(Total!$J$2:$J$149=$A$3)/(Total!$B$2:$B$149=$A13)/(INT(INDEX(Total!$E$2:$G$149,0,MATCH($B$3,Total!$E$1:$G$1,0)))=G$6),INDEX(Total!$E$2:$I$149,0,MATCH($B$3,Total!$E$1:$I$1,0)))-G$6,"") | H13: =IFERROR(LOOKUP(2,1/(Total!$J$2:$J$149=$A$3)/(Total!$B$2:$B$149=$A13)/(INT(INDEX(Total!$E$2:$G$149,0,MATCH($B$3,Total!$E$1:$G$1,0)))=H$6),INDEX(Total!$E$2:$I$149,0,MATCH($B$3,Total!$E$1:$I$1,0)))-H$6,"") | I13: =IFERROR(LOOKUP(2,1/(Total!$J$2:$J$149=$A$3)/(Total!$B$2:$B$149=$A13)/(INT(INDEX(Total!$E$2:$G$149,0,MATCH($B$3,Total!$E$1:$G$1,0)))=I$6),INDEX(Total!$E$2:$I$149,0,MATCH($B$3,Total!$E$1:$I$1,0)))-I$6,"") | J13: =IFERROR(LOOKUP(2,1/(Total!$J$2:$J$149=$A$3)/(Total!$B$2:$B$149=$A13)/(INT(INDEX(Total!$E$2:$G$149,0,MATCH($B$3,Total!$E$1:$G$1,0)))=J$6),INDEX(Total!$E$2:$I$149,0,MATCH($B$3,Total!$E$1:$I$1,0)))-J$6,"") | K13: =IFERROR(LOOKUP(2,1/(Total!$J$2:$J$149=$A$3)/(Total!$B$2:$B$149=$A13)/(INT(INDEX(Total!$E$2:$G$149,0,MATCH($B$3,Total!$E$1:$G$1,0)))=K$6),INDEX(Total!$E$2:$I$149,0,MATCH($B$3,Total!$E$1:$I$1,0)))-K$6,"") | ... AC13: =IFERROR(LOOKUP(2,1/(Total!$J$2:$J$149=$A$3)/(Total!$B$2:$B$149=$A13)/(INT(INDEX(Total!$E$2:$G$149,0,MATCH($B$3,Total!$E$1:$G$1,0)))=AC$6),INDEX(Total!$E$2:$I$149,0,MATCH($B$3,Total!$E$1:$I$1,0)))-AC$6,"")
A14: =IFERROR(INDEX(Pivot!Q:Q,_xlfn.AGGREGATE(15,6,ROW(Pivot!$Q$5:$Q$99999)/(Pivot!$P$5:$P$99999=$A$3),ROWS(A$7:A14))),"") | B14: =IFERROR(INDEX(Pivot!R:R,_xlfn.AGGREGATE(15,6,ROW(Pivot!$Q$5:$Q$99999)/(Pivot!$P$5:$P$99999=$A$3),ROWS(B$7:B14))),"") | D14: =IFERROR(LOOKUP(2,1/(Total!$J$2:$J$149=$A$3)/(Total!$B$2:$B$149=$A14)/(INT(INDEX(Total!$E$2:$G$149,0,MATCH($B$3,Total!$E$1:$G$1,0)))=D$6),INDEX(Total!$E$2:$I$149,0,MATCH($B$3,Total!$E$1:$I$1,0)))-D$6,"") | E14: =IFERROR(LOOKUP(2,1/(Total!$J$2:$J$149=$A$3)/(Total!$B$2:$B$149=$A14)/(INT(INDEX(Total!$E$2:$G$149,0,MATCH($B$3,Total!$E$1:$G$1,0)))=E$6),INDEX(Total!$E$2:$I$149,0,MATCH($B$3,Total!$E$1:$I$1,0)))-E$6,"") | F14: =IFERROR(LOOKUP(2,1/(Total!$J$2:$J$149=$A$3)/(Total!$B$2:$B$149=$A14)/(INT(INDEX(Total!$E$2:$G$149,0,MATCH($B$3,Total!$E$1:$G$1,0)))=F$6),INDEX(Total!$E$2:$I$149,0,MATCH($B$3,Total!$E$1:$I$1,0)))-F$6,"") | G14: =IFERROR(LOOKUP(2,1/(Total!$J$2:$J$149=$A$3)/(Total!$B$2:$B$149=$A14)/(INT(INDEX(Total!$E$2:$G$149,0,MATCH($B$3,Total!$E$1:$G$1,0)))=G$6),INDEX(Total!$E$2:$I$149,0,MATCH($B$3,Total!$E$1:$I$1,0)))-G$6,"") | H14: =IFERROR(LOOKUP(2,1/(Total!$J$2:$J$149=$A$3)/(Total!$B$2:$B$149=$A14)/(INT(INDEX(Total!$E$2:$G$149,0,MATCH($B$3,Total!$E$1:$G$1,0)))=H$6),INDEX(Total!$E$2:$I$149,0,MATCH($B$3,Total!$E$1:$I$1,0)))-H$6,"") | I14: =IFERROR(LOOKUP(2,1/(Total!$J$2:$J$149=$A$3)/(Total!$B$2:$B$149=$A14)/(INT(INDEX(Total!$E$2:$G$149,0,MATCH($B$3,Total!$E$1:$G$1,0)))=I$6),INDEX(Total!$E$2:$I$149,0,MATCH($B$3,Total!$E$1:$I$1,0)))-I$6,"") | J14: =IFERROR(LOOKUP(2,1/(Total!$J$2:$J$149=$A$3)/(Total!$B$2:$B$149=$A14)/(INT(INDEX(Total!$E$2:$G$149,0,MATCH($B$3,Total!$E$1:$G$1,0)))=J$6),INDEX(Total!$E$2:$I$149,0,MATCH($B$3,Total!$E$1:$I$1,0)))-J$6,"") | K14: =IFERROR(LOOKUP(2,1/(Total!$J$2:$J$149=$A$3)/(Total!$B$2:$B$149=$A14)/(INT(INDEX(Total!$E$2:$G$149,0,MATCH($B$3,Total!$E$1:$G$1,0)))=K$6),INDEX(Total!$E$2:$I$149,0,MATCH($B$3,Total!$E$1:$I$1,0)))-K$6,"") | ... AC14: =IFERROR(LOOKUP(2,1/(Total!$J$2:$J$149=$A$3)/(Total!$B$2:$B$149=$A14)/(INT(INDEX(Total!$E$2:$G$149,0,MATCH($B$3,Total!$E$1:$G$1,0)))=AC$6),INDEX(Total!$E$2:$I$149,0,MATCH($B$3,Total!$E$1:$I$1,0)))-AC$6,"")
A15: =IFERROR(INDEX(Pivot!Q:Q,_xlfn.AGGREGATE(15,6,ROW(Pivot!$Q$5:$Q$99999)/(Pivot!$P$5:$P$99999=$A$3),ROWS(A$7:A15))),"") | B15: =IFERROR(INDEX(Pivot!R:R,_xlfn.AGGREGATE(15,6,ROW(Pivot!$Q$5:$Q$99999)/(Pivot!$P$5:$P$99999=$A$3),ROWS(B$7:B15))),"") | D15: =IFERROR(LOOKUP(2,1/(Total!$J$2:$J$149=$A$3)/(Total!$B$2:$B$149=$A15)/(INT(INDEX(Total!$E$2:$G$149,0,MATCH($B$3,Total!$E$1:$G$1,0)))=D$6),INDEX(Total!$E$2:$I$149,0,MATCH($B$3,Total!$E$1:$I$1,0)))-D$6,"") | E15: =IFERROR(LOOKUP(2,1/(Total!$J$2:$J$149=$A$3)/(Total!$B$2:$B$149=$A15)/(INT(INDEX(Total!$E$2:$G$149,0,MATCH($B$3,Total!$E$1:$G$1,0)))=E$6),INDEX(Total!$E$2:$I$149,0,MATCH($B$3,Total!$E$1:$I$1,0)))-E$6,"") | F15: =IFERROR(LOOKUP(2,1/(Total!$J$2:$J$149=$A$3)/(Total!$B$2:$B$149=$A15)/(INT(INDEX(Total!$E$2:$G$149,0,MATCH($B$3,Total!$E$1:$G$1,0)))=F$6),INDEX(Total!$E$2:$I$149,0,MATCH($B$3,Total!$E$1:$I$1,0)))-F$6,"") | G15: =IFERROR(LOOKUP(2,1/(Total!$J$2:$J$149=$A$3)/(Total!$B$2:$B$149=$A15)/(INT(INDEX(Total!$E$2:$G$149,0,MATCH($B$3,Total!$E$1:$G$1,0)))=G$6),INDEX(Total!$E$2:$I$149,0,MATCH($B$3,Total!$E$1:$I$1,0)))-G$6,"") | H15: =IFERROR(LOOKUP(2,1/(Total!$J$2:$J$149=$A$3)/(Total!$B$2:$B$149=$A15)/(INT(INDEX(Total!$E$2:$G$149,0,MATCH($B$3,Total!$E$1:$G$1,0)))=H$6),INDEX(Total!$E$2:$I$149,0,MATCH($B$3,Total!$E$1:$I$1,0)))-H$6,"") | I15: =IFERROR(LOOKUP(2,1/(Total!$J$2:$J$149=$A$3)/(Total!$B$2:$B$149=$A15)/(INT(INDEX(Total!$E$2:$G$149,0,MATCH($B$3,Total!$E$1:$G$1,0)))=I$6),INDEX(Total!$E$2:$I$149,0,MATCH($B$3,Total!$E$1:$I$1,0)))-I$6,"") | J15: =IFERROR(LOOKUP(2,1/(Total!$J$2:$J$149=$A$3)/(Total!$B$2:$B$149=$A15)/(INT(INDEX(Total!$E$2:$G$149,0,MATCH($B$3,Total!$E$1:$G$1,0)))=J$6),INDEX(Total!$E$2:$I$149,0,MATCH($B$3,Total!$E$1:$I$1,0)))-J$6,"") | K15: =IFERROR(LOOKUP(2,1/(Total!$J$2:$J$149=$A$3)/(Total!$B$2:$B$149=$A15)/(INT(INDEX(Total!$E$2:$G$149,0,MATCH($B$3,Total!$E$1:$G$1,0)))=K$6),INDEX(Total!$E$2:$I$149,0,MATCH($B$3,Total!$E$1:$I$1,0)))-K$6,"") | ... AC15: =IFERROR(LOOKUP(2,1/(Total!$J$2:$J$149=$A$3)/(Total!$B$2:$B$149=$A15)/(INT(INDEX(Total!$E$2:$G$149,0,MATCH($B$3,Total!$E$1:$G$1,0)))=AC$6),INDEX(Total!$E$2:$I$149,0,MATCH($B$3,Total!$E$1:$I$1,0)))-AC$6,"")
A16: =IFERROR(INDEX(Pivot!Q:Q,_xlfn.AGGREGATE(15,6,ROW(Pivot!$Q$5:$Q$99999)/(Pivot!$P$5:$P$99999=$A$3),ROWS(A$7:A16))),"") | B16: =IFERROR(INDEX(Pivot!R:R,_xlfn.AGGREGATE(15,6,ROW(Pivot!$Q$5:$Q$99999)/(Pivot!$P$5:$P$99999=$A$3),ROWS(B$7:B16))),"") | D16: =IFERROR(LOOKUP(2,1/(Total!$J$2:$J$149=$A$3)/(Total!$B$2:$B$149=$A16)/(INT(INDEX(Total!$E$2:$G$149,0,MATCH($B$3,Total!$E$1:$G$1,0)))=D$6),INDEX(Total!$E$2:$I$149,0,MATCH($B$3,Total!$E$1:$I$1,0)))-D$6,"") | E16: =IFERROR(LOOKUP(2,1/(Total!$J$2:$J$149=$A$3)/(Total!$B$2:$B$149=$A16)/(INT(INDEX(Total!$E$2:$G$149,0,MATCH($B$3,Total!$E$1:$G$1,0)))=E$6),INDEX(Total!$E$2:$I$149,0,MATCH($B$3,Total!$E$1:$I$1,0)))-E$6,"") | F16: =IFERROR(LOOKUP(2,1/(Total!$J$2:$J$149=$A$3)/(Total!$B$2:$B$149=$A16)/(INT(INDEX(Total!$E$2:$G$149,0,MATCH($B$3,Total!$E$1:$G$1,0)))=F$6),INDEX(Total!$E$2:$I$149,0,MATCH($B$3,Total!$E$1:$I$1,0)))-F$6,"") | G16: =IFERROR(LOOKUP(2,1/(Total!$J$2:$J$149=$A$3)/(Total!$B$2:$B$149=$A16)/(INT(INDEX(Total!$E$2:$G$149,0,MATCH($B$3,Total!$E$1:$G$1,0)))=G$6),INDEX(Total!$E$2:$I$149,0,MATCH($B$3,Total!$E$1:$I$1,0)))-G$6,"") | H16: =IFERROR(LOOKUP(2,1/(Total!$J$2:$J$149=$A$3)/(Total!$B$2:$B$149=$A16)/(INT(INDEX(Total!$E$2:$G$149,0,MATCH($B$3,Total!$E$1:$G$1,0)))=H$6),INDEX(Total!$E$2:$I$149,0,MATCH($B$3,Total!$E$1:$I$1,0)))-H$6,"") | I16: =IFERROR(LOOKUP(2,1/(Total!$J$2:$J$149=$A$3)/(Total!$B$2:$B$149=$A16)/(INT(INDEX(Total!$E$2:$G$149,0,MATCH($B$3,Total!$E$1:$G$1,0)))=I$6),INDEX(Total!$E$2:$I$149,0,MATCH($B$3,Total!$E$1:$I$1,0)))-I$6,"") | J16: =IFERROR(LOOKUP(2,1/(Total!$J$2:$J$149=$A$3)/(Total!$B$2:$B$149=$A16)/(INT(INDEX(Total!$E$2:$G$149,0,MATCH($B$3,Total!$E$1:$G$1,0)))=J$6),INDEX(Total!$E$2:$I$149,0,MATCH($B$3,Total!$E$1:$I$1,0)))-J$6,"") | K16: =IFERROR(LOOKUP(2,1/(Total!$J$2:$J$149=$A$3)/(Total!$B$2:$B$149=$A16)/(INT(INDEX(Total!$E$2:$G$149,0,MATCH($B$3,Total!$E$1:$G$1,0)))=K$6),INDEX(Total!$E$2:$I$149,0,MATCH($B$3,Total!$E$1:$I$1,0)))-K$6,"") | ... AC16: =IFERROR(LOOKUP(2,1/(Total!$J$2:$J$149=$A$3)/(Total!$B$2:$B$149=$A16)/(INT(INDEX(Total!$E$2:$G$149,0,MATCH($B$3,Total!$E$1:$G$1,0)))=AC$6),INDEX(Total!$E$2:$I$149,0,MATCH($B$3,Total!$E$1:$I$1,0)))-AC$6,"")
A17: =IFERROR(INDEX(Pivot!Q:Q,_xlfn.AGGREGATE(15,6,ROW(Pivot!$Q$5:$Q$99999)/(Pivot!$P$5:$P$99999=$A$3),ROWS(A$7:A17))),"") | B17: =IFERROR(INDEX(Pivot!R:R,_xlfn.AGGREGATE(15,6,ROW(Pivot!$Q$5:$Q$99999)/(Pivot!$P$5:$P$99999=$A$3),ROWS(B$7:B17))),"") | D17: =IFERROR(LOOKUP(2,1/(Total!$J$2:$J$149=$A$3)/(Total!$B$2:$B$149=$A17)/(INT(INDEX(Total!$E$2:$G$149,0,MATCH($B$3,Total!$E$1:$G$1,0)))=D$6),INDEX(Total!$E$2:$I$149,0,MATCH($B$3,Total!$E$1:$I$1,0)))-D$6,"") | E17: =IFERROR(LOOKUP(2,1/(Total!$J$2:$J$149=$A$3)/(Total!$B$2:$B$149=$A17)/(INT(INDEX(Total!$E$2:$G$149,0,MATCH($B$3,Total!$E$1:$G$1,0)))=E$6),INDEX(Total!$E$2:$I$149,0,MATCH($B$3,Total!$E$1:$I$1,0)))-E$6,"") | F17: =IFERROR(LOOKUP(2,1/(Total!$J$2:$J$149=$A$3)/(Total!$B$2:$B$149=$A17)/(INT(INDEX(Total!$E$2:$G$149,0,MATCH($B$3,Total!$E$1:$G$1,0)))=F$6),INDEX(Total!$E$2:$I$149,0,MATCH($B$3,Total!$E$1:$I$1,0)))-F$6,"") | G17: =IFERROR(LOOKUP(2,1/(Total!$J$2:$J$149=$A$3)/(Total!$B$2:$B$149=$A17)/(INT(INDEX(Total!$E$2:$G$149,0,MATCH($B$3,Total!$E$1:$G$1,0)))=G$6),INDEX(Total!$E$2:$I$149,0,MATCH($B$3,Total!$E$1:$I$1,0)))-G$6,"") | H17: =IFERROR(LOOKUP(2,1/(Total!$J$2:$J$149=$A$3)/(Total!$B$2:$B$149=$A17)/(INT(INDEX(Total!$E$2:$G$149,0,MATCH($B$3,Total!$E$1:$G$1,0)))=H$6),INDEX(Total!$E$2:$I$149,0,MATCH($B$3,Total!$E$1:$I$1,0)))-H$6,"") | I17: =IFERROR(LOOKUP(2,1/(Total!$J$2:$J$149=$A$3)/(Total!$B$2:$B$149=$A17)/(INT(INDEX(Total!$E$2:$G$149,0,MATCH($B$3,Total!$E$1:$G$1,0)))=I$6),INDEX(Total!$E$2:$I$149,0,MATCH($B$3,Total!$E$1:$I$1,0)))-I$6,"") | J17: =IFERROR(LOOKUP(2,1/(Total!$J$2:$J$149=$A$3)/(Total!$B$2:$B$149=$A17)/(INT(INDEX(Total!$E$2:$G$149,0,MATCH($B$3,Total!$E$1:$G$1,0)))=J$6),INDEX(Total!$E$2:$I$149,0,MATCH($B$3,Total!$E$1:$I$1,0)))-J$6,"") | K17: =IFERROR(LOOKUP(2,1/(Total!$J$2:$J$149=$A$3)/(Total!$B$2:$B$149=$A17)/(INT(INDEX(Total!$E$2:$G$149,0,MATCH($B$3,Total!$E$1:$G$1,0)))=K$6),INDEX(Total!$E$2:$I$149,0,MATCH($B$3,Total!$E$1:$I$1,0)))-K$6,"") | ... AC17: =IFERROR(LOOKUP(2,1/(Total!$J$2:$J$149=$A$3)/(Total!$B$2:$B$149=$A17)/(INT(INDEX(Total!$E$2:$G$149,0,MATCH($B$3,Total!$E$1:$G$1,0)))=AC$6),INDEX(Total!$E$2:$I$149,0,MATCH($B$3,Total!$E$1:$I$1,0)))-AC$6,"")
A18: =IFERROR(INDEX(Pivot!Q:Q,_xlfn.AGGREGATE(15,6,ROW(Pivot!$Q$5:$Q$99999)/(Pivot!$P$5:$P$99999=$A$3),ROWS(A$7:A18))),"") | B18: =IFERROR(INDEX(Pivot!R:R,_xlfn.AGGREGATE(15,6,ROW(Pivot!$Q$5:$Q$99999)/(Pivot!$P$5:$P$99999=$A$3),ROWS(B$7:B18))),"") | D18: =IFERROR(LOOKUP(2,1/(Total!$J$2:$J$149=$A$3)/(Total!$B$2:$B$149=$A18)/(INT(INDEX(Total!$E$2:$G$149,0,MATCH($B$3,Total!$E$1:$G$1,0)))=D$6),INDEX(Total!$E$2:$I$149,0,MATCH($B$3,Total!$E$1:$I$1,0)))-D$6,"") | E18: =IFERROR(LOOKUP(2,1/(Total!$J$2:$J$149=$A$3)/(Total!$B$2:$B$149=$A18)/(INT(INDEX(Total!$E$2:$G$149,0,MATCH($B$3,Total!$E$1:$G$1,0)))=E$6),INDEX(Total!$E$2:$I$149,0,MATCH($B$3,Total!$E$1:$I$1,0)))-E$6,"") | F18: =IFERROR(LOOKUP(2,1/(Total!$J$2:$J$149=$A$3)/(Total!$B$2:$B$149=$A18)/(INT(INDEX(Total!$E$2:$G$149,0,MATCH($B$3,Total!$E$1:$G$1,0)))=F$6),INDEX(Total!$E$2:$I$149,0,MATCH($B$3,Total!$E$1:$I$1,0)))-F$6,"") | G18: =IFERROR(LOOKUP(2,1/(Total!$J$2:$J$149=$A$3)/(Total!$B$2:$B$149=$A18)/(INT(INDEX(Total!$E$2:$G$149,0,MATCH($B$3,Total!$E$1:$G$1,0)))=G$6),INDEX(Total!$E$2:$I$149,0,MATCH($B$3,Total!$E$1:$I$1,0)))-G$6,"") | H18: =IFERROR(LOOKUP(2,1/(Total!$J$2:$J$149=$A$3)/(Total!$B$2:$B$149=$A18)/(INT(INDEX(Total!$E$2:$G$149,0,MATCH($B$3,Total!$E$1:$G$1,0)))=H$6),INDEX(Total!$E$2:$I$149,0,MATCH($B$3,Total!$E$1:$I$1,0)))-H$6,"") | I18: =IFERROR(LOOKUP(2,1/(Total!$J$2:$J$149=$A$3)/(Total!$B$2:$B$149=$A18)/(INT(INDEX(Total!$E$2:$G$149,0,MATCH($B$3,Total!$E$1:$G$1,0)))=I$6),INDEX(Total!$E$2:$I$149,0,MATCH($B$3,Total!$E$1:$I$1,0)))-I$6,"") | J18: =IFERROR(LOOKUP(2,1/(Total!$J$2:$J$149=$A$3)/(Total!$B$2:$B$149=$A18)/(INT(INDEX(Total!$E$2:$G$149,0,MATCH($B$3,Total!$E$1:$G$1,0)))=J$6),INDEX(Total!$E$2:$I$149,0,MATCH($B$3,Total!$E$1:$I$1,0)))-J$6,"") | K18: =IFERROR(LOOKUP(2,1/(Total!$J$2:$J$149=$A$3)/(Total!$B$2:$B$149=$A18)/(INT(INDEX(Total!$E$2:$G$149,0,MATCH($B$3,Total!$E$1:$G$1,0)))=K$6),INDEX(Total!$E$2:$I$149,0,MATCH($B$3,Total!$E$1:$I$1,0)))-K$6,"") | ... AC18: =IFERROR(LOOKUP(2,1/(Total!$J$2:$J$149=$A$3)/(Total!$B$2:$B$149=$A18)/(INT(INDEX(Total!$E$2:$G$149,0,MATCH($B$3,Total!$E$1:$G$1,0)))=AC$6),INDEX(Total!$E$2:$I$149,0,MATCH($B$3,Total!$E$1:$I$1,0)))-AC$6,"")
A19: =IFERROR(INDEX(Pivot!Q:Q,_xlfn.AGGREGATE(15,6,ROW(Pivot!$Q$5:$Q$99999)/(Pivot!$P$5:$P$99999=$A$3),ROWS(A$7:A19))),"") | B19: =IFERROR(INDEX(Pivot!R:R,_xlfn.AGGREGATE(15,6,ROW(Pivot!$Q$5:$Q$99999)/(Pivot!$P$5:$P$99999=$A$3),ROWS(B$7:B19))),"") | D19: =IFERROR(LOOKUP(2,1/(Total!$J$2:$J$149=$A$3)/(Total!$B$2:$B$149=$A19)/(INT(INDEX(Total!$E$2:$G$149,0,MATCH($B$3,Total!$E$1:$G$1,0)))=D$6),INDEX(Total!$E$2:$I$149,0,MATCH($B$3,Total!$E$1:$I$1,0)))-D$6,"") | E19: =IFERROR(LOOKUP(2,1/(Total!$J$2:$J$149=$A$3)/(Total!$B$2:$B$149=$A19)/(INT(INDEX(Total!$E$2:$G$149,0,MATCH($B$3,Total!$E$1:$G$1,0)))=E$6),INDEX(Total!$E$2:$I$149,0,MATCH($B$3,Total!$E$1:$I$1,0)))-E$6,"") | F19: =IFERROR(LOOKUP(2,1/(Total!$J$2:$J$149=$A$3)/(Total!$B$2:$B$149=$A19)/(INT(INDEX(Total!$E$2:$G$149,0,MATCH($B$3,Total!$E$1:$G$1,0)))=F$6),INDEX(Total!$E$2:$I$149,0,MATCH($B$3,Total!$E$1:$I$1,0)))-F$6,"") | G19: =IFERROR(LOOKUP(2,1/(Total!$J$2:$J$149=$A$3)/(Total!$B$2:$B$149=$A19)/(INT(INDEX(Total!$E$2:$G$149,0,MATCH($B$3,Total!$E$1:$G$1,0)))=G$6),INDEX(Total!$E$2:$I$149,0,MATCH($B$3,Total!$E$1:$I$1,0)))-G$6,"") | H19: =IFERROR(LOOKUP(2,1/(Total!$J$2:$J$149=$A$3)/(Total!$B$2:$B$149=$A19)/(INT(INDEX(Total!$E$2:$G$149,0,MATCH($B$3,Total!$E$1:$G$1,0)))=H$6),INDEX(Total!$E$2:$I$149,0,MATCH($B$3,Total!$E$1:$I$1,0)))-H$6,"") | I19: =IFERROR(LOOKUP(2,1/(Total!$J$2:$J$149=$A$3)/(Total!$B$2:$B$149=$A19)/(INT(INDEX(Total!$E$2:$G$149,0,MATCH($B$3,Total!$E$1:$G$1,0)))=I$6),INDEX(Total!$E$2:$I$149,0,MATCH($B$3,Total!$E$1:$I$1,0)))-I$6,"") | J19: =IFERROR(LOOKUP(2,1/(Total!$J$2:$J$149=$A$3)/(Total!$B$2:$B$149=$A19)/(INT(INDEX(Total!$E$2:$G$149,0,MATCH($B$3,Total!$E$1:$G$1,0)))=J$6),INDEX(Total!$E$2:$I$149,0,MATCH($B$3,Total!$E$1:$I$1,0)))-J$6,"") | K19: =IFERROR(LOOKUP(2,1/(Total!$J$2:$J$149=$A$3)/(Total!$B$2:$B$149=$A19)/(INT(INDEX(Total!$E$2:$G$149,0,MATCH($B$3,Total!$E$1:$G$1,0)))=K$6),INDEX(Total!$E$2:$I$149,0,MATCH($B$3,Total!$E$1:$I$1,0)))-K$6,"") | ... AC19: =IFERROR(LOOKUP(2,1/(Total!$J$2:$J$149=$A$3)/(Total!$B$2:$B$149=$A19)/(INT(INDEX(Total!$E$2:$G$149,0,MATCH($B$3,Total!$E$1:$G$1,0)))=AC$6),INDEX(Total!$E$2:$I$149,0,MATCH($B$3,Total!$E$1:$I$1,0)))-AC$6,"")
... A24: =IFERROR(INDEX(Pivot!Q:Q,_xlfn.AGGREGATE(15,6,ROW(Pivot!$Q$5:$Q$99999)/(Pivot!$P$5:$P$99999=$A$3),ROWS(A$7:A24))),"") | B24: =IFERROR(INDEX(Pivot!R:R,_xlfn.AGGREGATE(15,6,ROW(Pivot!$Q$5:$Q$99999)/(Pivot!$P$5:$P$99999=$A$3),ROWS(B$7:B24))),"") | D24: =IFERROR(LOOKUP(2,1/(Total!$J$2:$J$149=$A$3)/(Total!$B$2:$B$149=$A24)/(INT(INDEX(Total!$E$2:$G$149,0,MATCH($B$3,Total!$E$1:$G$1,0)))=D$6),INDEX(Total!$E$2:$I$149,0,MATCH($B$3,Total!$E$1:$I$1,0)))-D$6,"") | E24: =IFERROR(LOOKUP(2,1/(Total!$J$2:$J$149=$A$3)/(Total!$B$2:$B$149=$A24)/(INT(INDEX(Total!$E$2:$G$149,0,MATCH($B$3,Total!$E$1:$G$1,0)))=E$6),INDEX(Total!$E$2:$I$149,0,MATCH($B$3,Total!$E$1:$I$1,0)))-E$6,"") | F24: =IFERROR(LOOKUP(2,1/(Total!$J$2:$J$149=$A$3)/(Total!$B$2:$B$149=$A24)/(INT(INDEX(Total!$E$2:$G$149,0,MATCH($B$3,Total!$E$1:$G$1,0)))=F$6),INDEX(Total!$E$2:$I$149,0,MATCH($B$3,Total!$E$1:$I$1,0)))-F$6,"") | G24: =IFERROR(LOOKUP(2,1/(Total!$J$2:$J$149=$A$3)/(Total!$B$2:$B$149=$A24)/(INT(INDEX(Total!$E$2:$G$149,0,MATCH($B$3,Total!$E$1:$G$1,0)))=G$6),INDEX(Total!$E$2:$I$149,0,MATCH($B$3,Total!$E$1:$I$1,0)))-G$6,"") | H24: =IFERROR(LOOKUP(2,1/(Total!$J$2:$J$149=$A$3)/(Total!$B$2:$B$149=$A24)/(INT(INDEX(Total!$E$2:$G$149,0,MATCH($B$3,Total!$E$1:$G$1,0)))=H$6),INDEX(Total!$E$2:$I$149,0,MATCH($B$3,Total!$E$1:$I$1,0)))-H$6,"") | I24: =IFERROR(LOOKUP(2,1/(Total!$J$2:$J$149=$A$3)/(Total!$B$2:$B$149=$A24)/(INT(INDEX(Total!$E$2:$G$149,0,MATCH($B$3,Total!$E$1:$G$1,0)))=I$6),INDEX(Total!$E$2:$I$149,0,MATCH($B$3,Total!$E$1:$I$1,0)))-I$6,"") | J24: =IFERROR(LOOKUP(2,1/(Total!$J$2:$J$149=$A$3)/(Total!$B$2:$B$149=$A24)/(INT(INDEX(Total!$E$2:$G$149,0,MATCH($B$3,Total!$E$1:$G$1,0)))=J$6),INDEX(Total!$E$2:$I$149,0,MATCH($B$3,Total!$E$1:$I$1,0)))-J$6,"") | K24: =IFERROR(LOOKUP(2,1/(Total!$J$2:$J$149=$A$3)/(Total!$B$2:$B$149=$A24)/(INT(INDEX(Total!$E$2:$G$149,0,MATCH($B$3,Total!$E$1:$G$1,0)))=K$6),INDEX(Total!$E$2:$I$149,0,MATCH($B$3,Total!$E$1:$I$1,0)))-K$6,"") | ... AC24: =IFERROR(LOOKUP(2,1/(Total!$J$2:$J$149=$A$3)/(Total!$B$2:$B$149=$A24)/(INT(INDEX(Total!$E$2:$G$149,0,MATCH($B$3,Total!$E$1:$G$1,0)))=AC$6),INDEX(Total!$E$2:$I$149,0,MATCH($B$3,Total!$E$1:$I$1,0)))-AC$6,"")
A25: =IFERROR(INDEX(Pivot!Q:Q,_xlfn.AGGREGATE(15,6,ROW(Pivot!$Q$5:$Q$99999)/(Pivot!$P$5:$P$99999=$A$3),ROWS(A$7:A25))),"") | B25: =IFERROR(INDEX(Pivot!R:R,_xlfn.AGGREGATE(15,6,ROW(Pivot!$Q$5:$Q$99999)/(Pivot!$P$5:$P$99999=$A$3),ROWS(B$7:B25))),"")
A26: =IFERROR(INDEX(Pivot!Q:Q,_xlfn.AGGREGATE(15,6,ROW(Pivot!$Q$5:$Q$99999)/(Pivot!$P$5:$P$99999=$A$3),ROWS(A$7:A26))),"") | B26: =IFERROR(INDEX(Pivot!R:R,_xlfn.AGGREGATE(15,6,ROW(Pivot!$Q$5:$Q$99999)/(Pivot!$P$5:$P$99999=$A$3),ROWS(B$7:B26))),"")
A27: =IFERROR(INDEX(Pivot!Q:Q,_xlfn.AGGREGATE(15,6,ROW(Pivot!$Q$5:$Q$99999)/(Pivot!$P$5:$P$99999=$A$3),ROWS(A$7:A27))),"") | B27: =IFERROR(INDEX(Pivot!R:R,_xlfn.AGGREGATE(15,6,ROW(Pivot!$Q$5:$Q$99999)/(Pivot!$P$5:$P$99999=$A$3),ROWS(B$7:B27))),"")
A28: =IFERROR(INDEX(Pivot!Q:Q,_xlfn.AGGREGATE(15,6,ROW(Pivot!$Q$5:$Q$99999)/(Pivot!$P$5:$P$99999=$A$3),ROWS(A$7:A28))),"") | B28: =IFERROR(INDEX(Pivot!R:R,_xlfn.AGGREGATE(15,6,ROW(Pivot!$Q$5:$Q$99999)/(Pivot!$P$5:$P$99999=$A$3),ROWS(B$7:B28))),"")
A29: =IFERROR(INDEX(Pivot!Q:Q,_xlfn.AGGREGATE(15,6,ROW(Pivot!$Q$5:$Q$99999)/(Pivot!$P$5:$P$99999=$A$3),ROWS(A$7:A29))),"") | B29: =IFERROR(INDEX(Pivot!R:R,_xlfn.AGGREGATE(15,6,ROW(Pivot!$Q$5:$Q$99999)/(Pivot!$P$5:$P$99999=$A$3),ROWS(B$7:B29))),"")
A30: =IFERROR(INDEX(Pivot!Q:Q,_xlfn.AGGREGATE(15,6,ROW(Pivot!$Q$5:$Q$99999)/(Pivot!$P$5:$P$99999=$A$3),ROWS(A$7:A30))),"") | B30: =IFERROR(INDEX(Pivot!R:R,_xlfn.AGGREGATE(15,6,ROW(Pivot!$Q$5:$Q$99999)/(Pivot!$P$5:$P$99999=$A$3),ROWS(B$7:B30))),"")
A31: =IFERROR(INDEX(Pivot!Q:Q,_xlfn.AGGREGATE(15,6,ROW(Pivot!$Q$5:$Q$99999)/(Pivot!$P$5:$P$99999=$A$3),ROWS(A$7:A31))),"") | B31: =IFERROR(INDEX(Pivot!R:R,_xlfn.AGGREGATE(15,6,ROW(Pivot!$Q$5:$Q$99999)/(Pivot!$P$5:$P$99999=$A$3),ROWS(B$7:B31))),"")
A32: =IFERROR(INDEX(Pivot!Q:Q,_xlfn.AGGREGATE(15,6,ROW(Pivot!$Q$5:$Q$99999)/(Pivot!$P$5:$P$99999=$A$3),ROWS(A$7:A32))),"") | B32: =IFERROR(INDEX(Pivot!R:R,_xlfn.AGGREGATE(15,6,ROW(Pivot!$Q$5:$Q$99999)/(Pivot!$P$5:$P$99999=$A$3),ROWS(B$7:B32))),"")
A33: =IFERROR(INDEX(Pivot!Q:Q,_xlfn.AGGREGATE(15,6,ROW(Pivot!$Q$5:$Q$99999)/(Pivot!$P$5:$P$99999=$A$3),ROWS(A$7:A33))),"") | B33: =IFERROR(INDEX(Pivot!R:R,_xlfn.AGGREGATE(15,6,ROW(Pivot!$Q$5:$Q$99999)/(Pivot!$P$5:$P$99999=$A$3),ROWS(B$7:B33))),"")
A34: =IFERROR(INDEX(Pivot!Q:Q,_xlfn.AGGREGATE(15,6,ROW(Pivot!$Q$5:$Q$99999)/(Pivot!$P$5:$P$99999=$A$3),ROWS(A$7:A34))),"") | B34: =IFERROR(INDEX(Pivot!R:R,_xlfn.AGGREGATE(15,6,ROW(Pivot!$Q$5:$Q$99999)/(Pivot!$P$5:$P$99999=$A$3),ROWS(B$7:B34))),"")
A35: =IFERROR(INDEX(Pivot!Q:Q,_xlfn.AGGREGATE(15,6,ROW(Pivot!$Q$5:$Q$99999)/(Pivot!$P$5:$P$99999=$A$3),ROWS(A$7:A35))),"") | B35: =IFERROR(INDEX(Pivot!R:R,_xlfn.AGGREGATE(15,6,ROW(Pivot!$Q$5:$Q$99999)/(Pivot!$P$5:$P$99999=$A$3),ROWS(B$7:B35))),"")
A36: =IFERROR(INDEX(Pivot!Q:Q,_xlfn.AGGREGATE(15,6,ROW(Pivot!$Q$5:$Q$99999)/(Pivot!$P$5:$P$99999=$A$3),ROWS(A$7:A36))),"") | B36: =IFERROR(INDEX(Pivot!R:R,_xlfn.AGGREGATE(15,6,ROW(Pivot!$Q$5:$Q$99999)/(Pivot!$P$5:$P$99999=$A$3),ROWS(B$7:B36))),"")
... A39: =IFERROR(INDEX(Pivot!Q:Q,_xlfn.AGGREGATE(15,6,ROW(Pivot!$Q$5:$Q$99999)/(Pivot!$P$5:$P$99999=$A$3),ROWS(A$7:A39))),"") | B39: =IFERROR(INDEX(Pivot!R:R,_xlfn.AGGREGATE(15,6,ROW(Pivot!$Q$5:$Q$99999)/(Pivot!$P$5:$P$99999=$A$3),ROWS(B$7:B39))),"")
C44: ***ไม่ทราบว่าผมต้องทำ Pivottable เพื่อช่วยในการทำข้อมูลหรือทำวิธีใดได้บ้างครับ รบกวนด้วยครับผม ขอบคุณครับ

Sheet Report 2
A2: Team | B2: DATE
A3: E | B3: 44383
A6: Name | B6: Access | C6: Branch | D6: First Login Time | E6: First Call Morning | F6: Last Logout Time | G6: Total Login Time

Sheet List
A1: A | B1: First Login Time
A2: C | B2: First Call Morning
A3: E | B3: Last Logout Time
A4: K | B4: Total Login Time
A5: KL
A6: S
A7: Y
H8: First Login Time | I8: First Call Morning | J8: Last Logout Time | K8: Total Login Time
