Workbook

Sheet Source
A1: รหัสพนักงาน | B1: ชื่อ | C1: เวลา | D1: สถานะการทำงาน | E1: ชื่ออุปกรณ์ | F1: Date | G1: Time | H1: Period | K1: Count of รหัสพนักงาน | M1: สถานะการทำงาน
A2: B1 | B2: Ms.Kesorn | C2: 03-05-2022 08:04:49 | D2: 0 | E2: st-2 | F2: =INT(C2) -> 44684 | G2: =C2-INT(C2) -> 0.33667824 | H2: =IF(G2<"12:30"+0,"เช้า","บ่าย") -> เช้า | K2: รหัสพนักงาน | L2: Date | M2: 0 | N2: 1 | O2: Grand Total
A3: B1 | B3: Ms.Kesorn | C3: 03-05-2022 09:24:49 | D3: 1 | E3: st-2 | F3: =INT(C3) -> 44684 | G3: =C3-INT(C3) -> 0.3922338 | H3: =IF(G3<"12:30"+0,"เช้า","บ่าย") -> เช้า | K3: B1 | L3: 44684 | M3: 2 | N3: 2 | O3: 4
A4: B1 | B4: Ms.Kesorn | C4: 03-05-2022 13:31:31 | D4: 0 | E4: st-2 | F4: =INT(C4) -> 44684 | G4: =C4-INT(C4) -> 0.56355324 | H4: =IF(G4<"12:30"+0,"เช้า","บ่าย") -> บ่าย | L4: 44685 | M4: 2 | N4: 2 | O4: 4
A5: B1 | B5: Ms.Kesorn | C5: 03-05-2022 15:32:43 | D5: 1 | E5: st-2 | F5: =INT(C5) -> 44684 | G5: =C5-INT(C5) -> 0.64771991 | H5: =IF(G5<"12:30"+0,"เช้า","บ่าย") -> บ่าย | L5: 44686 | M5: 2 | N5: 2 | O5: 4
A6: B1 | B6: Ms.Kesorn | C6: 04-05-2022 08:07:27 | D6: 0 | E6: st-2 | F6: =INT(C6) -> 44685 | G6: =C6-INT(C6) -> 0.33850694 | H6: =IF(G6<"12:30"+0,"เช้า","บ่าย") -> เช้า | L6: 44687 | M6: 1 | N6: 1 | O6: 2
A7: B1 | B7: Ms.Kesorn | C7: 04-05-2022 11:14:00 | D7: 1 | E7: st-2 | F7: =INT(C7) -> 44685 | G7: =C7-INT(C7) -> 0.46805556 | H7: =IF(G7<"12:30"+0,"เช้า","บ่าย") -> เช้า | L7: 44697 | M7: 2 | N7: 2 | O7: 4
A8: B1 | B8: Ms.Kesorn | C8: 04-05-2022 13:35:17 | D8: 0 | E8: st-2 | F8: =INT(C8) -> 44685 | G8: =C8-INT(C8) -> 0.56616898 | H8: =IF(G8<"12:30"+0,"เช้า","บ่าย") -> บ่าย | L8: 44698 | M8: 3 | N8: 2 | O8: 5
A9: B1 | B9: Ms.Kesorn | C9: 04-05-2022 15:45:43 | D9: 1 | E9: st-2 | F9: =INT(C9) -> 44685 | G9: =C9-INT(C9) -> 0.65674769 | H9: =IF(G9<"12:30"+0,"เช้า","บ่าย") -> บ่าย | L9: 44699 | M9: 2 | N9: 2 | O9: 4
A10: B1 | B10: Ms.Kesorn | C10: 05-05-2022 08:07:14 | D10: 0 | E10: st-2 | F10: =INT(C10) -> 44686 | G10: =C10-INT(C10) -> 0.33835648 | H10: =IF(G10<"12:30"+0,"เช้า","บ่าย") -> เช้า | L10: 44700 | M10: 2 | N10: 2 | O10: 4
A11: B1 | B11: Ms.Kesorn | C11: 05-05-2022 11:00:29 | D11: 1 | E11: st-2 | F11: =INT(C11) -> 44686 | G11: =C11-INT(C11) -> 0.45866898 | H11: =IF(G11<"12:30"+0,"เช้า","บ่าย") -> เช้า | L11: 44701 | M11: 2 | N11: 1 | O11: 3
A12: B1 | B12: Ms.Kesorn | C12: 05-05-2022 13:57:24 | D12: 0 | E12: st-2 | F12: =INT(C12) -> 44686 | G12: =C12-INT(C12) -> 0.58152778 | H12: =IF(G12<"12:30"+0,"เช้า","บ่าย") -> บ่าย | L12: 44705 | M12: 2 | N12: 2 | O12: 4
A13: B1 | B13: Ms.Kesorn | C13: 05-05-2022 15:18:37 | D13: 1 | E13: st-2 | F13: =INT(C13) -> 44686 | G13: =C13-INT(C13) -> 0.63792824 | H13: =IF(G13<"12:30"+0,"เช้า","บ่าย") -> บ่าย | L13: 44706 | M13: 2 | N13: 2 | O13: 4
A14: B1 | B14: Ms.Kesorn | C14: 06-05-2022 07:58:18 | D14: 0 | E14: st-2 | F14: =INT(C14) -> 44687 | G14: =C14-INT(C14) -> 0.33215278 | H14: =IF(G14<"12:30"+0,"เช้า","บ่าย") -> เช้า | L14: 44707 | M14: 2 | N14: 1 | O14: 3
A15: B1 | B15: Ms.Kesorn | C15: 06-05-2022 10:40:49 | D15: 1 | E15: st-2 | F15: =INT(C15) -> 44687 | G15: =C15-INT(C15) -> 0.44501157 | H15: =IF(G15<"12:30"+0,"เช้า","บ่าย") -> เช้า | L15: 44708 | M15: 2 | N15: 1 | O15: 3
... A17: B1 | B17: Ms.Kesorn | C17: 16-05-2022 10:09:35 | D17: 1 | E17: st-2 | F17: =INT(C17) -> 44697 | G17: =C17-INT(C17) -> 0.42332176 | H17: =IF(G17<"12:30"+0,"เช้า","บ่าย") -> เช้า | L17: 44712 | M17: 3 | N17: 1 | O17: 4
A18: B1 | B18: Ms.Kesorn | C18: 16-05-2022 13:36:39 | D18: 0 | E18: st-2 | F18: =INT(C18) -> 44697 | G18: =C18-INT(C18) -> 0.56711806 | H18: =IF(G18<"12:30"+0,"เช้า","บ่าย") -> บ่าย | K18: B10 | L18: 44684 | M18: 2 | N18: 2 | O18: 4
A19: B1 | B19: Ms.Kesorn | C19: 16-05-2022 15:35:54 | D19: 1 | E19: st-2 | F19: =INT(C19) -> 44697 | G19: =C19-INT(C19) -> 0.64993056 | H19: =IF(G19<"12:30"+0,"เช้า","บ่าย") -> บ่าย | L19: 44685 | M19: 2 | N19: 2 | O19: 4
A20: B1 | B20: Ms.Kesorn | C20: 17-05-2022 08:00:39 | D20: 0 | E20: st-2 | F20: =INT(C20) -> 44698 | G20: =C20-INT(C20) -> 0.33378472 | H20: =IF(G20<"12:30"+0,"เช้า","บ่าย") -> เช้า | L20: 44686 | M20: 2 | N20: 2 | O20: 4
A21: B1 | B21: Ms.Kesorn | C21: 17-05-2022 08:00:41 | D21: 0 | E21: st-2 | F21: =INT(C21) -> 44698 | G21: =C21-INT(C21) -> 0.33380787 | H21: =IF(G21<"12:30"+0,"เช้า","บ่าย") -> เช้า | L21: 44687 | M21: 1 | N21: 1 | O21: 2
A22: B1 | B22: Ms.Kesorn | C22: 17-05-2022 09:50:09 | D22: 1 | E22: st-2 | F22: =INT(C22) -> 44698 | G22: =C22-INT(C22) -> 0.40982639 | H22: =IF(G22<"12:30"+0,"เช้า","บ่าย") -> เช้า | L22: 44697 | M22: 2 | N22: 1 | O22: 3
A23: B1 | B23: Ms.Kesorn | C23: 17-05-2022 13:33:40 | D23: 0 | E23: st-2 | F23: =INT(C23) -> 44698 | G23: =C23-INT(C23) -> 0.5650463 | H23: =IF(G23<"12:30"+0,"เช้า","บ่าย") -> บ่าย | L23: 44698 | M23: 1 | N23: 1 | O23: 2
A24: B1 | B24: Ms.Kesorn | C24: 17-05-2022 14:39:04 | D24: 1 | E24: st-2 | F24: =INT(C24) -> 44698 | G24: =C24-INT(C24) -> 0.61046296 | H24: =IF(G24<"12:30"+0,"เช้า","บ่าย") -> บ่าย | L24: 44699 | M24: 2 | N24: 2 | O24: 4
A25: B1 | B25: Ms.Kesorn | C25: 18-05-2022 07:43:23 | D25: 0 | E25: st-2 | F25: =INT(C25) -> 44699 | G25: =C25-INT(C25) -> 0.32179398 | H25: =IF(G25<"12:30"+0,"เช้า","บ่าย") -> เช้า | L25: 44700 | M25: 1 | N25: 2 | O25: 3
A26: B1 | B26: Ms.Kesorn | C26: 18-05-2022 11:18:51 | D26: 1 | E26: st-2 | F26: =INT(C26) -> 44699 | G26: =C26-INT(C26) -> 0.47142361 | H26: =IF(G26<"12:30"+0,"เช้า","บ่าย") -> เช้า | L26: 44701 | M26: 2 | N26: 2 | O26: 4
A27: B1 | B27: Ms.Kesorn | C27: 18-05-2022 13:25:20 | D27: 0 | E27: st-2 | F27: =INT(C27) -> 44699 | G27: =C27-INT(C27) -> 0.55925926 | H27: =IF(G27<"12:30"+0,"เช้า","บ่าย") -> บ่าย | L27: 44704 | M27: 2 | N27: 2 | O27: 4
A28: B1 | B28: Ms.Kesorn | C28: 18-05-2022 15:26:09 | D28: 1 | E28: st-2 | F28: =INT(C28) -> 44699 | G28: =C28-INT(C28) -> 0.64315972 | H28: =IF(G28<"12:30"+0,"เช้า","บ่าย") -> บ่าย | L28: 44705 | M28: 2 | N28: 2 | O28: 4
A29: B1 | B29: Ms.Kesorn | C29: 19-05-2022 08:04:49 | D29: 0 | E29: st-2 | F29: =INT(C29) -> 44700 | G29: =C29-INT(C29) -> 0.33667824 | H29: =IF(G29<"12:30"+0,"เช้า","บ่าย") -> เช้า | L29: 44706 | M29: 2 | N29: 2 | O29: 4
A30: B1 | B30: Ms.Kesorn | C30: 19-05-2022 09:07:06 | D30: 1 | E30: st-2 | F30: =INT(C30) -> 44700 | G30: =C30-INT(C30) -> 0.37993056 | H30: =IF(G30<"12:30"+0,"เช้า","บ่าย") -> เช้า | L30: 44707 | M30: 2 | N30: 2 | O30: 4
... A33: B1 | B33: Ms.Kesorn | C33: 20-05-2022 09:03:38 | D33: 0 | E33: st-2 | F33: =INT(C33) -> 44701 | G33: =C33-INT(C33) -> 0.37752315 | H33: =IF(G33<"12:30"+0,"เช้า","บ่าย") -> เช้า | L33: 44712 | M33: 2 | N33: 2 | O33: 4
A34: B1 | B34: Ms.Kesorn | C34: 20-05-2022 13:21:42 | D34: 0 | E34: st-2 | F34: =INT(C34) -> 44701 | G34: =C34-INT(C34) -> 0.55673611 | H34: =IF(G34<"12:30"+0,"เช้า","บ่าย") -> บ่าย | K34: B11 | L34: 44684 | M34: 2 | N34: 2 | O34: 4
A35: B1 | B35: Ms.Kesorn | C35: 20-05-2022 15:22:30 | D35: 1 | E35: st-2 | F35: =INT(C35) -> 44701 | G35: =C35-INT(C35) -> 0.640625 | H35: =IF(G35<"12:30"+0,"เช้า","บ่าย") -> บ่าย | L35: 44685 | M35: 2 | N35: 2 | O35: 4
A36: B1 | B36: Ms.Kesorn | C36: 24-05-2022 09:07:44 | D36: 0 | E36: st-2 | F36: =INT(C36) -> 44705 | G36: =C36-INT(C36) -> 0.38037037 | H36: =IF(G36<"12:30"+0,"เช้า","บ่าย") -> เช้า | L36: 44686 | M36: 2 | N36: 2 | O36: 4
A37: B1 | B37: Ms.Kesorn | C37: 24-05-2022 10:21:31 | D37: 1 | E37: st-2 | F37: =INT(C37) -> 44705 | G37: =C37-INT(C37) -> 0.4316088 | H37: =IF(G37<"12:30"+0,"เช้า","บ่าย") -> เช้า | L37: 44687 | M37: 1 | N37: 1 | O37: 2
A38: B1 | B38: Ms.Kesorn | C38: 24-05-2022 13:20:15 | D38: 0 | E38: st-2 | F38: =INT(C38) -> 44705 | G38: =C38-INT(C38) -> 0.55572917 | H38: =IF(G38<"12:30"+0,"เช้า","บ่าย") -> บ่าย | L38: 44697 | M38: 2 | N38: 2 | O38: 4
A39: B1 | B39: Ms.Kesorn | C39: 24-05-2022 14:40:53 | D39: 1 | E39: st-2 | F39: =INT(C39) -> 44705 | G39: =C39-INT(C39) -> 0.61172454 | H39: =IF(G39<"12:30"+0,"เช้า","บ่าย") -> บ่าย | L39: 44698 | M39: 2 | N39: 2 | O39: 4
A40: B1 | B40: Ms.Kesorn | C40: 25-05-2022 07:53:09 | D40: 0 | E40: st-2 | F40: =INT(C40) -> 44706 | G40: =C40-INT(C40) -> 0.32857639 | H40: =IF(G40<"12:30"+0,"เช้า","บ่าย") -> เช้า | L40: 44699 | M40: 2 | N40: 2 | O40: 4
A41: B1 | B41: Ms.Kesorn | C41: 25-05-2022 10:54:10 | D41: 1 | E41: st-2 | F41: =INT(C41) -> 44706 | G41: =C41-INT(C41) -> 0.45428241 | H41: =IF(G41<"12:30"+0,"เช้า","บ่าย") -> เช้า | L41: 44700 | M41: 1 | N41: 1 | O41: 2
A42: B1 | B42: Ms.Kesorn | C42: 25-05-2022 13:37:09 | D42: 0 | E42: st-2 | F42: =INT(C42) -> 44706 | G42: =C42-INT(C42) -> 0.56746528 | H42: =IF(G42<"12:30"+0,"เช้า","บ่าย") -> บ่าย | L42: 44701 | M42: 2 | N42: 2 | O42: 4
A43: B1 | B43: Ms.Kesorn | C43: 25-05-2022 15:19:54 | D43: 1 | E43: st-2 | F43: =INT(C43) -> 44706 | G43: =C43-INT(C43) -> 0.63881944 | H43: =IF(G43<"12:30"+0,"เช้า","บ่าย") -> บ่าย | L43: 44704 | M43: 2 | N43: 2 | O43: 4
A44: B1 | B44: Ms.Kesorn | C44: 26-05-2022 07:44:01 | D44: 0 | E44: st-2 | F44: =INT(C44) -> 44707 | G44: =C44-INT(C44) -> 0.3222338 | H44: =IF(G44<"12:30"+0,"เช้า","บ่าย") -> เช้า | L44: 44705 | M44: 2 | N44: 2 | O44: 4
A45: B1 | B45: Ms.Kesorn | C45: 26-05-2022 11:22:19 | D45: 1 | E45: st-2 | F45: =INT(C45) -> 44707 | G45: =C45-INT(C45) -> 0.47383102 | H45: =IF(G45<"12:30"+0,"เช้า","บ่าย") -> เช้า | L45: 44706 | M45: 2 | N45: 2 | O45: 4
A46: B1 | B46: Ms.Kesorn | C46: 26-05-2022 13:47:47 | D46: 0 | E46: st-2 | F46: =INT(C46) -> 44707 | G46: =C46-INT(C46) -> 0.57484954 | H46: =IF(G46<"12:30"+0,"เช้า","บ่าย") -> บ่าย | L46: 44707 | M46: 2 | N46: 2 | O46: 4
... A49: B1 | B49: Ms.Kesorn | C49: 27-05-2022 15:24:04 | D49: 1 | E49: st-2 | F49: =INT(C49) -> 44708 | G49: =C49-INT(C49) -> 0.64171296 | H49: =IF(G49<"12:30"+0,"เช้า","บ่าย") -> บ่าย | L49: 44712 | M49: 2 | N49: 2 | O49: 4
A50: B1 | B50: Ms.Kesorn | C50: 30-05-2022 07:43:52 | D50: 0 | E50: st-2 | F50: =INT(C50) -> 44711 | G50: =C50-INT(C50) -> 0.32212963 | H50: =IF(G50<"12:30"+0,"เช้า","บ่าย") -> เช้า | K50: B12 | L50: 44684 | M50: 2 | N50: 2 | O50: 4
A51: B1 | B51: Ms.Kesorn | C51: 30-05-2022 10:34:05 | D51: 1 | E51: st-2 | F51: =INT(C51) -> 44711 | G51: =C51-INT(C51) -> 0.44033565 | H51: =IF(G51<"12:30"+0,"เช้า","บ่าย") -> เช้า | L51: 44685 | M51: 2 | N51: 2 | O51: 4
A52: B1 | B52: Ms.Kesorn | C52: 30-05-2022 13:48:18 | D52: 0 | E52: st-2 | F52: =INT(C52) -> 44711 | G52: =C52-INT(C52) -> 0.57520833 | H52: =IF(G52<"12:30"+0,"เช้า","บ่าย") -> บ่าย | L52: 44686 | M52: 2 | N52: 2 | O52: 4
A53: B1 | B53: Ms.Kesorn | C53: 30-05-2022 15:44:36 | D53: 1 | E53: st-2 | F53: =INT(C53) -> 44711 | G53: =C53-INT(C53) -> 0.65597222 | H53: =IF(G53<"12:30"+0,"เช้า","บ่าย") -> บ่าย | L53: 44687 | M53: 1 | N53: 1 | O53: 2
A54: B1 | B54: Ms.Kesorn | C54: 31-05-2022 07:55:04 | D54: 0 | E54: st-2 | F54: =INT(C54) -> 44712 | G54: =C54-INT(C54) -> 0.32990741 | H54: =IF(G54<"12:30"+0,"เช้า","บ่าย") -> เช้า | L54: 44697 | M54: 2 | N54: 2 | O54: 4
A55: B1 | B55: Ms.Kesorn | C55: 31-05-2022 09:35:52 | D55: 1 | E55: st-2 | F55: =INT(C55) -> 44712 | G55: =C55-INT(C55) -> 0.39990741 | H55: =IF(G55<"12:30"+0,"เช้า","บ่าย") -> เช้า | L55: 44698 | M55: 2 | N55: 2 | O55: 4
A56: B1 | B56: Ms.Kesorn | C56: 31-05-2022 13:30:59 | D56: 0 | E56: st-2 | F56: =INT(C56) -> 44712 | G56: =C56-INT(C56) -> 0.56318287 | H56: =IF(G56<"12:30"+0,"เช้า","บ่าย") -> บ่าย | L56: 44699 | M56: 2 | N56: 2 | O56: 4
A57: B1 | B57: Ms.Kesorn | C57: 31-05-2022 15:23:03 | D57: 0 | E57: st-2 | F57: =INT(C57) -> 44712 | G57: =C57-INT(C57) -> 0.64100694 | H57: =IF(G57<"12:30"+0,"เช้า","บ่าย") -> บ่าย | L57: 44700 | M57: 2 | N57: 2 | O57: 4
A58: B2 | B58: Ms.Kaysorn | C58: 03-05-2022 08:15:21 | D58: 0 | E58: st-2 | F58: =INT(C58) -> 44684 | G58: =C58-INT(C58) -> 0.34399306 | H58: =IF(G58<"12:30"+0,"เช้า","บ่าย") -> เช้า | L58: 44701 | M58: 2 | N58: 2 | O58: 4
A59: B2 | B59: Ms.Kaysorn | C59: 03-05-2022 09:49:03 | D59: 1 | E59: st-2 | F59: =INT(C59) -> 44684 | G59: =C59-INT(C59) -> 0.4090625 | H59: =IF(G59<"12:30"+0,"เช้า","บ่าย") -> เช้า | L59: 44704 | M59: 2 | N59: 2 | O59: 4
A60: B2 | B60: Ms.Kaysorn | C60: 03-05-2022 13:34:44 | D60: 0 | E60: st-2 | F60: =INT(C60) -> 44684 | G60: =C60-INT(C60) -> 0.56578704 | H60: =IF(G60<"12:30"+0,"เช้า","บ่าย") -> บ่าย | L60: 44705 | M60: 2 | N60: 2 | O60: 4
A61: B2 | B61: Ms.Kaysorn | C61: 03-05-2022 15:32:18 | D61: 1 | E61: st-2 | F61: =INT(C61) -> 44684 | G61: =C61-INT(C61) -> 0.64743056 | H61: =IF(G61<"12:30"+0,"เช้า","บ่าย") -> บ่าย | L61: 44706 | M61: 2 | N61: 2 | O61: 4
A62: B2 | B62: Ms.Kaysorn | C62: 04-05-2022 08:19:55 | D62: 0 | E62: st-2 | F62: =INT(C62) -> 44685 | G62: =C62-INT(C62) -> 0.34716435 | H62: =IF(G62<"12:30"+0,"เช้า","บ่าย") -> เช้า | L62: 44707 | M62: 2 | N62: 2 | O62: 4
... A65: B2 | B65: Ms.Kaysorn | C65: 04-05-2022 15:44:26 | D65: 1 | E65: st-2 | F65: =INT(C65) -> 44685 | G65: =C65-INT(C65) -> 0.65585648 | H65: =IF(G65<"12:30"+0,"เช้า","บ่าย") -> บ่าย | L65: 44712 | M65: 2 | N65: 2 | O65: 4
A66: B2 | B66: Ms.Kaysorn | C66: 05-05-2022 08:08:04 | D66: 0 | E66: st-2 | F66: =INT(C66) -> 44686 | G66: =C66-INT(C66) -> 0.33893519 | H66: =IF(G66<"12:30"+0,"เช้า","บ่าย") -> เช้า | K66: B13 | L66: 44684 | M66: 2 | N66: 2 | O66: 4
A67: B2 | B67: Ms.Kaysorn | C67: 05-05-2022 11:12:13 | D67: 1 | E67: st-2 | F67: =INT(C67) -> 44686 | G67: =C67-INT(C67) -> 0.46681713 | H67: =IF(G67<"12:30"+0,"เช้า","บ่าย") -> เช้า | L67: 44685 | M67: 2 | N67: 2 | O67: 4
A68: B2 | B68: Ms.Kaysorn | C68: 05-05-2022 13:32:11 | D68: 0 | E68: st-2 | F68: =INT(C68) -> 44686 | G68: =C68-INT(C68) -> 0.5640162 | H68: =IF(G68<"12:30"+0,"เช้า","บ่าย") -> บ่าย | L68: 44686 | M68: 1 | N68: 1 | O68: 2
A69: B2 | B69: Ms.Kaysorn | C69: 05-05-2022 15:18:17 | D69: 1 | E69: st-2 | F69: =INT(C69) -> 44686 | G69: =C69-INT(C69) -> 0.63769676 | H69: =IF(G69<"12:30"+0,"เช้า","บ่าย") -> บ่าย | L69: 44687 | M69: 1 | N69: 1 | O69: 2
A70: B2 | B70: Ms.Kaysorn | C70: 06-05-2022 08:15:30 | D70: 0 | E70: st-2 | F70: =INT(C70) -> 44687 | G70: =C70-INT(C70) -> 0.34409722 | H70: =IF(G70<"12:30"+0,"เช้า","บ่าย") -> เช้า | L70: 44697 | M70: 2 | N70: 2 | O70: 4
A71: B2 | B71: Ms.Kaysorn | C71: 06-05-2022 10:53:40 | D71: 1 | E71: st-2 | F71: =INT(C71) -> 44687 | G71: =C71-INT(C71) -> 0.45393519 | H71: =IF(G71<"12:30"+0,"เช้า","บ่าย") -> เช้า | L71: 44698 | M71: 2 | N71: 2 | O71: 4
A72: B2 | B72: Ms.Kaysorn | C72: 16-05-2022 08:20:18 | D72: 0 | E72: st-2 | F72: =INT(C72) -> 44697 | G72: =C72-INT(C72) -> 0.34743056 | H72: =IF(G72<"12:30"+0,"เช้า","บ่าย") -> เช้า | L72: 44699 | M72: 2 | N72: 2 | O72: 4
A73: B2 | B73: Ms.Kaysorn | C73: 16-05-2022 10:02:07 | D73: 1 | E73: st-2 | F73: =INT(C73) -> 44697 | G73: =C73-INT(C73) -> 0.41813657 | H73: =IF(G73<"12:30"+0,"เช้า","บ่าย") -> เช้า | L73: 44700 | M73: 2 | N73: 2 | O73: 4
A74: B2 | B74: Ms.Kaysorn | C74: 16-05-2022 13:32:34 | D74: 0 | E74: st-2 | F74: =INT(C74) -> 44697 | G74: =C74-INT(C74) -> 0.56428241 | H74: =IF(G74<"12:30"+0,"เช้า","บ่าย") -> บ่าย | L74: 44701 | M74: 1 | N74: 2 | O74: 3
A75: B2 | B75: Ms.Kaysorn | C75: 16-05-2022 14:20:01 | D75: 1 | E75: st-2 | F75: =INT(C75) -> 44697 | G75: =C75-INT(C75) -> 0.5972338 | H75: =IF(G75<"12:30"+0,"เช้า","บ่าย") -> บ่าย | L75: 44704 | M75: 2 | N75: 2 | O75: 4
A76: B2 | B76: Ms.Kaysorn | C76: 17-05-2022 08:09:27 | D76: 0 | E76: st-2 | F76: =INT(C76) -> 44698 | G76: =C76-INT(C76) -> 0.33989583 | H76: =IF(G76<"12:30"+0,"เช้า","บ่าย") -> เช้า | L76: 44705 | M76: 2 | N76: 1 | O76: 3
A77: B2 | B77: Ms.Kaysorn | C77: 17-05-2022 09:21:13 | D77: 1 | E77: st-2 | F77: =INT(C77) -> 44698 | G77: =C77-INT(C77) -> 0.3897338 | H77: =IF(G77<"12:30"+0,"เช้า","บ่าย") -> เช้า | L77: 44706 | M77: 2 | N77: 2 | O77: 4
A78: B2 | B78: Ms.Kaysorn | C78: 17-05-2022 13:33:19 | D78: 0 | E78: st-2 | F78: =INT(C78) -> 44698 | G78: =C78-INT(C78) -> 0.56480324 | H78: =IF(G78<"12:30"+0,"เช้า","บ่าย") -> บ่าย | L78: 44707 | M78: 1 | N78: 3 | O78: 4
... A81: B2 | B81: Ms.Kaysorn | C81: 18-05-2022 08:09:18 | D81: 0 | E81: st-2 | F81: =INT(C81) -> 44699 | G81: =C81-INT(C81) -> 0.33979167 | H81: =IF(G81<"12:30"+0,"เช้า","บ่าย") -> เช้า | L81: 44712 | M81: 2 | N81: 2 | O81: 4
A82: B2 | B82: Ms.Kaysorn | C82: 18-05-2022 11:24:23 | D82: 1 | E82: st-2 | F82: =INT(C82) -> 44699 | G82: =C82-INT(C82) -> 0.4752662 | H82: =IF(G82<"12:30"+0,"เช้า","บ่าย") -> เช้า | K82: B14 | L82: 44684 | M82: 2 | N82: 2 | O82: 4
A83: B2 | B83: Ms.Kaysorn | C83: 18-05-2022 13:36:37 | D83: 0 | E83: st-2 | F83: =INT(C83) -> 44699 | G83: =C83-INT(C83) -> 0.56709491 | H83: =IF(G83<"12:30"+0,"เช้า","บ่าย") -> บ่าย | L83: 44685 | M83: 2 | N83: 2 | O83: 4
A84: B2 | B84: Ms.Kaysorn | C84: 18-05-2022 15:26:28 | D84: 1 | E84: st-2 | F84: =INT(C84) -> 44699 | G84: =C84-INT(C84) -> 0.64337963 | H84: =IF(G84<"12:30"+0,"เช้า","บ่าย") -> บ่าย | L84: 44686 | M84: 2 | N84: 2 | O84: 4
A85: B2 | B85: Ms.Kaysorn | C85: 19-05-2022 08:09:38 | D85: 0 | E85: st-2 | F85: =INT(C85) -> 44700 | G85: =C85-INT(C85) -> 0.34002315 | H85: =IF(G85<"12:30"+0,"เช้า","บ่าย") -> เช้า | L85: 44687 | M85: 1 | N85: 1 | O85: 2
A86: B2 | B86: Ms.Kaysorn | C86: 19-05-2022 10:09:01 | D86: 1 | E86: st-2 | F86: =INT(C86) -> 44700 | G86: =C86-INT(C86) -> 0.42292824 | H86: =IF(G86<"12:30"+0,"เช้า","บ่าย") -> เช้า | L86: 44697 | M86: 2 | N86: 2 | O86: 4
A87: B2 | B87: Ms.Kaysorn | C87: 19-05-2022 13:49:22 | D87: 0 | E87: st-2 | F87: =INT(C87) -> 44700 | G87: =C87-INT(C87) -> 0.57594907 | H87: =IF(G87<"12:30"+0,"เช้า","บ่าย") -> บ่าย | L87: 44698 | M87: 2 | N87: 2 | O87: 4
A88: B2 | B88: Ms.Kaysorn | C88: 19-05-2022 14:47:20 | D88: 1 | E88: st-2 | F88: =INT(C88) -> 44700 | G88: =C88-INT(C88) -> 0.6162037 | H88: =IF(G88<"12:30"+0,"เช้า","บ่าย") -> บ่าย | L88: 44699 | M88: 2 | N88: 2 | O88: 4
A89: B2 | B89: Ms.Kaysorn | C89: 20-05-2022 08:13:09 | D89: 0 | E89: st-2 | F89: =INT(C89) -> 44701 | G89: =C89-INT(C89) -> 0.34246528 | H89: =IF(G89<"12:30"+0,"เช้า","บ่าย") -> เช้า | L89: 44700 | M89: 2 | N89: 2 | O89: 4
A90: B2 | B90: Ms.Kaysorn | C90: 20-05-2022 09:58:09 | D90: 1 | E90: st-2 | F90: =INT(C90) -> 44701 | G90: =C90-INT(C90) -> 0.41538194 | H90: =IF(G90<"12:30"+0,"เช้า","บ่าย") -> เช้า | L90: 44701 | M90: 2 | N90: 2 | O90: 4
A91: B2 | B91: Ms.Kaysorn | C91: 20-05-2022 13:08:01 | D91: 0 | E91: st-2 | F91: =INT(C91) -> 44701 | G91: =C91-INT(C91) -> 0.5472338 | H91: =IF(G91<"12:30"+0,"เช้า","บ่าย") -> บ่าย | L91: 44704 | M91: 2 | N91: 2 | O91: 4
A92: B2 | B92: Ms.Kaysorn | C92: 20-05-2022 15:31:55 | D92: 1 | E92: st-2 | F92: =INT(C92) -> 44701 | G92: =C92-INT(C92) -> 0.64716435 | H92: =IF(G92<"12:30"+0,"เช้า","บ่าย") -> บ่าย | L92: 44705 | M92: 2 | N92: 2 | O92: 4
A93: B2 | B93: Ms.Kaysorn | C93: 23-05-2022 08:03:17 | D93: 0 | E93: st-2 | F93: =INT(C93) -> 44704 | G93: =C93-INT(C93) -> 0.33561343 | H93: =IF(G93<"12:30"+0,"เช้า","บ่าย") -> เช้า | L93: 44706 | M93: 2 | N93: 2 | O93: 4
A94: B2 | B94: Ms.Kaysorn | C94: 23-05-2022 12:09:41 | D94: 1 | E94: st-2 | F94: =INT(C94) -> 44704 | G94: =C94-INT(C94) -> 0.50672454 | H94: =IF(G94<"12:30"+0,"เช้า","บ่าย") -> เช้า | L94: 44707 | M94: 2 | N94: 2 | O94: 4
... A97: B2 | B97: Ms.Kaysorn | C97: 24-05-2022 08:13:20 | D97: 0 | E97: st-2 | F97: =INT(C97) -> 44705 | G97: =C97-INT(C97) -> 0.34259259 | H97: =IF(G97<"12:30"+0,"เช้า","บ่าย") -> เช้า | L97: 44712 | M97: 2 | N97: 2 | O97: 4
A98: B2 | B98: Ms.Kaysorn | C98: 24-05-2022 10:36:15 | D98: 1 | E98: st-2 | F98: =INT(C98) -> 44705 | G98: =C98-INT(C98) -> 0.44184028 | H98: =IF(G98<"12:30"+0,"เช้า","บ่าย") -> เช้า | K98: B15 | L98: 44684 | M98: 2 | N98: 2 | O98: 4
A99: B2 | B99: Ms.Kaysorn | C99: 24-05-2022 13:29:23 | D99: 0 | E99: st-2 | F99: =INT(C99) -> 44705 | G99: =C99-INT(C99) -> 0.56207176 | H99: =IF(G99<"12:30"+0,"เช้า","บ่าย") -> บ่าย | L99: 44685 | M99: 2 | N99: 2 | O99: 4
A100: B2 | B100: Ms.Kaysorn | C100: 24-05-2022 14:45:22 | D100: 1 | E100: st-2 | F100: =INT(C100) -> 44705 | G100: =C100-INT(C100) -> 0.61483796 | H100: =IF(G100<"12:30"+0,"เช้า","บ่าย") -> บ่าย | L100: 44686 | M100: 2 | N100: 2 | O100: 4
A101: B2 | B101: Ms.Kaysorn | C101: 25-05-2022 08:10:55 | D101: 0 | E101: st-2 | F101: =INT(C101) -> 44706 | G101: =C101-INT(C101) -> 0.34091435 | H101: =IF(G101<"12:30"+0,"เช้า","บ่าย") -> เช้า | L101: 44687 | M101: 2 | N101: 2 | O101: 4
A102: B2 | B102: Ms.Kaysorn | C102: 25-05-2022 11:02:26 | D102: 1 | E102: st-2 | F102: =INT(C102) -> 44706 | G102: =C102-INT(C102) -> 0.46002315 | H102: =IF(G102<"12:30"+0,"เช้า","บ่าย") -> เช้า | L102: 44697 | M102: 2 | N102: 2 | O102: 4
A103: B2 | B103: Ms.Kaysorn | C103: 25-05-2022 13:27:05 | D103: 0 | E103: st-2 | F103: =INT(C103) -> 44706 | G103: =C103-INT(C103) -> 0.56047454 | H103: =IF(G103<"12:30"+0,"เช้า","บ่าย") -> บ่าย | L103: 44698 | M103: 2 | N103: 2 | O103: 4
A104: B2 | B104: Ms.Kaysorn | C104: 25-05-2022 15:18:47 | D104: 1 | E104: st-2 | F104: =INT(C104) -> 44706 | G104: =C104-INT(C104) -> 0.63804398 | H104: =IF(G104<"12:30"+0,"เช้า","บ่าย") -> บ่าย | L104: 44699 | M104: 2 | N104: 1 | O104: 3
A105: B2 | B105: Ms.Kaysorn | C105: 26-05-2022 08:09:41 | D105: 0 | E105: st-2 | F105: =INT(C105) -> 44707 | G105: =C105-INT(C105) -> 0.34005787 | H105: =IF(G105<"12:30"+0,"เช้า","บ่าย") -> เช้า | L105: 44700 | M105: 2 | N105: 2 | O105: 4
A106: B2 | B106: Ms.Kaysorn | C106: 26-05-2022 11:23:44 | D106: 1 | E106: st-2 | F106: =INT(C106) -> 44707 | G106: =C106-INT(C106) -> 0.47481481 | H106: =IF(G106<"12:30"+0,"เช้า","บ่าย") -> เช้า | L106: 44701 | M106: 2 | N106: 2 | O106: 4
A107: B2 | B107: Ms.Kaysorn | C107: 26-05-2022 13:41:49 | D107: 0 | E107: st-2 | F107: =INT(C107) -> 44707 | G107: =C107-INT(C107) -> 0.57070602 | H107: =IF(G107<"12:30"+0,"เช้า","บ่าย") -> บ่าย | L107: 44704 | M107: 2 | N107: 2 | O107: 4
A108: B2 | B108: Ms.Kaysorn | C108: 26-05-2022 15:04:47 | D108: 1 | E108: st-2 | F108: =INT(C108) -> 44707 | G108: =C108-INT(C108) -> 0.62832176 | H108: =IF(G108<"12:30"+0,"เช้า","บ่าย") -> บ่าย | L108: 44705 | M108: 2 | N108: 2 | O108: 4
A109: B2 | B109: Ms.Kaysorn | C109: 27-05-2022 08:36:12 | D109: 0 | E109: st-2 | F109: =INT(C109) -> 44708 | G109: =C109-INT(C109) -> 0.35847222 | H109: =IF(G109<"12:30"+0,"เช้า","บ่าย") -> เช้า | L109: 44706 | M109: 2 | N109: 2 | O109: 4
A110: B2 | B110: Ms.Kaysorn | C110: 27-05-2022 10:18:09 | D110: 1 | E110: st-2 | F110: =INT(C110) -> 44708 | G110: =C110-INT(C110) -> 0.42927083 | H110: =IF(G110<"12:30"+0,"เช้า","บ่าย") -> เช้า | L110: 44707 | M110: 2 | N110: 2 | O110: 4
... A113: B2 | B113: Ms.Kaysorn | C113: 30-05-2022 08:11:29 | D113: 0 | E113: st-2 | F113: =INT(C113) -> 44711 | G113: =C113-INT(C113) -> 0.34130787 | H113: =IF(G113<"12:30"+0,"เช้า","บ่าย") -> เช้า | L113: 44712 | M113: 3 | N113: 2 | O113: 5
...

Sheet Report
A1: รหัสพนักงาน | B1: ชื่อ | C1: วันที่ | D1: สถานะการทำงานช่วงเช้า | H1: สถานะการทำงานช่วงบ่าย
D2: เวลาสแกนเข้า | E2: สแกนเข้า | F2: เวลาสแกนออก | G2: สแกนออก | H2: เวลาสแกนเข้า | I2: สแกนเข้า | J2: เวลาสแกนออก | K2: สแกนออก
A3: B1 | B3: Ms.Kesorn | C3: 03-05-2022 | D3: =_xlfn.MINIFS(Source!$G$2:$G$4091,Source!$A$2:$A$4091,$A3,Source!$D$2:$D$4091,0,Source!$F$2:$F$4091,$C3,Source!$H$2:$H$4091,"เช้า") -> 0.33667824 | E3: =VLOOKUP(D3,$N$21:$P$26,3) -> มาปกติ | F3: =_xlfn.MAXIFS(Source!$G$2:$G$4091,Source!$A$2:$A$4091,$A3,Source!$D$2:$D$4091,1,Source!$F$2:$F$4091,$C3,Source!$H$2:$H$4091,"เช้า") -> 0.3922338 | G3: =VLOOKUP(F3,$N$29:$P$32,3) -> ออกก่อน | H3: =_xlfn.MINIFS(Source!$G$2:$G$4091,Source!$A$2:$A$4091,$A3,Source!$D$2:$D$4091,0,Source!$F$2:$F$4091,$C3,Source!$H$2:$H$4091,"บ่าย") -> 0.56355324 | I3: =VLOOKUP(H3,$N$21:$P$26,3) -> มาปกติ | J3: =_xlfn.MAXIFS(Source!$G$2:$G$4091,Source!$A$2:$A$4091,$A3,Source!$D$2:$D$4091,1,Source!$F$2:$F$4091,$C3,Source!$H$2:$H$4091,"บ่าย") -> 0.64771991 | K3: =VLOOKUP(J3,$N$29:$P$32,3) -> ออกปกติ | M3: 0 | N3: สแกนเข้า | O3: 7:30-8:30 | P3: มาปกติ | Q3: ช่วงเช้า
A4: B2 | B4: Ms.Kaysorn | C4: 03-05-2022 | D4: =_xlfn.MINIFS(Source!$G$2:$G$4091,Source!$A$2:$A$4091,$A4,Source!$D$2:$D$4091,0,Source!$F$2:$F$4091,$C4,Source!$H$2:$H$4091,"เช้า") -> 0.34399306 | E4: =VLOOKUP(D4,$N$21:$P$26,3) -> มาปกติ | F4: =_xlfn.MAXIFS(Source!$G$2:$G$4091,Source!$A$2:$A$4091,$A4,Source!$D$2:$D$4091,1,Source!$F$2:$F$4091,$C4,Source!$H$2:$H$4091,"เช้า") -> 0.4090625 | G4: =VLOOKUP(F4,$N$29:$P$32,3) -> ออกก่อน | H4: =_xlfn.MINIFS(Source!$G$2:$G$4091,Source!$A$2:$A$4091,$A4,Source!$D$2:$D$4091,0,Source!$F$2:$F$4091,$C4,Source!$H$2:$H$4091,"บ่าย") -> 0.56578704 | I4: มาช้า | J4: =_xlfn.MAXIFS(Source!$G$2:$G$4091,Source!$A$2:$A$4091,$A4,Source!$D$2:$D$4091,1,Source!$F$2:$F$4091,$C4,Source!$H$2:$H$4091,"บ่าย") -> 0.64743056 | K4: =VLOOKUP(J4,$N$29:$P$32,3) -> ออกปกติ | O4: 8:31-10:29 | P4: มาช้า
A5: B3 | B5: Mr.Korlakanh | C5: 03-05-2022 | D5: =_xlfn.MINIFS(Source!$G$2:$G$4091,Source!$A$2:$A$4091,$A5,Source!$D$2:$D$4091,0,Source!$F$2:$F$4091,$C5,Source!$H$2:$H$4091,"เช้า") -> 0.3325 | E5: =VLOOKUP(D5,$N$21:$P$26,3) -> มาปกติ | F5: =_xlfn.MAXIFS(Source!$G$2:$G$4091,Source!$A$2:$A$4091,$A5,Source!$D$2:$D$4091,1,Source!$F$2:$F$4091,$C5,Source!$H$2:$H$4091,"เช้า") -> 0.41453704 | G5: =VLOOKUP(F5,$N$29:$P$32,3) -> ออกก่อน | H5: =_xlfn.MINIFS(Source!$G$2:$G$4091,Source!$A$2:$A$4091,$A5,Source!$D$2:$D$4091,0,Source!$F$2:$F$4091,$C5,Source!$H$2:$H$4091,"บ่าย") -> 0.559375 | I5: มาช้า | J5: =_xlfn.MAXIFS(Source!$G$2:$G$4091,Source!$A$2:$A$4091,$A5,Source!$D$2:$D$4091,1,Source!$F$2:$F$4091,$C5,Source!$H$2:$H$4091,"บ่าย") -> 0.64677083 | K5: =VLOOKUP(J5,$N$29:$P$32,3) -> ออกปกติ | O5: 10:30-12:00 | P5: ขาด
A6: B4 | B6: Mr.Ketthavisouk | C6: 03-05-2022 | D6: =_xlfn.MINIFS(Source!$G$2:$G$4091,Source!$A$2:$A$4091,$A6,Source!$D$2:$D$4091,0,Source!$F$2:$F$4091,$C6,Source!$H$2:$H$4091,"เช้า") -> 0.34309028 | E6: =VLOOKUP(D6,$N$21:$P$26,3) -> มาปกติ | F6: =_xlfn.MAXIFS(Source!$G$2:$G$4091,Source!$A$2:$A$4091,$A6,Source!$D$2:$D$4091,1,Source!$F$2:$F$4091,$C6,Source!$H$2:$H$4091,"เช้า") -> 0.38241898 | G6: =VLOOKUP(F6,$N$29:$P$32,3) -> ออกก่อน | H6: =_xlfn.MINIFS(Source!$G$2:$G$4091,Source!$A$2:$A$4091,$A6,Source!$D$2:$D$4091,0,Source!$F$2:$F$4091,$C6,Source!$H$2:$H$4091,"บ่าย") -> 0.55770833 | I6: มาปกติ | J6: =_xlfn.MAXIFS(Source!$G$2:$G$4091,Source!$A$2:$A$4091,$A6,Source!$D$2:$D$4091,1,Source!$F$2:$F$4091,$C6,Source!$H$2:$H$4091,"บ่าย") -> 0.64939815 | K6: =VLOOKUP(J6,$N$29:$P$32,3) -> ออกปกติ
A7: B5 | B7: Mr.Kino | C7: 03-05-2022 | D7: =_xlfn.MINIFS(Source!$G$2:$G$4091,Source!$A$2:$A$4091,$A7,Source!$D$2:$D$4091,0,Source!$F$2:$F$4091,$C7,Source!$H$2:$H$4091,"เช้า") -> 0.3305787 | E7: =VLOOKUP(D7,$N$21:$P$26,3) -> มาปกติ | F7: =_xlfn.MAXIFS(Source!$G$2:$G$4091,Source!$A$2:$A$4091,$A7,Source!$D$2:$D$4091,1,Source!$F$2:$F$4091,$C7,Source!$H$2:$H$4091,"เช้า") -> 0.41826389 | G7: =VLOOKUP(F7,$N$29:$P$32,3) -> ออกก่อน | H7: =_xlfn.MINIFS(Source!$G$2:$G$4091,Source!$A$2:$A$4091,$A7,Source!$D$2:$D$4091,0,Source!$F$2:$F$4091,$C7,Source!$H$2:$H$4091,"บ่าย") -> 0.57114583 | I7: มาปกติ | J7: =_xlfn.MAXIFS(Source!$G$2:$G$4091,Source!$A$2:$A$4091,$A7,Source!$D$2:$D$4091,1,Source!$F$2:$F$4091,$C7,Source!$H$2:$H$4091,"บ่าย") -> 0.65069444 | K7: =VLOOKUP(J7,$N$29:$P$32,3) -> ออกปกติ | M7: 1 | N7: สแกนออก | O7: 8:31-10:29 | P7: ออกก่อน
O8: 10:30-12:00 | P8: ออกปกติ
M11: 0 | N11: สแกนเข้า | O11: 12:30-2:30 | P11: มาปกติ | Q11: ช่วงบ่าย
O12: 3:31-3:49 | P12: มาช้า
O13: 3:50-4:00 | P13: ขาด
M15: 0 | N15: สแกนออก | O15: 2:30-3:29 | P15: ออกก่อน
O16: 3:30-4:00 | P16: ออกปกติ
M20: Status | N20: From | O20: To | P20: Description
M21: 0 | N21: 0 | O21: 0.3125 | P21: มาปกติ
M22: 0 | N22: 0.35486111 | O22: 0.43680556 | P22: มาช้า
M23: 0 | N23: 0.4375 | O23: 0.5 | P23: ขาด
M24: 0 | N24: 0.52083333 | O24: 0.60416667 | P24: มาปกติ
M25: 0 | N25: 0.64652778 | O25: 0.65902778 | P25: มาช้า
M26: 0 | N26: 0.65972222 | O26: 0.66666667 | P26: ขาด
M28: Status | N28: From | O28: To | P28: Description
M29: 1 | N29: 0.35486111 | O29: 0.43680556 | P29: ออกก่อน
M30: 1 | N30: 0.4375 | O30: 0.5 | P30: ออกปกติ
M31: 1 | N31: 0.60416667 | O31: 0.64513889 | P31: ออกก่อน
M32: 1 | N32: 0.64583333 | O32: 0.66666667 | P32: ออกปกติ

Sheet Print

Sheet Report (2)
A1: รหัสพนักงาน | B1: ชื่อ | C1: วันที่ | D1: สถานะการทำงานช่วงเช้า | H1: สถานะการทำงานช่วงบ่าย
D2: เวลาสแกนเข้า | E2: สแกนเข้า | F2: เวลาสแกนออก | G2: สแกนออก | H2: เวลาสแกนเข้า | I2: สแกนเข้า | J2: เวลาสแกนออก | K2: สแกนออก
A3: B1 | B3: Ms.Kesorn | C3: 03-05-2022 | D3: =_xlfn.MINIFS(Source!$G$2:$G$4091,Source!$A$2:$A$4091,$A3,Source!$F$2:$F$4091,$C3,Source!$H$2:$H$4091,"เช้า") -> 0.33667824 | E3: =VLOOKUP(D3,$N$21:$P$26,3) -> มาปกติ | F3: =_xlfn.MAXIFS(Source!$G$2:$G$4091,Source!$A$2:$A$4091,$A3,Source!$F$2:$F$4091,$C3,Source!$H$2:$H$4091,"เช้า") -> 0.3922338 | G3: =VLOOKUP(F3,$N$21:$P$26,3) -> มาช้า | H3: 0.54501157 | I3: มาปกติ | J3: 0.17001157 | K3: ออกปกติ | M3: 0 | N3: สแกนเข้า | O3: 7:30-8:30 | P3: มาปกติ | Q3: ช่วงเช้า
A4: B2 | B4: Ms.Kaysorn | C4: 03-05-2022 | D4: =_xlfn.MINIFS(Source!$G$2:$G$4091,Source!$A$2:$A$4091,$A4,Source!$F$2:$F$4091,$C4,Source!$H$2:$H$4091,"เช้า") -> 0.34399306 | E4: =VLOOKUP(D4,$N$21:$P$26,3) -> มาปกติ | F4: =_xlfn.MAXIFS(Source!$G$2:$G$4091,Source!$A$2:$A$4091,$A4,Source!$F$2:$F$4091,$C4,Source!$H$2:$H$4091,"เช้า") -> 0.4090625 | G4: ออกปกติ | H4: 0.56376157 | I4: มาช้า | J4: 0.10542824 | K4: ออกก่อน | O4: 8:31-10:29 | P4: มาช้า
A5: B3 | B5: Mr.Korlakanh | C5: 03-05-2022 | D5: =_xlfn.MINIFS(Source!$G$2:$G$4091,Source!$A$2:$A$4091,$A5,Source!$F$2:$F$4091,$C5,Source!$H$2:$H$4091,"เช้า") -> 0.3325 | E5: =VLOOKUP(D5,$N$21:$P$26,3) -> มาปกติ | F5: =_xlfn.MAXIFS(Source!$G$2:$G$4091,Source!$A$2:$A$4091,$A5,Source!$F$2:$F$4091,$C5,Source!$H$2:$H$4091,"เช้า") -> 0.41453704 | G5: ออกปกติ | H5: 0.56377315 | I5: มาช้า | J5: 0.10543981 | K5: ออกก่อน | O5: 10:30-12:00 | P5: ขาด
A6: B4 | B6: Mr.Ketthavisouk | C6: 03-05-2022 | D6: =_xlfn.MINIFS(Source!$G$2:$G$4091,Source!$A$2:$A$4091,$A6,Source!$F$2:$F$4091,$C6,Source!$H$2:$H$4091,"เช้า") -> 0.34309028 | E6: =VLOOKUP(D6,$N$21:$P$26,3) -> มาปกติ | F6: =_xlfn.MAXIFS(Source!$G$2:$G$4091,Source!$A$2:$A$4091,$A6,Source!$F$2:$F$4091,$C6,Source!$H$2:$H$4091,"เช้า") -> 0.38241898 | G6: ออกปกติ | H6: 0.54225694 | I6: มาปกติ | J6: 0.16725694 | K6: ออกปกติ
A7: B5 | B7: Mr.Kino | C7: 03-05-2022 | D7: =_xlfn.MINIFS(Source!$G$2:$G$4091,Source!$A$2:$A$4091,$A7,Source!$F$2:$F$4091,$C7,Source!$H$2:$H$4091,"เช้า") -> 0.3305787 | E7: =VLOOKUP(D7,$N$21:$P$26,3) -> มาปกติ | F7: =_xlfn.MAXIFS(Source!$G$2:$G$4091,Source!$A$2:$A$4091,$A7,Source!$F$2:$F$4091,$C7,Source!$H$2:$H$4091,"เช้า") -> 0.41826389 | G7: ออกปกติ | H7: 0.043263889 | I7: มาปกติ | J7: 0.16826389 | K7: ออกปกติ | M7: 1 | N7: สแกนออก | O7: 8:31-10:29 | P7: ออกก่อน
O8: 10:30-12:00 | P8: ออกปกติ
M11: 0 | N11: สแกนเข้า | O11: 12:30-2:30 | P11: มาปกติ | Q11: ช่วงบ่าย
O12: 3:31-3:49 | P12: มาช้า
O13: 3:50-4:00 | P13: ขาด
M15: 0 | N15: สแกนออก | O15: 2:30-3:29 | P15: ออกก่อน
O16: 3:30-4:00 | P16: ออกปกติ
M20: Status | N20: From | O20: To | P20: Description
M21: 0 | N21: 0 | O21: 0.3125 | P21: มาปกติ
M22: 0 | N22: 0.35486111 | O22: 0.43680556 | P22: มาช้า
M23: 0 | N23: 0.4375 | O23: 0.5 | P23: ขาด
M24: 0 | N24: 0.52083333 | O24: 0.60416667 | P24: มาปกติ
M25: 0 | N25: 0.64652778 | O25: 0.65902778 | P25: มาช้า
M26: 0 | N26: 0.65972222 | O26: 0.66666667 | P26: ขาด
M28: Status | N28: From | O28: To | P28: Description
M29: 1 | N29: 0.35486111 | O29: 0.43680556 | P29: ออกก่อน
M30: 1 | N30: 0.4375 | O30: 0.5 | P30: ออกปกติ
M31: 1 | N31: 0.60416667 | O31: 0.64513889 | P31: ออกก่อน
M32: 1 | N32: 0.64583333 | O32: 0.66666667 | P32: ออกปกติ
