Workbook

Sheet Source
A1: รหัสพนักงาน | B1: ชื่อ | C1: เวลา | D1: สถานะการทำงาน | E1: ชื่ออุปกรณ์ | F1: Date | G1: Time | H1: Period | K1: Count of รหัสพนักงาน | M1: สถานะการทำงาน
A2: B1 | B2: Ms.Kesorn | C2: 03-05-2022 08:04:49 | D2: 0 | E2: st-2 | F2: =INT(C2) -> 44684 | G2: =C2-INT(C2) -> 0.33667824 | H2: =IF(G2<"12:30"+0,"เช้า","บ่าย") -> เช้า | K2: รหัสพนักงาน | L2: Date | M2: 0 | N2: 1 | O2: Grand Total
A3: B1 | B3: Ms.Kesorn | C3: 03-05-2022 09:24:49 | D3: 1 | E3: st-2 | F3: =INT(C3) -> 44684 | G3: =C3-INT(C3) -> 0.3922338 | H3: =IF(G3<"12:30"+0,"เช้า","บ่าย") -> เช้า | K3: B1 | L3: 44684 | M3: 2 | N3: 2 | O3: 4
A4: B1 | B4: Ms.Kesorn | C4: 03-05-2022 13:31:31 | D4: 0 | E4: st-2 | F4: =INT(C4) -> 44684 | G4: =C4-INT(C4) -> 0.56355324 | H4: =IF(G4<"12:30"+0,"เช้า","บ่าย") -> บ่าย | L4: 44685 | M4: 2 | N4: 2 | O4: 4
A5: B1 | B5: Ms.Kesorn | C5: 03-05-2022 15:32:43 | D5: 1 | E5: st-2 | F5: =INT(C5) -> 44684 | G5: =C5-INT(C5) -> 0.64771991 | H5: =IF(G5<"12:30"+0,"เช้า","บ่าย") -> บ่าย | L5: 44686 | M5: 2 | N5: 2 | O5: 4
A6: B1 | B6: Ms.Kesorn | C6: 04-05-2022 08:07:27 | D6: 0 | E6: st-2 | F6: =INT(C6) -> 44685 | G6: =C6-INT(C6) -> 0.33850694 | H6: =IF(G6<"12:30"+0,"เช้า","บ่าย") -> เช้า | L6: 44687 | M6: 1 | N6: 1 | O6: 2
A7: B1 | B7: Ms.Kesorn | C7: 04-05-2022 11:14:00 | D7: 1 | E7: st-2 | F7: =INT(C7) -> 44685 | G7: =C7-INT(C7) -> 0.46805556 | H7: =IF(G7<"12:30"+0,"เช้า","บ่าย") -> เช้า | L7: 44697 | M7: 2 | N7: 2 | O7: 4
A8: B1 | B8: Ms.Kesorn | C8: 04-05-2022 13:35:17 | D8: 0 | E8: st-2 | F8: =INT(C8) -> 44685 | G8: =C8-INT(C8) -> 0.56616898 | H8: =IF(G8<"12:30"+0,"เช้า","บ่าย") -> บ่าย | L8: 44698 | M8: 3 | N8: 2 | O8: 5
A9: B1 | B9: Ms.Kesorn | C9: 04-05-2022 15:45:43 | D9: 1 | E9: st-2 | F9: =INT(C9) -> 44685 | G9: =C9-INT(C9) -> 0.65674769 | H9: =IF(G9<"12:30"+0,"เช้า","บ่าย") -> บ่าย | L9: 44699 | M9: 2 | N9: 2 | O9: 4
A10: B1 | B10: Ms.Kesorn | C10: 05-05-2022 08:07:14 | D10: 0 | E10: st-2 | F10: =INT(C10) -> 44686 | G10: =C10-INT(C10) -> 0.33835648 | H10: =IF(G10<"12:30"+0,"เช้า","บ่าย") -> เช้า | L10: 44700 | M10: 2 | N10: 2 | O10: 4
A11: B1 | B11: Ms.Kesorn | C11: 05-05-2022 11:00:29 | D11: 1 | E11: st-2 | F11: =INT(C11) -> 44686 | G11: =C11-INT(C11) -> 0.45866898 | H11: =IF(G11<"12:30"+0,"เช้า","บ่าย") -> เช้า | L11: 44701 | M11: 2 | N11: 1 | O11: 3
A12: B1 | B12: Ms.Kesorn | C12: 05-05-2022 13:57:24 | D12: 0 | E12: st-2 | F12: =INT(C12) -> 44686 | G12: =C12-INT(C12) -> 0.58152778 | H12: =IF(G12<"12:30"+0,"เช้า","บ่าย") -> บ่าย | L12: 44705 | M12: 2 | N12: 2 | O12: 4
A13: B1 | B13: Ms.Kesorn | C13: 05-05-2022 15:18:37 | D13: 1 | E13: st-2 | F13: =INT(C13) -> 44686 | G13: =C13-INT(C13) -> 0.63792824 | H13: =IF(G13<"12:30"+0,"เช้า","บ่าย") -> บ่าย | L13: 44706 | M13: 2 | N13: 2 | O13: 4
A14: B1 | B14: Ms.Kesorn | C14: 06-05-2022 07:58:18 | D14: 0 | E14: st-2 | F14: =INT(C14) -> 44687 | G14: =C14-INT(C14) -> 0.33215278 | H14: =IF(G14<"12:30"+0,"เช้า","บ่าย") -> เช้า | L14: 44707 | M14: 2 | N14: 1 | O14: 3
A15: B1 | B15: Ms.Kesorn | C15: 06-05-2022 10:40:49 | D15: 1 | E15: st-2 | F15: =INT(C15) -> 44687 | G15: =C15-INT(C15) -> 0.44501157 | H15: =IF(G15<"12:30"+0,"เช้า","บ่าย") -> เช้า | L15: 44708 | M15: 2 | N15: 1 | O15: 3
... A17: B1 | B17: Ms.Kesorn | C17: 16-05-2022 10:09:35 | D17: 1 | E17: st-2 | F17: =INT(C17) -> 44697 | G17: =C17-INT(C17) -> 0.42332176 | H17: =IF(G17<"12:30"+0,"เช้า","บ่าย") -> เช้า | L17: 44712 | M17: 3 | N17: 1 | O17: 4
A18: B1 | B18: Ms.Kesorn | C18: 16-05-2022 13:36:39 | D18: 0 | E18: st-2 | F18: =INT(C18) -> 44697 | G18: =C18-INT(C18) -> 0.56711806 | H18: =IF(G18<"12:30"+0,"เช้า","บ่าย") -> บ่าย | K18: B10 | L18: 44684 | M18: 2 | N18: 2 | O18: 4
A19: B1 | B19: Ms.Kesorn | C19: 16-05-2022 15:35:54 | D19: 1 | E19: st-2 | F19: =INT(C19) -> 44697 | G19: =C19-INT(C19) -> 0.64993056 | H19: =IF(G19<"12:30"+0,"เช้า","บ่าย") -> บ่าย | L19: 44685 | M19: 2 | N19: 2 | O19: 4
A20: B1 | B20: Ms.Kesorn | C20: 17-05-2022 08:00:39 | D20: 0 | E20: st-2 | F20: =INT(C20) -> 44698 | G20: =C20-INT(C20) -> 0.33378472 | H20: =IF(G20<"12:30"+0,"เช้า","บ่าย") -> เช้า | L20: 44686 | M20: 2 | N20: 2 | O20: 4
A21: B1 | B21: Ms.Kesorn | C21: 17-05-2022 08:00:41 | D21: 0 | E21: st-2 | F21: =INT(C21) -> 44698 | G21: =C21-INT(C21) -> 0.33380787 | H21: =IF(G21<"12:30"+0,"เช้า","บ่าย") -> เช้า | L21: 44687 | M21: 1 | N21: 1 | O21: 2
A22: B1 | B22: Ms.Kesorn | C22: 17-05-2022 09:50:09 | D22: 1 | E22: st-2 | F22: =INT(C22) -> 44698 | G22: =C22-INT(C22) -> 0.40982639 | H22: =IF(G22<"12:30"+0,"เช้า","บ่าย") -> เช้า | L22: 44697 | M22: 2 | N22: 1 | O22: 3
A23: B1 | B23: Ms.Kesorn | C23: 17-05-2022 13:33:40 | D23: 0 | E23: st-2 | F23: =INT(C23) -> 44698 | G23: =C23-INT(C23) -> 0.5650463 | H23: =IF(G23<"12:30"+0,"เช้า","บ่าย") -> บ่าย | L23: 44698 | M23: 1 | N23: 1 | O23: 2
A24: B1 | B24: Ms.Kesorn | C24: 17-05-2022 14:39:04 | D24: 1 | E24: st-2 | F24: =INT(C24) -> 44698 | G24: =C24-INT(C24) -> 0.61046296 | H24: =IF(G24<"12:30"+0,"เช้า","บ่าย") -> บ่าย | L24: 44699 | M24: 2 | N24: 2 | O24: 4
A25: B1 | B25: Ms.Kesorn | C25: 18-05-2022 07:43:23 | D25: 0 | E25: st-2 | F25: =INT(C25) -> 44699 | G25: =C25-INT(C25) -> 0.32179398 | H25: =IF(G25<"12:30"+0,"เช้า","บ่าย") -> เช้า | L25: 44700 | M25: 1 | N25: 2 | O25: 3
A26: B1 | B26: Ms.Kesorn | C26: 18-05-2022 11:18:51 | D26: 1 | E26: st-2 | F26: =INT(C26) -> 44699 | G26: =C26-INT(C26) -> 0.47142361 | H26: =IF(G26<"12:30"+0,"เช้า","บ่าย") -> เช้า | L26: 44701 | M26: 2 | N26: 2 | O26: 4
A27: B1 | B27: Ms.Kesorn | C27: 18-05-2022 13:25:20 | D27: 0 | E27: st-2 | F27: =INT(C27) -> 44699 | G27: =C27-INT(C27) -> 0.55925926 | H27: =IF(G27<"12:30"+0,"เช้า","บ่าย") -> บ่าย | L27: 44704 | M27: 2 | N27: 2 | O27: 4
A28: B1 | B28: Ms.Kesorn | C28: 18-05-2022 15:26:09 | D28: 1 | E28: st-2 | F28: =INT(C28) -> 44699 | G28: =C28-INT(C28) -> 0.64315972 | H28: =IF(G28<"12:30"+0,"เช้า","บ่าย") -> บ่าย | L28: 44705 | M28: 2 | N28: 2 | O28: 4
A29: B1 | B29: Ms.Kesorn | C29: 19-05-2022 08:04:49 | D29: 0 | E29: st-2 | F29: =INT(C29) -> 44700 | G29: =C29-INT(C29) -> 0.33667824 | H29: =IF(G29<"12:30"+0,"เช้า","บ่าย") -> เช้า | L29: 44706 | M29: 2 | N29: 2 | O29: 4
A30: B1 | B30: Ms.Kesorn | C30: 19-05-2022 09:07:06 | D30: 1 | E30: st-2 | F30: =INT(C30) -> 44700 | G30: =C30-INT(C30) -> 0.37993056 | H30: =IF(G30<"12:30"+0,"เช้า","บ่าย") -> เช้า | L30: 44707 | M30: 2 | N30: 2 | O30: 4
... A33: B1 | B33: Ms.Kesorn | C33: 20-05-2022 09:03:38 | D33: 0 | E33: st-2 | F33: =INT(C33) -> 44701 | G33: =C33-INT(C33) -> 0.37752315 | H33: =IF(G33<"12:30"+0,"เช้า","บ่าย") -> เช้า | L33: 44712 | M33: 2 | N33: 2 | O33: 4
A34: B1 | B34: Ms.Kesorn | C34: 20-05-2022 13:21:42 | D34: 0 | E34: st-2 | F34: =INT(C34) -> 44701 | G34: =C34-INT(C34) -> 0.55673611 | H34: =IF(G34<"12:30"+0,"เช้า","บ่าย") -> บ่าย | K34: B11 | L34: 44684 | M34: 2 | N34: 2 | O34: 4
A35: B1 | B35: Ms.Kesorn | C35: 20-05-2022 15:22:30 | D35: 1 | E35: st-2 | F35: =INT(C35) -> 44701 | G35: =C35-INT(C35) -> 0.640625 | H35: =IF(G35<"12:30"+0,"เช้า","บ่าย") -> บ่าย | L35: 44685 | M35: 2 | N35: 2 | O35: 4
A36: B1 | B36: Ms.Kesorn | C36: 24-05-2022 09:07:44 | D36: 0 | E36: st-2 | F36: =INT(C36) -> 44705 | G36: =C36-INT(C36) -> 0.38037037 | H36: =IF(G36<"12:30"+0,"เช้า","บ่าย") -> เช้า | L36: 44686 | M36: 2 | N36: 2 | O36: 4
A37: B1 | B37: Ms.Kesorn | C37: 24-05-2022 10:21:31 | D37: 1 | E37: st-2 | F37: =INT(C37) -> 44705 | G37: =C37-INT(C37) -> 0.4316088 | H37: =IF(G37<"12:30"+0,"เช้า","บ่าย") -> เช้า | L37: 44687 | M37: 1 | N37: 1 | O37: 2
A38: B1 | B38: Ms.Kesorn | C38: 24-05-2022 13:20:15 | D38: 0 | E38: st-2 | F38: =INT(C38) -> 44705 | G38: =C38-INT(C38) -> 0.55572917 | H38: =IF(G38<"12:30"+0,"เช้า","บ่าย") -> บ่าย | L38: 44697 | M38: 2 | N38: 2 | O38: 4
A39: B1 | B39: Ms.Kesorn | C39: 24-05-2022 14:40:53 | D39: 1 | E39: st-2 | F39: =INT(C39) -> 44705 | G39: =C39-INT(C39) -> 0.61172454 | H39: =IF(G39<"12:30"+0,"เช้า","บ่าย") -> บ่าย | L39: 44698 | M39: 2 | N39: 2 | O39: 4
A40: B1 | B40: Ms.Kesorn | C40: 25-05-2022 07:53:09 | D40: 0 | E40: st-2 | F40: =INT(C40) -> 44706 | G40: =C40-INT(C40) -> 0.32857639 | H40: =IF(G40<"12:30"+0,"เช้า","บ่าย") -> เช้า | L40: 44699 | M40: 2 | N40: 2 | O40: 4
A41: B1 | B41: Ms.Kesorn | C41: 25-05-2022 10:54:10 | D41: 1 | E41: st-2 | F41: =INT(C41) -> 44706 | G41: =C41-INT(C41) -> 0.45428241 | H41: =IF(G41<"12:30"+0,"เช้า","บ่าย") -> เช้า | L41: 44700 | M41: 1 | N41: 1 | O41: 2
A42: B1 | B42: Ms.Kesorn | C42: 25-05-2022 13:37:09 | D42: 0 | E42: st-2 | F42: =INT(C42) -> 44706 | G42: =C42-INT(C42) -> 0.56746528 | H42: =IF(G42<"12:30"+0,"เช้า","บ่าย") -> บ่าย | L42: 44701 | M42: 2 | N42: 2 | O42: 4
A43: B1 | B43: Ms.Kesorn | C43: 25-05-2022 15:19:54 | D43: 1 | E43: st-2 | F43: =INT(C43) -> 44706 | G43: =C43-INT(C43) -> 0.63881944 | H43: =IF(G43<"12:30"+0,"เช้า","บ่าย") -> บ่าย | L43: 44704 | M43: 2 | N43: 2 | O43: 4
...

Sheet Report
A1: รหัสพนักงาน | B1: ชื่อ | C1: วันที่ | D1: สถานะการทำงานช่วงเช้า | H1: สถานะการทำงานช่วงบ่าย
D2: เวลาสแกนเข้า | E2: สแกนเข้า | F2: เวลาสแกนออก | G2: สแกนออก | H2: เวลาสแกนเข้า | I2: สแกนเข้า | J2: เวลาสแกนออก | K2: สแกนออก
A3: B1 | B3: Ms.Kesorn | C3: 03-05-2022 | D3: =_xlfn.MINIFS(Source!$G$2:$G$4091,Source!$A$2:$A$4091,$A3,Source!$D$2:$D$4091,0,Source!$F$2:$F$4091,$C3,Source!$H$2:$H$4091,"เช้า") -> 0.33667824 | E3: =VLOOKUP(D3,$N$21:$P$26,3) -> มาปกติ | F3: =_xlfn.MAXIFS(Source!$G$2:$G$4091,Source!$A$2:$A$4091,$A3,Source!$D$2:$D$4091,1,Source!$F$2:$F$4091,$C3,Source!$H$2:$H$4091,"เช้า") -> 0.3922338 | G3: =VLOOKUP(F3,$N$29:$P$32,3) -> ออกก่อน | H3: =_xlfn.MINIFS(Source!$G$2:$G$4091,Source!$A$2:$A$4091,$A3,Source!$D$2:$D$4091,0,Source!$F$2:$F$4091,$C3,Source!$H$2:$H$4091,"บ่าย") -> 0.56355324 | I3: =VLOOKUP(H3,$N$21:$P$26,3) -> มาปกติ | J3: =_xlfn.MAXIFS(Source!$G$2:$G$4091,Source!$A$2:$A$4091,$A3,Source!$D$2:$D$4091,1,Source!$F$2:$F$4091,$C3,Source!$H$2:$H$4091,"บ่าย") -> 0.64771991 | K3: =VLOOKUP(J3,$N$29:$P$32,3) -> ออกปกติ | M3: 0 | N3: สแกนเข้า | O3: 7:30-8:30 | P3: มาปกติ | Q3: ช่วงเช้า
A4: B2 | B4: Ms.Kaysorn | C4: 03-05-2022 | D4: =_xlfn.MINIFS(Source!$G$2:$G$4091,Source!$A$2:$A$4091,$A4,Source!$D$2:$D$4091,0,Source!$F$2:$F$4091,$C4,Source!$H$2:$H$4091,"เช้า") -> 0.34399306 | E4: =VLOOKUP(D4,$N$21:$P$26,3) -> มาปกติ | F4: =_xlfn.MAXIFS(Source!$G$2:$G$4091,Source!$A$2:$A$4091,$A4,Source!$D$2:$D$4091,1,Source!$F$2:$F$4091,$C4,Source!$H$2:$H$4091,"เช้า") -> 0.4090625 | G4: =VLOOKUP(F4,$N$29:$P$32,3) -> ออกก่อน | H4: =_xlfn.MINIFS(Source!$G$2:$G$4091,Source!$A$2:$A$4091,$A4,Source!$D$2:$D$4091,0,Source!$F$2:$F$4091,$C4,Source!$H$2:$H$4091,"บ่าย") -> 0.56578704 | I4: มาช้า | J4: =_xlfn.MAXIFS(Source!$G$2:$G$4091,Source!$A$2:$A$4091,$A4,Source!$D$2:$D$4091,1,Source!$F$2:$F$4091,$C4,Source!$H$2:$H$4091,"บ่าย") -> 0.64743056 | K4: =VLOOKUP(J4,$N$29:$P$32,3) -> ออกปกติ | O4: 8:31-10:29 | P4: มาช้า
A5: B3 | B5: Mr.Korlakanh | C5: 03-05-2022 | D5: =_xlfn.MINIFS(Source!$G$2:$G$4091,Source!$A$2:$A$4091,$A5,Source!$D$2:$D$4091,0,Source!$F$2:$F$4091,$C5,Source!$H$2:$H$4091,"เช้า") -> 0.3325 | E5: =VLOOKUP(D5,$N$21:$P$26,3) -> มาปกติ | F5: =_xlfn.MAXIFS(Source!$G$2:$G$4091,Source!$A$2:$A$4091,$A5,Source!$D$2:$D$4091,1,Source!$F$2:$F$4091,$C5,Source!$H$2:$H$4091,"เช้า") -> 0.41453704 | G5: =VLOOKUP(F5,$N$29:$P$32,3) -> ออกก่อน | H5: =_xlfn.MINIFS(Source!$G$2:$G$4091,Source!$A$2:$A$4091,$A5,Source!$D$2:$D$4091,0,Source!$F$2:$F$4091,$C5,Source!$H$2:$H$4091,"บ่าย") -> 0.559375 | I5: มาช้า | J5: =_xlfn.MAXIFS(Source!$G$2:$G$4091,Source!$A$2:$A$4091,$A5,Source!$D$2:$D$4091,1,Source!$F$2:$F$4091,$C5,Source!$H$2:$H$4091,"บ่าย") -> 0.64677083 | K5: =VLOOKUP(J5,$N$29:$P$32,3) -> ออกปกติ | O5: 10:30-12:00 | P5: ขาด
A6: B4 | B6: Mr.Ketthavisouk | C6: 03-05-2022 | D6: =_xlfn.MINIFS(Source!$G$2:$G$4091,Source!$A$2:$A$4091,$A6,Source!$D$2:$D$4091,0,Source!$F$2:$F$4091,$C6,Source!$H$2:$H$4091,"เช้า") -> 0.34309028 | E6: =VLOOKUP(D6,$N$21:$P$26,3) -> มาปกติ | F6: =_xlfn.MAXIFS(Source!$G$2:$G$4091,Source!$A$2:$A$4091,$A6,Source!$D$2:$D$4091,1,Source!$F$2:$F$4091,$C6,Source!$H$2:$H$4091,"เช้า") -> 0.38241898 | G6: =VLOOKUP(F6,$N$29:$P$32,3) -> ออกก่อน | H6: =_xlfn.MINIFS(Source!$G$2:$G$4091,Source!$A$2:$A$4091,$A6,Source!$D$2:$D$4091,0,Source!$F$2:$F$4091,$C6,Source!$H$2:$H$4091,"บ่าย") -> 0.55770833 | I6: มาปกติ | J6: =_xlfn.MAXIFS(Source!$G$2:$G$4091,Source!$A$2:$A$4091,$A6,Source!$D$2:$D$4091,1,Source!$F$2:$F$4091,$C6,Source!$H$2:$H$4091,"บ่าย") -> 0.64939815 | K6: =VLOOKUP(J6,$N$29:$P$32,3) -> ออกปกติ
A7: B5 | B7: Mr.Kino | C7: 03-05-2022 | D7: =_xlfn.MINIFS(Source!$G$2:$G$4091,Source!$A$2:$A$4091,$A7,Source!$D$2:$D$4091,0,Source!$F$2:$F$4091,$C7,Source!$H$2:$H$4091,"เช้า") -> 0.3305787 | E7: =VLOOKUP(D7,$N$21:$P$26,3) -> มาปกติ | F7: =_xlfn.MAXIFS(Source!$G$2:$G$4091,Source!$A$2:$A$4091,$A7,Source!$D$2:$D$4091,1,Source!$F$2:$F$4091,$C7,Source!$H$2:$H$4091,"เช้า") -> 0.41826389 | G7: =VLOOKUP(F7,$N$29:$P$32,3) -> ออกก่อน | H7: =_xlfn.MINIFS(Source!$G$2:$G$4091,Source!$A$2:$A$4091,$A7,Source!$D$2:$D$4091,0,Source!$F$2:$F$4091,$C7,Source!$H$2:$H$4091,"บ่าย") -> 0.57114583 | I7: มาปกติ | J7: =_xlfn.MAXIFS(Source!$G$2:$G$4091,Source!$A$2:$A$4091,$A7,Source!$D$2:$D$4091,1,Source!$F$2:$F$4091,$C7,Source!$H$2:$H$4091,"บ่าย") -> 0.65069444 | K7: =VLOOKUP(J7,$N$29:$P$32,3) -> ออกปกติ | M7: 1 | N7: สแกนออก | O7: 8:31-10:29 | P7: ออกก่อน
O8: 10:30-12:00 | P8: ออกปกติ
M11: 0 | N11: สแกนเข้า | O11: 12:30-2:30 | P11: มาปกติ | Q11: ช่วงบ่าย
O12: 3:31-3:49 | P12: มาช้า
O13: 3:50-4:00 | P13: ขาด
M15: 0 | N15: สแกนออก | O15: 2:30-3:29 | P15: ออกก่อน
O16: 3:30-4:00 | P16: ออกปกติ
M20: Status | N20: From | O20: To | P20: Description
M21: 0 | N21: 0 | O21: 0.3125 | P21: มาปกติ
M22: 0 | N22: 0.35486111 | O22: 0.43680556 | P22: มาช้า
M23: 0 | N23: 0.4375 | O23: 0.5 | P23: ขาด
M24: 0 | N24: 0.52083333 | O24: 0.60416667 | P24: มาปกติ
M25: 0 | N25: 0.64652778 | O25: 0.65902778 | P25: มาช้า
M26: 0 | N26: 0.65972222 | O26: 0.66666667 | P26: ขาด
M28: Status | N28: From | O28: To | P28: Description
M29: 1 | N29: 0.35486111 | O29: 0.43680556 | P29: ออกก่อน
M30: 1 | N30: 0.4375 | O30: 0.5 | P30: ออกปกติ
M31: 1 | N31: 0.60416667 | O31: 0.64513889 | P31: ออกก่อน
M32: 1 | N32: 0.64583333 | O32: 0.66666667 | P32: ออกปกติ

Sheet Print

Sheet Report (2)
A1: รหัสพนักงาน | B1: ชื่อ | C1: วันที่ | D1: สถานะการทำงานช่วงเช้า | H1: สถานะการทำงานช่วงบ่าย
D2: เวลาสแกนเข้า | E2: สแกนเข้า | F2: เวลาสแกนออก | G2: สแกนออก | H2: เวลาสแกนเข้า | I2: สแกนเข้า | J2: เวลาสแกนออก | K2: สแกนออก
A3: B1 | B3: Ms.Kesorn | C3: 03-05-2022 | D3: =_xlfn.MINIFS(Source!$G$2:$G$4091,Source!$A$2:$A$4091,$A3,Source!$F$2:$F$4091,$C3,Source!$H$2:$H$4091,"เช้า") -> 0.33667824 | E3: =VLOOKUP(D3,$N$21:$P$26,3) -> มาปกติ | F3: =_xlfn.MAXIFS(Source!$G$2:$G$4091,Source!$A$2:$A$4091,$A3,Source!$F$2:$F$4091,$C3,Source!$H$2:$H$4091,"เช้า") -> 0.3922338 | G3: =VLOOKUP(F3,$N$21:$P$26,3) -> มาช้า | H3: 0.54501157 | I3: มาปกติ | J3: 0.17001157 | K3: ออกปกติ | M3: 0 | N3: สแกนเข้า | O3: 7:30-8:30 | P3: มาปกติ | Q3: ช่วงเช้า
A4: B2 | B4: Ms.Kaysorn | C4: 03-05-2022 | D4: =_xlfn.MINIFS(Source!$G$2:$G$4091,Source!$A$2:$A$4091,$A4,Source!$F$2:$F$4091,$C4,Source!$H$2:$H$4091,"เช้า") -> 0.34399306 | E4: =VLOOKUP(D4,$N$21:$P$26,3) -> มาปกติ | F4: =_xlfn.MAXIFS(Source!$G$2:$G$4091,Source!$A$2:$A$4091,$A4,Source!$F$2:$F$4091,$C4,Source!$H$2:$H$4091,"เช้า") -> 0.4090625 | G4: ออกปกติ | H4: 0.56376157 | I4: มาช้า | J4: 0.10542824 | K4: ออกก่อน | O4: 8:31-10:29 | P4: มาช้า
A5: B3 | B5: Mr.Korlakanh | C5: 03-05-2022 | D5: =_xlfn.MINIFS(Source!$G$2:$G$4091,Source!$A$2:$A$4091,$A5,Source!$F$2:$F$4091,$C5,Source!$H$2:$H$4091,"เช้า") -> 0.3325 | E5: =VLOOKUP(D5,$N$21:$P$26,3) -> มาปกติ | F5: =_xlfn.MAXIFS(Source!$G$2:$G$4091,Source!$A$2:$A$4091,$A5,Source!$F$2:$F$4091,$C5,Source!$H$2:$H$4091,"เช้า") -> 0.41453704 | G5: ออกปกติ | H5: 0.56377315 | I5: มาช้า | J5: 0.10543981 | K5: ออกก่อน | O5: 10:30-12:00 | P5: ขาด
A6: B4 | B6: Mr.Ketthavisouk | C6: 03-05-2022 | D6: =_xlfn.MINIFS(Source!$G$2:$G$4091,Source!$A$2:$A$4091,$A6,Source!$F$2:$F$4091,$C6,Source!$H$2:$H$4091,"เช้า") -> 0.34309028 | E6: =VLOOKUP(D6,$N$21:$P$26,3) -> มาปกติ | F6: =_xlfn.MAXIFS(Source!$G$2:$G$4091,Source!$A$2:$A$4091,$A6,Source!$F$2:$F$4091,$C6,Source!$H$2:$H$4091,"เช้า") -> 0.38241898 | G6: ออกปกติ | H6: 0.54225694 | I6: มาปกติ | J6: 0.16725694 | K6: ออกปกติ
A7: B5 | B7: Mr.Kino | C7: 03-05-2022 | D7: =_xlfn.MINIFS(Source!$G$2:$G$4091,Source!$A$2:$A$4091,$A7,Source!$F$2:$F$4091,$C7,Source!$H$2:$H$4091,"เช้า") -> 0.3305787 | E7: =VLOOKUP(D7,$N$21:$P$26,3) -> มาปกติ | F7: =_xlfn.MAXIFS(Source!$G$2:$G$4091,Source!$A$2:$A$4091,$A7,Source!$F$2:$F$4091,$C7,Source!$H$2:$H$4091,"เช้า") -> 0.41826389 | G7: ออกปกติ | H7: 0.043263889 | I7: มาปกติ | J7: 0.16826389 | K7: ออกปกติ | M7: 1 | N7: สแกนออก | O7: 8:31-10:29 | P7: ออกก่อน
O8: 10:30-12:00 | P8: ออกปกติ
M11: 0 | N11: สแกนเข้า | O11: 12:30-2:30 | P11: มาปกติ | Q11: ช่วงบ่าย
O12: 3:31-3:49 | P12: มาช้า
O13: 3:50-4:00 | P13: ขาด
M15: 0 | N15: สแกนออก | O15: 2:30-3:29 | P15: ออกก่อน
O16: 3:30-4:00 | P16: ออกปกติ
M20: Status | N20: From | O20: To | P20: Description
M21: 0 | N21: 0 | O21: 0.3125 | P21: มาปกติ
M22: 0 | N22: 0.35486111 | O22: 0.43680556 | P22: มาช้า
M23: 0 | N23: 0.4375 | O23: 0.5 | P23: ขาด
M24: 0 | N24: 0.52083333 | O24: 0.60416667 | P24: มาปกติ
M25: 0 | N25: 0.64652778 | O25: 0.65902778 | P25: มาช้า
M26: 0 | N26: 0.65972222 | O26: 0.66666667 | P26: ขาด
M28: Status | N28: From | O28: To | P28: Description
M29: 1 | N29: 0.35486111 | O29: 0.43680556 | P29: ออกก่อน
M30: 1 | N30: 0.4375 | O30: 0.5 | P30: ออกปกติ
M31: 1 | N31: 0.60416667 | O31: 0.64513889 | P31: ออกก่อน
M32: 1 | N32: 0.64583333 | O32: 0.66666667 | P32: ออกปกติ
