Workbook

Sheet ด.2.66
A1: NO.รถ | B1: ครั้งที่ 1 | E1: ครั้งที่ 2 | H1: ครั้งที่ 3 | K1: ครั้งที่ 4 | N1: ครั้งที่ 5 | Q1: ครั้งที่ 1 | T1: ครั้งที่ 2 | W1: ครั้งที่ 3 | Z1: ครั้งที่ 4 | AC1: ครั้งที่ 5 | AF1: ครั้งที่ 6 | AI1: ครั้งที่ 7
B2: NO.แบต | C2: เวลา | D2: HRS ที่เปลี่ยน | E2: NO.แบต | F2: เวลา | G2: HRS ที่เปลี่ยน | H2: NO.แบต | I2: เวลา | J2: HRS ที่เปลี่ยน | K2: NO.แบต | L2: เวลา | M2: HRS ที่เปลี่ยน | N2: NO.แบต | O2: เวลา | P2: HRS ที่เปลี่ยน | Q2: NO.แบต | R2: เวลา | S2: HRS ที่เปลี่ยน | T2: NO.แบต | U2: เวลา | V2: HRS ที่เปลี่ยน | W2: NO.แบต | X2: เวลา | Y2: HRS ที่เปลี่ยน | Z2: NO.แบต | AA2: เวลา | AB2: HRS ที่เปลี่ยน | AC2: NO.แบต | AD2: เวลา | AE2: HRS ที่เปลี่ยน | AF2: NO.แบต | AG2: เวลา | AH2: HRS ที่เปลี่ยน | AI2: NO.แบต | AJ2: เวลา | AK2: HRS ที่เปลี่ยน
A3: S7-01 | B3: S7-06 | C3: 44959.167 | D3: 7755 | E3: SP7-00 | F3: 44959.287 | G3: 7757 | Q3: S7-08 | R3: 44959.448 | S3: 7760 | T3: S7-46 | U3: 44959.587 | V3: 7763 | W3: S7-23 | X3: 44959.675 | Y3: 7764 | Z3: S7-08 | AA3: 44959.835 | AB3: 7765 | AC3: S7-05 | AD3: 44959.979 | AE3: 7768 | AF3: S7-03 | AG3: 44595.125 | AH3: 7771 | AI3: S7-03 | AJ3: 44595.125 | AK3: 7771
A4: S7-02 | B4: S7-33 | C4: 44958.464 | D4: 9973 | E4: S7-14 | F4: 44958.615 | G4: 9975 | H4: S7-02 | I4: 44958.853 | J4: 9977 | K4: S7-48 | L4: 44958.958 | M4: 9979 | N4: S7-20 | O4: 44959.125 | P4: 9982 | Q4: S7-44 | R4: 44959.415 | S4: 9984 | T4: S7-09 | U4: 44959.824 | V4: 9990 | W4: S7-01 | X4: 44959.896 | Y4: 9992 | Z4: S7-39 | AA4: 44960.253 | AB4: 9994
A5: S7-03 | B5: S3-09 | C5: 44958.302 | D5: 10727 | E5: S7-47 | F5: 44958.548 | G5: 10731 | H5: S7-16 | I5: 44958.771 | J5: 10734 | K5: SS7-04 | L5: 44958.915 | M5: 10737 | Q5: S7-36 | R5: 44959.354 | S5: 10740 | T5: S7-04 | U5: 44959.577 | V5: 10744 | W5: S7-48 | X5: 44960.25 | Y5: 10749
A6: S7-04 | B6: S7-07 | C6: 44958.738 | D6: 10542 | Q6: S7-05 | R6: 44959.469 | S6: 10548 | T6: S7-32 | U6: 44959.722 | V6: 10550 | W6: S7-06 | X6: 44959.889 | Y6: 10551
A7: S7-05 | B7: S7-16 | C7: 44958.374 | D7: 7917 | E7: S7-01 | F7: 44958.489 | G7: 7919 | H7: S7-30 | I7: 44958.702 | J7: 7922 | K7: S7-36 | L7: 44958.837 | M7: 7926 | N7: S7-48 | O7: 44958.949 | P7: 7928 | Q7: S7-30 | R7: 44959.076 | S7: 7929 | T7: S7-38 | U7: 44959.42 | V7: 7932 | W7: S7-14 | X7: 44959.69 | Y7: 7937 | Z7: LEND-07 | AA7: 44959.842 | AB7: 7940 | AC7: S7-31 | AD7: 44960.132 | AE7: 7944
A8: S7-06 | B8: S7-15 | C8: 44958.581 | D8: 10661 | E8: S7-38 | F8: 44958.719 | G8: 10663 | H8: S7-46 | I8: 44958.956 | J8: 10667 | K8: S7-39 | L8: 44959.278 | M8: 10680 | Q8: S7-16 | R8: 44959.742 | S8: 10678 | T8: S7-46 | U8: 44959.938 | V8: 10680 | W8: S7-41 | X8: 44960.139 | Y8: 10682
A9: S7-07 | B9: S7-35 | C9: 44958.44 | D9: 7496 | E9: S7-06 | F9: 44958.645 | G9: 7500 | H9: S7-45 | I9: 44958.869 | J9: 7504 | K9: S7-43 | L9: 44958.979 | M9: 7505 | Q9: S7-09 | R9: 44959.35 | S9: 7508 | T9: S7-20 | U9: 44959.639 | V9: 7513 | W9: S7-30 | X9: 44959.746 | Y9: 7515 | Z9: S7-11 | AA9: 44959.909 | AB9: 7518 | AC9: S7-38 | AD9: 44960.052 | AE9: 7521
A10: S7-08 | B10: 306 | C10: 44958.44 | D10: 7282 | E10: 315 | F10: 44958.88 | G10: 7288 | Q10: S7-06 | R10: 44959.458 | S10: 7293 | T10: S7-24 | U10: 44959 | V10: 7296
A11: S7-09 | B11: S7-48 | C11: 44958.36 | D11: 8077 | E11: S7-43 | F11: 44958.48 | G11: 8079 | H11: S7-05 | I11: 44958.693 | J11: 8081 | K11: S7-13 | L11: 44959.049 | M11: 8083 | Q11: S7-02 | R11: 44959.36 | S11: 8085 | T11: S7-37 | U11: 44959.58 | V11: 8088
A12: S7-10 | B12: S7-13 | C12: 44958.312 | D12: 9632 | E12: S7-45 | F12: 44958.41 | G12: 9633 | H12: S7-03 | I12: 44958.458 | J12: 9634 | K12: S7-20 | L12: 44958.654 | M12: 9637 | N12: S7-27 | O12: 44958.863 | P12: 9640 | Q12: S7-26 | R12: 44959.992 | S12: 9643 | T12: S7-11 | U12: 44959.408 | V12: 9647 | W12: S7-48 | X12: 44959.71 | Y12: 9652 | Z12: S7-02 | AA12: 44959.875 | AB12: 9654 | AC12: S7-26 | AD12: 44960.038 | AE12: 9657
A13: S7-11 | B13: S7-23 | C13: 44958.569 | D13: 10239 | E13: S7-13 | F13: 44958.597 | G13: 10240 | H13: S7-09 | I13: 44958.649 | J13: 10241 | K13: S7-32 | L13: 44958.828 | M13: 10245 | N13: TPC-10 | O13: 44958.85 | P13: 10245 | Q13: S7--35 | R13: 44959.069 | S13: 10250 | T13: S7-17 | U13: 44959 | V13: 10253 | W13: S7-13 | X13: 44959.644 | Y13: 10257 | Z13: SP7-00 | AA13: 44959.694 | AB13: 10259 | AC13: S7-15 | AD13: 44959.93 | AE13: 10263 | AF13: S7-45 | AG13: 44960.042 | AH13: 10265 | AI13: S7-17 | AJ13: 44960.085 | AK13: 10266
A14: S7-12 | B14: TPC-03 | C14: 44958.428 | D14: 9592 | E14: S7-04 | F14: 44958.83 | G14: 9598 | H14: S7-47 | I14: 44959.25 | J14: 9604 | Q14: S7-35 | R14: 44959.905 | S14: 9608
A15: S7-13 | B15: S7-41 | C15: 44958.874 | D15: 8941 | Q15: S7-45 | R15: 44959.478 | S15: 8976 | T15: S7-06 | U15: 44959.56 | V15: 8947 | W15: S7-36 | X15: 44959.926 | Y15: 8952 | Z15: S3-43 | AA15: 44960.153 | AB15: 8957
A16: S7-14 | B16: S7-03 | C16: 44958.367 | D16: 10305 | E16: S7-19 | F16: 44958.726 | G16: 10312 | Q16: S7-25 | R16: 44959.393 | S16: 10317 | T16: S7-21 | U16: 44959.848 | V16: 10326
A17: S7-15 | B17: S7-03 | C17: 44958.469 | D17: 7783 | E17: S7-42 | F17: 44958.555 | G17: 7784 | H17: S7-31 | I17: 44958.736 | J17: 7788 | K17: S7-34 | L17: 44959.042 | M17: 7794 | Q17: S7-31 | R17: 44959.466 | S17: 7799 | T17: S7-42 | U17: 44959.713 | V17: 7804 | W17: S7-02 | X17: 44960.271 | Y17: 7810
A18: S7-16 | B18: S7-05 | C18: 44958.367 | D18: 7258 | E18: W10 | F18: 44958.39 | G18: 7259 | H18: S7-09 | I18: 44958.906 | J18: 7268 | K18: S7-12 | L18: 44959.174 | M18: 7271 | Q18: S7-27 | R18: 44959.617 | S18: 7278 | T18: S7-30 | U18: 44960.236 | V18: 7288
A19: S7-17 | B19: W10-01 | C19: 44958.758 | D19: 9748 | E19: S7-33 | F19: 44959.053 | G19: 9754 | Q19: S7-16 | R19: 44959.336 | S19: 9756 | T19: S7-15 | U19: 44959.476 | V19: 9758 | W19: S7-48 | X19: 44959.626 | Y19: 9761 | Z19: S7-04 | AA19: 44959.83 | AB19: 9762 | AC19: S7-25 | AD19: 44959.997 | AE19: 9766
A20: S7-18 | B20: S7-31 | C20: 44958.397 | D20: 9571 | E20: S7-14 | F20: 44959.074 | G20: 9582 | Q20: S7-01 | R20: 44959.383 | S20: 9585 | T20: S7-03 | U20: 44959.584 | V20: 9589 | W20: S7-10 | X20: 44987.854 | Y20: 9592 | Z20: S7-13 | AA20: 44987.833 | AB20: 9593 | AC20: S7-05 | AD20: 44987.958 | AE20: 9594 | AF20: S7-23 | AG20: 44960.167 | AH20: 9596 | AI20: S7-12 | AJ20: 44960.242 | AK20: 9597
A21: S7-19 | B21: S7-44 | C21: 44958.397 | D21: 7379 | E21: S7-03 | F21: 44958.892 | G21: 7388 | H21: S7-40 | I21: 44959.22 | J21: 7391 | Q21: S7-02 | R21: 44959.405 | S21: 7395 | T21: S7-45 | U21: 44959.76 | V21: 7401 | W21: S7-28 | X21: 44959.845 | Y21: 7403 | Z21: S7-09 | AA21: 44960.167 | AB21: 7406 | AC21: S7-42 | AD21: 44960.278 | AE21: 7409
A22: S7-00 | B22: S7-03 | C22: 44958.778 | D22: 3559 | Q22: S7-40 | R22: 44959.75 | S22: 3563
A23: PP3-01 | Q23: PP3-01 | R23: 44959.62 | S23: 2891

Sheet Sheetข้อมูลรถ
A1: NO.รถ | B1: 44958
B2: จำนวนครั้งที่เปลี่ยนแบตเตอรี่และชั่วโมงแบตเตอรี่ที่ใช้งานได้
B3: จำนวนแบตที่เปลี่ยน (ลูก) | C3: กะเช้า ( 07.30 - 19.30) | K3: จำนวนแบตที่เปลี่ยน (ลูก) | L3: กะดึก (19.31-07.30)
C4: NO.แบต | D4: ชม.ที่ใช้งานได้ | E4: NO.แบต | F4: ชม.ที่ใช้งานได้ | G4: NO.แบต | H4: ชม.ที่ใช้งานได้ | I4: NO.แบต | J4: ชม.ที่ใช้งานได้ | L4: NO.แบต | M4: ชม.ที่ใช้งานได้ | N4: NO.แบต | O4: ชม.ที่ใช้งานได้ | P4: NO.แบต | Q4: ชม.ที่ใช้งานได้ | R4: NO.แบต | S4: ชม.ที่ใช้งานได้
A5: S7-01 | B5: 0 | K5: 2 | L5: =ด.2.66!B3 -> S7-06 | M5: =ด.2.66!G3-ด.2.66!D3 -> 2 | N5: =ด.2.66!E3 -> SP7-00 | O5: =ด.2.66!S3-ด.2.66!G3 -> 3
A6: S7-02 | B6: 2 | C6: =ด.2.66!B4 -> S7-33 | D6: =ด.2.66!G4-ด.2.66!D4 -> 2 | E6: =ด.2.66!E4 -> S7-14 | F6: =ด.2.66!J4-ด.2.66!G4 -> 2 | K6: 3 | L6: =ด.2.66!H4 -> S7-02 | M6: =ด.2.66!M4-ด.2.66!J4 -> 2 | N6: =ด.2.66!K4 -> S7-48 | O6: =ด.2.66!P4-ด.2.66!M4 -> 3 | P6: =ด.2.66!N4 -> S7-20 | Q6: =ด.2.66!S4-ด.2.66!P4 -> 2
A7: S7-03
A8: S7-04
A9: S7-05
A10: S7-06
A11: S7-07
A12: S7-08
A13: S7-09
A14: S7-10 | B14: 4 | C14: =ด.2.66!B12 -> S7-13 | D14: =ด.2.66!G12-ด.2.66!D12 -> 1 | E14: =ด.2.66!E12 -> S7-45 | F14: =ด.2.66!J12-ด.2.66!G12 -> 1 | G14: =ด.2.66!H12 -> S7-03 | H14: =ด.2.66!M12-ด.2.66!J12 -> 3 | I14: =ด.2.66!K12 -> S7-20 | J14: =ด.2.66!P12-ด.2.66!M12 -> 3 | L14: =ด.2.66!N12 -> S7-27 | M14: =ด.2.66!S12-ด.2.66!P12 -> 3 | N14: =ด.2.66!Q12 -> S7-26 | O14: =ด.2.66!V12-ด.2.66!S12 -> 4
A15: S7-11
A16: S7-12
A17: S7-13
A18: S7-14 | C18: =ด.2.66!B16 -> S7-03 | D18: =ด.2.66!G16-ด.2.66!D16 -> 7
A19: S7-15 | C19: =ด.2.66!B17 -> S7-03 | D19: =ด.2.66!G17-ด.2.66!D17 -> 1
A20: S7-16
A21: S7-17
A22: S7-18
A23: S7-19 | C23: =ด.2.66!B21 -> S7-44 | D23: =ด.2.66!G21-ด.2.66!D21 -> 9 | E23: =ด.2.66!E21 -> S7-03 | F23: =ด.2.66!J21-ด.2.66!G21 -> 3
A24: S7-20
A25: SP7-00 | C25: =ด.2.66!B22 -> S7-03 | D25: =ด.2.66!S22-ด.2.66!D22 -> 4
A26: PP3
C28: ต้องการ ให้ทำการตรวจสอบข้อมูลจากชีท ด.2.66 ว่ารถเช่า คอลัมภ์ A (Sheet2) S07-01 วันที่ 1/2/23 กะเช้าและกะดึก มีการเปลี่ยนแบตเตอรี่กี่ลูก และแบตเตอรี่แต่ละลูกใช้งานได้กี่ชั่วโมง ตามตัวอย่างชีทด.2.66 กะเช้าไม่มีการเปลี่ยนแบตเตอรี่เลย มีเฉพาะกะดึกมีการเปลี่ยนแบตเตอรี่ 2 ครั้ง
C29: จากชีท ด.2.66 ต้องการหาสูตร เพื่อตรวจเช็คว่า
C30: 1. ในแต่ละวัน ช่วงกะเช้า และ กะดึก รถแต่ละคัน เปลี่ยนแบตเตอรี่ไปกี่ลูก และแต่ละลูกใช้งานได้กี่ชั่วโมง ตามตัวอย่าง รถ S7-01 กะเช้าไม่มีเปลี่ยนแบตเตอรี่ ส่วนกะดึกมีการเปลี่ยนแบตเตอรี่ให้ดึง NO.แบตเตอรี่ของกะดึงที่มีการเปลี่ยนแบตเตอรี่มาใส่ในชีทนี้ข้อมูลรถ
C31: โดยให้ | D31: J5 = S7-06 | G31: K5 = 2
D32: L5 = SP7-00 | G32: M5 = 3

Sheet ระยะห่างในการเปลี่ยนแบต
A2: NO.แบต | B2: ต้องการทราบว่าแบตเตอรี่แต่ละลูกในแต่ละวันใช้งานไปกี่ครั้งและระยะเวลาที่เปลียนแบตเตอรี่ในแต่ละครั้งห่างกันกี่ชั่วโมง
B3: ครั้งที่ 1 | C3: ระยะเวลา | D3: ครั้งที่ 2 | E3: ระยะเวลา | F3: ครั้งที่ 3 | G3: ระยะเวลา | H3: ครั้งที่ 4 | I3: ระยะเวลา | J3: ครั้งที่ 5 | K3: ระยะเวลา
A4: S7-01
A5: S7-02
A6: S7-03 | B6: =ด.2.66!C16 -> 44958.367 | C6: =D6-B6 -> 0.090972222 | D6: =ด.2.66!I12 -> 44958.458 | E6: =F6-D6 -> 0.011805556 | F6: =ด.2.66!C17 -> 44958.469 | G6: =H6-F6 -> 0.30902778 | H6: =ด.2.66!C22 -> 44958.778 | I6: =J6-H6 -> 0.11388889 | J6: =ด.2.66!F21 -> 44958.892 | M6: ยกตัวอย่างแบตเตอรี่ S7-03 วันที่ 1/2/2566 มีการเปลี่ยนแบตเตอรี่ทั้งหมด 5 ครั้ง ให้ทำการดึงข้อมูลวันที่และเวลาในการเปลี่ยนแบตเตอรี่ลูกนั้นมาใส่ลงในตาราง และให้คำนวนเวลาว่าแต่ละครั้งห่างกันกี่ชั่วโมง/นาที
A7: S7-04
A8: S7-05
A9: S7-06
A10: S7-07
A11: S7-08
A12: S7-09
A13: S7-10
A14: S7-11
A15: S7-12
A16: S7-13
A17: S7-14
A18: S7-15
... A52: S3-09
A53: 315
A54: 306
A56: TPC-03
A57: W10-01
A58: SP7-00
A59: PP3-01
A60: PP3-02

Sheet สรุปการใช้งานแบตเตอรี่ต่อลูก
B1: 44958 | G1: รวมทั้งหมด
A2: NO.แบต | B2: ครั้งที่ 1 | C2: ครั้งที่ 2 | D2: ครั้งที่ 3 | E2: ครั้งที่ 4 | F2: ครั้งที่ 5
A3: S7-1
A4: S7-2
A5: S7-3 | B5: =ด.2.66!G16-ด.2.66!D16 -> 7 | C5: =ด.2.66!M12-ด.2.66!J12 -> 3 | D5: =ด.2.66!G17-ด.2.66!D17 -> 1 | E5: =ด.2.66!S22-ด.2.66!D22 -> 4 | F5: =ด.2.66!J21-ด.2.66!G21 -> 3 | G5: =SUM(B5:F5) -> 18
A6: S7-4
A7: S7-5
A8: S7-6
A9: S7-7
A10: S7-8
A11: S7-9
A12: S7-10
A13: S7-11
A14: S7-12
A15: S7-13
A16: S7-14
A17: S7-15
... A50: S7-48
A51: SP7-00 | B51: =Sheetข้อมูลรถ!O5 -> 3
A52: SP3-1
A53: SP3-2

Sheet Data
A1: NO.รถ | B1: ครั้งที่ | C1: NO.แบต | D1: เวลา | E1: HRS ที่เปลี่ยน | F1: Time | G1: กะ | I1: เริ่ม | J1: สิ้นสุด | K1: กะ
A2: S7-01 | B2: ครั้งที่ 1 | C2: S7-06 | D2: 44959.167 | E2: 7755 | F2: =MOD(D2,1) -> 0.16666667 | G2: =IF(C2="","",LOOKUP(F2,$I$2:$I$4,$K$2:$K$4)) -> ดึก | I2: 0 | J2: 0.31248843 | K2: ดึก
A3: S7-02 | B3: ครั้งที่ 1 | C3: S7-33 | D3: 44958.464 | E3: 9973 | F3: =MOD(D3,1) -> 0.46388889 | G3: =IF(C3="","",LOOKUP(F3,$I$2:$I$4,$K$2:$K$4)) -> เช้า | I3: 0.3125 | J3: 0.8125 | K3: เช้า
A4: S7-03 | B4: ครั้งที่ 1 | C4: S3-09 | D4: 44958.302 | E4: 10727 | F4: =MOD(D4,1) -> 0.30208333 | G4: =IF(C4="","",LOOKUP(F4,$I$2:$I$4,$K$2:$K$4)) -> ดึก | I4: 0.81251157 | K4: ดึก
A5: S7-04 | B5: ครั้งที่ 1 | C5: S7-07 | D5: 44958.738 | E5: 10542 | F5: =MOD(D5,1) -> 0.7375 | G5: =IF(C5="","",LOOKUP(F5,$I$2:$I$4,$K$2:$K$4)) -> เช้า
A6: S7-05 | B6: ครั้งที่ 1 | C6: S7-16 | D6: 44958.374 | E6: 7917 | F6: =MOD(D6,1) -> 0.37361111 | G6: =IF(C6="","",LOOKUP(F6,$I$2:$I$4,$K$2:$K$4)) -> เช้า
A7: S7-06 | B7: ครั้งที่ 1 | C7: S7-15 | D7: 44958.581 | E7: 10661 | F7: =MOD(D7,1) -> 0.58125 | G7: =IF(C7="","",LOOKUP(F7,$I$2:$I$4,$K$2:$K$4)) -> เช้า
A8: S7-07 | B8: ครั้งที่ 1 | C8: S7-35 | D8: 44958.44 | E8: 7496 | F8: =MOD(D8,1) -> 0.44027778 | G8: =IF(C8="","",LOOKUP(F8,$I$2:$I$4,$K$2:$K$4)) -> เช้า
A9: S7-08 | B9: ครั้งที่ 1 | C9: 306 | D9: 44958.44 | E9: 7282 | F9: =MOD(D9,1) -> 0.44027778 | G9: =IF(C9="","",LOOKUP(F9,$I$2:$I$4,$K$2:$K$4)) -> เช้า
A10: S7-09 | B10: ครั้งที่ 1 | C10: S7-48 | D10: 44958.36 | E10: 8077 | F10: =MOD(D10,1) -> 0.36041667 | G10: =IF(C10="","",LOOKUP(F10,$I$2:$I$4,$K$2:$K$4)) -> เช้า
A11: S7-10 | B11: ครั้งที่ 1 | C11: S7-13 | D11: 44958.312 | E11: 9632 | F11: =MOD(D11,1) -> 0.3125 | G11: =IF(C11="","",LOOKUP(F11,$I$2:$I$4,$K$2:$K$4)) -> เช้า
A12: S7-11 | B12: ครั้งที่ 1 | C12: S7-23 | D12: 44958.569 | E12: 10239 | F12: =MOD(D12,1) -> 0.56875 | G12: =IF(C12="","",LOOKUP(F12,$I$2:$I$4,$K$2:$K$4)) -> เช้า
A13: S7-12 | B13: ครั้งที่ 1 | C13: TPC-03 | D13: 44958.428 | E13: 9592 | F13: =MOD(D13,1) -> 0.42847222 | G13: =IF(C13="","",LOOKUP(F13,$I$2:$I$4,$K$2:$K$4)) -> เช้า
A14: S7-13 | B14: ครั้งที่ 1 | C14: S7-41 | D14: 44958.874 | E14: 8941 | F14: =MOD(D14,1) -> 0.87430556 | G14: =IF(C14="","",LOOKUP(F14,$I$2:$I$4,$K$2:$K$4)) -> ดึก
A15: S7-14 | B15: ครั้งที่ 1 | C15: S7-03 | D15: 44958.367 | E15: 10305 | F15: =MOD(D15,1) -> 0.36666667 | G15: =IF(C15="","",LOOKUP(F15,$I$2:$I$4,$K$2:$K$4)) -> เช้า
A16: S7-15 | B16: ครั้งที่ 1 | C16: S7-03 | D16: 44958.469 | E16: 7783 | F16: =MOD(D16,1) -> 0.46944444 | G16: =IF(C16="","",LOOKUP(F16,$I$2:$I$4,$K$2:$K$4)) -> เช้า
A17: S7-16 | B17: ครั้งที่ 1 | C17: S7-05 | D17: 44958.367 | E17: 7258 | F17: =MOD(D17,1) -> 0.36666667 | G17: =IF(C17="","",LOOKUP(F17,$I$2:$I$4,$K$2:$K$4)) -> เช้า
A18: S7-17 | B18: ครั้งที่ 1 | C18: W10-01 | D18: 44958.758 | E18: 9748 | F18: =MOD(D18,1) -> 0.75763889 | G18: =IF(C18="","",LOOKUP(F18,$I$2:$I$4,$K$2:$K$4)) -> เช้า
A19: S7-18 | B19: ครั้งที่ 1 | C19: S7-31 | D19: 44958.397 | E19: 9571 | F19: =MOD(D19,1) -> 0.39722222 | G19: =IF(C19="","",LOOKUP(F19,$I$2:$I$4,$K$2:$K$4)) -> เช้า
A20: S7-19 | B20: ครั้งที่ 1 | C20: S7-44 | D20: 44958.397 | E20: 7379 | F20: =MOD(D20,1) -> 0.39722222 | G20: =IF(C20="","",LOOKUP(F20,$I$2:$I$4,$K$2:$K$4)) -> เช้า
A21: S7-00 | B21: ครั้งที่ 1 | C21: S7-03 | D21: 44958.778 | E21: 3559 | F21: =MOD(D21,1) -> 0.77847222 | G21: =IF(C21="","",LOOKUP(F21,$I$2:$I$4,$K$2:$K$4)) -> เช้า
A22: PP3-01 | B22: ครั้งที่ 1 | F22: =MOD(D22,1) -> 0 | G22: =IF(C22="","",LOOKUP(F22,$I$2:$I$4,$K$2:$K$4))
A23: S7-01 | B23: ครั้งที่ 2 | C23: SP7-00 | D23: 44959.287 | E23: 7757 | F23: =MOD(D23,1) -> 0.2875 | G23: =IF(C23="","",LOOKUP(F23,$I$2:$I$4,$K$2:$K$4)) -> ดึก
A24: S7-02 | B24: ครั้งที่ 2 | C24: S7-14 | D24: 44958.615 | E24: 9975 | F24: =MOD(D24,1) -> 0.61458333 | G24: =IF(C24="","",LOOKUP(F24,$I$2:$I$4,$K$2:$K$4)) -> เช้า
A25: S7-03 | B25: ครั้งที่ 2 | C25: S7-47 | D25: 44958.548 | E25: 10731 | F25: =MOD(D25,1) -> 0.54791667 | G25: =IF(C25="","",LOOKUP(F25,$I$2:$I$4,$K$2:$K$4)) -> เช้า
A26: S7-04 | B26: ครั้งที่ 2 | F26: =MOD(D26,1) -> 0 | G26: =IF(C26="","",LOOKUP(F26,$I$2:$I$4,$K$2:$K$4))
A27: S7-05 | B27: ครั้งที่ 2 | C27: S7-01 | D27: 44958.489 | E27: 7919 | F27: =MOD(D27,1) -> 0.48888889 | G27: =IF(C27="","",LOOKUP(F27,$I$2:$I$4,$K$2:$K$4)) -> เช้า
A28: S7-06 | B28: ครั้งที่ 2 | C28: S7-38 | D28: 44958.719 | E28: 10663 | F28: =MOD(D28,1) -> 0.71944444 | G28: =IF(C28="","",LOOKUP(F28,$I$2:$I$4,$K$2:$K$4)) -> เช้า
A29: S7-07 | B29: ครั้งที่ 2 | C29: S7-06 | D29: 44958.645 | E29: 7500 | F29: =MOD(D29,1) -> 0.64513889 | G29: =IF(C29="","",LOOKUP(F29,$I$2:$I$4,$K$2:$K$4)) -> เช้า
A30: S7-08 | B30: ครั้งที่ 2 | C30: 315 | D30: 44958.88 | E30: 7288 | F30: =MOD(D30,1) -> 0.87986111 | G30: =IF(C30="","",LOOKUP(F30,$I$2:$I$4,$K$2:$K$4)) -> ดึก
A31: S7-09 | B31: ครั้งที่ 2 | C31: S7-43 | D31: 44958.48 | E31: 8079 | F31: =MOD(D31,1) -> 0.47986111 | G31: =IF(C31="","",LOOKUP(F31,$I$2:$I$4,$K$2:$K$4)) -> เช้า
A32: S7-10 | B32: ครั้งที่ 2 | C32: S7-45 | D32: 44958.41 | E32: 9633 | F32: =MOD(D32,1) -> 0.40972222 | G32: =IF(C32="","",LOOKUP(F32,$I$2:$I$4,$K$2:$K$4)) -> เช้า
A33: S7-11 | B33: ครั้งที่ 2 | C33: S7-13 | D33: 44958.597 | E33: 10240 | F33: =MOD(D33,1) -> 0.59722222 | G33: =IF(C33="","",LOOKUP(F33,$I$2:$I$4,$K$2:$K$4)) -> เช้า
A34: S7-12 | B34: ครั้งที่ 2 | C34: S7-04 | D34: 44958.83 | E34: 9598 | F34: =MOD(D34,1) -> 0.82986111 | G34: =IF(C34="","",LOOKUP(F34,$I$2:$I$4,$K$2:$K$4)) -> ดึก
A35: S7-13 | B35: ครั้งที่ 2 | F35: =MOD(D35,1) -> 0 | G35: =IF(C35="","",LOOKUP(F35,$I$2:$I$4,$K$2:$K$4))
A36: S7-14 | B36: ครั้งที่ 2 | C36: S7-19 | D36: 44958.726 | E36: 10312 | F36: =MOD(D36,1) -> 0.72569444 | G36: =IF(C36="","",LOOKUP(F36,$I$2:$I$4,$K$2:$K$4)) -> เช้า
A37: S7-15 | B37: ครั้งที่ 2 | C37: S7-42 | D37: 44958.555 | E37: 7784 | F37: =MOD(D37,1) -> 0.55486111 | G37: =IF(C37="","",LOOKUP(F37,$I$2:$I$4,$K$2:$K$4)) -> เช้า
A38: S7-16 | B38: ครั้งที่ 2 | C38: W10 | D38: 44958.39 | E38: 7259 | F38: =MOD(D38,1) -> 0.38958333 | G38: =IF(C38="","",LOOKUP(F38,$I$2:$I$4,$K$2:$K$4)) -> เช้า
A39: S7-17 | B39: ครั้งที่ 2 | C39: S7-33 | D39: 44959.053 | E39: 9754 | F39: =MOD(D39,1) -> 0.052777778 | G39: =IF(C39="","",LOOKUP(F39,$I$2:$I$4,$K$2:$K$4)) -> ดึก
A40: S7-18 | B40: ครั้งที่ 2 | C40: S7-14 | D40: 44959.074 | E40: 9582 | F40: =MOD(D40,1) -> 0.074305556 | G40: =IF(C40="","",LOOKUP(F40,$I$2:$I$4,$K$2:$K$4)) -> ดึก
...
