Workbook
Name MainProduct: MainProduct1[Code]

Sheet Main-Products
A1: # | B1: Code | C1: Product_Name | D1: Color
A2: =IF(B2="","",ROW()-1) -> 1 | B2: A | C2: Test Product 1 | D2: White
A3: =IF(B3="","",ROW()-1) -> 2 | B3: B | C3: Test Product 2 | D3: Black
A4: =IF(B4="","",ROW()-1) -> 3 | B4: C | C4: Test Product 3 | D4: Green
A5: =IF(B5="","",ROW()-1) -> 4 | B5: D | C5: Test Product 4 | D5: Brown
A6: =IF(B6="","",ROW()-1) -> 5 | B6: E
G9: 1. 1 Product มีหลาย Part ที่ใช้
G10: 2. 1 Product จะมีหลาย PO
F13: เช่น Product A | J13: 1.Product จะมีหลาย Part
F14: ใช้ Part A.1 - A.7 (7 ชิ้น) | J14: 2.Product จะมีหลาย PO
F15: โดยแต่ละ Part จะมีชิ้นส่วนที่ใช้ต่างกัน เช่น | J15: 3.เราจะเช็คได้อย่างไรวิธี เวลากรอกแล้ว Part จะครบ + เช็คจาก PO เพื่อคำนวณหาค่า Min
F16: 1 Product A ใช้ชิ้นส่วน
F17: A.1 2 ตัว
F18: A.2 1 ตัว
F19: A.3 2 ตัว
F20: A.4 1 ตัว
F21: A.5 2 ตัว
F22: A.6 4 ตัว
F23: A.7 2 ตัว

Sheet Part_Products
A1: # | B1: Code | C1: Part_Name | D1: thick | E1: width | F1: length | G1: qty / set | H1: Main Product [Code] | I1: Finish part (qty) | J1: C.P
A2: =IF(B2="","",ROW()-1) -> 1 | B2: A.1 | C2: ชิ้นส่วนที่ 1 | D2: 20 | E2: 35 | F2: 304 | G2: 2 | H2: A | I2: =SUMIF(Dpart[Code],MPart[[#This Row],[Code]],Dpart[Number]) -> 507 | J2: =ROUNDDOWN((MPart[[#This Row],[Finish part (qty)]]/MPart[[#This Row],[qty / set]]),0) -> 253
A3: =IF(B3="","",ROW()-1) -> 2 | B3: A.2 | C3: ชิ้นส่วนที่ 2 | D3: 20 | E3: 45 | F3: 1095 | G3: 1 | H3: A | I3: =SUMIF(Dpart[Code],MPart[[#This Row],[Code]],Dpart[Number]) -> 1501 | J3: =ROUNDDOWN((MPart[[#This Row],[Finish part (qty)]]/MPart[[#This Row],[qty / set]]),0) -> 1501
A4: =IF(B4="","",ROW()-1) -> 3 | B4: A.3 | C4: ชิ้นส่วนที่ 3 | D4: 20 | E4: 45 | F4: 567 | G4: 2 | H4: A | I4: =SUMIF(Dpart[Code],MPart[[#This Row],[Code]],Dpart[Number]) -> 3007 | J4: =ROUNDDOWN((MPart[[#This Row],[Finish part (qty)]]/MPart[[#This Row],[qty / set]]),0) -> 1503
A5: =IF(B5="","",ROW()-1) -> 4 | B5: A.4 | C5: ชิ้นส่วนที่ 4 | D5: 20 | E5: 29 | F5: 1153 | G5: 1 | H5: A | I5: =SUMIF(Dpart[Code],MPart[[#This Row],[Code]],Dpart[Number]) -> 1451 | J5: =ROUNDDOWN((MPart[[#This Row],[Finish part (qty)]]/MPart[[#This Row],[qty / set]]),0) -> 1451
A6: =IF(B6="","",ROW()-1) -> 5 | B6: A.5 | C6: ชิ้นส่วนที่ 5 | D6: 20 | E6: 25 | F6: 340 | G6: 2 | H6: A | I6: =SUMIF(Dpart[Code],MPart[[#This Row],[Code]],Dpart[Number]) -> 2149 | J6: =ROUNDDOWN((MPart[[#This Row],[Finish part (qty)]]/MPart[[#This Row],[qty / set]]),0) -> 1074
A7: =IF(B7="","",ROW()-1) -> 6 | B7: A.6 | C7: ชิ้นส่วนที่ 6 | D7: 20 | E7: 20 | F7: 100 | G7: 4 | H7: A | I7: =SUMIF(Dpart[Code],MPart[[#This Row],[Code]],Dpart[Number]) -> 2155 | J7: =ROUNDDOWN((MPart[[#This Row],[Finish part (qty)]]/MPart[[#This Row],[qty / set]]),0) -> 538
A8: =IF(B8="","",ROW()-1) -> 7 | B8: A.7 | C8: ชิ้นส่วนที่ 7 | D8: 20 | E8: 45 | F8: 2268 | G8: 2 | H8: A | I8: =SUMIF(Dpart[Code],MPart[[#This Row],[Code]],Dpart[Number]) -> 1559 | J8: =ROUNDDOWN((MPart[[#This Row],[Finish part (qty)]]/MPart[[#This Row],[qty / set]]),0) -> 779
A9: =IF(B9="","",ROW()-1) -> 8 | B9: B.1 | C9: ชิ้นส่วนบี 1 | G9: 1 | H9: B | I9: =SUMIF(Dpart[Code],MPart[[#This Row],[Code]],Dpart[Number]) -> 500 | J9: =ROUNDDOWN((MPart[[#This Row],[Finish part (qty)]]/MPart[[#This Row],[qty / set]]),0) -> 500
A10: =IF(B10="","",ROW()-1) -> 9 | B10: B.2 | C10: ชิ้นส่วนบี 2 | G10: 2 | H10: B | I10: =SUMIF(Dpart[Code],MPart[[#This Row],[Code]],Dpart[Number]) -> 300 | J10: =ROUNDDOWN((MPart[[#This Row],[Finish part (qty)]]/MPart[[#This Row],[qty / set]]),0) -> 150
A11: =IF(B11="","",ROW()-1) -> 10 | B11: B.3 | C11: ชิ้นส่วนบี 3 | G11: 3 | H11: B | I11: =SUMIF(Dpart[Code],MPart[[#This Row],[Code]],Dpart[Number]) -> 100 | J11: =ROUNDDOWN((MPart[[#This Row],[Finish part (qty)]]/MPart[[#This Row],[qty / set]]),0) -> 33
A12: =IF(B12="","",ROW()-1) -> 11 | B12: B.4 | C12: ชิ้นส่วนบี 4 | G12: 4 | H12: B | I12: =SUMIF(Dpart[Code],MPart[[#This Row],[Code]],Dpart[Number]) -> 0 | J12: =ROUNDDOWN((MPart[[#This Row],[Finish part (qty)]]/MPart[[#This Row],[qty / set]]),0) -> 0

Sheet Data-Part
A1: # | B1: Code | C1: Part_Name | D1: Number | E1: PO | F1: Date | G1: Finish part (qty)
A2: =IF(B2="","",ROW()-1) -> 1 | B2: A.1 | C2: =_xlfn.IFNA(VLOOKUP(B2,MPart[[Code]:[Part_Name]],2,0),"กรุณากรอก code ให้ถูกต้อง") -> ชิ้นส่วนที่ 1 | D2: 500 | E2: 1234 | F2: 45337 | G2: =ROUNDDOWN(Dpart[[#This Row],[Number]]/INDEX(MPart[qty / set],MATCH(Dpart[[#This Row],[Code]],MPart[Code],0)),0) -> 250
A3: =IF(B3="","",ROW()-1) -> 2 | B3: A.2 | C3: =_xlfn.IFNA(VLOOKUP(B3,MPart[[Code]:[Part_Name]],2,0),"กรุณากรอก code ให้ถูกต้อง") -> ชิ้นส่วนที่ 2 | D3: 1500 | E3: 1234 | F3: 45337 | G3: =ROUNDDOWN(Dpart[[#This Row],[Number]]/INDEX(MPart[qty / set],MATCH(Dpart[[#This Row],[Code]],MPart[Code],0)),0) -> 1500
A4: =IF(B4="","",ROW()-1) -> 3 | B4: A.3 | C4: =_xlfn.IFNA(VLOOKUP(B4,MPart[[Code]:[Part_Name]],2,0),"กรุณากรอก code ให้ถูกต้อง") -> ชิ้นส่วนที่ 3 | D4: 3000 | E4: 1234 | F4: 45337 | G4: =ROUNDDOWN(Dpart[[#This Row],[Number]]/INDEX(MPart[qty / set],MATCH(Dpart[[#This Row],[Code]],MPart[Code],0)),0) -> 1500
A5: =IF(B5="","",ROW()-1) -> 4 | B5: A.4 | C5: =_xlfn.IFNA(VLOOKUP(B5,MPart[[Code]:[Part_Name]],2,0),"กรุณากรอก code ให้ถูกต้อง") -> ชิ้นส่วนที่ 4 | D5: 1450 | E5: 1234 | F5: 45337 | G5: =ROUNDDOWN(Dpart[[#This Row],[Number]]/INDEX(MPart[qty / set],MATCH(Dpart[[#This Row],[Code]],MPart[Code],0)),0) -> 1450
A6: =IF(B6="","",ROW()-1) -> 5 | B6: A.5 | C6: =_xlfn.IFNA(VLOOKUP(B6,MPart[[Code]:[Part_Name]],2,0),"กรุณากรอก code ให้ถูกต้อง") -> ชิ้นส่วนที่ 5 | D6: 2000 | E6: 1234 | F6: 45337 | G6: =ROUNDDOWN(Dpart[[#This Row],[Number]]/INDEX(MPart[qty / set],MATCH(Dpart[[#This Row],[Code]],MPart[Code],0)),0) -> 1000
A7: =IF(B7="","",ROW()-1) -> 6 | B7: A.6 | C7: =_xlfn.IFNA(VLOOKUP(B7,MPart[[Code]:[Part_Name]],2,0),"กรุณากรอก code ให้ถูกต้อง") -> ชิ้นส่วนที่ 6 | D7: 2150 | E7: 1234 | F7: 45337 | G7: =ROUNDDOWN(Dpart[[#This Row],[Number]]/INDEX(MPart[qty / set],MATCH(Dpart[[#This Row],[Code]],MPart[Code],0)),0) -> 537
A8: =IF(B8="","",ROW()-1) -> 7 | B8: A.7 | C8: =_xlfn.IFNA(VLOOKUP(B8,MPart[[Code]:[Part_Name]],2,0),"กรุณากรอก code ให้ถูกต้อง") -> ชิ้นส่วนที่ 7 | D8: 1556 | E8: 1234 | F8: 45337 | G8: =ROUNDDOWN(Dpart[[#This Row],[Number]]/INDEX(MPart[qty / set],MATCH(Dpart[[#This Row],[Code]],MPart[Code],0)),0) -> 778
A9: =IF(B9="","",ROW()-1) -> 8 | B9: A.5 | C9: =_xlfn.IFNA(VLOOKUP(B9,MPart[[Code]:[Part_Name]],2,0),"กรุณากรอก code ให้ถูกต้อง") -> ชิ้นส่วนที่ 5 | D9: 141 | E9: 14 | F9: 45338 | G9: =ROUNDDOWN(Dpart[[#This Row],[Number]]/INDEX(MPart[qty / set],MATCH(Dpart[[#This Row],[Code]],MPart[Code],0)),0) -> 70
A10: =IF(B10="","",ROW()-1) -> 9 | B10: A.1 | C10: =_xlfn.IFNA(VLOOKUP(B10,MPart[[Code]:[Part_Name]],2,0),"กรุณากรอก code ให้ถูกต้อง") -> ชิ้นส่วนที่ 1 | D10: 7 | E10: 14 | F10: 45338 | G10: =ROUNDDOWN(Dpart[[#This Row],[Number]]/INDEX(MPart[qty / set],MATCH(Dpart[[#This Row],[Code]],MPart[Code],0)),0) -> 3
A11: =IF(B11="","",ROW()-1) -> 10 | B11: A.2 | C11: =_xlfn.IFNA(VLOOKUP(B11,MPart[[Code]:[Part_Name]],2,0),"กรุณากรอก code ให้ถูกต้อง") -> ชิ้นส่วนที่ 2 | D11: 1 | E11: 14 | F11: 45338 | G11: =ROUNDDOWN(Dpart[[#This Row],[Number]]/INDEX(MPart[qty / set],MATCH(Dpart[[#This Row],[Code]],MPart[Code],0)),0) -> 1
A12: =IF(B12="","",ROW()-1) -> 11 | B12: A.3 | C12: =_xlfn.IFNA(VLOOKUP(B12,MPart[[Code]:[Part_Name]],2,0),"กรุณากรอก code ให้ถูกต้อง") -> ชิ้นส่วนที่ 3 | D12: 7 | E12: 14 | F12: 45338 | G12: =ROUNDDOWN(Dpart[[#This Row],[Number]]/INDEX(MPart[qty / set],MATCH(Dpart[[#This Row],[Code]],MPart[Code],0)),0) -> 3
A13: =IF(B13="","",ROW()-1) -> 12 | B13: A.4 | C13: =_xlfn.IFNA(VLOOKUP(B13,MPart[[Code]:[Part_Name]],2,0),"กรุณากรอก code ให้ถูกต้อง") -> ชิ้นส่วนที่ 4 | D13: 1 | E13: 14 | F13: 45338 | G13: =ROUNDDOWN(Dpart[[#This Row],[Number]]/INDEX(MPart[qty / set],MATCH(Dpart[[#This Row],[Code]],MPart[Code],0)),0) -> 1
... A16: =IF(B16="","",ROW()-1) -> 15 | B16: A.5 | C16: =_xlfn.IFNA(VLOOKUP(B16,MPart[[Code]:[Part_Name]],2,0),"กรุณากรอก code ให้ถูกต้อง") -> ชิ้นส่วนที่ 5 | D16: 8 | E16: 14 | F16: 45338 | G16: =ROUNDDOWN(Dpart[[#This Row],[Number]]/INDEX(MPart[qty / set],MATCH(Dpart[[#This Row],[Code]],MPart[Code],0)),0) -> 4
A17: =IF(B17="","",ROW()-1) -> 16 | B17: B.1 | C17: =_xlfn.IFNA(VLOOKUP(B17,MPart[[Code]:[Part_Name]],2,0),"กรุณากรอก code ให้ถูกต้อง") -> ชิ้นส่วนบี 1 | D17: 500 | E17: 144 | G17: =ROUNDDOWN(Dpart[[#This Row],[Number]]/INDEX(MPart[qty / set],MATCH(Dpart[[#This Row],[Code]],MPart[Code],0)),0) -> 500
A18: =IF(B18="","",ROW()-1) -> 17 | B18: B.2 | C18: =_xlfn.IFNA(VLOOKUP(B18,MPart[[Code]:[Part_Name]],2,0),"กรุณากรอก code ให้ถูกต้อง") -> ชิ้นส่วนบี 2 | D18: 300 | E18: 144 | G18: =ROUNDDOWN(Dpart[[#This Row],[Number]]/INDEX(MPart[qty / set],MATCH(Dpart[[#This Row],[Code]],MPart[Code],0)),0) -> 150
A19: =IF(B19="","",ROW()-1) -> 18 | B19: B.3 | C19: =_xlfn.IFNA(VLOOKUP(B19,MPart[[Code]:[Part_Name]],2,0),"กรุณากรอก code ให้ถูกต้อง") -> ชิ้นส่วนบี 3 | D19: 100 | E19: 144 | G19: =ROUNDDOWN(Dpart[[#This Row],[Number]]/INDEX(MPart[qty / set],MATCH(Dpart[[#This Row],[Code]],MPart[Code],0)),0) -> 33

Sheet Calpivot table
A3: Count of Code | B3: Column Labels
A4: Row Labels | B4: A.1 | C4: A.2 | D4: A.3 | E4: A.4 | F4: A.5 | G4: A.6 | H4: A.7 | I4: B.1 | J4: B.2 | K4: B.3 | L4: Grand Total
A5: 14 | B5: 1 | C5: 1 | D5: 1 | E5: 1 | F5: 2 | G5: 1 | H5: 1 | L5: 8
A6: 1234 | B6: 1 | C6: 1 | D6: 1 | E6: 1 | F6: 1 | G6: 1 | H6: 1 | L6: 7
A7: 144 | I7: 1 | J7: 1 | K7: 1 | L7: 3
A8: Grand Total | B8: 2 | C8: 2 | D8: 2 | E8: 2 | F8: 3 | G8: 2 | H8: 2 | I8: 1 | J8: 1 | K8: 1 | L8: 18

Sheet Production PLAN
A1: # | B1: Customer | C1: Code | D1: Product_Name | E1: Number | F1: PO | G1: Start_Date | H1: End_Date | I1: Duration | J1: Finish part (qty)
A2: =IF(C2="","",ROW()-1) -> 1 | C2: A | D2: =VLOOKUP(C2,MainProduct1[[Code]:[Product_Name]],2,0) -> Test Product 1 | E2: 500 | F2: 1234 | G2: 45339 | I2: =IF(H2="","รอวันสิ้นสุดงาน",(H2-G2+1)) -> รอวันสิ้นสุดงาน | J2: =IF((COUNTIF(MPart[Code],ProPlan[[#This Row],[Code]]&"*"))<=(COUNTIF(Dpart[PO],ProPlan[[#This Row],[PO]])),_xlfn.MINIFS(Dpart[Finish part (qty)],Dpart[PO],ProPlan[[#This Row],[PO]]),0) -> 250
A3: =IF(C3="","",ROW()-1) -> 2 | C3: A | D3: =VLOOKUP(C3,MainProduct1[[Code]:[Product_Name]],2,0) -> Test Product 1 | E3: 150 | F3: 14 | G3: 45340 | I3: =IF(H3="","รอวันสิ้นสุดงาน",(H3-G3+1)) -> รอวันสิ้นสุดงาน | J3: =IF((COUNTIF(MPart[Code],ProPlan[[#This Row],[Code]]&"*"))<=(COUNTIF(Dpart[PO],ProPlan[[#This Row],[PO]])),_xlfn.MINIFS(Dpart[Finish part (qty)],Dpart[PO],ProPlan[[#This Row],[PO]]),0) -> 1
A4: =IF(C4="","",ROW()-1) -> 3 | C4: B | D4: =VLOOKUP(C4,MainProduct1[[Code]:[Product_Name]],2,0) -> Test Product 2 | I4: =IF(H4="","รอวันสิ้นสุดงาน",(H4-G4+1)) -> รอวันสิ้นสุดงาน | J4: =IF((COUNTIF(MPart[Code],ProPlan[[#This Row],[Code]]&"*"))<=(COUNTIF(Dpart[PO],ProPlan[[#This Row],[PO]])),_xlfn.MINIFS(Dpart[Finish part (qty)],Dpart[PO],ProPlan[[#This Row],[PO]]),0) -> 0
A5: =IF(C5="","",ROW()-1) -> 4 | C5: C | D5: =VLOOKUP(C5,MainProduct1[[Code]:[Product_Name]],2,0) -> Test Product 3 | I5: =IF(H5="","รอวันสิ้นสุดงาน",(H5-G5+1)) -> รอวันสิ้นสุดงาน | J5: =IF((COUNTIF(MPart[Code],ProPlan[[#This Row],[Code]]&"*"))<=(COUNTIF(Dpart[PO],ProPlan[[#This Row],[PO]])),_xlfn.MINIFS(Dpart[Finish part (qty)],Dpart[PO],ProPlan[[#This Row],[PO]]),0) -> 0

Sheet Report by PO
A1: Report
A3: # | B3: Code | C3: Product_Name | D3: Number | E3: PO | F3: Start Date | G3: End_Date | H3: Finish (qty) | I3: Status
A4: =IF(B4="","",ROW()-2) -> 2 | B4: =IF('Production PLAN'!C2="","",'Production PLAN'!C2) -> A | C4: =IF('Production PLAN'!D2="","",'Production PLAN'!D2) -> Test Product 1 | D4: =IF('Production PLAN'!E2="","",'Production PLAN'!E2) -> 500 | E4: =IF('Production PLAN'!F2="","",'Production PLAN'!F2) -> 1234 | F4: =IF('Production PLAN'!G2="","",'Production PLAN'!G2) -> 45339 | G4: =IF('Production PLAN'!H2="","",'Production PLAN'!H2) | H4: =IF('Production PLAN'!J2="","",'Production PLAN'!J2) -> 250 | I4: =IF(B4="","",IF(H4=0,"ยังไม่ได้เริ่มทำงาน",IF(H4<D4,"กำลังดำเนินการ","ทำเสร็จสิ้นแล้ว"))) -> กำลังดำเนินการ
A5: =IF(B5="","",ROW()-2) -> 3 | B5: =IF('Production PLAN'!C3="","",'Production PLAN'!C3) -> A | C5: =IF('Production PLAN'!D3="","",'Production PLAN'!D3) -> Test Product 1 | D5: =IF('Production PLAN'!E3="","",'Production PLAN'!E3) -> 150 | E5: =IF('Production PLAN'!F3="","",'Production PLAN'!F3) -> 14 | F5: =IF('Production PLAN'!G3="","",'Production PLAN'!G3) -> 45340 | G5: =IF('Production PLAN'!H3="","",'Production PLAN'!H3) | H5: =IF('Production PLAN'!J3="","",'Production PLAN'!J3) -> 1 | I5: =IF(B5="","",IF(H5=0,"ยังไม่ได้เริ่มทำงาน",IF(H5<D5,"กำลังดำเนินการ","ทำเสร็จสิ้นแล้ว"))) -> กำลังดำเนินการ
A6: =IF(B6="","",ROW()-2) -> 4 | B6: =IF('Production PLAN'!C4="","",'Production PLAN'!C4) -> B | C6: =IF('Production PLAN'!D4="","",'Production PLAN'!D4) -> Test Product 2 | D6: =IF('Production PLAN'!E4="","",'Production PLAN'!E4) | E6: =IF('Production PLAN'!F4="","",'Production PLAN'!F4) | F6: =IF('Production PLAN'!G4="","",'Production PLAN'!G4) | G6: =IF('Production PLAN'!H4="","",'Production PLAN'!H4) | H6: =IF('Production PLAN'!J4="","",'Production PLAN'!J4) -> 0 | I6: =IF(B6="","",IF(H6=0,"ยังไม่ได้เริ่มทำงาน",IF(H6<D6,"กำลังดำเนินการ","ทำเสร็จสิ้นแล้ว"))) -> ยังไม่ได้เริ่มทำงาน
A7: =IF(B7="","",ROW()-2) -> 5 | B7: =IF('Production PLAN'!C5="","",'Production PLAN'!C5) -> C | C7: =IF('Production PLAN'!D5="","",'Production PLAN'!D5) -> Test Product 3 | D7: =IF('Production PLAN'!E5="","",'Production PLAN'!E5) | E7: =IF('Production PLAN'!F5="","",'Production PLAN'!F5) | F7: =IF('Production PLAN'!G5="","",'Production PLAN'!G5) | G7: =IF('Production PLAN'!H5="","",'Production PLAN'!H5) | H7: =IF('Production PLAN'!J5="","",'Production PLAN'!J5) -> 0 | I7: =IF(B7="","",IF(H7=0,"ยังไม่ได้เริ่มทำงาน",IF(H7<D7,"กำลังดำเนินการ","ทำเสร็จสิ้นแล้ว"))) -> ยังไม่ได้เริ่มทำงาน
A8: =IF(B8="","",ROW()-2) | B8: =IF('Production PLAN'!C6="","",'Production PLAN'!C6) | C8: =IF('Production PLAN'!D6="","",'Production PLAN'!D6) | D8: =IF('Production PLAN'!E6="","",'Production PLAN'!E6) | E8: =IF('Production PLAN'!F6="","",'Production PLAN'!F6) | F8: =IF('Production PLAN'!G6="","",'Production PLAN'!G6) | G8: =IF('Production PLAN'!H6="","",'Production PLAN'!H6) | H8: =IF('Production PLAN'!J6="","",'Production PLAN'!J6) | I8: =IF(B8="","",IF(H8=0,"ยังไม่ได้เริ่มทำงาน",IF(H8<D8,"กำลังดำเนินการ","ทำเสร็จสิ้นแล้ว")))
A9: =IF(B9="","",ROW()-2) | B9: =IF('Production PLAN'!C7="","",'Production PLAN'!C7) | C9: =IF('Production PLAN'!D7="","",'Production PLAN'!D7) | D9: =IF('Production PLAN'!E7="","",'Production PLAN'!E7) | E9: =IF('Production PLAN'!F7="","",'Production PLAN'!F7) | F9: =IF('Production PLAN'!G7="","",'Production PLAN'!G7) | G9: =IF('Production PLAN'!H7="","",'Production PLAN'!H7) | H9: =IF('Production PLAN'!J7="","",'Production PLAN'!J7) | I9: =IF(B9="","",IF(H9=0,"ยังไม่ได้เริ่มทำงาน",IF(H9<D9,"กำลังดำเนินการ","ทำเสร็จสิ้นแล้ว")))
A10: =IF(B10="","",ROW()-2) | B10: =IF('Production PLAN'!C8="","",'Production PLAN'!C8) | C10: =IF('Production PLAN'!D8="","",'Production PLAN'!D8) | D10: =IF('Production PLAN'!E8="","",'Production PLAN'!E8) | E10: =IF('Production PLAN'!F8="","",'Production PLAN'!F8) | F10: =IF('Production PLAN'!G8="","",'Production PLAN'!G8) | G10: =IF('Production PLAN'!H8="","",'Production PLAN'!H8) | H10: =IF('Production PLAN'!J8="","",'Production PLAN'!J8) | I10: =IF(B10="","",IF(H10=0,"ยังไม่ได้เริ่มทำงาน",IF(H10<D10,"กำลังดำเนินการ","ทำเสร็จสิ้นแล้ว")))
A11: =IF(B11="","",ROW()-2) | B11: =IF('Production PLAN'!C9="","",'Production PLAN'!C9) | C11: =IF('Production PLAN'!D9="","",'Production PLAN'!D9) | D11: =IF('Production PLAN'!E9="","",'Production PLAN'!E9) | E11: =IF('Production PLAN'!F9="","",'Production PLAN'!F9) | F11: =IF('Production PLAN'!G9="","",'Production PLAN'!G9) | G11: =IF('Production PLAN'!H9="","",'Production PLAN'!H9) | H11: =IF('Production PLAN'!J9="","",'Production PLAN'!J9) | I11: =IF(B11="","",IF(H11=0,"ยังไม่ได้เริ่มทำงาน",IF(H11<D11,"กำลังดำเนินการ","ทำเสร็จสิ้นแล้ว")))
A12: =IF(B12="","",ROW()-2) | B12: =IF('Production PLAN'!C10="","",'Production PLAN'!C10) | C12: =IF('Production PLAN'!D10="","",'Production PLAN'!D10) | D12: =IF('Production PLAN'!E10="","",'Production PLAN'!E10) | E12: =IF('Production PLAN'!F10="","",'Production PLAN'!F10) | F12: =IF('Production PLAN'!G10="","",'Production PLAN'!G10) | G12: =IF('Production PLAN'!H10="","",'Production PLAN'!H10) | H12: =IF('Production PLAN'!J10="","",'Production PLAN'!J10) | I12: =IF(B12="","",IF(H12=0,"ยังไม่ได้เริ่มทำงาน",IF(H12<D12,"กำลังดำเนินการ","ทำเสร็จสิ้นแล้ว")))
A13: =IF(B13="","",ROW()-2) | B13: =IF('Production PLAN'!C11="","",'Production PLAN'!C11) | C13: =IF('Production PLAN'!D11="","",'Production PLAN'!D11) | D13: =IF('Production PLAN'!E11="","",'Production PLAN'!E11) | E13: =IF('Production PLAN'!F11="","",'Production PLAN'!F11) | F13: =IF('Production PLAN'!G11="","",'Production PLAN'!G11) | G13: =IF('Production PLAN'!H11="","",'Production PLAN'!H11) | H13: =IF('Production PLAN'!J11="","",'Production PLAN'!J11) | I13: =IF(B13="","",IF(H13=0,"ยังไม่ได้เริ่มทำงาน",IF(H13<D13,"กำลังดำเนินการ","ทำเสร็จสิ้นแล้ว")))
A14: =IF(B14="","",ROW()-2) | B14: =IF('Production PLAN'!C12="","",'Production PLAN'!C12) | C14: =IF('Production PLAN'!D12="","",'Production PLAN'!D12) | D14: =IF('Production PLAN'!E12="","",'Production PLAN'!E12) | E14: =IF('Production PLAN'!F12="","",'Production PLAN'!F12) | F14: =IF('Production PLAN'!G12="","",'Production PLAN'!G12) | G14: =IF('Production PLAN'!H12="","",'Production PLAN'!H12) | H14: =IF('Production PLAN'!J12="","",'Production PLAN'!J12) | I14: =IF(B14="","",IF(H14=0,"ยังไม่ได้เริ่มทำงาน",IF(H14<D14,"กำลังดำเนินการ","ทำเสร็จสิ้นแล้ว")))
A15: =IF(B15="","",ROW()-2) | B15: =IF('Production PLAN'!C13="","",'Production PLAN'!C13) | C15: =IF('Production PLAN'!D13="","",'Production PLAN'!D13) | D15: =IF('Production PLAN'!E13="","",'Production PLAN'!E13) | E15: =IF('Production PLAN'!F13="","",'Production PLAN'!F13) | F15: =IF('Production PLAN'!G13="","",'Production PLAN'!G13) | G15: =IF('Production PLAN'!H13="","",'Production PLAN'!H13) | H15: =IF('Production PLAN'!J13="","",'Production PLAN'!J13) | I15: =IF(B15="","",IF(H15=0,"ยังไม่ได้เริ่มทำงาน",IF(H15<D15,"กำลังดำเนินการ","ทำเสร็จสิ้นแล้ว")))
... A1002: =IF(B1002="","",ROW()-2) | B1002: =IF('Production PLAN'!C1000="","",'Production PLAN'!C1000) | C1002: =IF('Production PLAN'!D1000="","",'Production PLAN'!D1000) | D1002: =IF('Production PLAN'!E1000="","",'Production PLAN'!E1000) | E1002: =IF('Production PLAN'!F1000="","",'Production PLAN'!F1000) | F1002: =IF('Production PLAN'!G1000="","",'Production PLAN'!G1000) | G1002: =IF('Production PLAN'!H1000="","",'Production PLAN'!H1000) | H1002: =IF('Production PLAN'!J1000="","",'Production PLAN'!J1000) | I1002: =IF(B1002="","",IF(H1002=0,"ยังไม่ได้เริ่มทำงาน",IF(H1002<D1002,"กำลังดำเนินการ","ทำเสร็จสิ้นแล้ว")))

Sheet SUMMARY
A1: M-Product | B1: Part
A2: =IF('Main-Products'!B2="","",'Main-Products'!B2) -> A | B2: =_xlfn.MINIFS(MPart[C.P],MPart[Main Product '[Code']],SUMMARY!A2) -> 253
A3: =IF('Main-Products'!B3="","",'Main-Products'!B3) -> B | B3: =_xlfn.MINIFS(MPart[C.P],MPart[Main Product '[Code']],SUMMARY!A3) -> 0
A4: =IF('Main-Products'!B4="","",'Main-Products'!B4) -> C | B4: =_xlfn.MINIFS(MPart[C.P],MPart[Main Product '[Code']],SUMMARY!A4) -> 0
A5: =IF('Main-Products'!B5="","",'Main-Products'!B5) -> D | B5: =_xlfn.MINIFS(MPart[C.P],MPart[Main Product '[Code']],SUMMARY!A5) -> 0
A6: =IF('Main-Products'!B6="","",'Main-Products'!B6) -> E | B6: =_xlfn.MINIFS(MPart[C.P],MPart[Main Product '[Code']],SUMMARY!A6) -> 0
A7: =IF('Main-Products'!B7="","",'Main-Products'!B7) | B7: =_xlfn.MINIFS(MPart[C.P],MPart[Main Product '[Code']],SUMMARY!A7) -> 0
A8: =IF('Main-Products'!B8="","",'Main-Products'!B8) | B8: =_xlfn.MINIFS(MPart[C.P],MPart[Main Product '[Code']],SUMMARY!A8) -> 0
A9: =IF('Main-Products'!B9="","",'Main-Products'!B9) | B9: =_xlfn.MINIFS(MPart[C.P],MPart[Main Product '[Code']],SUMMARY!A9) -> 0
A10: =IF('Main-Products'!B10="","",'Main-Products'!B10) | B10: =_xlfn.MINIFS(MPart[C.P],MPart[Main Product '[Code']],SUMMARY!A10) -> 0
A11: =IF('Main-Products'!B11="","",'Main-Products'!B11) | B11: =_xlfn.MINIFS(MPart[C.P],MPart[Main Product '[Code']],SUMMARY!A11) -> 0
A12: =IF('Main-Products'!B12="","",'Main-Products'!B12) | B12: =_xlfn.MINIFS(MPart[C.P],MPart[Main Product '[Code']],SUMMARY!A12) -> 0
A13: =IF('Main-Products'!B13="","",'Main-Products'!B13) | B13: =_xlfn.MINIFS(MPart[C.P],MPart[Main Product '[Code']],SUMMARY!A13) -> 0
... A201: =IF('Main-Products'!B201="","",'Main-Products'!B201) | B201: =_xlfn.MINIFS(MPart[C.P],MPart[Main Product '[Code']],SUMMARY!A201) -> 0

Sheet Calculate
A1: A | B1: Test Product 1 | C1: White | D1: =MIN(H2:H8) -> 253 | F1: qty / set | G1: Summary
A2: A.1 | B2: ชิ้นส่วนที่ 1 | C2: 20 | D2: 35 | E2: 304 | F2: 2 | G2: =SUMIF(Dpart[Code],Calculate!A2,Dpart[Number]) -> 507 | H2: =ROUNDDOWN(G2/F2,0) -> 253
A3: A.2 | B3: ชิ้นส่วนที่ 2 | C3: 20 | D3: 45 | E3: 1095 | F3: 1 | G3: =SUMIF(Dpart[Code],Calculate!A3,Dpart[Number]) -> 1501 | H3: =ROUNDDOWN(G3/F3,0) -> 1501
A4: A.3 | B4: ชิ้นส่วนที่ 3 | C4: 20 | D4: 45 | E4: 567 | F4: 2 | G4: =SUMIF(Dpart[Code],Calculate!A4,Dpart[Number]) -> 3007 | H4: =ROUNDDOWN(G4/F4,0) -> 1503
A5: A.4 | B5: ชิ้นส่วนที่ 4 | C5: 20 | D5: 29 | E5: 1153 | F5: 1 | G5: =SUMIF(Dpart[Code],Calculate!A5,Dpart[Number]) -> 1451 | H5: =ROUNDDOWN(G5/F5,0) -> 1451
A6: A.5 | B6: ชิ้นส่วนที่ 5 | C6: 20 | D6: 25 | E6: 340 | F6: 2 | G6: =SUMIF(Dpart[Code],Calculate!A6,Dpart[Number]) -> 2149 | H6: =ROUNDDOWN(G6/F6,0) -> 1074
A7: A.6 | B7: ชิ้นส่วนที่ 6 | C7: 20 | D7: 20 | E7: 100 | F7: 4 | G7: =SUMIF(Dpart[Code],Calculate!A7,Dpart[Number]) -> 2155 | H7: =ROUNDDOWN(G7/F7,0) -> 538
A8: A.7 | B8: ชิ้นส่วนที่ 7 | C8: 20 | D8: 45 | E8: 2268 | F8: 2 | G8: =SUMIF(Dpart[Code],Calculate!A8,Dpart[Number]) -> 1559 | H8: =ROUNDDOWN(G8/F8,0) -> 779

Sheet Test D-B.
A1: Product | B1: Plan | C1: Finished | D1: Status | E1: Minimum Require
A2: {=_xlfn.UNIQUE(MainProduct1[Code])} -> A | E2: 0.7
A3: B | E3: 0.7
A4: C | E4: 0.8
A5: D | E5: 0.8
A6: E
